{"text_format":"1","workbook":"xlsx","n_sheets":30,"sheets":["Anleitung","Variablen","WK 1","WK 2","WK 3","WK 4","WK 5","WK 6","WK 7","WK 8","WK 9","WK 10","Gesamtwertung","Leistungsverlauf","Log","DatenPlausibilitätsprüfung","Zwischenberechnung Mannschaften","Zwischenberechnung Einzel","Zwischenberechnung Einzel Final","Schützen","WK_Druck","Scheibennummern","Finale","Wettkampfplan","Urkunde","Zwischentabelle Urkunde","Finale_Druck","Wettkampftabellen","PasswortManagement","Changelog"],"not_rendered":{"charts":2,"images":12,"macros":1,"external_links":0,"defined_names":136,"comments":13,"pivot_tables":0},"unopened":[],"bounds":{"document_bytes":16777216,"sheet_cells":100000,"rows_first":2000,"rows_last":500,"rows_between":2000,"halvings":0,"cell_chars":16384,"cell_head_chars":4096},"cells_cut":0,"cells_raw":0,"read":"whole","date_system":"1900"}

{"sheet":"Anleitung","index":0,"n_rows":54,"n_cols":2,"rows_kept":54,"cut":false,"hidden":false,"merged":[[53,10,53,15],[22,1,22,7],[11,1,11,7],[12,1,12,7],[13,1,13,7],[14,1,14,7],[15,1,15,7],[16,1,16,7],[17,1,17,7],[18,1,18,7],[19,1,19,7],[20,1,20,7],[21,1,21,7],[24,1,24,7],[33,1,33,7],[53,0,53,7],[0,0,1,7],[4,0,4,7],[26,1,26,7],[31,1,31,7],[32,1,32,7],[27,1,27,7],[28,1,28,7],[29,1,29,7],[30,1,30,7],[25,1,25,7],[7,1,7,7],[8,1,8,7],[9,1,9,7],[10,1,10,7],[23,1,23,7],[2,0,2,7],[52,0,52,7],[50,0,51,7],[34,1,34,7],[43,1,43,7],[44,1,44,7],[45,1,45,7],[35,1,35,7],[41,1,41,7],[38,1,38,7],[36,1,36,7],[37,1,37,7],[39,1,39,7],[40,1,40,7],[42,1,42,7]]}
["Wettkampf-Tool"]
[]
[{"$f":"Variablen!B11","v":"Jugend"}]
[]
["Dieses Tool widmet sich der Berechnung von Rundenwettkämpfen"]
[]
[]
[null,"Es ist für 9 Mannschaften mit jeweils 4 Schützen und 10 Wettkämpfe ausgelegt "]
[]
[null,"Nach den Regeln des Schützenkreis 34 Bad Hersfeld, können 3 Jugend/Junioren pro Mannschaft "]
[null,"teilnehmen. 1 Schütze ist als Reserve vorgesehen"]
[]
[null,"Das Tool sortiert automatisch die  3 Schützen und errechnet das Mannschaftsergebnis"]
[]
[null,"Trotzdem wird jeder der Jugend/Junioren in die Einzelwertung aufgenommen, und kann "]
[null,"so dort in der Wertung noch mitmischen"]
[]
[null,"Die Mannschaftswertung errechnet sich ebenso automatisch"]
[null,"Hier liegt zu Grunde, dass die letzte Mannschaft immer 0 Punkte bekommt und jede"]
[null,"Mannschaft die davor liegt einen Punkt mehr"]
[]
[null,"Mit einem Klick auf das Gewehr in der unteren linken Ecke des Tabellenblattes wird"]
[null,"die Sortierung und Berechnung gestartet"]
[]
[null,"Mit einem Klick auf den \"alles Löschen\" Button, werden die Namen und Ergebnisse"]
[null,"gelöscht, sowie eventuell gesperrte Zellen freigegeben"]
[null,"Hier sollte man vorsichtig sein!"]
[]
[null,"Es genügt, wenn man die Mannschaftsnamen im ersten Wettkampf einträgt!"]
[null,"Diese werden vom Tool automatisch für die nächsten Wettkämpfe gesetzt"]
[]
[null,"Im Tabellenblatt \"Gesamtwertung\" werden die Ergebnisse der einzelnen Wettkämpfe "]
[null,"addiert und eine Gesamttabelle ausgegeben"]
[null,"Ebenso wird die Einzelwertung der Schützen durch den Ringdurchschnitt errechnet"]
[null,"Gestartet wird die Auswertung mit einem Klick auf den Button \"Gesamtwertung starten\""]
[]
[null,"Mit den Buttons \"PDF erzeugen\" erstellt das Tool eine PDF-Datei des Wettkampfs, die in einen "]
[null,"neuen Ordner \"Jugendrundenwettkampf 201X\" gespeichert wird, der in dem Ordner erstellt "]
[null,"wird, aus dem das Tool geöffnet wurde."]
[null,"Diese Funktion funktioniert nur unter Vorbehalt mit Excel 2013"]
[null,"Mit einem Klick auf die Urkunde werden automatisiert die Urkunden für die Mannschaften"]
[null,"und die Einzelschützen erstellt"]
[]
[null,"Im Finale können 10 Personen schießen. Ausgelegt auf 10 Wertungsschüsse"]
[null,"Mit dem Button \"Sortieren\", wird der aktuelle Stand angezeigt, wobei der erste oben steht"]
[null,"Mit dem Button \"Sortieren rückgäning\" wird auf den ursprünlgichen Stand zurückgewechselt"]
[" "]
[]
[]
[]
["Viel Spaß und Gut Schuss!"]
[]
["Das Tool ist durch Copyright von Patrick Weppler geschützt!"]
["Kontakt: patrick@weppler.org, 06628915931, 017632293735"]

{"sheet":"Variablen","index":1,"n_rows":11,"n_cols":2,"rows_kept":11,"cut":false,"hidden":true,"merged":[]}
["Variablen Name","Wert"]
[]
["Jugend Text WKPlan 1","Eine Mannschaft kann mit bis zu 4 Schützen antreten. Die Schützen einer Mannschaft müssen vor "]
["Jugend Text WKPlan 2","Beginn des Wettkampfes gesetzt werden. Der vierte Schütze kommt in die Einzelwertung"]
[]
["Schüler Text WKPlan 1","Eine Mannschaft kann mit bis zu 4 Schützen antreten. Die besten drei  Schützen einer Mannschaft werden"]
["Schüler Text WKPlan 2","für die Mannschaftswertung berücksichtigt. Der vierte Schütze kommt in die Einzelwertung"]
[]
["Upload VZ","html/jugend/2018/JRW2017/G2"]
[]
["Tool","Jugend"]

{"sheet":"WK 1","index":2,"n_rows":55,"n_cols":13,"rows_kept":55,"cut":false,"hidden":false,"merged":[[43,4,43,7],[53,0,53,1],[1,10,1,12],[0,1,1,5],[33,1,33,2],[33,5,33,6],[43,1,43,2],[3,1,3,2],[3,5,3,6],[13,1,13,2],[13,5,13,6],[23,1,23,2],[23,5,23,6]]}
[null,"1. Wettkampf"]
[null,null,null,null,null,null,null,null,null,null,"Einzelwertung"]
[]
["Mannschaft","Hersfeld",null,null,"Mannschaft","Stärklos",null,null,null,null,"Name","Ergebnis","Platz"]
[]
["Vorname","Name","Ergebnis",null,"Vorname","Name","Ergebnis",null,null,null,{"$f":"$E$7&\" \"&$F$7","v":" "},{"$f":"$G$7","v":0},1]
[null,null,null,null,null,null,null,null,null,null,{"$f":"$E$8&\" \"&$F$8","v":" "},{"$f":"$G$8","v":0},2]
[null,null,null,null,null,null,null,null,null,null,{"$f":"$A$7&\" \" &$B$7","v":" "},{"$f":"$C$7","v":0},3]
[null,null,null,null,null,null,null,null,null,null,{"$f":"$E$9&\" \"&$F$9","v":" "},{"$f":"$G$9","v":0},4]
[null,null,null,"Res.",null,null,null,null,null,null,{"$f":"$E$10&\" \"&$F$10","v":" "},{"$f":"$G$10","v":0},5]
[null,"Gesamt",{"$f":"SUM($C$7:$C$9)","v":0},null,null,"Gesamt",{"$f":"SUM($G$7:$G$9)","v":0},null,null,null,{"$f":"$E$17&\" \"&$F$17","v":" "},{"$f":"$G$17","v":0},6]
[null,null,null,null,null,null,null,null,null,null,{"$f":"$A$8&\" \" &$B$8","v":" "},{"$f":"$C$8","v":0},7]
[null,null,null,null,null,null,null,null,null,null,{"$f":"$E$18&\" \"&$F$18","v":" "},{"$f":"$G$18","v":0},8]
["Mannschaft","Obergeis",null,null,"Mannschaft","Unterhaun/Friedewald",null,null,null,null,{"$f":"$A$10&\" \" &$B$10","v":" "},{"$f":"$C$10","v":0},9]
[null,null,null,null,null,null,null,null,null,null,{"$f":"$A$9&\" \" &$B$9","v":" "},{"$f":"$C$9","v":0},10]
["Vorname","Name","Ergebnis",null,"Vorname","Name","Ergebnis",null,null,null,{"$f":"$E$19&\" \"&$F$19","v":" "},{"$f":"$G$19","v":0},11]
[null,null,null,null,null,null,null,null,null,null,{"$f":"$A$17&\" \"&$B$17","v":" "},{"$f":"$C$17","v":0},12]
[null,null,null,null,null,null,null,null,null,null,{"$f":"$A$50&\" \"&$B$50","v":" "},{"$f":"$C$50","v":0},13]
[null,null,null,null,null,null,null,null,null,null,{"$f":"$A$47&\" \"&$B$47","v":" "},{"$f":"$C$47","v":0},14]
[null,null,null,"Res.",null,null,null,null,null,null,{"$f":"$A$48&\" \"&$B$48","v":" "},{"$f":"$C$48","v":0},15]
[null,"Gesamt",{"$f":"SUM($C$17:$C$19)","v":0},null,null,"Gesamt",{"$f":"SUM($G$17:$G$19)","v":0},null,null,null,{"$f":"$A$49&\" \"&$B$49","v":" "},{"$f":"$C$49","v":0},16]
[null,null,null,null,null,null,null,null,null,null,{"$f":"$E$40&\" \"&$F$40","v":" "},{"$f":"$G$40","v":0},17]
[null,null,null,null,null,null,null,null,null,null,{"$f":"$E$37&\" \"&$F$37","v":" "},{"$f":"$G$37","v":0},18]
["Mannschaft",null,null,null,"Mannschaft",null,null,null,null,null,{"$f":"$E$38&\" \"&$F$38","v":" "},{"$f":"$G$38","v":0},19]
[null,null,null,null,null,null,null,null,null,null,{"$f":"$E$39&\" \"&$F$39","v":" "},{"$f":"$G$39","v":0},20]
["Vorname","Name","Ergebnis",null,"Vorname","Name","Ergebnis",null,null,null,{"$f":"$A$40&\" \"&$B$40","v":" "},{"$f":"$C$40","v":0},21]
[null,null,null,null,null,null,null,null,null,null,{"$f":"$A$37&\" \"&$B$37","v":" "},{"$f":"$C$37","v":0},22]
[null,null,null,null,null,null,null,null,null,null,{"$f":"$A$38&\" \"&$B$38","v":" "},{"$f":"$C$38","v":0},23]
[null,null,null,null,null,null,null,null,null,null,{"$f":"$A$39&\" \"&$B$39","v":" "},{"$f":"$C$39","v":0},24]
[null,null,null,"Res.",null,null,null,null,null,null,{"$f":"$E$30&\" \"&$F$30","v":" "},{"$f":"$G$30","v":0},25]
[null,"Gesamt",{"$f":"SUM($C$27:$C$29)","v":0},null,null,"Gesamt",{"$f":"SUM($G$27:$G$29)","v":0},null,null,null,{"$f":"$E$27&\" \"&$F$27","v":" "},{"$f":"$G$27","v":0},26]
[null,null,null,null,null,null,null,null,null,null,{"$f":"$E$28&\" \"&$F$28","v":" "},{"$f":"$G$28","v":0},27]
[null,null,null,null,null,null,null,null,null,null,{"$f":"$E$29&\" \"&$F$29","v":" "},{"$f":"$G$29","v":0},28]
["Mannschaft",null,null,null,"Mannschaft",null,null,null,null,null,{"$f":"$A$30&\" \"&$B$30","v":" "},{"$f":"$C$30","v":0},29]
[null,null,null,null,null,null,null,null,null,null,{"$f":"$A$27&\" \"&$B$27","v":" "},{"$f":"$C$27","v":0},30]
["Vorname","Name","Ergebnis",null,"Vorname","Name","Ergebnis",null,null,null,{"$f":"$A$28&\" \"&$B$28","v":" "},{"$f":"$C$28","v":0},31]
[null,null,null,null,null,null,null,null,null,null,{"$f":"$A$29&\" \"&$B$29","v":" "},{"$f":"$C$29","v":0},32]
[null,null,null,null,null,null,null,null,null,null,{"$f":"$E$20&\" \"&$F$20","v":" "},{"$f":"$G$20","v":0},33]
[null,null,null,null,null,null,null,null,null,null,{"$f":"$A$20&\" \"&$B$20","v":" "},{"$f":"$C$20","v":0},34]
[null,null,null,"Res.",null,null,null,null,null,null,{"$f":"$A$18&\" \"&$B$18","v":" "},{"$f":"$C$18","v":0},35]
[null,"Gesamt",{"$f":"SUM($C$37:$C$39)","v":0},null,null,"Gesamt",{"$f":"SUM($G$37:$G$39)","v":0},null,null,null,{"$f":"$A$19&\" \"&$B$19","v":" "},{"$f":"$C$19","v":0},36]
[]
[]
["Mannschaft",null,null,null,"Tabelle"]
[null,null,null,null,"Mannschaft","Ergebnis","Platz","Punkte"]
["Vorname","Name","Ergebnis"]
[null,null,null,null,{"$f":"IF($F$4=0,\"\",$F$4)","v":"Stärklos"},{"$f":"$G$11","v":0},{"$f":"IF($E$47=\"\",\"\",1)","v":1},{"$f":"IF(F47=0,\"\",IF($E$47=\"\",\"\",IF($E$48=\"\",0,IF($E$49=\"\",1,IF($E$50=\"\",2,IF($E$51=\"\",3,IF($E$52=\"\",4,IF($E$53=\"\",5,IF($E$54=\"\",6,IF($E$55=\"\",7,8))))))))))","v":""}]
[null,null,null,null,{"$f":"IF($B$4=0,\"\",$B$4)","v":"Hersfeld"},{"$f":"$C$11","v":0},{"$f":"(IF($E$48=\"\",\"\",IF($F$48=$F$47,$G$47,$G$47+1)))","v":1},{"$f":"IF($E$48=\"\",\"\",IF($G$47=$G$48,$H$47,$H$47-1))","v":""}]
[null,null,null,null,{"$f":"IF($F$14=0,\"\",$F$14)","v":"Unterhaun/Friedewald"},{"$f":"$G$21","v":0},{"$f":"(IF($E$49=\"\",\"\",IF($F$49=$F$48,$G$48,$G$48+1)))","v":1},{"$f":"IF($E$49=\"\",\"\",IF($G$48=$G$49,$H$48,IF(H48=H47,H48-2,$H$48-1)))","v":""}]
[null,null,null,"Res.",{"$f":"IF($B$14=0,\"\",$B$14)","v":"Obergeis"},{"$f":"$C$21","v":0},{"$f":"(IF($E$50=\"\",\"\",IF($F$50=$F$49,$G$49,$G$49+1)))","v":1},{"$f":"IF($E$50=\"\",\"\",IF($G$49=$G$50,$H$49,IF(H49=H48,H49-2,$H$49-1)))","v":""}]
[null,"Gesamt",{"$f":"SUM($C$47:$C$49)","v":0},null,{"$f":"IF($B$44=0,\"\",$B$44)","v":""},{"$f":"$C$51","v":0},{"$f":"(IF($E$51=\"\",\"\",IF($F$51=$F$50,$G$50,$G$50+1)))","v":""},{"$f":"IF($E$51=\"\",\"\",IF($G$50=$G$51,$H$50,IF($H$50=$H$49,$H$50-2,$H$50-1)))","v":""}]
[null,null,null,null,{"$f":"IF($F$34=0,\"\",$F$34)","v":""},{"$f":"$G$41","v":0},{"$f":"(IF($E$52=\"\",\"\",IF($F$52=$F$51,$G$51,$G$51+1)))","v":""},{"$f":"IF($E$52=\"\",\"\",IF($G$51=$G$52,$H$51,IF($H$51=$H$50,$H$51-2,$H$51-1)))","v":""}]
[null,null,null,null,{"$f":"IF($B$34=0,\"\",$B$34)","v":""},{"$f":"$C$41","v":0},{"$f":"(IF($E$53=\"\",\"\",IF($F$53=$F$52,$G$52,$G$52+1)))","v":""},{"$f":"IF($E$53=\"\",\"\",IF($G$52=$G$53,$H$52,IF($H$52=$H$51,$H$52-2,$H$52-1)))","v":""}]
["Austragungsort:",null,null,null,{"$f":"IF($F$24=0,\"\",$F$24)","v":""},{"$f":"$G$31","v":0},{"$f":"(IF($E$54=\"\",\"\",IF($F$54=$F$53,$G$53,$G$53+1)))","v":""},{"$f":"IF($E$54=\"\",\"\",IF($G$53=$G$54,$H$53,IF($H$53=$H$52,$H$53-2,$H$53-1)))","v":""}]
[null,null,null,null,{"$f":"IF($B$24=0,\"\",$B$24)","v":""},{"$f":"$C$31","v":0},{"$f":"(IF($E$55=\"\",\"\",IF($F$55=$F$54,$G$54,$G$54+1)))","v":""},{"$f":"IF($E$55=\"\",\"\",IF($G$54=$G$55,$H$54,IF($H$54=$H$53,$H$54-2,$H$54-1)))","v":""}]

{"sheet":"WK 2","index":3,"n_rows":55,"n_cols":13,"rows_kept":55,"cut":false,"hidden":false,"merged":[[13,1,13,2],[13,5,13,6],[1,10,1,12],[0,1,1,5],[3,1,3,2],[3,5,3,6],[43,9,43,12],[45,9,45,12],[53,0,53,1],[43,1,43,2],[23,1,23,2],[23,5,23,6],[33,1,33,2],[33,5,33,6],[43,4,43,7]]}
[null,"2. Wettkampf"]
[null,null,null,null,null,null,null,null,null,null,"Einzelwertung"]
[]
["Mannschaft",{"$f":"IF(Mannschaft1=\"\",\"\",Mannschaft1)","v":"Hersfeld"},null,null,"Mannschaft",{"$f":"IF(Mannschaft2=\"\",\"\",Mannschaft2)","v":"Stärklos"},null,null,null,null,"Name","Ergebnis","Platz"]
[]
["Vorname","Name","Ergebnis",null,"Vorname","Name","Ergebnis",null,null,null,{"$f":"$E$17&\" \"&$F$17","v":" "},{"$f":"$G$17","v":0},1]
[null,null,null,null,null,null,null,null,null,null,{"$f":"$A$17&\" \"&$B$17","v":" "},{"$f":"$C$17","v":0},2]
[null,null,null,null,null,null,null,null,null,null,{"$f":"$A$7&\" \" &$B$7","v":" "},{"$f":"$C$7","v":0},3]
[null,null,null,null,null,null,null,null,null,null,{"$f":"$E$18&\" \"&$F$18","v":" "},{"$f":"$G$18","v":0},4]
[null,null,null,"Res.",null,null,null,null,null,null,{"$f":"$E$7&\" \"&$F$7","v":" "},{"$f":"$G$7","v":0},5]
[null,"Gesamt",{"$f":"SUM($C$7:$C$9)","v":0},null,null,"Gesamt",{"$f":"SUM($G$7:$G$9)","v":0},null,null,null,{"$f":"$A$8&\" \" &$B$8","v":" "},{"$f":"$C$8","v":0},6]
[null,null,null,null,null,null,null,null,null,null,{"$f":"$E$8&\" \"&$F$8","v":" "},{"$f":"$G$8","v":0},7]
[null,null,null,null,null,null,null,null,null,null,{"$f":"$A$18&\" \"&$B$18","v":" "},{"$f":"$C$18","v":0},8]
["Mannschaft",{"$f":"IF(Mannschaft3=\"\",\"\",Mannschaft3)","v":"Obergeis"},null,null,"Mannschaft",{"$f":"IF(Mannschaft4=\"\",\"\",Mannschaft4)","v":"Unterhaun/Friedewald"},null,null,null,null,{"$f":"$E$10&\" \"&$F$10","v":" "},{"$f":"$G$10","v":0},9]
[null,null,null,null,null,null,null,null,null,null,{"$f":"$E$9&\" \"&$F$9","v":" "},{"$f":"$G$9","v":0},10]
["Vorname","Name","Ergebnis",null,"Vorname","Name","Ergebnis",null,null,null,{"$f":"$A$9&\" \" &$B$9","v":" "},{"$f":"$C$9","v":0},11]
[null,null,null,null,null,null,null,null,null,null,{"$f":"$A$10&\" \" &$B$10","v":" "},{"$f":"$C$10","v":0},12]
[null,null,null,null,null,null,null,null,null,null,{"$f":"$E$19&\" \"&$F$19","v":" "},{"$f":"$G$19","v":0},13]
[null,null,null,null,null,null,null,null,null,null,{"$f":"$A$19&\" \"&$B$19","v":" "},{"$f":"$C$19","v":0},14]
[null,null,null,"Res.",null,null,null,null,null,null,{"$f":"$A$50&\" \"&$B$50","v":" "},{"$f":"$C$50","v":0},15]
[null,"Gesamt",{"$f":"SUM($C$17:$C$19)","v":0},null,null,"Gesamt",{"$f":"SUM($G$17:$G$19)","v":0},null,null,null,{"$f":"$A$47&\" \"&$B$47","v":" "},{"$f":"$C$47","v":0},16]
[null,null,null,null,null,null,null,null,null,null,{"$f":"$A$48&\" \"&$B$48","v":" "},{"$f":"$C$48","v":0},17]
[null,null,null,null,null,null,null,null,null,null,{"$f":"$A$49&\" \"&$B$49","v":" "},{"$f":"$C$49","v":0},18]
["Mannschaft",{"$f":"IF(Mannschaft5=\"\",\"\",Mannschaft5)","v":""},null,null,"Mannschaft",{"$f":"IF(Mannschaft6=\"\",\"\",Mannschaft6)","v":""},null,null,null,null,{"$f":"$E$40&\" \"&$F$40","v":" "},{"$f":"$G$40","v":0},19]
[null,null,null,null,null,null,null,null,null,null,{"$f":"$E$37&\" \"&$F$37","v":" "},{"$f":"$G$37","v":0},20]
["Vorname","Name","Ergebnis",null,"Vorname","Name","Ergebnis",null,null,null,{"$f":"$E$38&\" \"&$F$38","v":" "},{"$f":"$G$38","v":0},21]
[null,null,null,null,null,null,null,null,null,null,{"$f":"$E$39&\" \"&$F$39","v":" "},{"$f":"$G$39","v":0},22]
[null,null,null,null,null,null,null,null,null,null,{"$f":"$A$40&\" \"&$B$40","v":" "},{"$f":"$C$40","v":0},23]
[null,null,null,null,null,null,null,null,null,null,{"$f":"$A$37&\" \"&$B$37","v":" "},{"$f":"$C$37","v":0},24]
[null,null,null,"Res.",null,null,null,null,null,null,{"$f":"$A$38&\" \"&$B$38","v":" "},{"$f":"$C$38","v":0},25]
[null,"Gesamt",{"$f":"SUM($C$27:$C$29)","v":0},null,null,"Gesamt",{"$f":"SUM($G$27:$G$29)","v":0},null,null,null,{"$f":"$A$39&\" \"&$B$39","v":" "},{"$f":"$C$39","v":0},26]
[null,null,null,null,null,null,null,null,null,null,{"$f":"$E$30&\" \"&$F$30","v":" "},{"$f":"$G$30","v":0},27]
[null,null,null,null,null,null,null,null,null,null,{"$f":"$E$27&\" \"&$F$27","v":" "},{"$f":"$G$27","v":0},28]
["Mannschaft",{"$f":"IF(Mannschaft7=\"\",\"\",Mannschaft7)","v":""},null,null,"Mannschaft",{"$f":"IF(Mannschaft8=\"\",\"\",Mannschaft8)","v":""},null,null,null,null,{"$f":"$E$28&\" \"&$F$28","v":" "},{"$f":"$G$28","v":0},29]
[null,null,null,null,null,null,null,null,null,null,{"$f":"$E$29&\" \"&$F$29","v":" "},{"$f":"$G$29","v":0},30]
["Vorname","Name","Ergebnis",null,"Vorname","Name","Ergebnis",null,null,null,{"$f":"$A$30&\" \"&$B$30","v":" "},{"$f":"$C$30","v":0},31]
[null,null,null,null,null,null,null,null,null,null,{"$f":"$A$27&\" \"&$B$27","v":" "},{"$f":"$C$27","v":0},32]
[null,null,null,null,null,null,null,null,null,null,{"$f":"$A$28&\" \"&$B$28","v":" "},{"$f":"$C$28","v":0},33]
[null,null,null,null,null,null,null,null,null,null,{"$f":"$A$29&\" \"&$B$29","v":" "},{"$f":"$C$29","v":0},34]
[null,null,null,"Res.",null,null,null,null,null,null,{"$f":"$E$20&\" \"&$F$20","v":" "},{"$f":"$G$20","v":0},35]
[null,"Gesamt",{"$f":"SUM($C$37:$C$39)","v":0},null,null,"Gesamt",{"$f":"SUM($G$37:$G$39)","v":0},null,null,null,{"$f":"$A$20&\" \"&$B$20","v":" "},{"$f":"$C$20","v":0},36]
[]
[]
["Mannschaft",{"$f":"IF(Mannschaft9=\"\",\"\",Mannschaft9)","v":""},null,null,"Tabelle",null,null,null,null,"Tabelle nach dem 2. Wettkampf"]
[null,null,null,null,"Mannschaft","Ergebnis","Platz","Punkte",null,"Platz","Mannschaft","Ergebnis","Punkte"]
["Vorname","Name","Ergebnis"]
[null,null,null,null,{"$f":"IF($F$14=0,\"\",$F$14)","v":"Unterhaun/Friedewald"},{"$f":"$G$21","v":0},{"$f":"IF($E$47=\"\",\"\",1)","v":1},{"$f":"IF(F47=0,\"\",IF($E$47=\"\",\"\",IF($E$48=\"\",0,IF($E$49=\"\",1,IF($E$50=\"\",2,IF($E$51=\"\",3,IF($E$52=\"\",4,IF($E$53=\"\",5,IF($E$54=\"\",6,IF($E$55=\"\",7,8))))))))))","v":""},null,1,"Konrode",2049,4]
[null,null,null,null,{"$f":"IF($B$4=0,\"\",$B$4)","v":"Hersfeld"},{"$f":"$C$11","v":0},{"$f":"(IF($E$48=\"\",\"\",IF($F$48=$F$47,$G$47,$G$47+1)))","v":1},{"$f":"IF($E$48=\"\",\"\",IF($G$47=$G$48,$H$47,$H$47-1))","v":""},null,2,"Hersfeld",2064,4]
[null,null,null,null,{"$f":"IF($F$4=0,\"\",$F$4)","v":"Stärklos"},{"$f":"$G$11","v":0},{"$f":"(IF($E$49=\"\",\"\",IF($F$49=$F$48,$G$48,$G$48+1)))","v":1},{"$f":"IF($E$49=\"\",\"\",IF($G$48=$G$49,$H$48,IF(H48=H47,H48-2,$H$48-1)))","v":""},null,3,"Stärklos/Sorga",2104,4]
[null,null,null,"Res.",{"$f":"IF($B$14=0,\"\",$B$14)","v":"Obergeis"},{"$f":"$C$21","v":0},{"$f":"(IF($E$50=\"\",\"\",IF($F$50=$F$49,$G$49,$G$49+1)))","v":1},{"$f":"IF($E$50=\"\",\"\",IF($G$49=$G$50,$H$49,IF(H49=H48,H49-2,$H$49-1)))","v":""},null,4,"Obergeis",1021,0]
[null,"Gesamt",{"$f":"SUM($C$47:$C$49)","v":0},null,{"$f":"IF($B$44=0,\"\",$B$44)","v":""},{"$f":"$C$51","v":0},{"$f":"(IF($E$51=\"\",\"\",IF($F$51=$F$50,$G$50,$G$50+1)))","v":""},{"$f":"IF($E$51=\"\",\"\",IF($G$50=$G$51,$H$50,IF($H$50=$H$49,$H$50-2,$H$50-1)))","v":""},null,5,"",0,{"$error":"#VALUE!"}]
[null,null,null,null,{"$f":"IF($F$34=0,\"\",$F$34)","v":""},{"$f":"$G$41","v":0},{"$f":"(IF($E$52=\"\",\"\",IF($F$52=$F$51,$G$51,$G$51+1)))","v":""},{"$f":"IF($E$52=\"\",\"\",IF($G$51=$G$52,$H$51,IF($H$51=$H$50,$H$51-2,$H$51-1)))","v":""},null,6,"",0,{"$error":"#VALUE!"}]
[null,null,null,null,{"$f":"IF($B$34=0,\"\",$B$34)","v":""},{"$f":"$C$41","v":0},{"$f":"(IF($E$53=\"\",\"\",IF($F$53=$F$52,$G$52,$G$52+1)))","v":""},{"$f":"IF($E$53=\"\",\"\",IF($G$52=$G$53,$H$52,IF($H$52=$H$51,$H$52-2,$H$52-1)))","v":""},null,7,"",0,{"$error":"#VALUE!"}]
["Austragungsort:",null,null,null,{"$f":"IF($F$24=0,\"\",$F$24)","v":""},{"$f":"$G$31","v":0},{"$f":"(IF($E$54=\"\",\"\",IF($F$54=$F$53,$G$53,$G$53+1)))","v":""},{"$f":"IF($E$54=\"\",\"\",IF($G$53=$G$54,$H$53,IF($H$53=$H$52,$H$53-2,$H$53-1)))","v":""},null,8,"",0,{"$error":"#VALUE!"}]
[null,null,null,null,{"$f":"IF($B$24=0,\"\",$B$24)","v":""},{"$f":"$C$31","v":0},{"$f":"(IF($E$55=\"\",\"\",IF($F$55=$F$54,$G$54,$G$54+1)))","v":""},{"$f":"IF($E$55=\"\",\"\",IF($G$54=$G$55,$H$54,IF($H$54=$H$53,$H$54-2,$H$54-1)))","v":""},null,9,"",0,{"$error":"#VALUE!"}]

{"sheet":"WK 3","index":4,"n_rows":55,"n_cols":13,"rows_kept":55,"cut":false,"hidden":false,"merged":[[43,9,43,12],[45,9,45,12],[13,1,13,2],[13,5,13,6],[1,10,1,12],[0,1,1,5],[3,1,3,2],[3,5,3,6],[53,0,53,1],[43,1,43,2],[23,1,23,2],[23,5,23,6],[33,1,33,2],[33,5,33,6],[43,4,43,7]]}
[null,"3. Wettkampf"]
[null,null,null,null,null,null,null,null,null,null,"Einzelwertung"]
[]
["Mannschaft",{"$f":"IF(Mannschaft1=\"\",\"\",Mannschaft1)","v":"Hersfeld"},null,null,"Mannschaft",{"$f":"IF(Mannschaft2=\"\",\"\",Mannschaft2)","v":"Stärklos"},null,null,null,null,"Name","Ergebnis","Platz"]
[]
["Vorname","Name","Ergebnis",null,"Vorname","Name","Ergebnis",null,null,null,{"$f":"$A$17&\" \"&$B$17","v":" "},{"$f":"$C$17","v":0},1]
[null,null,null,null,null,null,null,null,null,null,{"$f":"$A$18&\" \"&$B$18","v":" "},{"$f":"$C$18","v":0},2]
[null,null,null,null,null,null,null,null,null,null,{"$f":"$E$7&\" \"&$F$7","v":" "},{"$f":"$G$7","v":0},3]
[null,null,null,null,null,null,null,null,null,null,{"$f":"$E$8&\" \"&$F$8","v":" "},{"$f":"$G$8","v":0},4]
[null,null,null,"Res.",null,null,null,null,null,null,{"$f":"$E$17&\" \"&$F$17","v":" "},{"$f":"$G$17","v":0},5]
[null,"Gesamt",{"$f":"SUM($C$7:$C$9)","v":0},null,null,"Gesamt",{"$f":"SUM($G$7:$G$9)","v":0},null,null,null,{"$f":"$A$19&\" \"&$B$19","v":" "},{"$f":"$C$19","v":0},6]
[null,null,null,null,null,null,null,null,null,null,{"$f":"$A$7&\" \" &$B$7","v":" "},{"$f":"$C$7","v":0},7]
[null,null,null,null,null,null,null,null,null,null,{"$f":"$E$9&\" \"&$F$9","v":" "},{"$f":"$G$9","v":0},8]
["Mannschaft",{"$f":"IF(Mannschaft3=\"\",\"\",Mannschaft3)","v":"Obergeis"},null,null,"Mannschaft",{"$f":"IF(Mannschaft4=\"\",\"\",Mannschaft4)","v":"Unterhaun/Friedewald"},null,null,null,null,{"$f":"$E$10&\" \"&$F$10","v":" "},{"$f":"$G$10","v":0},9]
[null,null,null,null,null,null,null,null,null,null,{"$f":"$A$8&\" \" &$B$8","v":" "},{"$f":"$C$8","v":0},10]
["Vorname","Name","Ergebnis",null,"Vorname","Name","Ergebnis",null,null,null,{"$f":"$A$20&\" \"&$B$20","v":" "},{"$f":"$C$20","v":0},11]
[null,null,null,null,null,null,null,null,null,null,{"$f":"$E$18&\" \"&$F$18","v":" "},{"$f":"$G$18","v":0},12]
[null,null,null,null,null,null,null,null,null,null,{"$f":"$A$9&\" \" &$B$9","v":" "},{"$f":"$C$9","v":0},13]
[null,null,null,null,null,null,null,null,null,null,{"$f":"$E$19&\" \"&$F$19","v":" "},{"$f":"$G$19","v":0},14]
[null,null,null,"Res.",null,null,null,null,null,null,{"$f":"$A$10&\" \" &$B$10","v":" "},{"$f":"$C$10","v":0},15]
[null,"Gesamt",{"$f":"SUM($C$17:$C$19)","v":0},null,null,"Gesamt",{"$f":"SUM($G$17:$G$19)","v":0},null,null,null,{"$f":"$A$50&\" \"&$B$50","v":" "},{"$f":"$C$50","v":0},16]
[null,null,null,null,null,null,null,null,null,null,{"$f":"$A$47&\" \"&$B$47","v":" "},{"$f":"$C$47","v":0},17]
[null,null,null,null,null,null,null,null,null,null,{"$f":"$A$48&\" \"&$B$48","v":" "},{"$f":"$C$48","v":0},18]
["Mannschaft",{"$f":"IF(Mannschaft5=\"\",\"\",Mannschaft5)","v":""},null,null,"Mannschaft",{"$f":"IF(Mannschaft6=\"\",\"\",Mannschaft6)","v":""},null,null,null,null,{"$f":"$A$49&\" \"&$B$49","v":" "},{"$f":"$C$49","v":0},19]
[null,null,null,null,null,null,null,null,null,null,{"$f":"$E$40&\" \"&$F$40","v":" "},{"$f":"$G$40","v":0},20]
["Vorname","Name","Ergebnis",null,"Vorname","Name","Ergebnis",null,null,null,{"$f":"$E$37&\" \"&$F$37","v":" "},{"$f":"$G$37","v":0},21]
[null,null,null,null,null,null,null,null,null,null,{"$f":"$E$38&\" \"&$F$38","v":" "},{"$f":"$G$38","v":0},22]
[null,null,null,null,null,null,null,null,null,null,{"$f":"$E$39&\" \"&$F$39","v":" "},{"$f":"$G$39","v":0},23]
[null,null,null,null,null,null,null,null,null,null,{"$f":"$A$40&\" \"&$B$40","v":" "},{"$f":"$C$40","v":0},24]
[null,null,null,"Res.",null,null,null,null,null,null,{"$f":"$A$37&\" \"&$B$37","v":" "},{"$f":"$C$37","v":0},25]
[null,"Gesamt",{"$f":"SUM($C$27:$C$29)","v":0},null,null,"Gesamt",{"$f":"SUM($G$27:$G$29)","v":0},null,null,null,{"$f":"$A$38&\" \"&$B$38","v":" "},{"$f":"$C$38","v":0},26]
[null,null,null,null,null,null,null,null,null,null,{"$f":"$A$39&\" \"&$B$39","v":" "},{"$f":"$C$39","v":0},27]
[null,null,null,null,null,null,null,null,null,null,{"$f":"$E$30&\" \"&$F$30","v":" "},{"$f":"$G$30","v":0},28]
["Mannschaft",{"$f":"IF(Mannschaft7=\"\",\"\",Mannschaft7)","v":""},null,null,"Mannschaft",{"$f":"IF(Mannschaft8=\"\",\"\",Mannschaft8)","v":""},null,null,null,null,{"$f":"$E$27&\" \"&$F$27","v":" "},{"$f":"$G$27","v":0},29]
[null,null,null,null,null,null,null,null,null,null,{"$f":"$E$28&\" \"&$F$28","v":" "},{"$f":"$G$28","v":0},30]
["Vorname","Name","Ergebnis",null,"Vorname","Name","Ergebnis",null,null,null,{"$f":"$E$29&\" \"&$F$29","v":" "},{"$f":"$G$29","v":0},31]
[null,null,null,null,null,null,null,null,null,null,{"$f":"$A$30&\" \"&$B$30","v":" "},{"$f":"$C$30","v":0},32]
[null,null,null,null,null,null,null,null,null,null,{"$f":"$A$27&\" \"&$B$27","v":" "},{"$f":"$C$27","v":0},33]
[null,null,null,null,null,null,null,null,null,null,{"$f":"$A$28&\" \"&$B$28","v":" "},{"$f":"$C$28","v":0},34]
[null,null,null,"Res.",null,null,null,null,null,null,{"$f":"$A$29&\" \"&$B$29","v":" "},{"$f":"$C$29","v":0},35]
[null,"Gesamt",{"$f":"SUM($C$37:$C$39)","v":0},null,null,"Gesamt",{"$f":"SUM($G$37:$G$39)","v":0},null,null,null,{"$f":"$E$20&\" \"&$F$20","v":" "},{"$f":"$G$20","v":0},36]
[]
[]
["Mannschaft",{"$f":"IF(Mannschaft9=\"\",\"\",Mannschaft9)","v":""},null,null,"Tabelle",null,null,null,null,"Tabelle nach dem 3. Wettkampf"]
[null,null,null,null,"Mannschaft","Ergebnis","Platz","Punkte",null,"Platz","Mannschaft","Ergebnis","Punkte"]
["Vorname","Name","Ergebnis"]
[null,null,null,null,{"$f":"IF($B$14=0,\"\",$B$14)","v":"Obergeis"},{"$f":"$C$21","v":0},{"$f":"IF($E$47=\"\",\"\",1)","v":1},{"$f":"IF(F47=0,\"\",IF($E$47=\"\",\"\",IF($E$48=\"\",0,IF($E$49=\"\",1,IF($E$50=\"\",2,IF($E$51=\"\",3,IF($E$52=\"\",4,IF($E$53=\"\",5,IF($E$54=\"\",6,IF($E$55=\"\",7,8))))))))))","v":""},null,1,"Stärklos/Sorga",3170,6]
[null,null,null,null,{"$f":"IF($F$4=0,\"\",$F$4)","v":"Stärklos"},{"$f":"$G$11","v":0},{"$f":"(IF($E$48=\"\",\"\",IF($F$48=$F$47,$G$47,$G$47+1)))","v":1},{"$f":"IF($E$48=\"\",\"\",IF($G$47=$G$48,$H$47,$H$47-1))","v":""},null,2,"Hersfeld",3094,5]
[null,null,null,null,{"$f":"IF($B$4=0,\"\",$B$4)","v":"Hersfeld"},{"$f":"$C$11","v":0},{"$f":"(IF($E$49=\"\",\"\",IF($F$49=$F$48,$G$48,$G$48+1)))","v":1},{"$f":"IF($E$49=\"\",\"\",IF($G$48=$G$49,$H$48,IF(H48=H47,H48-2,$H$48-1)))","v":""},null,3,"Konrode",3067,4]
[null,null,null,"Res.",{"$f":"IF($F$14=0,\"\",$F$14)","v":"Unterhaun/Friedewald"},{"$f":"$G$21","v":0},{"$f":"(IF($E$50=\"\",\"\",IF($F$50=$F$49,$G$49,$G$49+1)))","v":1},{"$f":"IF($E$50=\"\",\"\",IF($G$49=$G$50,$H$49,IF(H49=H48,H49-2,$H$49-1)))","v":""},null,4,"Obergeis",2113,3]
[null,"Gesamt",{"$f":"SUM($C$47:$C$49)","v":0},null,{"$f":"IF($B$44=0,\"\",$B$44)","v":""},{"$f":"$C$51","v":0},{"$f":"(IF($E$51=\"\",\"\",IF($F$51=$F$50,$G$50,$G$50+1)))","v":""},{"$f":"IF($E$51=\"\",\"\",IF($G$50=$G$51,$H$50,IF($H$50=$H$49,$H$50-2,$H$50-1)))","v":""},null,5,"",0,{"$error":"#VALUE!"}]
[null,null,null,null,{"$f":"IF($F$34=0,\"\",$F$34)","v":""},{"$f":"$G$41","v":0},{"$f":"(IF($E$52=\"\",\"\",IF($F$52=$F$51,$G$51,$G$51+1)))","v":""},{"$f":"IF($E$52=\"\",\"\",IF($G$51=$G$52,$H$51,IF($H$51=$H$50,$H$51-2,$H$51-1)))","v":""},null,6,"",0,{"$error":"#VALUE!"}]
[null,null,null,null,{"$f":"IF($B$34=0,\"\",$B$34)","v":""},{"$f":"$C$41","v":0},{"$f":"(IF($E$53=\"\",\"\",IF($F$53=$F$52,$G$52,$G$52+1)))","v":""},{"$f":"IF($E$53=\"\",\"\",IF($G$52=$G$53,$H$52,IF($H$52=$H$51,$H$52-2,$H$52-1)))","v":""},null,7,"",0,{"$error":"#VALUE!"}]
["Austragungsort:",null,null,null,{"$f":"IF($F$24=0,\"\",$F$24)","v":""},{"$f":"$G$31","v":0},{"$f":"(IF($E$54=\"\",\"\",IF($F$54=$F$53,$G$53,$G$53+1)))","v":""},{"$f":"IF($E$54=\"\",\"\",IF($G$53=$G$54,$H$53,IF($H$53=$H$52,$H$53-2,$H$53-1)))","v":""},null,8,"",0,{"$error":"#VALUE!"}]
[null,null,null,null,{"$f":"IF($B$24=0,\"\",$B$24)","v":""},{"$f":"$C$31","v":0},{"$f":"(IF($E$55=\"\",\"\",IF($F$55=$F$54,$G$54,$G$54+1)))","v":""},{"$f":"IF($E$55=\"\",\"\",IF($G$54=$G$55,$H$54,IF($H$54=$H$53,$H$54-2,$H$54-1)))","v":""},null,9,"",0,{"$error":"#VALUE!"}]

{"sheet":"WK 4","index":5,"n_rows":55,"n_cols":13,"rows_kept":55,"cut":false,"hidden":false,"merged":[[13,1,13,2],[13,5,13,6],[1,10,1,12],[0,1,1,5],[3,1,3,2],[3,5,3,6],[43,9,43,12],[45,9,45,12],[53,0,53,1],[43,1,43,2],[23,1,23,2],[23,5,23,6],[33,1,33,2],[33,5,33,6],[43,4,43,7]]}
[null,"4. Wettkampf"]
[null,null,null,null,null,null,null,null,null,null,"Einzelwertung"]
[]
["Mannschaft",{"$f":"IF(Mannschaft1=\"\",\"\",Mannschaft1)","v":"Hersfeld"},null,null,"Mannschaft",{"$f":"IF(Mannschaft2=\"\",\"\",Mannschaft2)","v":"Stärklos"},null,null,null,null,"Name","Ergebnis","Platz"]
[]
["Vorname","Name","Ergebnis",null,"Vorname","Name","Ergebnis",null,null,null,{"$f":"$A$17&\" \"&$B$17","v":" "},{"$f":"$C$17","v":0},1]
[null,null,null,null,null,null,null,null,null,null,{"$f":"$E$7&\" \"&$F$7","v":" "},{"$f":"$G$7","v":0},2]
[null,null,null,null,null,null,null,null,null,null,{"$f":"$E$17&\" \"&$F$17","v":" "},{"$f":"$G$17","v":0},3]
[null,null,null,null,null,null,null,null,null,null,{"$f":"$E$18&\" \"&$F$18","v":" "},{"$f":"$G$18","v":0},4]
[null,null,null,"Res.",null,null,null,null,null,null,{"$f":"$A$7&\" \" &$B$7","v":" "},{"$f":"$C$7","v":0},5]
[null,"Gesamt",{"$f":"SUM($C$7:$C$9)","v":0},null,null,"Gesamt",{"$f":"SUM($G$7:$G$9)","v":0},null,null,null,{"$f":"$E$10&\" \"&$F$10","v":" "},{"$f":"$G$10","v":0},6]
[null,null,null,null,null,null,null,null,null,null,{"$f":"$A$18&\" \"&$B$18","v":" "},{"$f":"$C$18","v":0},7]
[null,null,null,null,null,null,null,null,null,null,{"$f":"$A$8&\" \" &$B$8","v":" "},{"$f":"$C$8","v":0},8]
["Mannschaft",{"$f":"IF(Mannschaft3=\"\",\"\",Mannschaft3)","v":"Obergeis"},null,null,"Mannschaft",{"$f":"IF(Mannschaft4=\"\",\"\",Mannschaft4)","v":"Unterhaun/Friedewald"},null,null,null,null,{"$f":"$E$8&\" \"&$F$8","v":" "},{"$f":"$G$8","v":0},9]
[null,null,null,null,null,null,null,null,null,null,{"$f":"$E$19&\" \"&$F$19","v":" "},{"$f":"$G$19","v":0},10]
["Vorname","Name","Ergebnis",null,"Vorname","Name","Ergebnis",null,null,null,{"$f":"$A$9&\" \" &$B$9","v":" "},{"$f":"$C$9","v":0},11]
[null,null,null,null,null,null,null,null,null,null,{"$f":"$E$9&\" \"&$F$9","v":" "},{"$f":"$G$9","v":0},12]
[null,null,null,null,null,null,null,null,null,null,{"$f":"$A$20&\" \"&$B$20","v":" "},{"$f":"$C$20","v":0},13]
[null,null,null,null,null,null,null,null,null,null,{"$f":"$A$19&\" \"&$B$19","v":" "},{"$f":"$C$19","v":0},14]
[null,null,null,"Res.",null,null,null,null,null,null,{"$f":"$A$50&\" \"&$B$50","v":" "},{"$f":"$C$50","v":0},15]
[null,"Gesamt",{"$f":"SUM($C$17:$C$19)","v":0},null,null,"Gesamt",{"$f":"SUM($G$17:$G$19)","v":0},null,null,null,{"$f":"$A$47&\" \"&$B$47","v":" "},{"$f":"$C$47","v":0},16]
[null,null,null,null,null,null,null,null,null,null,{"$f":"$A$48&\" \"&$B$48","v":" "},{"$f":"$C$48","v":0},17]
[null,null,null,null,null,null,null,null,null,null,{"$f":"$A$49&\" \"&$B$49","v":" "},{"$f":"$C$49","v":0},18]
["Mannschaft",{"$f":"IF(Mannschaft5=\"\",\"\",Mannschaft5)","v":""},null,null,"Mannschaft",{"$f":"IF(Mannschaft6=\"\",\"\",Mannschaft6)","v":""},null,null,null,null,{"$f":"$E$40&\" \"&$F$40","v":" "},{"$f":"$G$40","v":0},19]
[null,null,null,null,null,null,null,null,null,null,{"$f":"$E$37&\" \"&$F$37","v":" "},{"$f":"$G$37","v":0},20]
["Vorname","Name","Ergebnis",null,"Vorname","Name","Ergebnis",null,null,null,{"$f":"$E$38&\" \"&$F$38","v":" "},{"$f":"$G$38","v":0},21]
[null,null,null,null,null,null,null,null,null,null,{"$f":"$E$39&\" \"&$F$39","v":" "},{"$f":"$G$39","v":0},22]
[null,null,null,null,null,null,null,null,null,null,{"$f":"$A$40&\" \"&$B$40","v":" "},{"$f":"$C$40","v":0},23]
[null,null,null,null,null,null,null,null,null,null,{"$f":"$A$37&\" \"&$B$37","v":" "},{"$f":"$C$37","v":0},24]
[null,null,null,"Res.",null,null,null,null,null,null,{"$f":"$A$38&\" \"&$B$38","v":" "},{"$f":"$C$38","v":0},25]
[null,"Gesamt",{"$f":"SUM($C$27:$C$29)","v":0},null,null,"Gesamt",{"$f":"SUM($G$27:$G$29)","v":0},null,null,null,{"$f":"$A$39&\" \"&$B$39","v":" "},{"$f":"$C$39","v":0},26]
[null,null,null,null,null,null,null,null,null,null,{"$f":"$E$30&\" \"&$F$30","v":" "},{"$f":"$G$30","v":0},27]
[null,null,null,null,null,null,null,null,null,null,{"$f":"$E$27&\" \"&$F$27","v":" "},{"$f":"$G$27","v":0},28]
["Mannschaft",{"$f":"IF(Mannschaft7=\"\",\"\",Mannschaft7)","v":""},null,null,"Mannschaft",{"$f":"IF(Mannschaft8=\"\",\"\",Mannschaft8)","v":""},null,null,null,null,{"$f":"$E$28&\" \"&$F$28","v":" "},{"$f":"$G$28","v":0},29]
[null,null,null,null,null,null,null,null,null,null,{"$f":"$E$29&\" \"&$F$29","v":" "},{"$f":"$G$29","v":0},30]
["Vorname","Name","Ergebnis",null,"Vorname","Name","Ergebnis",null,null,null,{"$f":"$A$30&\" \"&$B$30","v":" "},{"$f":"$C$30","v":0},31]
[null,null,null,null,null,null,null,null,null,null,{"$f":"$A$27&\" \"&$B$27","v":" "},{"$f":"$C$27","v":0},32]
[null,null,null,null,null,null,null,null,null,null,{"$f":"$A$28&\" \"&$B$28","v":" "},{"$f":"$C$28","v":0},33]
[null,null,null,null,null,null,null,null,null,null,{"$f":"$A$29&\" \"&$B$29","v":" "},{"$f":"$C$29","v":0},34]
[null,null,null,"Res.",null,null,null,null,null,null,{"$f":"$E$20&\" \"&$F$20","v":" "},{"$f":"$G$20","v":0},35]
[null,"Gesamt",{"$f":"SUM($C$37:$C$39)","v":0},null,null,"Gesamt",{"$f":"SUM($G$37:$G$39)","v":0},null,null,null,{"$f":"$A$10&\" \" &$B$10","v":" "},{"$f":"$C$10","v":0},36]
[]
[]
["Mannschaft",{"$f":"IF(Mannschaft9=\"\",\"\",Mannschaft9)","v":""},null,null,"Tabelle",null,null,null,null,"Tabelle nach dem 4. Wettkampf"]
[null,null,null,null,"Mannschaft","Ergebnis","Platz","Punkte",null,"Platz","Mannschaft","Ergebnis","Punkte"]
["Vorname","Name","Ergebnis"]
[null,null,null,null,{"$f":"IF($F$14=0,\"\",$F$14)","v":"Unterhaun/Friedewald"},{"$f":"$G$21","v":0},{"$f":"IF($E$47=\"\",\"\",1)","v":1},{"$f":"IF(F47=0,\"\",IF($E$47=\"\",\"\",IF($E$48=\"\",0,IF($E$49=\"\",1,IF($E$50=\"\",2,IF($E$51=\"\",3,IF($E$52=\"\",4,IF($E$53=\"\",5,IF($E$54=\"\",6,IF($E$55=\"\",7,8))))))))))","v":""},null,1,"Stärklos/Sorga",4210,8]
[null,null,null,null,{"$f":"IF($F$4=0,\"\",$F$4)","v":"Stärklos"},{"$f":"$G$11","v":0},{"$f":"(IF($E$48=\"\",\"\",IF($F$48=$F$47,$G$47,$G$47+1)))","v":1},{"$f":"IF($E$48=\"\",\"\",IF($G$47=$G$48,$H$47,$H$47-1))","v":""},null,2,"Konrode",4118,7]
[null,null,null,null,{"$f":"IF($B$14=0,\"\",$B$14)","v":"Obergeis"},{"$f":"$C$21","v":0},{"$f":"(IF($E$49=\"\",\"\",IF($F$49=$F$48,$G$48,$G$48+1)))","v":1},{"$f":"IF($E$49=\"\",\"\",IF($G$48=$G$49,$H$48,IF(H48=H47,H48-2,$H$48-1)))","v":""},null,3,"Hersfeld",4131,6]
[null,null,null,"Res.",{"$f":"IF($B$4=0,\"\",$B$4)","v":"Hersfeld"},{"$f":"$C$11","v":0},{"$f":"(IF($E$50=\"\",\"\",IF($F$50=$F$49,$G$49,$G$49+1)))","v":1},{"$f":"IF($E$50=\"\",\"\",IF($G$49=$G$50,$H$49,IF(H49=H48,H49-2,$H$49-1)))","v":""},null,4,"Obergeis",3150,4]
[null,"Gesamt",{"$f":"SUM($C$47:$C$49)","v":0},null,{"$f":"IF($B$44=0,\"\",$B$44)","v":""},{"$f":"$C$51","v":0},{"$f":"(IF($E$51=\"\",\"\",IF($F$51=$F$50,$G$50,$G$50+1)))","v":""},{"$f":"IF($E$51=\"\",\"\",IF($G$50=$G$51,$H$50,IF($H$50=$H$49,$H$50-2,$H$50-1)))","v":""},null,5,"",0,{"$error":"#VALUE!"}]
[null,null,null,null,{"$f":"IF($F$34=0,\"\",$F$34)","v":""},{"$f":"$G$41","v":0},{"$f":"(IF($E$52=\"\",\"\",IF($F$52=$F$51,$G$51,$G$51+1)))","v":""},{"$f":"IF($E$52=\"\",\"\",IF($G$51=$G$52,$H$51,IF($H$51=$H$50,$H$51-2,$H$51-1)))","v":""},null,6,"",0,{"$error":"#VALUE!"}]
[null,null,null,null,{"$f":"IF($B$34=0,\"\",$B$34)","v":""},{"$f":"$C$41","v":0},{"$f":"(IF($E$53=\"\",\"\",IF($F$53=$F$52,$G$52,$G$52+1)))","v":""},{"$f":"IF($E$53=\"\",\"\",IF($G$52=$G$53,$H$52,IF($H$52=$H$51,$H$52-2,$H$52-1)))","v":""},null,7,"",0,{"$error":"#VALUE!"}]
["Austragungsort:",null,null,null,{"$f":"IF($F$24=0,\"\",$F$24)","v":""},{"$f":"$G$31","v":0},{"$f":"(IF($E$54=\"\",\"\",IF($F$54=$F$53,$G$53,$G$53+1)))","v":""},{"$f":"IF($E$54=\"\",\"\",IF($G$53=$G$54,$H$53,IF($H$53=$H$52,$H$53-2,$H$53-1)))","v":""},null,8,"",0,{"$error":"#VALUE!"}]
[null,null,null,null,{"$f":"IF($B$24=0,\"\",$B$24)","v":""},{"$f":"$C$31","v":0},{"$f":"(IF($E$55=\"\",\"\",IF($F$55=$F$54,$G$54,$G$54+1)))","v":""},{"$f":"IF($E$55=\"\",\"\",IF($G$54=$G$55,$H$54,IF($H$54=$H$53,$H$54-2,$H$54-1)))","v":""},null,9,"",0,{"$error":"#VALUE!"}]

{"sheet":"WK 5","index":6,"n_rows":55,"n_cols":13,"rows_kept":55,"cut":false,"hidden":false,"merged":[[13,1,13,2],[13,5,13,6],[1,10,1,12],[0,1,1,5],[3,1,3,2],[3,5,3,6],[53,0,53,1],[43,1,43,2],[23,1,23,2],[23,5,23,6],[33,1,33,2],[33,5,33,6],[43,4,43,7]]}
[null,"5. Wettkampf"]
[null,null,null,null,null,null,null,null,null,null,"Einzelwertung"]
[]
["Mannschaft",{"$f":"IF(Mannschaft1=\"\",\"\",Mannschaft1)","v":"Hersfeld"},null,null,"Mannschaft",{"$f":"IF(Mannschaft2=\"\",\"\",Mannschaft2)","v":"Stärklos"},null,null,null,null,"Name","Ergebnis","Platz"]
[]
["Vorname","Name","Ergebnis",null,"Vorname","Name","Ergebnis",null,null,null,{"$f":"$E$17&\" \"&$F$17","v":" "},{"$f":"$G$17","v":0},1]
[null,null,null,null,null,null,null,null,null,null,{"$f":"$A$17&\" \"&$B$17","v":" "},{"$f":"$C$17","v":0},2]
[null,null,null,null,null,null,null,null,null,null,{"$f":"$E$18&\" \"&$F$18","v":" "},{"$f":"$G$18","v":0},3]
[null,null,null,null,null,null,null,null,null,null,{"$f":"$A$18&\" \"&$B$18","v":" "},{"$f":"$C$18","v":0},4]
[null,null,null,"Res.",null,null,null,null,null,null,{"$f":"$E$7&\" \"&$F$7","v":" "},{"$f":"$G$7","v":0},5]
[null,"Gesamt",{"$f":"SUM($C$7:$C$9)","v":0},null,null,"Gesamt",{"$f":"SUM($G$7:$G$9)","v":0},null,null,null,{"$f":"$A$7&\" \" &$B$7","v":" "},{"$f":"$C$7","v":0},6]
[null,null,null,null,null,null,null,null,null,null,{"$f":"$E$19&\" \"&$F$19","v":" "},{"$f":"$G$19","v":0},7]
[null,null,null,null,null,null,null,null,null,null,{"$f":"$E$8&\" \"&$F$8","v":" "},{"$f":"$G$8","v":0},8]
["Mannschaft",{"$f":"IF(Mannschaft3=\"\",\"\",Mannschaft3)","v":"Obergeis"},null,null,"Mannschaft",{"$f":"IF(Mannschaft4=\"\",\"\",Mannschaft4)","v":"Unterhaun/Friedewald"},null,null,null,null,{"$f":"$A$8&\" \" &$B$8","v":" "},{"$f":"$C$8","v":0},9]
[null,null,null,null,null,null,null,null,null,null,{"$f":"$A$9&\" \" &$B$9","v":" "},{"$f":"$C$9","v":0},10]
["Vorname","Name","Ergebnis",null,"Vorname","Name","Ergebnis",null,null,null,{"$f":"$E$9&\" \"&$F$9","v":" "},{"$f":"$G$9","v":0},11]
[null,null,null,null,null,null,null,null,null,null,{"$f":"$A$19&\" \"&$B$19","v":" "},{"$f":"$C$19","v":0},12]
[null,null,null,null,null,null,null,null,null,null,{"$f":"$A$10&\" \" &$B$10","v":" "},{"$f":"$C$10","v":0},13]
[null,null,null,null,null,null,null,null,null,null,{"$f":"$A$20&\" \"&$B$20","v":" "},{"$f":"$C$20","v":0},14]
[null,null,null,"Res.",null,null,null,null,null,null,{"$f":"$A$50&\" \"&$B$50","v":" "},{"$f":"$C$50","v":0},15]
[null,"Gesamt",{"$f":"SUM($C$17:$C$19)","v":0},null,null,"Gesamt",{"$f":"SUM($G$17:$G$19)","v":0},null,null,null,{"$f":"$A$47&\" \"&$B$47","v":" "},{"$f":"$C$47","v":0},16]
[null,null,null,null,null,null,null,null,null,null,{"$f":"$A$48&\" \"&$B$48","v":" "},{"$f":"$C$48","v":0},17]
[null,null,null,null,null,null,null,null,null,null,{"$f":"$A$49&\" \"&$B$49","v":" "},{"$f":"$C$49","v":0},18]
["Mannschaft",{"$f":"IF(Mannschaft5=\"\",\"\",Mannschaft5)","v":""},null,null,"Mannschaft",{"$f":"IF(Mannschaft6=\"\",\"\",Mannschaft6)","v":""},null,null,null,null,{"$f":"$E$40&\" \"&$F$40","v":" "},{"$f":"$G$40","v":0},19]
[null,null,null,null,null,null,null,null,null,null,{"$f":"$E$37&\" \"&$F$37","v":" "},{"$f":"$G$37","v":0},20]
["Vorname","Name","Ergebnis",null,"Vorname","Name","Ergebnis",null,null,null,{"$f":"$E$38&\" \"&$F$38","v":" "},{"$f":"$G$38","v":0},21]
[null,null,null,null,null,null,null,null,null,null,{"$f":"$E$39&\" \"&$F$39","v":" "},{"$f":"$G$39","v":0},22]
[null,null,null,null,null,null,null,null,null,null,{"$f":"$A$40&\" \"&$B$40","v":" "},{"$f":"$C$40","v":0},23]
[null,null,null,null,null,null,null,null,null,null,{"$f":"$A$37&\" \"&$B$37","v":" "},{"$f":"$C$37","v":0},24]
[null,null,null,"Res.",null,null,null,null,null,null,{"$f":"$A$38&\" \"&$B$38","v":" "},{"$f":"$C$38","v":0},25]
[null,"Gesamt",{"$f":"SUM($C$27:$C$29)","v":0},null,null,"Gesamt",{"$f":"SUM($G$27:$G$29)","v":0},null,null,null,{"$f":"$A$39&\" \"&$B$39","v":" "},{"$f":"$C$39","v":0},26]
[null,null,null,null,null,null,null,null,null,null,{"$f":"$E$30&\" \"&$F$30","v":" "},{"$f":"$G$30","v":0},27]
[null,null,null,null,null,null,null,null,null,null,{"$f":"$E$27&\" \"&$F$27","v":" "},{"$f":"$G$27","v":0},28]
["Mannschaft",{"$f":"IF(Mannschaft7=\"\",\"\",Mannschaft7)","v":""},null,null,"Mannschaft",{"$f":"IF(Mannschaft8=\"\",\"\",Mannschaft8)","v":""},null,null,null,null,{"$f":"$E$28&\" \"&$F$28","v":" "},{"$f":"$G$28","v":0},29]
[null,null,null,null,null,null,null,null,null,null,{"$f":"$E$29&\" \"&$F$29","v":" "},{"$f":"$G$29","v":0},30]
["Vorname","Name","Ergebnis",null,"Vorname","Name","Ergebnis",null,null,null,{"$f":"$A$30&\" \"&$B$30","v":" "},{"$f":"$C$30","v":0},31]
[null,null,null,null,null,null,null,null,null,null,{"$f":"$A$27&\" \"&$B$27","v":" "},{"$f":"$C$27","v":0},32]
[null,null,null,null,null,null,null,null,null,null,{"$f":"$A$28&\" \"&$B$28","v":" "},{"$f":"$C$28","v":0},33]
[null,null,null,null,null,null,null,null,null,null,{"$f":"$A$29&\" \"&$B$29","v":" "},{"$f":"$C$29","v":0},34]
[null,null,null,"Res.",null,null,null,null,null,null,{"$f":"$E$20&\" \"&$F$20","v":" "},{"$f":"$G$20","v":0},35]
[null,"Gesamt",{"$f":"SUM($C$37:$C$39)","v":0},null,null,"Gesamt",{"$f":"SUM($G$37:$G$39)","v":0},null,null,null,{"$f":"$E$10&\" \"&$F$10","v":" "},{"$f":"$G$10","v":0},36]
[]
[]
["Mannschaft",{"$f":"IF(Mannschaft9=\"\",\"\",Mannschaft9)","v":""},null,null,"Tabelle"]
[null,null,null,null,"Mannschaft","Ergebnis","Platz","Punkte"]
["Vorname","Name","Ergebnis"]
[null,null,null,null,{"$f":"IF($F$14=0,\"\",$F$14)","v":"Unterhaun/Friedewald"},{"$f":"$G$21","v":0},{"$f":"IF($E$47=\"\",\"\",1)","v":1},{"$f":"IF(F47=0,\"\",IF($E$47=\"\",\"\",IF($E$48=\"\",0,IF($E$49=\"\",1,IF($E$50=\"\",2,IF($E$51=\"\",3,IF($E$52=\"\",4,IF($E$53=\"\",5,IF($E$54=\"\",6,IF($E$55=\"\",7,8))))))))))","v":""}]
[null,null,null,null,{"$f":"IF($B$14=0,\"\",$B$14)","v":"Obergeis"},{"$f":"$C$21","v":0},{"$f":"(IF($E$48=\"\",\"\",IF($F$48=$F$47,$G$47,$G$47+1)))","v":1},{"$f":"IF($E$48=\"\",\"\",IF($G$47=$G$48,$H$47,$H$47-1))","v":""}]
[null,null,null,null,{"$f":"IF($F$4=0,\"\",$F$4)","v":"Stärklos"},{"$f":"$G$11","v":0},{"$f":"(IF($E$49=\"\",\"\",IF($F$49=$F$48,$G$48,$G$48+1)))","v":1},{"$f":"IF($E$49=\"\",\"\",IF($G$48=$G$49,$H$48,IF(H48=H47,H48-2,$H$48-1)))","v":""}]
[null,null,null,"Res.",{"$f":"IF($B$4=0,\"\",$B$4)","v":"Hersfeld"},{"$f":"$C$11","v":0},{"$f":"(IF($E$50=\"\",\"\",IF($F$50=$F$49,$G$49,$G$49+1)))","v":1},{"$f":"IF($E$50=\"\",\"\",IF($G$49=$G$50,$H$49,IF(H49=H48,H49-2,$H$49-1)))","v":""}]
[null,"Gesamt",{"$f":"SUM($C$47:$C$49)","v":0},null,{"$f":"IF($B$44=0,\"\",$B$44)","v":""},{"$f":"$C$51","v":0},{"$f":"(IF($E$51=\"\",\"\",IF($F$51=$F$50,$G$50,$G$50+1)))","v":""},{"$f":"IF($E$51=\"\",\"\",IF($G$50=$G$51,$H$50,IF($H$50=$H$49,$H$50-2,$H$50-1)))","v":""}]
[null,null,null,null,{"$f":"IF($F$34=0,\"\",$F$34)","v":""},{"$f":"$G$41","v":0},{"$f":"(IF($E$52=\"\",\"\",IF($F$52=$F$51,$G$51,$G$51+1)))","v":""},{"$f":"IF($E$52=\"\",\"\",IF($G$51=$G$52,$H$51,IF($H$51=$H$50,$H$51-2,$H$51-1)))","v":""}]
[null,null,null,null,{"$f":"IF($B$34=0,\"\",$B$34)","v":""},{"$f":"$C$41","v":0},{"$f":"(IF($E$53=\"\",\"\",IF($F$53=$F$52,$G$52,$G$52+1)))","v":""},{"$f":"IF($E$53=\"\",\"\",IF($G$52=$G$53,$H$52,IF($H$52=$H$51,$H$52-2,$H$52-1)))","v":""}]
["Austragungsort:",null,null,null,{"$f":"IF($F$24=0,\"\",$F$24)","v":""},{"$f":"$G$31","v":0},{"$f":"(IF($E$54=\"\",\"\",IF($F$54=$F$53,$G$53,$G$53+1)))","v":""},{"$f":"IF($E$54=\"\",\"\",IF($G$53=$G$54,$H$53,IF($H$53=$H$52,$H$53-2,$H$53-1)))","v":""}]
[null,null,null,null,{"$f":"IF($B$24=0,\"\",$B$24)","v":""},{"$f":"$C$31","v":0},{"$f":"(IF($E$55=\"\",\"\",IF($F$55=$F$54,$G$54,$G$54+1)))","v":""},{"$f":"IF($E$55=\"\",\"\",IF($G$54=$G$55,$H$54,IF($H$54=$H$53,$H$54-2,$H$54-1)))","v":""}]

{"sheet":"WK 6","index":7,"n_rows":55,"n_cols":13,"rows_kept":55,"cut":false,"hidden":false,"merged":[[13,1,13,2],[13,5,13,6],[1,10,1,12],[0,1,1,5],[3,1,3,2],[3,5,3,6],[53,0,53,1],[43,1,43,2],[23,1,23,2],[23,5,23,6],[33,1,33,2],[33,5,33,6],[43,4,43,7]]}
[null,"6. Wettkampf"]
[null,null,null,null,null,null,null,null,null,null,"Einzelwertung"]
[]
["Mannschaft",{"$f":"IF(Mannschaft1=\"\",\"\",Mannschaft1)","v":"Hersfeld"},null,null,"Mannschaft",{"$f":"IF(Mannschaft2=\"\",\"\",Mannschaft2)","v":"Stärklos"},null,null,null,null,"Name","Ergebnis","Platz"]
[]
["Vorname","Name","Ergebnis",null,"Vorname","Name","Ergebnis",null,null,null,{"$f":"$A$50&\" \"&$B$50","v":" "},{"$f":"$C$50","v":0},1]
[null,null,null,null,null,null,null,null,null,null,{"$f":"$A$47&\" \"&$B$47","v":" "},{"$f":"$C$47","v":0},2]
[null,null,null,null,null,null,null,null,null,null,{"$f":"$A$48&\" \"&$B$48","v":" "},{"$f":"$C$48","v":0},3]
[null,null,null,null,null,null,null,null,null,null,{"$f":"$A$49&\" \"&$B$49","v":" "},{"$f":"$C$49","v":0},4]
[null,null,null,"Res.",null,null,null,null,null,null,{"$f":"$E$40&\" \"&$F$40","v":" "},{"$f":"$G$40","v":0},5]
[null,"Gesamt",{"$f":"SUM($C$7:$C$9)","v":0},null,null,"Gesamt",{"$f":"SUM($G$7:$G$9)","v":0},null,null,null,{"$f":"$E$37&\" \"&$F$37","v":" "},{"$f":"$G$37","v":0},6]
[null,null,null,null,null,null,null,null,null,null,{"$f":"$E$38&\" \"&$F$38","v":" "},{"$f":"$G$38","v":0},7]
[null,null,null,null,null,null,null,null,null,null,{"$f":"$E$39&\" \"&$F$39","v":" "},{"$f":"$G$39","v":0},8]
["Mannschaft",{"$f":"IF(Mannschaft3=\"\",\"\",Mannschaft3)","v":"Obergeis"},null,null,"Mannschaft",{"$f":"IF(Mannschaft4=\"\",\"\",Mannschaft4)","v":"Unterhaun/Friedewald"},null,null,null,null,{"$f":"$A$40&\" \"&$B$40","v":" "},{"$f":"$C$40","v":0},9]
[null,null,null,null,null,null,null,null,null,null,{"$f":"$A$37&\" \"&$B$37","v":" "},{"$f":"$C$37","v":0},10]
["Vorname","Name","Ergebnis",null,"Vorname","Name","Ergebnis",null,null,null,{"$f":"$A$38&\" \"&$B$38","v":" "},{"$f":"$C$38","v":0},11]
[null,null,null,null,null,null,null,null,null,null,{"$f":"$A$39&\" \"&$B$39","v":" "},{"$f":"$C$39","v":0},12]
[null,null,null,null,null,null,null,null,null,null,{"$f":"$E$30&\" \"&$F$30","v":" "},{"$f":"$G$30","v":0},13]
[null,null,null,null,null,null,null,null,null,null,{"$f":"$E$27&\" \"&$F$27","v":" "},{"$f":"$G$27","v":0},14]
[null,null,null,"Res.",null,null,null,null,null,null,{"$f":"$E$28&\" \"&$F$28","v":" "},{"$f":"$G$28","v":0},15]
[null,"Gesamt",{"$f":"SUM($C$17:$C$19)","v":0},null,null,"Gesamt",{"$f":"SUM($G$17:$G$19)","v":0},null,null,null,{"$f":"$E$29&\" \"&$F$29","v":" "},{"$f":"$G$29","v":0},16]
[null,null,null,null,null,null,null,null,null,null,{"$f":"$A$30&\" \"&$B$30","v":" "},{"$f":"$C$30","v":0},17]
[null,null,null,null,null,null,null,null,null,null,{"$f":"$A$27&\" \"&$B$27","v":" "},{"$f":"$C$27","v":0},18]
["Mannschaft",{"$f":"IF(Mannschaft5=\"\",\"\",Mannschaft5)","v":""},null,null,"Mannschaft",{"$f":"IF(Mannschaft6=\"\",\"\",Mannschaft6)","v":""},null,null,null,null,{"$f":"$A$28&\" \"&$B$28","v":" "},{"$f":"$C$28","v":0},19]
[null,null,null,null,null,null,null,null,null,null,{"$f":"$A$29&\" \"&$B$29","v":" "},{"$f":"$C$29","v":0},20]
["Vorname","Name","Ergebnis",null,"Vorname","Name","Ergebnis",null,null,null,{"$f":"$E$20&\" \"&$F$20","v":" "},{"$f":"$G$20","v":0},21]
[null,null,null,null,null,null,null,null,null,null,{"$f":"$E$17&\" \"&$F$17","v":" "},{"$f":"$G$17","v":0},22]
[null,null,null,null,null,null,null,null,null,null,{"$f":"$E$18&\" \"&$F$18","v":" "},{"$f":"$G$18","v":0},23]
[null,null,null,null,null,null,null,null,null,null,{"$f":"$E$19&\" \"&$F$19","v":" "},{"$f":"$G$19","v":0},24]
[null,null,null,"Res.",null,null,null,null,null,null,{"$f":"$A$20&\" \"&$B$20","v":" "},{"$f":"$C$20","v":0},25]
[null,"Gesamt",{"$f":"SUM($C$27:$C$29)","v":0},null,null,"Gesamt",{"$f":"SUM($G$27:$G$29)","v":0},null,null,null,{"$f":"$A$17&\" \"&$B$17","v":" "},{"$f":"$C$17","v":0},26]
[null,null,null,null,null,null,null,null,null,null,{"$f":"$A$18&\" \"&$B$18","v":" "},{"$f":"$C$18","v":0},27]
[null,null,null,null,null,null,null,null,null,null,{"$f":"$A$19&\" \"&$B$19","v":" "},{"$f":"$C$19","v":0},28]
["Mannschaft",{"$f":"IF(Mannschaft7=\"\",\"\",Mannschaft7)","v":""},null,null,"Mannschaft",{"$f":"IF(Mannschaft8=\"\",\"\",Mannschaft8)","v":""},null,null,null,null,{"$f":"$E$10&\" \"&$F$10","v":" "},{"$f":"$G$10","v":0},29]
[null,null,null,null,null,null,null,null,null,null,{"$f":"$E$7&\" \"&$F$7","v":" "},{"$f":"$G$7","v":0},30]
["Vorname","Name","Ergebnis",null,"Vorname","Name","Ergebnis",null,null,null,{"$f":"$E$8&\" \"&$F$8","v":" "},{"$f":"$G$8","v":0},31]
[null,null,null,null,null,null,null,null,null,null,{"$f":"$E$9&\" \"&$F$9","v":" "},{"$f":"$G$9","v":0},32]
[null,null,null,null,null,null,null,null,null,null,{"$f":"$A$10&\" \" &$B$10","v":" "},{"$f":"$C$10","v":0},33]
[null,null,null,null,null,null,null,null,null,null,{"$f":"$A$7&\" \" &$B$7","v":" "},{"$f":"$C$7","v":0},34]
[null,null,null,"Res.",null,null,null,null,null,null,{"$f":"$A$8&\" \" &$B$8","v":" "},{"$f":"$C$8","v":0},35]
[null,"Gesamt",{"$f":"SUM($C$37:$C$39)","v":0},null,null,"Gesamt",{"$f":"SUM($G$37:$G$39)","v":0},null,null,null,{"$f":"$A$9&\" \" &$B$9","v":" "},{"$f":"$C$9","v":0},36]
[]
[]
["Mannschaft",{"$f":"IF(Mannschaft9=\"\",\"\",Mannschaft9)","v":""},null,null,"Tabelle"]
[null,null,null,null,"Mannschaft","Ergebnis","Platz","Punkte"]
["Vorname","Name","Ergebnis"]
[null,null,null,null,{"$f":"IF($B$44=0,\"\",$B$44)","v":""},{"$f":"$C$51","v":0},{"$f":"IF($E$47=\"\",\"\",1)","v":""},{"$f":"IF(F47=0,\"\",IF($E$47=\"\",\"\",IF($E$48=\"\",0,IF($E$49=\"\",1,IF($E$50=\"\",2,IF($E$51=\"\",3,IF($E$52=\"\",4,IF($E$53=\"\",5,IF($E$54=\"\",6,IF($E$55=\"\",7,8))))))))))","v":""}]
[null,null,null,null,{"$f":"IF($F$34=0,\"\",$F$34)","v":""},{"$f":"$G$41","v":0},{"$f":"(IF($E$48=\"\",\"\",IF($F$48=$F$47,$G$47,$G$47+1)))","v":""},{"$f":"IF($E$48=\"\",\"\",IF($G$47=$G$48,$H$47,$H$47-1))","v":""}]
[null,null,null,null,{"$f":"IF($B$34=0,\"\",$B$34)","v":""},{"$f":"$C$41","v":0},{"$f":"(IF($E$49=\"\",\"\",IF($F$49=$F$48,$G$48,$G$48+1)))","v":""},{"$f":"IF($E$49=\"\",\"\",IF($G$48=$G$49,$H$48,IF(H48=H47,H48-2,$H$48-1)))","v":""}]
[null,null,null,"Res.",{"$f":"IF($F$24=0,\"\",$F$24)","v":""},{"$f":"$G$31","v":0},{"$f":"(IF($E$50=\"\",\"\",IF($F$50=$F$49,$G$49,$G$49+1)))","v":""},{"$f":"IF($E$50=\"\",\"\",IF($G$49=$G$50,$H$49,IF(H49=H48,H49-2,$H$49-1)))","v":""}]
[null,"Gesamt",{"$f":"SUM($C$47:$C$49)","v":0},null,{"$f":"IF($B$24=0,\"\",$B$24)","v":""},{"$f":"$C$31","v":0},{"$f":"(IF($E$51=\"\",\"\",IF($F$51=$F$50,$G$50,$G$50+1)))","v":""},{"$f":"IF($E$51=\"\",\"\",IF($G$50=$G$51,$H$50,IF($H$50=$H$49,$H$50-2,$H$50-1)))","v":""}]
[null,null,null,null,{"$f":"IF($F$14=0,\"\",$F$14)","v":"Unterhaun/Friedewald"},{"$f":"$G$21","v":0},{"$f":"(IF($E$52=\"\",\"\",IF($F$52=$F$51,$G$51,$G$51+1)))","v":""},{"$f":"IF($E$52=\"\",\"\",IF($G$51=$G$52,$H$51,IF($H$51=$H$50,$H$51-2,$H$51-1)))","v":""}]
[null,null,null,null,{"$f":"IF($B$14=0,\"\",$B$14)","v":"Obergeis"},{"$f":"$C$21","v":0},{"$f":"(IF($E$53=\"\",\"\",IF($F$53=$F$52,$G$52,$G$52+1)))","v":""},{"$f":"IF($E$53=\"\",\"\",IF($G$52=$G$53,$H$52,IF($H$52=$H$51,$H$52-2,$H$52-1)))","v":""}]
["Austragungsort:",null,null,null,{"$f":"IF($F$4=0,\"\",$F$4)","v":"Stärklos"},{"$f":"$G$11","v":0},{"$f":"(IF($E$54=\"\",\"\",IF($F$54=$F$53,$G$53,$G$53+1)))","v":""},{"$f":"IF($E$54=\"\",\"\",IF($G$53=$G$54,$H$53,IF($H$53=$H$52,$H$53-2,$H$53-1)))","v":""}]
[null,null,null,null,{"$f":"IF($B$4=0,\"\",$B$4)","v":"Hersfeld"},{"$f":"$C$11","v":0},{"$f":"(IF($E$55=\"\",\"\",IF($F$55=$F$54,$G$54,$G$54+1)))","v":""},{"$f":"IF($E$55=\"\",\"\",IF($G$54=$G$55,$H$54,IF($H$54=$H$53,$H$54-2,$H$54-1)))","v":""}]

{"sheet":"WK 7","index":8,"n_rows":55,"n_cols":13,"rows_kept":55,"cut":false,"hidden":false,"merged":[[13,1,13,2],[13,5,13,6],[1,10,1,12],[0,1,1,5],[3,1,3,2],[3,5,3,6],[53,0,53,1],[43,1,43,2],[23,1,23,2],[23,5,23,6],[33,1,33,2],[33,5,33,6],[43,4,43,7]]}
[null,"7. Wettkampf"]
[null,null,null,null,null,null,null,null,null,null,"Einzelwertung"]
[]
["Mannschaft",{"$f":"IF(Mannschaft1=\"\",\"\",Mannschaft1)","v":"Hersfeld"},null,null,"Mannschaft",{"$f":"IF(Mannschaft2=\"\",\"\",Mannschaft2)","v":"Stärklos"},null,null,null,null,"Name","Ergebnis","Platz"]
[]
["Vorname","Name","Ergebnis",null,"Vorname","Name","Ergebnis",null,null,null,{"$f":"$A$50&\" \"&$B$50","v":" "},{"$f":"$C$50","v":0},1]
[null,null,null,null,null,null,null,null,null,null,{"$f":"$A$47&\" \"&$B$47","v":" "},{"$f":"$C$47","v":0},2]
[null,null,null,null,null,null,null,null,null,null,{"$f":"$A$48&\" \"&$B$48","v":" "},{"$f":"$C$48","v":0},3]
[null,null,null,null,null,null,null,null,null,null,{"$f":"$A$49&\" \"&$B$49","v":" "},{"$f":"$C$49","v":0},4]
[null,null,null,"Res.",null,null,null,null,null,null,{"$f":"$E$40&\" \"&$F$40","v":" "},{"$f":"$G$40","v":0},5]
[null,"Gesamt",{"$f":"SUM($C$7:$C$9)","v":0},null,null,"Gesamt",{"$f":"SUM($G$7:$G$9)","v":0},null,null,null,{"$f":"$E$37&\" \"&$F$37","v":" "},{"$f":"$G$37","v":0},6]
[null,null,null,null,null,null,null,null,null,null,{"$f":"$E$38&\" \"&$F$38","v":" "},{"$f":"$G$38","v":0},7]
[null,null,null,null,null,null,null,null,null,null,{"$f":"$E$39&\" \"&$F$39","v":" "},{"$f":"$G$39","v":0},8]
["Mannschaft",{"$f":"IF(Mannschaft3=\"\",\"\",Mannschaft3)","v":"Obergeis"},null,null,"Mannschaft",{"$f":"IF(Mannschaft4=\"\",\"\",Mannschaft4)","v":"Unterhaun/Friedewald"},null,null,null,null,{"$f":"$A$40&\" \"&$B$40","v":" "},{"$f":"$C$40","v":0},9]
[null,null,null,null,null,null,null,null,null,null,{"$f":"$A$37&\" \"&$B$37","v":" "},{"$f":"$C$37","v":0},10]
["Vorname","Name","Ergebnis",null,"Vorname","Name","Ergebnis",null,null,null,{"$f":"$A$38&\" \"&$B$38","v":" "},{"$f":"$C$38","v":0},11]
[null,null,null,null,null,null,null,null,null,null,{"$f":"$A$39&\" \"&$B$39","v":" "},{"$f":"$C$39","v":0},12]
[null,null,null,null,null,null,null,null,null,null,{"$f":"$E$30&\" \"&$F$30","v":" "},{"$f":"$G$30","v":0},13]
[null,null,null,null,null,null,null,null,null,null,{"$f":"$E$27&\" \"&$F$27","v":" "},{"$f":"$G$27","v":0},14]
[null,null,null,"Res.",null,null,null,null,null,null,{"$f":"$E$28&\" \"&$F$28","v":" "},{"$f":"$G$28","v":0},15]
[null,"Gesamt",{"$f":"SUM($C$17:$C$19)","v":0},null,null,"Gesamt",{"$f":"SUM($G$17:$G$19)","v":0},null,null,null,{"$f":"$E$29&\" \"&$F$29","v":" "},{"$f":"$G$29","v":0},16]
[null,null,null,null,null,null,null,null,null,null,{"$f":"$A$30&\" \"&$B$30","v":" "},{"$f":"$C$30","v":0},17]
[null,null,null,null,null,null,null,null,null,null,{"$f":"$A$27&\" \"&$B$27","v":" "},{"$f":"$C$27","v":0},18]
["Mannschaft",{"$f":"IF(Mannschaft5=\"\",\"\",Mannschaft5)","v":""},null,null,"Mannschaft",{"$f":"IF(Mannschaft6=\"\",\"\",Mannschaft6)","v":""},null,null,null,null,{"$f":"$A$28&\" \"&$B$28","v":" "},{"$f":"$C$28","v":0},19]
[null,null,null,null,null,null,null,null,null,null,{"$f":"$A$29&\" \"&$B$29","v":" "},{"$f":"$C$29","v":0},20]
["Vorname","Name","Ergebnis",null,"Vorname","Name","Ergebnis",null,null,null,{"$f":"$E$20&\" \"&$F$20","v":" "},{"$f":"$G$20","v":0},21]
[null,null,null,null,null,null,null,null,null,null,{"$f":"$E$17&\" \"&$F$17","v":" "},{"$f":"$G$17","v":0},22]
[null,null,null,null,null,null,null,null,null,null,{"$f":"$E$18&\" \"&$F$18","v":" "},{"$f":"$G$18","v":0},23]
[null,null,null,null,null,null,null,null,null,null,{"$f":"$E$19&\" \"&$F$19","v":" "},{"$f":"$G$19","v":0},24]
[null,null,null,"Res.",null,null,null,null,null,null,{"$f":"$A$20&\" \"&$B$20","v":" "},{"$f":"$C$20","v":0},25]
[null,"Gesamt",{"$f":"SUM($C$27:$C$29)","v":0},null,null,"Gesamt",{"$f":"SUM($G$27:$G$29)","v":0},null,null,null,{"$f":"$A$17&\" \"&$B$17","v":" "},{"$f":"$C$17","v":0},26]
[null,null,null,null,null,null,null,null,null,null,{"$f":"$A$18&\" \"&$B$18","v":" "},{"$f":"$C$18","v":0},27]
[null,null,null,null,null,null,null,null,null,null,{"$f":"$A$19&\" \"&$B$19","v":" "},{"$f":"$C$19","v":0},28]
["Mannschaft",{"$f":"IF(Mannschaft7=\"\",\"\",Mannschaft7)","v":""},null,null,"Mannschaft",{"$f":"IF(Mannschaft8=\"\",\"\",Mannschaft8)","v":""},null,null,null,null,{"$f":"$E$10&\" \"&$F$10","v":" "},{"$f":"$G$10","v":0},29]
[null,null,null,null,null,null,null,null,null,null,{"$f":"$E$7&\" \"&$F$7","v":" "},{"$f":"$G$7","v":0},30]
["Vorname","Name","Ergebnis",null,"Vorname","Name","Ergebnis",null,null,null,{"$f":"$E$8&\" \"&$F$8","v":" "},{"$f":"$G$8","v":0},31]
[null,null,null,null,null,null,null,null,null,null,{"$f":"$E$9&\" \"&$F$9","v":" "},{"$f":"$G$9","v":0},32]
[null,null,null,null,null,null,null,null,null,null,{"$f":"$A$10&\" \" &$B$10","v":" "},{"$f":"$C$10","v":0},33]
[null,null,null,null,null,null,null,null,null,null,{"$f":"$A$7&\" \" &$B$7","v":" "},{"$f":"$C$7","v":0},34]
[null,null,null,"Res.",null,null,null,null,null,null,{"$f":"$A$8&\" \" &$B$8","v":" "},{"$f":"$C$8","v":0},35]
[null,"Gesamt",{"$f":"SUM($C$37:$C$39)","v":0},null,null,"Gesamt",{"$f":"SUM($G$37:$G$39)","v":0},null,null,null,{"$f":"$A$9&\" \" &$B$9","v":" "},{"$f":"$C$9","v":0},36]
[]
[]
["Mannschaft",{"$f":"IF(Mannschaft9=\"\",\"\",Mannschaft9)","v":""},null,null,"Tabelle"]
[null,null,null,null,"Mannschaft","Ergebnis","Platz","Punkte"]
["Vorname","Name","Ergebnis"]
[null,null,null,null,{"$f":"IF($B$44=0,\"\",$B$44)","v":""},{"$f":"$C$51","v":0},{"$f":"IF($E$47=\"\",\"\",1)","v":""},{"$f":"IF(F47=0,\"\",IF($E$47=\"\",\"\",IF($E$48=\"\",0,IF($E$49=\"\",1,IF($E$50=\"\",2,IF($E$51=\"\",3,IF($E$52=\"\",4,IF($E$53=\"\",5,IF($E$54=\"\",6,IF($E$55=\"\",7,8))))))))))","v":""}]
[null,null,null,null,{"$f":"IF($F$34=0,\"\",$F$34)","v":""},{"$f":"$G$41","v":0},{"$f":"(IF($E$48=\"\",\"\",IF($F$48=$F$47,$G$47,$G$47+1)))","v":""},{"$f":"IF($E$48=\"\",\"\",IF($G$47=$G$48,$H$47,$H$47-1))","v":""}]
[null,null,null,null,{"$f":"IF($B$34=0,\"\",$B$34)","v":""},{"$f":"$C$41","v":0},{"$f":"(IF($E$49=\"\",\"\",IF($F$49=$F$48,$G$48,$G$48+1)))","v":""},{"$f":"IF($E$49=\"\",\"\",IF($G$48=$G$49,$H$48,IF(H48=H47,H48-2,$H$48-1)))","v":""}]
[null,null,null,"Res.",{"$f":"IF($F$24=0,\"\",$F$24)","v":""},{"$f":"$G$31","v":0},{"$f":"(IF($E$50=\"\",\"\",IF($F$50=$F$49,$G$49,$G$49+1)))","v":""},{"$f":"IF($E$50=\"\",\"\",IF($G$49=$G$50,$H$49,IF(H49=H48,H49-2,$H$49-1)))","v":""}]
[null,"Gesamt",{"$f":"SUM($C$47:$C$49)","v":0},null,{"$f":"IF($B$24=0,\"\",$B$24)","v":""},{"$f":"$C$31","v":0},{"$f":"(IF($E$51=\"\",\"\",IF($F$51=$F$50,$G$50,$G$50+1)))","v":""},{"$f":"IF($E$51=\"\",\"\",IF($G$50=$G$51,$H$50,IF($H$50=$H$49,$H$50-2,$H$50-1)))","v":""}]
[null,null,null,null,{"$f":"IF($F$14=0,\"\",$F$14)","v":"Unterhaun/Friedewald"},{"$f":"$G$21","v":0},{"$f":"(IF($E$52=\"\",\"\",IF($F$52=$F$51,$G$51,$G$51+1)))","v":""},{"$f":"IF($E$52=\"\",\"\",IF($G$51=$G$52,$H$51,IF($H$51=$H$50,$H$51-2,$H$51-1)))","v":""}]
[null,null,null,null,{"$f":"IF($B$14=0,\"\",$B$14)","v":"Obergeis"},{"$f":"$C$21","v":0},{"$f":"(IF($E$53=\"\",\"\",IF($F$53=$F$52,$G$52,$G$52+1)))","v":""},{"$f":"IF($E$53=\"\",\"\",IF($G$52=$G$53,$H$52,IF($H$52=$H$51,$H$52-2,$H$52-1)))","v":""}]
["Austragungsort:",null,null,null,{"$f":"IF($F$4=0,\"\",$F$4)","v":"Stärklos"},{"$f":"$G$11","v":0},{"$f":"(IF($E$54=\"\",\"\",IF($F$54=$F$53,$G$53,$G$53+1)))","v":""},{"$f":"IF($E$54=\"\",\"\",IF($G$53=$G$54,$H$53,IF($H$53=$H$52,$H$53-2,$H$53-1)))","v":""}]
[null,null,null,null,{"$f":"IF($B$4=0,\"\",$B$4)","v":"Hersfeld"},{"$f":"$C$11","v":0},{"$f":"(IF($E$55=\"\",\"\",IF($F$55=$F$54,$G$54,$G$54+1)))","v":""},{"$f":"IF($E$55=\"\",\"\",IF($G$54=$G$55,$H$54,IF($H$54=$H$53,$H$54-2,$H$54-1)))","v":""}]

{"sheet":"WK 8","index":9,"n_rows":55,"n_cols":13,"rows_kept":55,"cut":false,"hidden":false,"merged":[[13,1,13,2],[13,5,13,6],[1,10,1,12],[0,1,1,5],[3,1,3,2],[3,5,3,6],[53,0,53,1],[43,1,43,2],[23,1,23,2],[23,5,23,6],[33,1,33,2],[33,5,33,6],[43,4,43,7]]}
[null,"8. Wettkampf"]
[null,null,null,null,null,null,null,null,null,null,"Einzelwertung"]
[]
["Mannschaft",{"$f":"IF(Mannschaft1=\"\",\"\",Mannschaft1)","v":"Hersfeld"},null,null,"Mannschaft",{"$f":"IF(Mannschaft2=\"\",\"\",Mannschaft2)","v":"Stärklos"},null,null,null,null,"Name","Ergebnis","Platz"]
[]
["Vorname","Name","Ergebnis",null,"Vorname","Name","Ergebnis",null,null,null,{"$f":"$A$50&\" \"&$B$50","v":" "},{"$f":"$C$50","v":0},1]
[null,null,null,null,null,null,null,null,null,null,{"$f":"$A$47&\" \"&$B$47","v":" "},{"$f":"$C$47","v":0},2]
[null,null,null,null,null,null,null,null,null,null,{"$f":"$A$48&\" \"&$B$48","v":" "},{"$f":"$C$48","v":0},3]
[null,null,null,null,null,null,null,null,null,null,{"$f":"$A$49&\" \"&$B$49","v":" "},{"$f":"$C$49","v":0},4]
[null,null,null,"Res.",null,null,null,null,null,null,{"$f":"$E$40&\" \"&$F$40","v":" "},{"$f":"$G$40","v":0},5]
[null,"Gesamt",{"$f":"SUM($C$7:$C$9)","v":0},null,null,"Gesamt",{"$f":"SUM($G$7:$G$9)","v":0},null,null,null,{"$f":"$E$37&\" \"&$F$37","v":" "},{"$f":"$G$37","v":0},6]
[null,null,null,null,null,null,null,null,null,null,{"$f":"$E$38&\" \"&$F$38","v":" "},{"$f":"$G$38","v":0},7]
[null,null,null,null,null,null,null,null,null,null,{"$f":"$E$39&\" \"&$F$39","v":" "},{"$f":"$G$39","v":0},8]
["Mannschaft",{"$f":"IF(Mannschaft3=\"\",\"\",Mannschaft3)","v":"Obergeis"},null,null,"Mannschaft",{"$f":"IF(Mannschaft4=\"\",\"\",Mannschaft4)","v":"Unterhaun/Friedewald"},null,null,null,null,{"$f":"$A$40&\" \"&$B$40","v":" "},{"$f":"$C$40","v":0},9]
[null,null,null,null,null,null,null,null,null,null,{"$f":"$A$37&\" \"&$B$37","v":" "},{"$f":"$C$37","v":0},10]
["Vorname","Name","Ergebnis",null,"Vorname","Name","Ergebnis",null,null,null,{"$f":"$A$38&\" \"&$B$38","v":" "},{"$f":"$C$38","v":0},11]
[null,null,null,null,null,null,null,null,null,null,{"$f":"$A$39&\" \"&$B$39","v":" "},{"$f":"$C$39","v":0},12]
[null,null,null,null,null,null,null,null,null,null,{"$f":"$E$30&\" \"&$F$30","v":" "},{"$f":"$G$30","v":0},13]
[null,null,null,null,null,null,null,null,null,null,{"$f":"$E$27&\" \"&$F$27","v":" "},{"$f":"$G$27","v":0},14]
[null,null,null,"Res.",null,null,null,null,null,null,{"$f":"$E$28&\" \"&$F$28","v":" "},{"$f":"$G$28","v":0},15]
[null,"Gesamt",{"$f":"SUM($C$17:$C$19)","v":0},null,null,"Gesamt",{"$f":"SUM($G$17:$G$19)","v":0},null,null,null,{"$f":"$E$29&\" \"&$F$29","v":" "},{"$f":"$G$29","v":0},16]
[null,null,null,null,null,null,null,null,null,null,{"$f":"$A$30&\" \"&$B$30","v":" "},{"$f":"$C$30","v":0},17]
[null,null,null,null,null,null,null,null,null,null,{"$f":"$A$27&\" \"&$B$27","v":" "},{"$f":"$C$27","v":0},18]
["Mannschaft",{"$f":"IF(Mannschaft5=\"\",\"\",Mannschaft5)","v":""},null,null,"Mannschaft",{"$f":"IF(Mannschaft6=\"\",\"\",Mannschaft6)","v":""},null,null,null,null,{"$f":"$A$28&\" \"&$B$28","v":" "},{"$f":"$C$28","v":0},19]
[null,null,null,null,null,null,null,null,null,null,{"$f":"$A$29&\" \"&$B$29","v":" "},{"$f":"$C$29","v":0},20]
["Vorname","Name","Ergebnis",null,"Vorname","Name","Ergebnis",null,null,null,{"$f":"$E$20&\" \"&$F$20","v":" "},{"$f":"$G$20","v":0},21]
[null,null,null,null,null,null,null,null,null,null,{"$f":"$E$17&\" \"&$F$17","v":" "},{"$f":"$G$17","v":0},22]
[null,null,null,null,null,null,null,null,null,null,{"$f":"$E$18&\" \"&$F$18","v":" "},{"$f":"$G$18","v":0},23]
[null,null,null,null,null,null,null,null,null,null,{"$f":"$E$19&\" \"&$F$19","v":" "},{"$f":"$G$19","v":0},24]
[null,null,null,"Res.",null,null,null,null,null,null,{"$f":"$A$20&\" \"&$B$20","v":" "},{"$f":"$C$20","v":0},25]
[null,"Gesamt",{"$f":"SUM($C$27:$C$29)","v":0},null,null,"Gesamt",{"$f":"SUM($G$27:$G$29)","v":0},null,null,null,{"$f":"$A$17&\" \"&$B$17","v":" "},{"$f":"$C$17","v":0},26]
[null,null,null,null,null,null,null,null,null,null,{"$f":"$A$18&\" \"&$B$18","v":" "},{"$f":"$C$18","v":0},27]
[null,null,null,null,null,null,null,null,null,null,{"$f":"$A$19&\" \"&$B$19","v":" "},{"$f":"$C$19","v":0},28]
["Mannschaft",{"$f":"IF(Mannschaft7=\"\",\"\",Mannschaft7)","v":""},null,null,"Mannschaft",{"$f":"IF(Mannschaft8=\"\",\"\",Mannschaft8)","v":""},null,null,null,null,{"$f":"$E$10&\" \"&$F$10","v":" "},{"$f":"$G$10","v":0},29]
[null,null,null,null,null,null,null,null,null,null,{"$f":"$E$7&\" \"&$F$7","v":" "},{"$f":"$G$7","v":0},30]
["Vorname","Name","Ergebnis",null,"Vorname","Name","Ergebnis",null,null,null,{"$f":"$E$8&\" \"&$F$8","v":" "},{"$f":"$G$8","v":0},31]
[null,null,null,null,null,null,null,null,null,null,{"$f":"$E$9&\" \"&$F$9","v":" "},{"$f":"$G$9","v":0},32]
[null,null,null,null,null,null,null,null,null,null,{"$f":"$A$10&\" \" &$B$10","v":" "},{"$f":"$C$10","v":0},33]
[null,null,null,null,null,null,null,null,null,null,{"$f":"$A$7&\" \" &$B$7","v":" "},{"$f":"$C$7","v":0},34]
[null,null,null,"Res.",null,null,null,null,null,null,{"$f":"$A$8&\" \" &$B$8","v":" "},{"$f":"$C$8","v":0},35]
[null,"Gesamt",{"$f":"SUM($C$37:$C$39)","v":0},null,null,"Gesamt",{"$f":"SUM($G$37:$G$39)","v":0},null,null,null,{"$f":"$A$9&\" \" &$B$9","v":" "},{"$f":"$C$9","v":0},36]
[]
[]
["Mannschaft",{"$f":"IF(Mannschaft9=\"\",\"\",Mannschaft9)","v":""},null,null,"Tabelle"]
[null,null,null,null,"Mannschaft","Ergebnis","Platz","Punkte"]
["Vorname","Name","Ergebnis"]
[null,null,null,null,{"$f":"IF($B$44=0,\"\",$B$44)","v":""},{"$f":"$C$51","v":0},{"$f":"IF($E$47=\"\",\"\",1)","v":""},{"$f":"IF(F47=0,\"\",IF($E$47=\"\",\"\",IF($E$48=\"\",0,IF($E$49=\"\",1,IF($E$50=\"\",2,IF($E$51=\"\",3,IF($E$52=\"\",4,IF($E$53=\"\",5,IF($E$54=\"\",6,IF($E$55=\"\",7,8))))))))))","v":""}]
[null,null,null,null,{"$f":"IF($F$34=0,\"\",$F$34)","v":""},{"$f":"$G$41","v":0},{"$f":"(IF($E$48=\"\",\"\",IF($F$48=$F$47,$G$47,$G$47+1)))","v":""},{"$f":"IF($E$48=\"\",\"\",IF($G$47=$G$48,$H$47,$H$47-1))","v":""}]
[null,null,null,null,{"$f":"IF($B$34=0,\"\",$B$34)","v":""},{"$f":"$C$41","v":0},{"$f":"(IF($E$49=\"\",\"\",IF($F$49=$F$48,$G$48,$G$48+1)))","v":""},{"$f":"IF($E$49=\"\",\"\",IF($G$48=$G$49,$H$48,IF(H48=H47,H48-2,$H$48-1)))","v":""}]
[null,null,null,"Res.",{"$f":"IF($F$24=0,\"\",$F$24)","v":""},{"$f":"$G$31","v":0},{"$f":"(IF($E$50=\"\",\"\",IF($F$50=$F$49,$G$49,$G$49+1)))","v":""},{"$f":"IF($E$50=\"\",\"\",IF($G$49=$G$50,$H$49,IF(H49=H48,H49-2,$H$49-1)))","v":""}]
[null,"Gesamt",{"$f":"SUM($C$47:$C$49)","v":0},null,{"$f":"IF($B$24=0,\"\",$B$24)","v":""},{"$f":"$C$31","v":0},{"$f":"(IF($E$51=\"\",\"\",IF($F$51=$F$50,$G$50,$G$50+1)))","v":""},{"$f":"IF($E$51=\"\",\"\",IF($G$50=$G$51,$H$50,IF($H$50=$H$49,$H$50-2,$H$50-1)))","v":""}]
[null,null,null,null,{"$f":"IF($F$14=0,\"\",$F$14)","v":"Unterhaun/Friedewald"},{"$f":"$G$21","v":0},{"$f":"(IF($E$52=\"\",\"\",IF($F$52=$F$51,$G$51,$G$51+1)))","v":""},{"$f":"IF($E$52=\"\",\"\",IF($G$51=$G$52,$H$51,IF($H$51=$H$50,$H$51-2,$H$51-1)))","v":""}]
[null,null,null,null,{"$f":"IF($B$14=0,\"\",$B$14)","v":"Obergeis"},{"$f":"$C$21","v":0},{"$f":"(IF($E$53=\"\",\"\",IF($F$53=$F$52,$G$52,$G$52+1)))","v":""},{"$f":"IF($E$53=\"\",\"\",IF($G$52=$G$53,$H$52,IF($H$52=$H$51,$H$52-2,$H$52-1)))","v":""}]
["Austragungsort:",null,null,null,{"$f":"IF($F$4=0,\"\",$F$4)","v":"Stärklos"},{"$f":"$G$11","v":0},{"$f":"(IF($E$54=\"\",\"\",IF($F$54=$F$53,$G$53,$G$53+1)))","v":""},{"$f":"IF($E$54=\"\",\"\",IF($G$53=$G$54,$H$53,IF($H$53=$H$52,$H$53-2,$H$53-1)))","v":""}]
[null,null,null,null,{"$f":"IF($B$4=0,\"\",$B$4)","v":"Hersfeld"},{"$f":"$C$11","v":0},{"$f":"(IF($E$55=\"\",\"\",IF($F$55=$F$54,$G$54,$G$54+1)))","v":""},{"$f":"IF($E$55=\"\",\"\",IF($G$54=$G$55,$H$54,IF($H$54=$H$53,$H$54-2,$H$54-1)))","v":""}]

{"sheet":"WK 9","index":10,"n_rows":55,"n_cols":13,"rows_kept":55,"cut":false,"hidden":false,"merged":[[13,1,13,2],[13,5,13,6],[0,1,1,5],[1,10,1,12],[3,1,3,2],[3,5,3,6],[53,0,53,1],[43,1,43,2],[23,1,23,2],[23,5,23,6],[33,1,33,2],[33,5,33,6],[43,4,43,7]]}
[null,"9. Wettkampf"]
[null,null,null,null,null,null,null,null,null,null,"Einzelwertung"]
[]
["Mannschaft",{"$f":"IF(Mannschaft1=\"\",\"\",Mannschaft1)","v":"Hersfeld"},null,null,"Mannschaft",{"$f":"IF(Mannschaft2=\"\",\"\",Mannschaft2)","v":"Stärklos"},null,null,null,null,"Name","Ergebnis","Platz"]
[]
["Vorname","Name","Ergebnis",null,"Vorname","Name","Ergebnis",null,null,null,{"$f":"$A$50&\" \"&$B$50","v":" "},{"$f":"$C$50","v":0},1]
[null,null,null,null,null,null,null,null,null,null,{"$f":"$A$47&\" \"&$B$47","v":" "},{"$f":"$C$47","v":0},2]
[null,null,null,null,null,null,null,null,null,null,{"$f":"$A$48&\" \"&$B$48","v":" "},{"$f":"$C$48","v":0},3]
[null,null,null,null,null,null,null,null,null,null,{"$f":"$A$49&\" \"&$B$49","v":" "},{"$f":"$C$49","v":0},4]
[null,null,null,"Res.",null,null,null,null,null,null,{"$f":"$E$40&\" \"&$F$40","v":" "},{"$f":"$G$40","v":0},5]
[null,"Gesamt",{"$f":"SUM($C$7:$C$9)","v":0},null,null,"Gesamt",{"$f":"SUM($G$7:$G$9)","v":0},null,null,null,{"$f":"$E$37&\" \"&$F$37","v":" "},{"$f":"$G$37","v":0},6]
[null,null,null,null,null,null,null,null,null,null,{"$f":"$E$38&\" \"&$F$38","v":" "},{"$f":"$G$38","v":0},7]
[null,null,null,null,null,null,null,null,null,null,{"$f":"$E$39&\" \"&$F$39","v":" "},{"$f":"$G$39","v":0},8]
["Mannschaft",{"$f":"IF(Mannschaft3=\"\",\"\",Mannschaft3)","v":"Obergeis"},null,null,"Mannschaft",{"$f":"IF(Mannschaft4=\"\",\"\",Mannschaft4)","v":"Unterhaun/Friedewald"},null,null,null,null,{"$f":"$A$40&\" \"&$B$40","v":" "},{"$f":"$C$40","v":0},9]
[null,null,null,null,null,null,null,null,null,null,{"$f":"$A$37&\" \"&$B$37","v":" "},{"$f":"$C$37","v":0},10]
["Vorname","Name","Ergebnis",null,"Vorname","Name","Ergebnis",null,null,null,{"$f":"$A$38&\" \"&$B$38","v":" "},{"$f":"$C$38","v":0},11]
[null,null,null,null,null,null,null,null,null,null,{"$f":"$A$39&\" \"&$B$39","v":" "},{"$f":"$C$39","v":0},12]
[null,null,null,null,null,null,null,null,null,null,{"$f":"$E$30&\" \"&$F$30","v":" "},{"$f":"$G$30","v":0},13]
[null,null,null,null,null,null,null,null,null,null,{"$f":"$E$27&\" \"&$F$27","v":" "},{"$f":"$G$27","v":0},14]
[null,null,null,"Res.",null,null,null,null,null,null,{"$f":"$E$28&\" \"&$F$28","v":" "},{"$f":"$G$28","v":0},15]
[null,"Gesamt",{"$f":"SUM($C$17:$C$19)","v":0},null,null,"Gesamt",{"$f":"SUM($G$17:$G$19)","v":0},null,null,null,{"$f":"$E$29&\" \"&$F$29","v":" "},{"$f":"$G$29","v":0},16]
[null,null,null,null,null,null,null,null,null,null,{"$f":"$A$30&\" \"&$B$30","v":" "},{"$f":"$C$30","v":0},17]
[null,null,null,null,null,null,null,null,null,null,{"$f":"$A$27&\" \"&$B$27","v":" "},{"$f":"$C$27","v":0},18]
["Mannschaft",{"$f":"IF(Mannschaft5=\"\",\"\",Mannschaft5)","v":""},null,null,"Mannschaft",{"$f":"IF(Mannschaft6=\"\",\"\",Mannschaft6)","v":""},null,null,null,null,{"$f":"$A$28&\" \"&$B$28","v":" "},{"$f":"$C$28","v":0},19]
[null,null,null,null,null,null,null,null,null,null,{"$f":"$A$29&\" \"&$B$29","v":" "},{"$f":"$C$29","v":0},20]
["Vorname","Name","Ergebnis",null,"Vorname","Name","Ergebnis",null,null,null,{"$f":"$E$20&\" \"&$F$20","v":" "},{"$f":"$G$20","v":0},21]
[null,null,null,null,null,null,null,null,null,null,{"$f":"$E$17&\" \"&$F$17","v":" "},{"$f":"$G$17","v":0},22]
[null,null,null,null,null,null,null,null,null,null,{"$f":"$E$18&\" \"&$F$18","v":" "},{"$f":"$G$18","v":0},23]
[null,null,null,null,null,null,null,null,null,null,{"$f":"$E$19&\" \"&$F$19","v":" "},{"$f":"$G$19","v":0},24]
[null,null,null,"Res.",null,null,null,null,null,null,{"$f":"$A$20&\" \"&$B$20","v":" "},{"$f":"$C$20","v":0},25]
[null,"Gesamt",{"$f":"SUM($C$27:$C$29)","v":0},null,null,"Gesamt",{"$f":"SUM($G$27:$G$29)","v":0},null,null,null,{"$f":"$A$17&\" \"&$B$17","v":" "},{"$f":"$C$17","v":0},26]
[null,null,null,null,null,null,null,null,null,null,{"$f":"$A$18&\" \"&$B$18","v":" "},{"$f":"$C$18","v":0},27]
[null,null,null,null,null,null,null,null,null,null,{"$f":"$A$19&\" \"&$B$19","v":" "},{"$f":"$C$19","v":0},28]
["Mannschaft",{"$f":"IF(Mannschaft7=\"\",\"\",Mannschaft7)","v":""},null,null,"Mannschaft",{"$f":"IF(Mannschaft8=\"\",\"\",Mannschaft8)","v":""},null,null,null,null,{"$f":"$E$10&\" \"&$F$10","v":" "},{"$f":"$G$10","v":0},29]
[null,null,null,null,null,null,null,null,null,null,{"$f":"$E$7&\" \"&$F$7","v":" "},{"$f":"$G$7","v":0},30]
["Vorname","Name","Ergebnis",null,"Vorname","Name","Ergebnis",null,null,null,{"$f":"$E$8&\" \"&$F$8","v":" "},{"$f":"$G$8","v":0},31]
[null,null,null,null,null,null,null,null,null,null,{"$f":"$E$9&\" \"&$F$9","v":" "},{"$f":"$G$9","v":0},32]
[null,null,null,null,null,null,null,null,null,null,{"$f":"$A$10&\" \" &$B$10","v":" "},{"$f":"$C$10","v":0},33]
[null,null,null,null,null,null,null,null,null,null,{"$f":"$A$7&\" \" &$B$7","v":" "},{"$f":"$C$7","v":0},34]
[null,null,null,"Res.",null,null,null,null,null,null,{"$f":"$A$8&\" \" &$B$8","v":" "},{"$f":"$C$8","v":0},35]
[null,"Gesamt",{"$f":"SUM($C$37:$C$39)","v":0},null,null,"Gesamt",{"$f":"SUM($G$37:$G$39)","v":0},null,null,null,{"$f":"$A$9&\" \" &$B$9","v":" "},{"$f":"$C$9","v":0},36]
[]
[]
["Mannschaft",{"$f":"IF(Mannschaft9=\"\",\"\",Mannschaft9)","v":""},null,null,"Tabelle"]
[null,null,null,null,"Mannschaft","Ergebnis","Platz","Punkte"]
["Vorname","Name","Ergebnis"]
[null,null,null,null,{"$f":"IF($B$44=0,\"\",$B$44)","v":""},{"$f":"$C$51","v":0},{"$f":"IF($E$47=\"\",\"\",1)","v":""},{"$f":"IF(F47=0,\"\",IF($E$47=\"\",\"\",IF($E$48=\"\",0,IF($E$49=\"\",1,IF($E$50=\"\",2,IF($E$51=\"\",3,IF($E$52=\"\",4,IF($E$53=\"\",5,IF($E$54=\"\",6,IF($E$55=\"\",7,8))))))))))","v":""}]
[null,null,null,null,{"$f":"IF($F$34=0,\"\",$F$34)","v":""},{"$f":"$G$41","v":0},{"$f":"(IF($E$48=\"\",\"\",IF($F$48=$F$47,$G$47,$G$47+1)))","v":""},{"$f":"IF($E$48=\"\",\"\",IF($G$47=$G$48,$H$47,$H$47-1))","v":""}]
[null,null,null,null,{"$f":"IF($B$34=0,\"\",$B$34)","v":""},{"$f":"$C$41","v":0},{"$f":"(IF($E$49=\"\",\"\",IF($F$49=$F$48,$G$48,$G$48+1)))","v":""},{"$f":"IF($E$49=\"\",\"\",IF($G$48=$G$49,$H$48,IF(H48=H47,H48-2,$H$48-1)))","v":""}]
[null,null,null,"Res.",{"$f":"IF($F$24=0,\"\",$F$24)","v":""},{"$f":"$G$31","v":0},{"$f":"(IF($E$50=\"\",\"\",IF($F$50=$F$49,$G$49,$G$49+1)))","v":""},{"$f":"IF($E$50=\"\",\"\",IF($G$49=$G$50,$H$49,IF(H49=H48,H49-2,$H$49-1)))","v":""}]
[null,"Gesamt",{"$f":"SUM($C$47:$C$49)","v":0},null,{"$f":"IF($B$24=0,\"\",$B$24)","v":""},{"$f":"$C$31","v":0},{"$f":"(IF($E$51=\"\",\"\",IF($F$51=$F$50,$G$50,$G$50+1)))","v":""},{"$f":"IF($E$51=\"\",\"\",IF($G$50=$G$51,$H$50,IF($H$50=$H$49,$H$50-2,$H$50-1)))","v":""}]
[null,null,null,null,{"$f":"IF($F$14=0,\"\",$F$14)","v":"Unterhaun/Friedewald"},{"$f":"$G$21","v":0},{"$f":"(IF($E$52=\"\",\"\",IF($F$52=$F$51,$G$51,$G$51+1)))","v":""},{"$f":"IF($E$52=\"\",\"\",IF($G$51=$G$52,$H$51,IF($H$51=$H$50,$H$51-2,$H$51-1)))","v":""}]
[null,null,null,null,{"$f":"IF($B$14=0,\"\",$B$14)","v":"Obergeis"},{"$f":"$C$21","v":0},{"$f":"(IF($E$53=\"\",\"\",IF($F$53=$F$52,$G$52,$G$52+1)))","v":""},{"$f":"IF($E$53=\"\",\"\",IF($G$52=$G$53,$H$52,IF($H$52=$H$51,$H$52-2,$H$52-1)))","v":""}]
["Austragungsort:",null,null,null,{"$f":"IF($F$4=0,\"\",$F$4)","v":"Stärklos"},{"$f":"$G$11","v":0},{"$f":"(IF($E$54=\"\",\"\",IF($F$54=$F$53,$G$53,$G$53+1)))","v":""},{"$f":"IF($E$54=\"\",\"\",IF($G$53=$G$54,$H$53,IF($H$53=$H$52,$H$53-2,$H$53-1)))","v":""}]
[null,null,null,null,{"$f":"IF($B$4=0,\"\",$B$4)","v":"Hersfeld"},{"$f":"$C$11","v":0},{"$f":"(IF($E$55=\"\",\"\",IF($F$55=$F$54,$G$54,$G$54+1)))","v":""},{"$f":"IF($E$55=\"\",\"\",IF($G$54=$G$55,$H$54,IF($H$54=$H$53,$H$54-2,$H$54-1)))","v":""}]

{"sheet":"WK 10","index":11,"n_rows":55,"n_cols":13,"rows_kept":55,"cut":false,"hidden":false,"merged":[[13,1,13,2],[13,5,13,6],[0,1,1,5],[1,10,1,12],[3,1,3,2],[3,5,3,6],[53,0,53,1],[43,1,43,2],[23,1,23,2],[23,5,23,6],[33,1,33,2],[33,5,33,6],[43,4,43,7]]}
[null,"10. Wettkampf"]
[null,null,null,null,null,null,null,null,null,null,"Einzelwertung"]
[]
["Mannschaft",{"$f":"IF(Mannschaft1=\"\",\"\",Mannschaft1)","v":"Hersfeld"},null,null,"Mannschaft",{"$f":"IF(Mannschaft2=\"\",\"\",Mannschaft2)","v":"Stärklos"},null,null,null,null,"Name","Ergebnis","Platz"]
[]
["Vorname","Name","Ergebnis",null,"Vorname","Name","Ergebnis",null,null,null,{"$f":"$A$50&\" \"&$B$50","v":" "},{"$f":"$C$50","v":0},1]
[null,null,null,null,null,null,null,null,null,null,{"$f":"$A$47&\" \"&$B$47","v":" "},{"$f":"$C$47","v":0},2]
[null,null,null,null,null,null,null,null,null,null,{"$f":"$A$48&\" \"&$B$48","v":" "},{"$f":"$C$48","v":0},3]
[null,null,null,null,null,null,null,null,null,null,{"$f":"$A$49&\" \"&$B$49","v":" "},{"$f":"$C$49","v":0},4]
[null,null,null,"Res.",null,null,null,null,null,null,{"$f":"$E$40&\" \"&$F$40","v":" "},{"$f":"$G$40","v":0},5]
[null,"Gesamt",{"$f":"SUM($C$7:$C$9)","v":0},null,null,"Gesamt",{"$f":"SUM($G$7:$G$9)","v":0},null,null,null,{"$f":"$E$37&\" \"&$F$37","v":" "},{"$f":"$G$37","v":0},6]
[null,null,null,null,null,null,null,null,null,null,{"$f":"$E$38&\" \"&$F$38","v":" "},{"$f":"$G$38","v":0},7]
[null,null,null,null,null,null,null,null,null,null,{"$f":"$E$39&\" \"&$F$39","v":" "},{"$f":"$G$39","v":0},8]
["Mannschaft",{"$f":"IF(Mannschaft3=\"\",\"\",Mannschaft3)","v":"Obergeis"},null,null,"Mannschaft",{"$f":"IF(Mannschaft4=\"\",\"\",Mannschaft4)","v":"Unterhaun/Friedewald"},null,null,null,null,{"$f":"$A$40&\" \"&$B$40","v":" "},{"$f":"$C$40","v":0},9]
[null,null,null,null,null,null,null,null,null,null,{"$f":"$A$37&\" \"&$B$37","v":" "},{"$f":"$C$37","v":0},10]
["Vorname","Name","Ergebnis",null,"Vorname","Name","Ergebnis",null,null,null,{"$f":"$A$38&\" \"&$B$38","v":" "},{"$f":"$C$38","v":0},11]
[null,null,null,null,null,null,null,null,null,null,{"$f":"$A$39&\" \"&$B$39","v":" "},{"$f":"$C$39","v":0},12]
[null,null,null,null,null,null,null,null,null,null,{"$f":"$E$30&\" \"&$F$30","v":" "},{"$f":"$G$30","v":0},13]
[null,null,null,null,null,null,null,null,null,null,{"$f":"$E$27&\" \"&$F$27","v":" "},{"$f":"$G$27","v":0},14]
[null,null,null,"Res.",null,null,null,null,null,null,{"$f":"$E$28&\" \"&$F$28","v":" "},{"$f":"$G$28","v":0},15]
[null,"Gesamt",{"$f":"SUM($C$17:$C$19)","v":0},null,null,"Gesamt",{"$f":"SUM($G$17:$G$19)","v":0},null,null,null,{"$f":"$E$29&\" \"&$F$29","v":" "},{"$f":"$G$29","v":0},16]
[null,null,null,null,null,null,null,null,null,null,{"$f":"$A$30&\" \"&$B$30","v":" "},{"$f":"$C$30","v":0},17]
[null,null,null,null,null,null,null,null,null,null,{"$f":"$A$27&\" \"&$B$27","v":" "},{"$f":"$C$27","v":0},18]
["Mannschaft",{"$f":"IF(Mannschaft5=\"\",\"\",Mannschaft5)","v":""},null,null,"Mannschaft",{"$f":"IF(Mannschaft6=\"\",\"\",Mannschaft6)","v":""},null,null,null,null,{"$f":"$A$28&\" \"&$B$28","v":" "},{"$f":"$C$28","v":0},19]
[null,null,null,null,null,null,null,null,null,null,{"$f":"$A$29&\" \"&$B$29","v":" "},{"$f":"$C$29","v":0},20]
["Vorname","Name","Ergebnis",null,"Vorname","Name","Ergebnis",null,null,null,{"$f":"$E$20&\" \"&$F$20","v":" "},{"$f":"$G$20","v":0},21]
[null,null,null,null,null,null,null,null,null,null,{"$f":"$E$17&\" \"&$F$17","v":" "},{"$f":"$G$17","v":0},22]
[null,null,null,null,null,null,null,null,null,null,{"$f":"$E$18&\" \"&$F$18","v":" "},{"$f":"$G$18","v":0},23]
[null,null,null,null,null,null,null,null,null,null,{"$f":"$E$19&\" \"&$F$19","v":" "},{"$f":"$G$19","v":0},24]
[null,null,null,"Res.",null,null,null,null,null,null,{"$f":"$A$20&\" \"&$B$20","v":" "},{"$f":"$C$20","v":0},25]
[null,"Gesamt",{"$f":"SUM($C$27:$C$29)","v":0},null,null,"Gesamt",{"$f":"SUM($G$27:$G$29)","v":0},null,null,null,{"$f":"$A$17&\" \"&$B$17","v":" "},{"$f":"$C$17","v":0},26]
[null,null,null,null,null,null,null,null,null,null,{"$f":"$A$18&\" \"&$B$18","v":" "},{"$f":"$C$18","v":0},27]
[null,null,null,null,null,null,null,null,null,null,{"$f":"$A$19&\" \"&$B$19","v":" "},{"$f":"$C$19","v":0},28]
["Mannschaft",{"$f":"IF(Mannschaft7=\"\",\"\",Mannschaft7)","v":""},null,null,"Mannschaft",{"$f":"IF(Mannschaft8=\"\",\"\",Mannschaft8)","v":""},null,null,null,null,{"$f":"$E$10&\" \"&$F$10","v":" "},{"$f":"$G$10","v":0},29]
[null,null,null,null,null,null,null,null,null,null,{"$f":"$E$7&\" \"&$F$7","v":" "},{"$f":"$G$7","v":0},30]
["Vorname","Name","Ergebnis",null,"Vorname","Name","Ergebnis",null,null,null,{"$f":"$E$8&\" \"&$F$8","v":" "},{"$f":"$G$8","v":0},31]
[null,null,null,null,null,null,null,null,null,null,{"$f":"$E$9&\" \"&$F$9","v":" "},{"$f":"$G$9","v":0},32]
[null,null,null,null,null,null,null,null,null,null,{"$f":"$A$10&\" \" &$B$10","v":" "},{"$f":"$C$10","v":0},33]
[null,null,null,null,null,null,null,null,null,null,{"$f":"$A$7&\" \" &$B$7","v":" "},{"$f":"$C$7","v":0},34]
[null,null,null,"Res.",null,null,null,null,null,null,{"$f":"$A$8&\" \" &$B$8","v":" "},{"$f":"$C$8","v":0},35]
[null,"Gesamt",{"$f":"SUM($C$37:$C$39)","v":0},null,null,"Gesamt",{"$f":"SUM($G$37:$G$39)","v":0},null,null,null,{"$f":"$A$9&\" \" &$B$9","v":" "},{"$f":"$C$9","v":0},36]
[]
[]
["Mannschaft",{"$f":"IF(Mannschaft9=\"\",\"\",Mannschaft9)","v":""},null,null,"Tabelle"]
[null,null,null,null,"Mannschaft","Ergebnis","Platz","Punkte"]
["Vorname","Name","Ergebnis"]
[null,null,null,null,{"$f":"IF($B$44=0,\"\",$B$44)","v":""},{"$f":"$C$51","v":0},{"$f":"IF($E$47=\"\",\"\",1)","v":""},{"$f":"IF(F47=0,\"\",IF($E$47=\"\",\"\",IF($E$48=\"\",0,IF($E$49=\"\",1,IF($E$50=\"\",2,IF($E$51=\"\",3,IF($E$52=\"\",4,IF($E$53=\"\",5,IF($E$54=\"\",6,IF($E$55=\"\",7,8))))))))))","v":""}]
[null,null,null,null,{"$f":"IF($F$34=0,\"\",$F$34)","v":""},{"$f":"$G$41","v":0},{"$f":"(IF($E$48=\"\",\"\",IF($F$48=$F$47,$G$47,$G$47+1)))","v":""},{"$f":"IF($E$48=\"\",\"\",IF($G$47=$G$48,$H$47,$H$47-1))","v":""}]
[null,null,null,null,{"$f":"IF($B$34=0,\"\",$B$34)","v":""},{"$f":"$C$41","v":0},{"$f":"(IF($E$49=\"\",\"\",IF($F$49=$F$48,$G$48,$G$48+1)))","v":""},{"$f":"IF($E$49=\"\",\"\",IF($G$48=$G$49,$H$48,IF(H48=H47,H48-2,$H$48-1)))","v":""}]
[null,null,null,"Res.",{"$f":"IF($F$24=0,\"\",$F$24)","v":""},{"$f":"$G$31","v":0},{"$f":"(IF($E$50=\"\",\"\",IF($F$50=$F$49,$G$49,$G$49+1)))","v":""},{"$f":"IF($E$50=\"\",\"\",IF($G$49=$G$50,$H$49,IF(H49=H48,H49-2,$H$49-1)))","v":""}]
[null,"Gesamt",{"$f":"SUM($C$47:$C$49)","v":0},null,{"$f":"IF($B$24=0,\"\",$B$24)","v":""},{"$f":"$C$31","v":0},{"$f":"(IF($E$51=\"\",\"\",IF($F$51=$F$50,$G$50,$G$50+1)))","v":""},{"$f":"IF($E$51=\"\",\"\",IF($G$50=$G$51,$H$50,IF($H$50=$H$49,$H$50-2,$H$50-1)))","v":""}]
[null,null,null,null,{"$f":"IF($F$14=0,\"\",$F$14)","v":"Unterhaun/Friedewald"},{"$f":"$G$21","v":0},{"$f":"(IF($E$52=\"\",\"\",IF($F$52=$F$51,$G$51,$G$51+1)))","v":""},{"$f":"IF($E$52=\"\",\"\",IF($G$51=$G$52,$H$51,IF($H$51=$H$50,$H$51-2,$H$51-1)))","v":""}]
[null,null,null,null,{"$f":"IF($B$14=0,\"\",$B$14)","v":"Obergeis"},{"$f":"$C$21","v":0},{"$f":"(IF($E$53=\"\",\"\",IF($F$53=$F$52,$G$52,$G$52+1)))","v":""},{"$f":"IF($E$53=\"\",\"\",IF($G$52=$G$53,$H$52,IF($H$52=$H$51,$H$52-2,$H$52-1)))","v":""}]
["Austragungsort:",null,null,null,{"$f":"IF($F$4=0,\"\",$F$4)","v":"Stärklos"},{"$f":"$G$11","v":0},{"$f":"(IF($E$54=\"\",\"\",IF($F$54=$F$53,$G$53,$G$53+1)))","v":""},{"$f":"IF($E$54=\"\",\"\",IF($G$53=$G$54,$H$53,IF($H$53=$H$52,$H$53-2,$H$53-1)))","v":""}]
[null,null,null,null,{"$f":"IF($B$4=0,\"\",$B$4)","v":"Hersfeld"},{"$f":"$C$11","v":0},{"$f":"(IF($E$55=\"\",\"\",IF($F$55=$F$54,$G$54,$G$54+1)))","v":""},{"$f":"IF($E$55=\"\",\"\",IF($G$54=$G$55,$H$54,IF($H$54=$H$53,$H$54-2,$H$54-1)))","v":""}]

{"sheet":"Gesamtwertung","index":12,"n_rows":29,"n_cols":8,"rows_kept":29,"cut":false,"hidden":false,"merged":[[0,0,0,3],[0,5,0,7]]}
["Gesamtwertung Mannschaft",null,null,null,null,"Gesamtwertung Einzel"]
["Platz","Mannschaft","Gesamtergebnis","Punkte",null,"Platz","Name","Ringdurchschnitt"]
[]
[1,{"$f":"'Zwischenberechnung Mannschaften'!B7","v":"Unterhaun/Friedewald"},{"$f":"IF(B4=\"\",\"\",VLOOKUP(B4,'Zwischenberechnung Mannschaften'!$B$16:$M$24,12,FALSE))","v":0},{"$f":"IF(B4=\"\",0,VLOOKUP(B4,'Zwischenberechnung Mannschaften'!$B$4:$M$12,12,FALSE))","v":0},null,{"$f":"IF(G4=\"\",\"\",1)","v":1},{"$f":"'Zwischenberechnung Einzel Final'!C2","v":" "},{"$f":"IF(VLOOKUP(G4,'Zwischenberechnung Einzel Final'!$C$2:$N$37,12,FALSE)=0,\"\",VLOOKUP(G4,'Zwischenberechnung Einzel Final'!$C$2:$N$37,12,FALSE))","v":""}]
[2,{"$f":"'Zwischenberechnung Mannschaften'!B5","v":"Stärklos"},{"$f":"IF(B5=\"\",\"\",VLOOKUP(B5,'Zwischenberechnung Mannschaften'!$B$16:$M$24,12,FALSE))","v":0},{"$f":"IF(B5=\"\",0,VLOOKUP(B5,'Zwischenberechnung Mannschaften'!$B$4:$M$12,12,FALSE))","v":0},null,{"$f":"IF(G5=\"\",\"\",IF(H5=H4,F4,F4+1))","v":1},{"$f":"'Zwischenberechnung Einzel Final'!C3","v":" "},{"$f":"IF(VLOOKUP(G5,'Zwischenberechnung Einzel Final'!$C$2:$N$37,12,FALSE)=0,\"\",VLOOKUP(G5,'Zwischenberechnung Einzel Final'!$C$2:$N$37,12,FALSE))","v":""}]
[3,{"$f":"'Zwischenberechnung Mannschaften'!B6","v":"Obergeis"},{"$f":"IF(B6=\"\",\"\",VLOOKUP(B6,'Zwischenberechnung Mannschaften'!$B$16:$M$24,12,FALSE))","v":0},{"$f":"IF(B6=\"\",0,VLOOKUP(B6,'Zwischenberechnung Mannschaften'!$B$4:$M$12,12,FALSE))","v":0},null,{"$f":"IF(G6=\"\",\"\",IF(H6=H5,F5,F5+1))","v":1},{"$f":"'Zwischenberechnung Einzel Final'!C4","v":" "},{"$f":"IF(VLOOKUP(G6,'Zwischenberechnung Einzel Final'!$C$2:$N$37,12,FALSE)=0,\"\",VLOOKUP(G6,'Zwischenberechnung Einzel Final'!$C$2:$N$37,12,FALSE))","v":""}]
[4,{"$f":"'Zwischenberechnung Mannschaften'!B4","v":"Hersfeld"},{"$f":"IF(B7=\"\",\"\",VLOOKUP(B7,'Zwischenberechnung Mannschaften'!$B$16:$M$24,12,FALSE))","v":0},{"$f":"IF(B7=\"\",0,VLOOKUP(B7,'Zwischenberechnung Mannschaften'!$B$4:$M$12,12,FALSE))","v":0},null,1,{"$f":"'Zwischenberechnung Einzel Final'!C5","v":" "},{"$f":"IF(VLOOKUP(G7,'Zwischenberechnung Einzel Final'!$C$2:$N$37,12,FALSE)=0,\"\",VLOOKUP(G7,'Zwischenberechnung Einzel Final'!$C$2:$N$37,12,FALSE))","v":""}]
[5,{"$f":"'Zwischenberechnung Mannschaften'!B12","v":""},{"$f":"IF(B8=\"\",\"\",VLOOKUP(B8,'Zwischenberechnung Mannschaften'!$B$16:$M$24,12,FALSE))","v":""},{"$f":"IF(B8=\"\",0,VLOOKUP(B8,'Zwischenberechnung Mannschaften'!$B$4:$M$12,12,FALSE))","v":0},null,1,{"$f":"'Zwischenberechnung Einzel Final'!C6","v":" "},{"$f":"IF(VLOOKUP(G8,'Zwischenberechnung Einzel Final'!$C$2:$N$37,12,FALSE)=0,\"\",VLOOKUP(G8,'Zwischenberechnung Einzel Final'!$C$2:$N$37,12,FALSE))","v":""}]
[6,{"$f":"'Zwischenberechnung Mannschaften'!B11","v":""},{"$f":"IF(B9=\"\",\"\",VLOOKUP(B9,'Zwischenberechnung Mannschaften'!$B$16:$M$24,12,FALSE))","v":""},{"$f":"IF(B9=\"\",0,VLOOKUP(B9,'Zwischenberechnung Mannschaften'!$B$4:$M$12,12,FALSE))","v":0},null,1,{"$f":"'Zwischenberechnung Einzel Final'!C7","v":" "},{"$f":"IF(VLOOKUP(G9,'Zwischenberechnung Einzel Final'!$C$2:$N$37,12,FALSE)=0,\"\",VLOOKUP(G9,'Zwischenberechnung Einzel Final'!$C$2:$N$37,12,FALSE))","v":""}]
[7,{"$f":"'Zwischenberechnung Mannschaften'!B10","v":""},{"$f":"IF(B10=\"\",\"\",VLOOKUP(B10,'Zwischenberechnung Mannschaften'!$B$16:$M$24,12,FALSE))","v":""},{"$f":"IF(B10=\"\",0,VLOOKUP(B10,'Zwischenberechnung Mannschaften'!$B$4:$M$12,12,FALSE))","v":0},null,1,{"$f":"'Zwischenberechnung Einzel Final'!C8","v":" "},{"$f":"IF(VLOOKUP(G10,'Zwischenberechnung Einzel Final'!$C$2:$N$37,12,FALSE)=0,\"\",VLOOKUP(G10,'Zwischenberechnung Einzel Final'!$C$2:$N$37,12,FALSE))","v":""}]
[8,{"$f":"'Zwischenberechnung Mannschaften'!B9","v":""},{"$f":"IF(B11=\"\",\"\",VLOOKUP(B11,'Zwischenberechnung Mannschaften'!$B$16:$M$24,12,FALSE))","v":""},{"$f":"IF(B11=\"\",0,VLOOKUP(B11,'Zwischenberechnung Mannschaften'!$B$4:$M$12,12,FALSE))","v":0},null,1,{"$f":"'Zwischenberechnung Einzel Final'!C9","v":" "},{"$f":"IF(VLOOKUP(G11,'Zwischenberechnung Einzel Final'!$C$2:$N$37,12,FALSE)=0,\"\",VLOOKUP(G11,'Zwischenberechnung Einzel Final'!$C$2:$N$37,12,FALSE))","v":""}]
[9,{"$f":"'Zwischenberechnung Mannschaften'!B8","v":""},{"$f":"IF(B12=\"\",\"\",VLOOKUP(B12,'Zwischenberechnung Mannschaften'!$B$16:$M$24,12,FALSE))","v":""},{"$f":"IF(B12=\"\",0,VLOOKUP(B12,'Zwischenberechnung Mannschaften'!$B$4:$M$12,12,FALSE))","v":0},null,1,{"$f":"'Zwischenberechnung Einzel Final'!C10","v":" "},{"$f":"IF(VLOOKUP(G12,'Zwischenberechnung Einzel Final'!$C$2:$N$37,12,FALSE)=0,\"\",VLOOKUP(G12,'Zwischenberechnung Einzel Final'!$C$2:$N$37,12,FALSE))","v":""}]
[null,null,null,null,null,1,{"$f":"'Zwischenberechnung Einzel Final'!C11","v":" "},{"$f":"IF(VLOOKUP(G13,'Zwischenberechnung Einzel Final'!$C$2:$N$37,12,FALSE)=0,\"\",VLOOKUP(G13,'Zwischenberechnung Einzel Final'!$C$2:$N$37,12,FALSE))","v":""}]
[null,null,null,null,null,1,{"$f":"'Zwischenberechnung Einzel Final'!C12","v":" "},{"$f":"IF(VLOOKUP(G14,'Zwischenberechnung Einzel Final'!$C$2:$N$37,12,FALSE)=0,\"\",VLOOKUP(G14,'Zwischenberechnung Einzel Final'!$C$2:$N$37,12,FALSE))","v":""}]
[null,null,null,null,null,1,{"$f":"'Zwischenberechnung Einzel Final'!C13","v":" "},{"$f":"IF(VLOOKUP(G15,'Zwischenberechnung Einzel Final'!$C$2:$N$37,12,FALSE)=0,\"\",VLOOKUP(G15,'Zwischenberechnung Einzel Final'!$C$2:$N$37,12,FALSE))","v":""}]
[null,null,null,null,null,1,{"$f":"'Zwischenberechnung Einzel Final'!C14","v":" "},{"$f":"IF(VLOOKUP(G16,'Zwischenberechnung Einzel Final'!$C$2:$N$37,12,FALSE)=0,\"\",VLOOKUP(G16,'Zwischenberechnung Einzel Final'!$C$2:$N$37,12,FALSE))","v":""}]
[null,null,null,null,null,1,{"$f":"'Zwischenberechnung Einzel Final'!C15","v":" "},{"$f":"IF(VLOOKUP(G17,'Zwischenberechnung Einzel Final'!$C$2:$N$37,12,FALSE)=0,\"\",VLOOKUP(G17,'Zwischenberechnung Einzel Final'!$C$2:$N$37,12,FALSE))","v":""}]
[null,null,null,null,null,1,{"$f":"'Zwischenberechnung Einzel Final'!C16","v":" "},{"$f":"IF(VLOOKUP(G18,'Zwischenberechnung Einzel Final'!$C$2:$N$37,12,FALSE)=0,\"\",VLOOKUP(G18,'Zwischenberechnung Einzel Final'!$C$2:$N$37,12,FALSE))","v":""}]
[null,null,null,null,null,1,{"$f":"'Zwischenberechnung Einzel Final'!C17","v":" "},{"$f":"IF(VLOOKUP(G19,'Zwischenberechnung Einzel Final'!$C$2:$N$37,12,FALSE)=0,\"\",VLOOKUP(G19,'Zwischenberechnung Einzel Final'!$C$2:$N$37,12,FALSE))","v":""}]
[null,null,null,null,null,1,{"$f":"'Zwischenberechnung Einzel Final'!C18","v":" "},{"$f":"IF(VLOOKUP(G20,'Zwischenberechnung Einzel Final'!$C$2:$N$37,12,FALSE)=0,\"\",VLOOKUP(G20,'Zwischenberechnung Einzel Final'!$C$2:$N$37,12,FALSE))","v":""}]
[null,null,null,null,null,1,{"$f":"'Zwischenberechnung Einzel Final'!C19","v":" "},{"$f":"IF(VLOOKUP(G21,'Zwischenberechnung Einzel Final'!$C$2:$N$37,12,FALSE)=0,\"\",VLOOKUP(G21,'Zwischenberechnung Einzel Final'!$C$2:$N$37,12,FALSE))","v":""}]
[null,null,null,null,null,1,{"$f":"'Zwischenberechnung Einzel Final'!C20","v":" "},{"$f":"IF(VLOOKUP(G22,'Zwischenberechnung Einzel Final'!$C$2:$N$37,12,FALSE)=0,\"\",VLOOKUP(G22,'Zwischenberechnung Einzel Final'!$C$2:$N$37,12,FALSE))","v":""}]
[null,null,null,null,null,1,{"$f":"'Zwischenberechnung Einzel Final'!C21","v":" "},{"$f":"IF(VLOOKUP(G23,'Zwischenberechnung Einzel Final'!$C$2:$N$37,12,FALSE)=0,\"\",VLOOKUP(G23,'Zwischenberechnung Einzel Final'!$C$2:$N$37,12,FALSE))","v":""}]
[null,null,null,null,null,1,{"$f":"'Zwischenberechnung Einzel Final'!C22","v":" "},{"$f":"IF(VLOOKUP(G24,'Zwischenberechnung Einzel Final'!$C$2:$N$37,12,FALSE)=0,\"\",VLOOKUP(G24,'Zwischenberechnung Einzel Final'!$C$2:$N$37,12,FALSE))","v":""}]
[null,null,null,null,null,1,{"$f":"'Zwischenberechnung Einzel Final'!C23","v":" "},{"$f":"IF(VLOOKUP(G25,'Zwischenberechnung Einzel Final'!$C$2:$N$37,12,FALSE)=0,\"\",VLOOKUP(G25,'Zwischenberechnung Einzel Final'!$C$2:$N$37,12,FALSE))","v":""}]
[null,null,null,null,null,1,{"$f":"'Zwischenberechnung Einzel Final'!C24","v":" "},{"$f":"IF(VLOOKUP(G26,'Zwischenberechnung Einzel Final'!$C$2:$N$37,12,FALSE)=0,\"\",VLOOKUP(G26,'Zwischenberechnung Einzel Final'!$C$2:$N$37,12,FALSE))","v":""}]
[null,null,null,null,null,1,{"$f":"'Zwischenberechnung Einzel Final'!C25","v":" "},{"$f":"IF(VLOOKUP(G27,'Zwischenberechnung Einzel Final'!$C$2:$N$37,12,FALSE)=0,\"\",VLOOKUP(G27,'Zwischenberechnung Einzel Final'!$C$2:$N$37,12,FALSE))","v":""}]
[null,null,null,null,null,1,{"$f":"'Zwischenberechnung Einzel Final'!C26","v":" "},{"$f":"IF(VLOOKUP(G28,'Zwischenberechnung Einzel Final'!$C$2:$N$37,12,FALSE)=0,\"\",VLOOKUP(G28,'Zwischenberechnung Einzel Final'!$C$2:$N$37,12,FALSE))","v":""}]
[null,null,null,null,null,1,{"$f":"'Zwischenberechnung Einzel Final'!C27","v":" "},{"$f":"IF(VLOOKUP(G29,'Zwischenberechnung Einzel Final'!$C$2:$N$37,12,FALSE)=0,\"\",VLOOKUP(G29,'Zwischenberechnung Einzel Final'!$C$2:$N$37,12,FALSE))","v":""}]

{"sheet":"Leistungsverlauf","index":13,"n_rows":0,"n_cols":0,"rows_kept":0,"cut":false,"hidden":false,"merged":[]}

{"sheet":"Log","index":14,"n_rows":106,"n_cols":33,"rows_kept":106,"cut":false,"hidden":true,"merged":[[0,2,0,5],[0,6,0,18]]}
[null,"12051993Pw!","Passwort Eingabe",null,null,null,"Anmeldung"]
[null,0,"Passwort Historie","Datum","Zeit","Windows Benutzername","Passwort","Datum","Zeit","Windows Benutzername","Patrick-Desktop","IP-Adresse","Festplatten-Seriennummer","C: Frei GB","C: Gesamt GB","D: Frei GB","D: Gesamt GB","CPU","CPU Takt",null,"Passwort","Datum","Zeit","Windows Benutzername","Patrick-Desktop","IP-Adresse","Festplatten-Seriennummer","C: Frei GB","C: Gesamt GB","D: Frei GB","D: Gesamt GB","CPU","CPU Takt"]
[null,12,"12051993Pw!","2016-03-21","20:13:19","patri","kein PW","7.4.2016","17:09:21","patri","DESKTOP-QSPSN64","192.168.1.118",0,0,0,0,0,null,null,null,"12051993Pw!","2016-03-21","19:07:20","patri","DESKTOP-QSPSN64","192.168.1.111",-627248571,0,0,0,0,"Intel(R) Core(TM) i5-2500K CPU @ 3.30GHz",3301]
[null,110,"12051993Pw!","2016-03-22","18:07:20",27694634,"kein PW","19.2.2017","15:08:32","patri","DESKTOP-Patrick","192.168.1.112",0,0,0,0,0,null,null,null,"kein PW","2016-03-21","20:02:58","patri","DESKTOP-QSPSN64","192.168.1.111",0,0,0,0,0]
[null,5,"12051993Pw!","2016-03-22","18:12:12",27694634,"kein PW","19.2.2017","15:35:41","patri","DESKTOP-Patrick","192.168.1.112",0,0,0,0,0,null,null,null,"kein PW","2016-03-22","18:11:39",27694634,"de03-0100wlsexy","192.168.233.1",0,0,0,0,0]
[null,0,"12051993Pw!","22.3.2016","18:41:15",27694634,"kein PW","19.2.2017","15:51:57","patri","DESKTOP-Patrick","192.168.1.112",0,0,0,0,0,null,null,null,"12051993Pw!","22.3.2016","18:40:43",27694634,"de03-0100wlsexy","192.168.233.1",0,0,0,0,0]
[null,0,"12051993Pw!","22.3.2016","19:43:12",27694634,"kein PW","28.3.2017","07:15:02","patri","DESKTOP-Patrick","192.168.1.83",0,0,0,0,0,null,null,null,"kein PW","22.3.2016","22:50:53","patri","DESKTOP-QSPSN64","192.168.1.111",0,0,0,0,0]
[null,null,"12051993Pw!","22.3.2016","19:50:59",27694634,"kein PW","14.4.2017","07:44:59",27694634,"de03-0100wt0007","192.168.1.141",0,0,0,0,0,null,null,null,"12051993Pw!","22.3.2017","22:52:24","patri","DESKTOP-QSPSN64","192.168.1.111",0,0,0,0,0]
[null,null,"Rwk2016Jug","22.3.2016","19:54:07",27694634,"kein PW","7.5.2017","11:52:36",27694634,"de03-0100wt0007","192.168.1.234",0,0,0,0,0,null,null,null,"kein PW","23.3.2016","19:46:50",27694634,"de03-0100wlsexy","192.168.1.107",0,0,0,0,0]
["Upload VZ","html/jugend/test/JRW2016","12051993Pw!","22.3.2016","19:54:44",27694634,"kein PW","28.5.2017","18:03:14","patri","DESKTOP-Patrick","192.168.1.75",0,0,0,0,0,null,null,null,"Rwk2016Jug","23.3.2016","20:38:54",27694634,"de03-0100wlsexy","192.168.1.107",0,0,0,0,0]
[null,null,"12051993Pw!","22.3.2016","21:05:48",27694634,"kein PW","3.6.2017","14:09:58",27694634,"de03-0100wt0007","127.0.0.1",0,0,0,0,0,null,null,null,"kein PW","23.3.2016","20:49:47",27694634,"de03-0100wlsexy","192.168.1.107",0,0,0,0,0]
["Tool","Jugend","12051993Pw!","22.3.2016","21:07:45",27694634,"kein PW","4.6.2017","09:38:52",27694634,"de03-0100wt0007","192.168.1.234",0,0,0,0,0,null,null,null,"kein PW","23.3.2016","20:51:14",27694634,"de03-0100wlsexy","192.168.1.107",0,0,0,0,0]
[null,null,"12051993Pw!","22.3.2016","21:15:49",27694634,"kein PW","18.2.2018","19:49:38",27694634,"de03-0100wt0007","192.168.1.141",0,0,0,0,0,null,null,null,"kein PW","23.3.2016","21:38:19",27694634,"de03-0100wlsexy","192.168.1.107",0,0,0,0,0]
[null,null,"12051993Pw!","22.3.2016","21:18:29",27694634,"kein PW","18.2.2018","19:56:03",27694634,"de03-0100wt0007","192.168.1.141",0,0,0,0,0,null,null,null,"12051993Pw!","23.3.2016","21:49:35",27694634,"de03-0100wlsexy","192.168.1.107",0,0,0,0,0]
[null,null,"12051993Pw!","22.3.2016","21:20:54",27694634,null,null,null,null,null,null,null,null,null,null,null,null,null,null,"kein PW","26.3.2016","13:27:25","patri","DESKTOP-QSPSN64","192.168.1.111",0,0,0,0,0]
[null,null,"12051993Pw!","22.3.2016","21:23:04",27694634,null,null,null,null,null,null,null,null,null,null,null,null,null,null,"kein PW","26.3.2016","18:18:19","patri","DESKTOP-QSPSN64","192.168.1.111",0,0,0,0,0]
[null,null,"Rwk2016Jug","22.3.2016","21:25:55",27694634,null,null,null,null,null,null,null,null,null,null,null,null,null,null,"kein PW","26.3.2016","23:22:04","patri","DESKTOP-QSPSN64","192.168.1.111",0,0,0,0,0]
[null,null,"Rwk2916Jug","22.3.2016","21:26:29",27694634,null,null,null,null,null,null,null,null,null,null,null,null,null,null,"kein PW","26.3.2016","23:22:27","patri","DESKTOP-QSPSN64","192.168.1.111",0,0,0,0,0]
[null,null,"Rwk2016Jug","22.3.2016","21:28:29",27694634,null,null,null,null,null,null,null,null,null,null,null,null,null,null,"12051993Pw!","26.3.2016","23:22:52","patri","DESKTOP-QSPSN64","192.168.1.111",0,0,0,0,0]
[null,null,"12051993Pw!","22.3.2016","21:29:29",27694634,null,null,null,null,null,null,null,null,null,null,null,null,null,null,"kein PW","26.3.2016","23:24:05","patri","DESKTOP-QSPSN64","192.168.1.111",0,0,0,0,0]
[null,null,"Rwk2016Jug","22.3.2016","21:30:18",27694634,null,null,null,null,null,null,null,null,null,null,null,null,null,null,"kein PW","26.3.2016","23:26:46","patri","DESKTOP-QSPSN64","192.168.1.111",0,0,0,0,0]
[null,null,"12051993Pw!","22.3.2016","21:31:18",27694634,null,null,null,null,null,null,null,null,null,null,null,null,null,null,"kein PW","26.3.2016","23:27:50","patri","DESKTOP-QSPSN64","192.168.1.111",0,0,0,0,0]
[null,null,"12051993Pw!","22.3.2016","21:33:57",27694634,null,null,null,null,null,null,null,null,null,null,null,null,null,null,"kein PW","27.3.2016","11:08:07","patri","DESKTOP-QSPSN64","192.168.1.111",0,0,0,0,0]
[null,null,"12051993Pw!","22.3.2016","21:35:33",27694634,null,null,null,null,null,null,null,null,null,null,null,null,null,null,"kein PW","28.3.2016","10:02:58","patri","DESKTOP-QSPSN64","192.168.1.111",0,0,0,0,0]
[null,null,"12051993Pw!","22.3.2016","22:51:06","patri",null,null,null,null,null,null,null,null,null,null,null,null,null,null,"kein PW","28.3.2016","12:30:47","patri","DESKTOP-QSPSN64","192.168.1.111",0,0,0,0,0]
[null,null,"12051993Pw!","22.3.2017","22:53:19","patri"]
[null,null,"Rwk2016Jug","22.3.2016","22:57:01","patri"]
[null,null,"Rwk2016Jug","22.3.2016","22:57:01","patri"]
[null,null,"12051993Pw!","23.3.2016","19:48:22",27694634]
[null,null,"12051993Pw!","23.3.2016","19:48:22",27694634]
[null,null,"Rwk2016Jug","23.3.2016","19:52:30",27694634]
[null,null,"12051993Pw!","23.3.2016","19:53:26",27694634]
[null,null,"12051993Pw!","23.3.2016","20:21:33",27694634]
[null,null,"12051993Pw!","23.3.2016","20:21:53",27694634]
[null,null,"12051993Pw!","23.3.2016","20:24:11",27694634]
[null,null,"12051993Pw!","23.3.2016","20:24:47",27694634]
[null,null,"Rwk2016Jug","23.3.2016","20:27:37",27694634]
[null,null,"12051993Pw!","23.3.2016","20:28:08",27694634]
[null,null,"12051993Pw!","23.3.2016","20:33:57",27694634]
[null,null,"Rwk2016Jug","23.3.2016","20:37:41",27694634]
[null,null,"12051993Pw!","23.3.2016","20:48:29",27694634]
[null,null,"Rwk2016Jug","23.3.2016","20:49:04",27694634]
[null,null,"Rwk2016Jug","23.3.2016","20:50:46",27694634]
[null,null,"Rwk2016Jug","23.3.2016","20:51:37",27694634]
[null,null,"12051993Pw!","23.3.2016","20:52:11",27694634]
[null,null,"12051993Pw!","23.3.2016","21:39:10",27694634]
[null,null,"12051993Pw!","26.3.2016","13:27:48","patri"]
[null,null,"12051993Pw!","26.3.2016","18:18:49","patri"]
[null,null,"12051993Pw!","26.3.2016","19:02:01","patri"]
[null,null,"12051993Pw!","26.3.2016","19:27:14","patri"]
[null,null,"12051993Pw!","26.3.2016","19:28:51","patri"]
[null,null,"12051993Pw!","26.3.2016","20:13:25","patri"]
[null,null,"12051993Pw!","26.3.2016","20:16:10","patri"]
[null,null,"12051993Pw!","26.3.2016","20:16:10","patri"]
[null,null,"12051993Pw!","26.3.2016","22:29:57","patri"]
[null,null,"12051993Pw!","26.3.2016","22:31:09","patri"]
[null,null,"12051993Pw!","26.3.2016","22:44:54","patri"]
[null,null,"Rwk2016Jug","26.3.2016","22:47:08","patri"]
[null,null,"12051993Pw!","26.3.2016","22:47:47","patri"]
[null,null,"12051993Pw!","26.3.2016","22:53:26","patri"]
[null,null,"Rwk2016Jug","26.3.2016","22:56:33","patri"]
[null,null,"Rwk2016Jug","26.3.2016","23:01:03","patri"]
[null,null,"Rwk2016Jug","26.3.2016","23:01:03","patri"]
[null,null,"Rwk2016Jug","26.3.2016","23:03:00","patri"]
[null,null,"Rwk2016Jug","26.3.2016","23:03:53","patri"]
[null,null,"Rwk2016Jug","26.3.2016","23:04:57","patri"]
[null,null,"Rwk2016Jug","26.3.2016","23:05:47","patri"]
[null,null,"Rwk2016Jug","26.3.2016","23:06:26","patri"]
[null,null,"Rwk2016Jug","26.3.2016","23:07:44","patri"]
[null,null,"Rwk2016Jug","26.3.2016","23:10:35","patri"]
[null,null,"Rwk2016Jug","26.3.2016","23:13:09","patri"]
[null,null,"12051993Pw!","26.3.2016","23:14:35","patri"]
[null,null,"Rwk2016Jug","26.3.2016","23:19:43","patri"]
[null,null,"Rwk2016Jug","26.3.2016","23:20:59","patri"]
[null,null,"12051993Pw!","26.3.2016","23:22:43","patri"]
[null,null,"12051993Pw!","26.3.2016","23:28:22","patri"]
[null,null,"12051993Pw!","27.3.2016","11:08:58","patri"]
[null,null,"12051993Pw!","28.3.2016","10:03:12","patri"]
[null,null,"12051993Pw!","28.3.2016","10:14:36","patri"]
[null,null,"12051993Pw!","28.3.2016","12:05:59","patri"]
[null,null,"12051993Pw!","28.3.2016","12:31:47","patri"]
[null,null,"Rwk2016Jug","28.3.2016","12:36:43","patri"]
[null,null,"12051993Pw!","28.3.2016","12:39:08","patri"]
[null,null,"12051993Pw!","28.3.2016","12:54:51","patri"]
[null,null,"12051993Pw!","28.3.2016","13:25:32","patri"]
[null,null,"12051993Pw!","28.3.2016","13:34:46","patri"]
[null,null,"12051993Pw!","28.3.2016","13:35:30","patri"]
[null,null,"12051993Pw!","28.3.2016","13:37:41","patri"]
[null,null,"12051993Pw!","28.3.2016","14:03:24","patri"]
[null,null,"12051993Pw!","28.3.2016","14:07:57","patri"]
[null,null,"12051993Pw!","7.4.2016","17:09:44","patri"]
[null,null,"12051993Pw!","7.4.2016","17:10:46","patri"]
[null,null,"12051993Pw!","19.2.2017","15:08:44","patri"]
[null,null,"12051993Pw!","19.2.2017","15:25:40","patri"]
[null,null,"12051993Pw!","19.2.2017","15:35:54","patri"]
[null,null,"12051993Pw!","19.2.2017","15:52:20","patri"]
[null,null,"12051993Pw!","28.3.2017","07:15:24","patri"]
[null,null,"12051993Pw!","14.4.2017","07:45:21",27694634]
[null,null,"12051993Pw!","7.5.2017","11:52:55",27694634]
[null,null,"12051993Pw!","28.5.2017","18:03:27","patri"]
[null,null,"12051993Pw!","3.6.2017","14:10:10",27694634]
[null,null,"12051993Pw!","3.6.2017","19:01:10",27694634]
[null,null,"12051993Pw!","4.6.2017","09:39:18",27694634]
[null,null,"12051993Pw!","4.6.2017","09:46:28",27694634]
[null,null,"12051993Pw!","18.2.2018","19:49:49",27694634]
[null,null,"12051993Pw!","18.2.2018","19:56:22",27694634]

{"sheet":"DatenPlausibilitätsprüfung","index":15,"n_rows":75,"n_cols":21,"rows_kept":75,"cut":false,"hidden":true,"merged":[[33,1,33,2],[33,5,33,6],[43,1,43,2],[0,1,1,5],[3,1,3,2],[3,5,3,6],[13,1,13,2],[13,5,13,6],[23,1,23,2],[23,5,23,6],[43,4,43,7],[21,10,22,14],[24,10,24,11],[24,14,24,15],[34,10,34,11],[34,14,34,15],[45,4,45,7],[74,9,74,10],[44,10,44,11],[44,14,44,15],[54,10,54,11],[54,14,54,15],[64,10,64,11],[64,13,64,16]]}
[null,"1. Wettkampf",null,null,null,null,null,{"$f":"TODAY()","v":"2018-03-16"},null,"Hans 1",300,10,10,10,10,10,10,10,10,10,10]
[null,null,null,null,null,null,null,{"$f":"TODAY()","v":"2018-03-16"},null,"Hans 2",310,9,9,9,8,9,9,9,9,9,9]
[null,null,null,null,null,null,null,null,null,"Hans 3",320,8,8,8,6,8,8,8,8,8,8]
["Mannschaft",null,null,null,"Mannschaft",null,null,null,null,"Hans 4",330,7,7,7,4,7,7,7,7,7,7]
[null,null,null,null,null,null,null,null,null,"Erika 1",340,6,6,6,2,6,6,6,6,6,6]
["Vorname","Name","Ergebnis",null,"Vorname","Name","Ergebnis",null,null,"Erika 2",350,5,5,5,0.5,5,5,5,5,5,5]
["Test1",3,303,null,"Test2",3,313,null,null,"Erika 3",360,4,4,4,4,3.5,4,4,4,4,4]
["Test1",2,302,null,"Test2",2,312,null,null,"Erika 4",370,3,3,3,3,4.5,3,3,3,3,3]
["Test1",1,301,null,"Test2",1,311,null,null,"Erika 5",380,2,2,2,2,6.5,2,2,2,2,2]
["Test1",4,304,"Res.","Test2",4,314,null,null,"Hans 5",390,1,1,1,1,8.3000000000000007,1,1,1,1,1]
[null,"Gesamt",{"$f":"SUM($C$7:$C$9)","v":906},null,null,"Gesamt",{"$f":"SUM($G$7:$G$9)","v":936}]
[]
[]
["Mannschaft",null,null,null,"Mannschaft"]
[]
["Vorname","Name","Ergebnis",null,"Vorname","Name","Ergebnis"]
["Test3",3,323,null,"Test4",3,333]
["Test3",2,322,null,"Test4",2,332]
["Test3",1,321,null,"Test4",1,331]
["Test3",4,324,"Res.","Test4",4,334]
[null,"Gesamt",{"$f":"SUM($C$17:$C$19)","v":966},null,null,"Gesamt",{"$f":"SUM($G$17:$G$19)","v":996}]
[null,null,null,null,null,null,null,null,null,null,"Vordruck"]
[]
["Mannschaft",null,null,null,"Mannschaft"]
[null,null,null,null,null,null,null,null,null,"Mannschaft",null,null,null,"Mannschaft"]
["Vorname","Name","Ergebnis",null,"Vorname","Name","Ergebnis"]
["Test5",3,343,null,"Test6",3,353,null,null,"Vorname","Name","Ergebnis",null,"Vorname","Name","Ergebnis"]
["Test5",2,342,null,"Test6",2,352]
["Test5",1,341,null,"Test6",1,351]
["Test5",4,344,"Res.","Test6",4,354]
[null,"Gesamt",{"$f":"SUM($C$27:$C$29)","v":1026},null,null,"Gesamt",{"$f":"SUM($G$27:$G$29)","v":1056},null,null,null,null,null,"Res."]
[null,null,null,null,null,null,null,null,null,null,"Gesamt",{"$f":"SUM($C$7:$C$9)","v":906},null,null,"Gesamt",{"$f":"SUM($G$7:$G$9)","v":936}]
[]
["Mannschaft",null,null,null,"Mannschaft"]
[null,null,null,null,null,null,null,null,null,"Mannschaft",null,null,null,"Mannschaft"]
["Vorname","Name","Ergebnis",null,"Vorname","Name","Ergebnis"]
["Test7",3,363,null,"Test8",3,373,null,null,"Vorname","Name","Ergebnis",null,"Vorname","Name","Ergebnis"]
["Test7",2,362,null,"Test8",2,372]
["Test7",1,361,null,"Test8",1,371]
["Test7",4,364,"Res.","Test8",4,374]
[null,"Gesamt",{"$f":"SUM($C$37:$C$39)","v":1086},null,null,"Gesamt",{"$f":"SUM($G$37:$G$39)","v":1116},null,null,null,null,null,"Res."]
[null,null,null,null,null,null,null,null,null,null,"Gesamt",{"$f":"SUM($C$17:$C$19)","v":966},null,null,"Gesamt",{"$f":"SUM($G$17:$G$19)","v":996}]
[]
["Mannschaft"]
[null,null,null,null,null,null,null,null,null,"Mannschaft",null,null,null,"Mannschaft"]
["Vorname","Name","Ergebnis",null,"Tabelle"]
["Test9",3,383,null,"Mannschaft","Ergebnis","Platz","Punkte",null,"Vorname","Name","Ergebnis",null,"Vorname","Name","Ergebnis"]
["Test9",2,382]
["Test9",1,381,null,{"$f":"IF($B$44=0,\"\",$B$44)","v":""},{"$f":"$C$51","v":1146},{"$f":"IF($E$47=\"\",\"\",1)","v":1},{"$f":"IF(F49=0,\"\",IF($E$47=\"\",\"\",IF($E$48=\"\",0,IF($E$49=\"\",1,IF($E$50=\"\",2,IF($E$51=\"\",3,IF($E$52=\"\",4,IF($E$53=\"\",5,IF($E$54=\"\",6,IF($E$55=\"\",7,8))))))))))","v":0}]
["Test9",4,384,"Res.",{"$f":"IF($F$34=0,\"\",$F$34)","v":""},{"$f":"$G$41","v":1116},{"$f":"(IF($E$48=\"\",\"\",IF($F$48=$F$47,$G$47,$G$47+1)))","v":""},{"$f":"IF($E$48=\"\",\"\",IF($G$47=$G$48,$H$47,$H$47-1))","v":""}]
[null,"Gesamt",{"$f":"SUM($C$47:$C$49)","v":1146},null,{"$f":"IF($B$34=0,\"\",$B$34)","v":""},{"$f":"$C$41","v":1086},{"$f":"(IF($E$49=\"\",\"\",IF($F$49=$F$48,$G$48,$G$48+1)))","v":""},{"$f":"IF($E$49=\"\",\"\",IF($G$48=$G$49,$H$48,IF(H50=H49,H50-2,$H$48-1)))","v":""},null,null,null,null,"Res."]
[null,null,null,null,{"$f":"IF($F$24=0,\"\",$F$24)","v":""},{"$f":"$G$31","v":1056},{"$f":"(IF($E$50=\"\",\"\",IF($F$50=$F$49,$G$49,$G$49+1)))","v":""},{"$f":"IF($E$50=\"\",\"\",IF($G$49=$G$50,$H$49,IF(H51=H50,H51-2,$H$49-1)))","v":""},null,null,"Gesamt",{"$f":"SUM($C$27:$C$29)","v":1026},null,null,"Gesamt",{"$f":"SUM($G$27:$G$29)","v":1056}]
[null,null,null,null,{"$f":"IF($B$24=0,\"\",$B$24)","v":""},{"$f":"$C$31","v":1026},{"$f":"(IF($E$51=\"\",\"\",IF($F$51=$F$50,$G$50,$G$50+1)))","v":""},{"$f":"IF($E$51=\"\",\"\",IF($G$50=$G$51,$H$50,IF($H$50=$H$49,$H$50-2,$H$50-1)))","v":""}]
[null,null,null,null,{"$f":"IF($F$14=0,\"\",$F$14)","v":""},{"$f":"$G$21","v":996},{"$f":"(IF($E$52=\"\",\"\",IF($F$52=$F$51,$G$51,$G$51+1)))","v":""},{"$f":"IF($E$52=\"\",\"\",IF($G$51=$G$52,$H$51,IF($H$51=$H$50,$H$51-2,$H$51-1)))","v":""}]
[null,null,null,null,{"$f":"IF($B$14=0,\"\",$B$14)","v":""},{"$f":"$C$21","v":966},{"$f":"(IF($E$53=\"\",\"\",IF($F$53=$F$52,$G$52,$G$52+1)))","v":""},{"$f":"IF($E$53=\"\",\"\",IF($G$52=$G$53,$H$52,IF($H$52=$H$51,$H$52-2,$H$52-1)))","v":""},null,"Mannschaft",null,null,null,"Mannschaft"]
[null,null,null,null,{"$f":"IF($F$4=0,\"\",$F$4)","v":""},{"$f":"$G$11","v":936},{"$f":"(IF($E$54=\"\",\"\",IF($F$54=$F$53,$G$53,$G$53+1)))","v":""},{"$f":"IF($E$54=\"\",\"\",IF($G$53=$G$54,$H$53,IF($H$53=$H$52,$H$53-2,$H$53-1)))","v":""}]
[null,null,null,null,{"$f":"IF($B$4=0,\"\",$B$4)","v":""},{"$f":"$C$11","v":906},{"$f":"(IF($E$55=\"\",\"\",IF($F$55=$F$54,$G$54,$G$54+1)))","v":""},{"$f":"IF($E$55=\"\",\"\",IF($G$54=$G$55,$H$54,IF($H$54=$H$53,$H$54-2,$H$54-1)))","v":""},null,"Vorname","Name","Ergebnis",null,"Vorname","Name","Ergebnis"]
[]
[]
[]
[null,null,null,null,null,null,null,null,null,null,null,null,"Res."]
[null,null,null,null,null,null,null,null,null,null,"Gesamt",{"$f":"SUM($C$37:$C$39)","v":1086},null,null,"Gesamt",{"$f":"SUM($G$37:$G$39)","v":1116}]
[]
[]
[null,null,null,null,null,null,null,null,null,"Mannschaft",null,null,null,"Tabelle"]
[null,null,null,null,null,null,null,null,null,null,null,null,null,"Mannschaft","Ergebnis","Platz","Punkte"]
[null,null,null,null,null,null,null,null,null,"Vorname","Name","Ergebnis"]
[]
[]
[]
[null,null,null,null,null,null,null,null,null,null,null,null,"Res."]
[null,null,null,null,null,null,null,null,null,null,"Gesamt",{"$f":"SUM($C$47:$C$49)","v":1146}]
[]
[]
[null,null,null,null,null,null,null,null,null,"Austragungsort:"]

{"sheet":"Zwischenberechnung Mannschaften","index":16,"n_rows":24,"n_cols":13,"rows_kept":24,"cut":false,"hidden":true,"merged":[[0,2,0,11],[13,1,13,12]]}
[null,null,"Punkte pro Wettkampf"]
[null,"Mannschaft","1","2","3","4","5","6","7","8","9","10","Summe"]
[null,null,{"$f":"IF(Tabelle3[[#This Row],[Mannschaft]]>0,VLOOKUP(B3,'WK 1'!$E$47:$H$55,4,FALSE),\"\")","v":""}]
[null,{"$f":"IF(Mannschaft1=\"\",\"\",Mannschaft1)","v":"Hersfeld"},{"$f":"IF(Tabelle3[[#This Row],[Mannschaft]]>0,VLOOKUP(B4,'WK 1'!$E$47:$H$55,4,FALSE),\"\")","v":""},{"$f":"IF(C4>-1,VLOOKUP(B4,'WK 2'!$E$47:$H$55,4,FALSE),\"\")","v":""},{"$f":"IF(C4>-1,VLOOKUP(B4,'WK 3'!$E$47:$H$55,4,FALSE),\"\")","v":""},{"$f":"IF(C4>-1,VLOOKUP(B4,'WK 4'!$E$47:$H$55,4,FALSE),\"\")","v":""},{"$f":"IF(C4>-1,VLOOKUP(B4,'WK 5'!$E$47:$H$55,4,FALSE),\"\")","v":""},{"$f":"IF(C4>-1,VLOOKUP(B4,'WK 6'!$E$47:$H$55,4,FALSE),\"\")","v":""},{"$f":"IF(C4>-1,VLOOKUP(B4,'WK 7'!$E$47:$H$55,4,FALSE),\"\")","v":""},{"$f":"IF(C4>-1,VLOOKUP(B4,'WK 8'!$E$47:$H$55,4,FALSE),\"\")","v":""},{"$f":"IF(C4>-1,VLOOKUP(B4,'WK 9'!$E$47:$H$55,4,FALSE),\"\")","v":""},{"$f":"IF(C4>-1,VLOOKUP(B4,'WK 10'!$E$47:$H$55,4,FALSE),\"\")","v":""},{"$f":"SUM(C4:L4)","v":0}]
[null,{"$f":"IF(Mannschaft2=\"\",\"\",Mannschaft2)","v":"Stärklos"},{"$f":"IF(Tabelle3[[#This Row],[Mannschaft]]>0,VLOOKUP(B5,'WK 1'!$E$47:$H$55,4,FALSE),\"\")","v":""},{"$f":"IF(C5>-1,VLOOKUP(B5,'WK 2'!$E$47:$H$55,4,FALSE),\"\")","v":""},{"$f":"IF(C5>-1,VLOOKUP(B5,'WK 3'!$E$47:$H$55,4,FALSE),\"\")","v":""},{"$f":"IF(C5>-1,VLOOKUP(B5,'WK 4'!$E$47:$H$55,4,FALSE),\"\")","v":""},{"$f":"IF(C5>-1,VLOOKUP(B5,'WK 5'!$E$47:$H$55,4,FALSE),\"\")","v":""},{"$f":"IF(C5>-1,VLOOKUP(B5,'WK 6'!$E$47:$H$55,4,FALSE),\"\")","v":""},{"$f":"IF(C5>-1,VLOOKUP(B5,'WK 7'!$E$47:$H$55,4,FALSE),\"\")","v":""},{"$f":"IF(C5>-1,VLOOKUP(B5,'WK 8'!$E$47:$H$55,4,FALSE),\"\")","v":""},{"$f":"IF(C5>-1,VLOOKUP(B5,'WK 9'!$E$47:$H$55,4,FALSE),\"\")","v":""},{"$f":"IF(C5>-1,VLOOKUP(B5,'WK 10'!$E$47:$H$55,4,FALSE),\"\")","v":""},0]
[null,{"$f":"IF(Mannschaft3=\"\",\"\",Mannschaft3)","v":"Obergeis"},{"$f":"IF(Tabelle3[[#This Row],[Mannschaft]]>0,VLOOKUP(B6,'WK 1'!$E$47:$H$55,4,FALSE),\"\")","v":""},{"$f":"IF(C6>-1,VLOOKUP(B6,'WK 2'!$E$47:$H$55,4,FALSE),\"\")","v":""},{"$f":"IF(C6>-1,VLOOKUP(B6,'WK 3'!$E$47:$H$55,4,FALSE),\"\")","v":""},{"$f":"IF(C6>-1,VLOOKUP(B6,'WK 4'!$E$47:$H$55,4,FALSE),\"\")","v":""},{"$f":"IF(C6>-1,VLOOKUP(B6,'WK 5'!$E$47:$H$55,4,FALSE),\"\")","v":""},{"$f":"IF(C6>-1,VLOOKUP(B6,'WK 6'!$E$47:$H$55,4,FALSE),\"\")","v":""},{"$f":"IF(C6>-1,VLOOKUP(B6,'WK 7'!$E$47:$H$55,4,FALSE),\"\")","v":""},{"$f":"IF(C6>-1,VLOOKUP(B6,'WK 8'!$E$47:$H$55,4,FALSE),\"\")","v":""},{"$f":"IF(C6>-1,VLOOKUP(B6,'WK 9'!$E$47:$H$55,4,FALSE),\"\")","v":""},{"$f":"IF(C6>-1,VLOOKUP(B6,'WK 10'!$E$47:$H$55,4,FALSE),\"\")","v":""},0]
[null,{"$f":"IF(Mannschaft4=\"\",\"\",Mannschaft4)","v":"Unterhaun/Friedewald"},{"$f":"IF(Tabelle3[[#This Row],[Mannschaft]]>0,VLOOKUP(B7,'WK 1'!$E$47:$H$55,4,FALSE),\"\")","v":""},{"$f":"IF(C7>-1,VLOOKUP(B7,'WK 2'!$E$47:$H$55,4,FALSE),\"\")","v":""},{"$f":"IF(C7>-1,VLOOKUP(B7,'WK 3'!$E$47:$H$55,4,FALSE),\"\")","v":""},{"$f":"IF(C7>-1,VLOOKUP(B7,'WK 4'!$E$47:$H$55,4,FALSE),\"\")","v":""},{"$f":"IF(C7>-1,VLOOKUP(B7,'WK 5'!$E$47:$H$55,4,FALSE),\"\")","v":""},{"$f":"IF(C7>-1,VLOOKUP(B7,'WK 6'!$E$47:$H$55,4,FALSE),\"\")","v":""},{"$f":"IF(C7>-1,VLOOKUP(B7,'WK 7'!$E$47:$H$55,4,FALSE),\"\")","v":""},{"$f":"IF(C7>-1,VLOOKUP(B7,'WK 8'!$E$47:$H$55,4,FALSE),\"\")","v":""},{"$f":"IF(C7>-1,VLOOKUP(B7,'WK 9'!$E$47:$H$55,4,FALSE),\"\")","v":""},{"$f":"IF(C7>-1,VLOOKUP(B7,'WK 10'!$E$47:$H$55,4,FALSE),\"\")","v":""},0]
[null,{"$f":"IF(Mannschaft5=\"\",\"\",Mannschaft5)","v":""},{"$f":"IF(Tabelle3[[#This Row],[Mannschaft]]>0,VLOOKUP(B8,'WK 1'!$E$47:$H$55,4,FALSE),\"\")","v":""},{"$f":"IF(C8>-1,VLOOKUP(B8,'WK 2'!$E$47:$H$55,4,FALSE),\"\")","v":""},{"$f":"IF(C8>-1,VLOOKUP(B8,'WK 3'!$E$47:$H$55,4,FALSE),\"\")","v":""},{"$f":"IF(C8>-1,VLOOKUP(B8,'WK 4'!$E$47:$H$55,4,FALSE),\"\")","v":""},{"$f":"IF(C8>-1,VLOOKUP(B8,'WK 5'!$E$47:$H$55,4,FALSE),\"\")","v":""},{"$f":"IF(C8>-1,VLOOKUP(B8,'WK 6'!$E$47:$H$55,4,FALSE),\"\")","v":""},{"$f":"IF(C8>-1,VLOOKUP(B8,'WK 7'!$E$47:$H$55,4,FALSE),\"\")","v":""},{"$f":"IF(C8>-1,VLOOKUP(B8,'WK 8'!$E$47:$H$55,4,FALSE),\"\")","v":""},{"$f":"IF(C8>-1,VLOOKUP(B8,'WK 9'!$E$47:$H$55,4,FALSE),\"\")","v":""},{"$f":"IF(C8>-1,VLOOKUP(B8,'WK 10'!$E$47:$H$55,4,FALSE),\"\")","v":""},0]
[null,{"$f":"IF(Mannschaft6=\"\",\"\",Mannschaft6)","v":""},{"$f":"IF(Tabelle3[[#This Row],[Mannschaft]]>0,VLOOKUP(B9,'WK 1'!$E$47:$H$55,4,FALSE),\"\")","v":""},{"$f":"IF(C9>-1,VLOOKUP(B9,'WK 2'!$E$47:$H$55,4,FALSE),\"\")","v":""},{"$f":"IF(C9>-1,VLOOKUP(B9,'WK 3'!$E$47:$H$55,4,FALSE),\"\")","v":""},{"$f":"IF(C9>-1,VLOOKUP(B9,'WK 4'!$E$47:$H$55,4,FALSE),\"\")","v":""},{"$f":"IF(C9>-1,VLOOKUP(B9,'WK 5'!$E$47:$H$55,4,FALSE),\"\")","v":""},{"$f":"IF(C9>-1,VLOOKUP(B9,'WK 6'!$E$47:$H$55,4,FALSE),\"\")","v":""},{"$f":"IF(C9>-1,VLOOKUP(B9,'WK 7'!$E$47:$H$55,4,FALSE),\"\")","v":""},{"$f":"IF(C9>-1,VLOOKUP(B9,'WK 8'!$E$47:$H$55,4,FALSE),\"\")","v":""},{"$f":"IF(C9>-1,VLOOKUP(B9,'WK 9'!$E$47:$H$55,4,FALSE),\"\")","v":""},{"$f":"IF(C9>-1,VLOOKUP(B9,'WK 10'!$E$47:$H$55,4,FALSE),\"\")","v":""},0]
[null,{"$f":"IF(Mannschaft7=\"\",\"\",Mannschaft7)","v":""},{"$f":"IF(Tabelle3[[#This Row],[Mannschaft]]>0,VLOOKUP(B10,'WK 1'!$E$47:$H$55,4,FALSE),\"\")","v":""},{"$f":"IF(C10>-1,VLOOKUP(B10,'WK 2'!$E$47:$H$55,4,FALSE),\"\")","v":""},{"$f":"IF(C10>-1,VLOOKUP(B10,'WK 3'!$E$47:$H$55,4,FALSE),\"\")","v":""},{"$f":"IF(C10>-1,VLOOKUP(B10,'WK 4'!$E$47:$H$55,4,FALSE),\"\")","v":""},{"$f":"IF(C10>-1,VLOOKUP(B10,'WK 5'!$E$47:$H$55,4,FALSE),\"\")","v":""},{"$f":"IF(C10>-1,VLOOKUP(B10,'WK 6'!$E$47:$H$55,4,FALSE),\"\")","v":""},{"$f":"IF(C10>-1,VLOOKUP(B10,'WK 7'!$E$47:$H$55,4,FALSE),\"\")","v":""},{"$f":"IF(C10>-1,VLOOKUP(B10,'WK 8'!$E$47:$H$55,4,FALSE),\"\")","v":""},{"$f":"IF(C10>-1,VLOOKUP(B10,'WK 9'!$E$47:$H$55,4,FALSE),\"\")","v":""},{"$f":"IF(C10>-1,VLOOKUP(B10,'WK 10'!$E$47:$H$55,4,FALSE),\"\")","v":""},0]
[null,{"$f":"IF(Mannschaft8=\"\",\"\",Mannschaft8)","v":""},{"$f":"IF(Tabelle3[[#This Row],[Mannschaft]]>0,VLOOKUP(B11,'WK 1'!$E$47:$H$55,4,FALSE),\"\")","v":""},{"$f":"IF(C11>-1,VLOOKUP(B11,'WK 2'!$E$47:$H$55,4,FALSE),\"\")","v":""},{"$f":"IF(C11>-1,VLOOKUP(B11,'WK 3'!$E$47:$H$55,4,FALSE),\"\")","v":""},{"$f":"IF(C11>-1,VLOOKUP(B11,'WK 4'!$E$47:$H$55,4,FALSE),\"\")","v":""},{"$f":"IF(C11>-1,VLOOKUP(B11,'WK 5'!$E$47:$H$55,4,FALSE),\"\")","v":""},{"$f":"IF(C11>-1,VLOOKUP(B11,'WK 6'!$E$47:$H$55,4,FALSE),\"\")","v":""},{"$f":"IF(C11>-1,VLOOKUP(B11,'WK 7'!$E$47:$H$55,4,FALSE),\"\")","v":""},{"$f":"IF(C11>-1,VLOOKUP(B11,'WK 8'!$E$47:$H$55,4,FALSE),\"\")","v":""},{"$f":"IF(C11>-1,VLOOKUP(B11,'WK 9'!$E$47:$H$55,4,FALSE),\"\")","v":""},{"$f":"IF(C11>-1,VLOOKUP(B11,'WK 10'!$E$47:$H$55,4,FALSE),\"\")","v":""},0]
[null,{"$f":"IF(Mannschaft9=\"\",\"\",Mannschaft9)","v":""},{"$f":"IF(Tabelle3[[#This Row],[Mannschaft]]>0,VLOOKUP(B12,'WK 1'!$E$47:$H$55,4,FALSE),\"\")","v":""},{"$f":"IF(C12>-1,VLOOKUP(B12,'WK 2'!$E$47:$H$55,4,FALSE),\"\")","v":""},{"$f":"IF(C12>-1,VLOOKUP(B12,'WK 3'!$E$47:$H$55,4,FALSE),\"\")","v":""},{"$f":"IF(C12>-1,VLOOKUP(B12,'WK 4'!$E$47:$H$55,4,FALSE),\"\")","v":""},{"$f":"IF(C12>-1,VLOOKUP(B12,'WK 5'!$E$47:$H$55,4,FALSE),\"\")","v":""},{"$f":"IF(C12>-1,VLOOKUP(B12,'WK 6'!$E$47:$H$55,4,FALSE),\"\")","v":""},{"$f":"IF(C12>-1,VLOOKUP(B12,'WK 7'!$E$47:$H$55,4,FALSE),\"\")","v":""},{"$f":"IF(C12>-1,VLOOKUP(B12,'WK 8'!$E$47:$H$55,4,FALSE),\"\")","v":""},{"$f":"IF(C12>-1,VLOOKUP(B12,'WK 9'!$E$47:$H$55,4,FALSE),\"\")","v":""},{"$f":"IF(C12>-1,VLOOKUP(B12,'WK 10'!$E$47:$H$55,4,FALSE),\"\")","v":""},0]
[]
[null,"Gesamtergebnis pro Wettkampf"]
[null,"Mannschaft","1","2","3","4","5","6","7","8","9","10","Summe"]
[null,{"$f":"IF(Mannschaft1=\"\",\"\",Mannschaft1)","v":"Hersfeld"},{"$f":"IF(Tabelle2[[#This Row],[Mannschaft]]>\"\",VLOOKUP(B16,'WK 1'!$E$47:$F$55,2,FALSE),\"\")","v":0},{"$f":"IF(Tabelle2[[#This Row],[1]]>-1,VLOOKUP(B16,'WK 2'!$E$47:$F$55,2,FALSE),\"\")","v":0},{"$f":"IF(Tabelle2[[#This Row],[2]]>-1,VLOOKUP(B16,'WK 3'!$E$47:$F$55,2,FALSE),\"\")","v":0},{"$f":"IF(Tabelle2[[#This Row],[3]]>-1,VLOOKUP(B16,'WK 4'!$E$47:$F$55,2,FALSE),\"\")","v":0},{"$f":"IF(Tabelle2[[#This Row],[4]]>-1,VLOOKUP(B16,'WK 5'!$E$47:$F$55,2,FALSE),\"\")","v":0},{"$f":"IF(Tabelle2[[#This Row],[5]]>-1,VLOOKUP(B16,'WK 6'!$E$47:$F$55,2,FALSE),\"\")","v":0},{"$f":"IF(Tabelle2[[#This Row],[6]]>-1,VLOOKUP(B16,'WK 7'!$E$47:$F$55,2,FALSE),\"\")","v":0},{"$f":"IF(Tabelle2[[#This Row],[7]]>-1,VLOOKUP(B16,'WK 8'!$E$47:$F$55,2,FALSE),\"\")","v":0},{"$f":"IF(Tabelle2[[#This Row],[8]]>-1,VLOOKUP(B16,'WK 9'!$E$47:$F$55,2,FALSE),\"\")","v":0},{"$f":"IF(Tabelle2[[#This Row],[9]]>-1,VLOOKUP(B16,'WK 10'!$E$47:$F$55,2,FALSE),\"\")","v":0},{"$f":"SUM(C16:L16)","v":0}]
[null,{"$f":"IF(Mannschaft2=\"\",\"\",Mannschaft2)","v":"Stärklos"},{"$f":"IF(Tabelle2[[#This Row],[Mannschaft]]>\"\",VLOOKUP(B17,'WK 1'!$E$47:$F$55,2,FALSE),\"\")","v":0},{"$f":"IF(Tabelle2[[#This Row],[1]]>-1,VLOOKUP(B17,'WK 2'!$E$47:$F$55,2,FALSE),\"\")","v":0},{"$f":"IF(Tabelle2[[#This Row],[2]]>-1,VLOOKUP(B17,'WK 3'!$E$47:$F$55,2,FALSE),\"\")","v":0},{"$f":"IF(Tabelle2[[#This Row],[3]]>-1,VLOOKUP(B17,'WK 4'!$E$47:$F$55,2,FALSE),\"\")","v":0},{"$f":"IF(Tabelle2[[#This Row],[4]]>-1,VLOOKUP(B17,'WK 5'!$E$47:$F$55,2,FALSE),\"\")","v":0},{"$f":"IF(Tabelle2[[#This Row],[5]]>-1,VLOOKUP(B17,'WK 6'!$E$47:$F$55,2,FALSE),\"\")","v":0},{"$f":"IF(Tabelle2[[#This Row],[6]]>-1,VLOOKUP(B17,'WK 7'!$E$47:$F$55,2,FALSE),\"\")","v":0},{"$f":"IF(Tabelle2[[#This Row],[7]]>-1,VLOOKUP(B17,'WK 8'!$E$47:$F$55,2,FALSE),\"\")","v":0},{"$f":"IF(Tabelle2[[#This Row],[8]]>-1,VLOOKUP(B17,'WK 9'!$E$47:$F$55,2,FALSE),\"\")","v":0},{"$f":"IF(Tabelle2[[#This Row],[9]]>-1,VLOOKUP(B17,'WK 10'!$E$47:$F$55,2,FALSE),\"\")","v":0},0]
[null,{"$f":"IF(Mannschaft3=\"\",\"\",Mannschaft3)","v":"Obergeis"},{"$f":"IF(Tabelle2[[#This Row],[Mannschaft]]>\"\",VLOOKUP(B18,'WK 1'!$E$47:$F$55,2,FALSE),\"\")","v":0},{"$f":"IF(Tabelle2[[#This Row],[1]]>-1,VLOOKUP(B18,'WK 2'!$E$47:$F$55,2,FALSE),\"\")","v":0},{"$f":"IF(Tabelle2[[#This Row],[2]]>-1,VLOOKUP(B18,'WK 3'!$E$47:$F$55,2,FALSE),\"\")","v":0},{"$f":"IF(Tabelle2[[#This Row],[3]]>-1,VLOOKUP(B18,'WK 4'!$E$47:$F$55,2,FALSE),\"\")","v":0},{"$f":"IF(Tabelle2[[#This Row],[4]]>-1,VLOOKUP(B18,'WK 5'!$E$47:$F$55,2,FALSE),\"\")","v":0},{"$f":"IF(Tabelle2[[#This Row],[5]]>-1,VLOOKUP(B18,'WK 6'!$E$47:$F$55,2,FALSE),\"\")","v":0},{"$f":"IF(Tabelle2[[#This Row],[6]]>-1,VLOOKUP(B18,'WK 7'!$E$47:$F$55,2,FALSE),\"\")","v":0},{"$f":"IF(Tabelle2[[#This Row],[7]]>-1,VLOOKUP(B18,'WK 8'!$E$47:$F$55,2,FALSE),\"\")","v":0},{"$f":"IF(Tabelle2[[#This Row],[8]]>-1,VLOOKUP(B18,'WK 9'!$E$47:$F$55,2,FALSE),\"\")","v":0},{"$f":"IF(Tabelle2[[#This Row],[9]]>-1,VLOOKUP(B18,'WK 10'!$E$47:$F$55,2,FALSE),\"\")","v":0},0]
[null,{"$f":"IF(Mannschaft4=\"\",\"\",Mannschaft4)","v":"Unterhaun/Friedewald"},{"$f":"IF(Tabelle2[[#This Row],[Mannschaft]]>\"\",VLOOKUP(B19,'WK 1'!$E$47:$F$55,2,FALSE),\"\")","v":0},{"$f":"IF(Tabelle2[[#This Row],[1]]>-1,VLOOKUP(B19,'WK 2'!$E$47:$F$55,2,FALSE),\"\")","v":0},{"$f":"IF(Tabelle2[[#This Row],[2]]>-1,VLOOKUP(B19,'WK 3'!$E$47:$F$55,2,FALSE),\"\")","v":0},{"$f":"IF(Tabelle2[[#This Row],[3]]>-1,VLOOKUP(B19,'WK 4'!$E$47:$F$55,2,FALSE),\"\")","v":0},{"$f":"IF(Tabelle2[[#This Row],[4]]>-1,VLOOKUP(B19,'WK 5'!$E$47:$F$55,2,FALSE),\"\")","v":0},{"$f":"IF(Tabelle2[[#This Row],[5]]>-1,VLOOKUP(B19,'WK 6'!$E$47:$F$55,2,FALSE),\"\")","v":0},{"$f":"IF(Tabelle2[[#This Row],[6]]>-1,VLOOKUP(B19,'WK 7'!$E$47:$F$55,2,FALSE),\"\")","v":0},{"$f":"IF(Tabelle2[[#This Row],[7]]>-1,VLOOKUP(B19,'WK 8'!$E$47:$F$55,2,FALSE),\"\")","v":0},{"$f":"IF(Tabelle2[[#This Row],[8]]>-1,VLOOKUP(B19,'WK 9'!$E$47:$F$55,2,FALSE),\"\")","v":0},{"$f":"IF(Tabelle2[[#This Row],[9]]>-1,VLOOKUP(B19,'WK 10'!$E$47:$F$55,2,FALSE),\"\")","v":0},0]
[null,{"$f":"IF(Mannschaft5=\"\",\"\",Mannschaft5)","v":""},{"$f":"IF(Tabelle2[[#This Row],[Mannschaft]]>\"\",VLOOKUP(B20,'WK 1'!$E$47:$F$55,2,FALSE),\"\")","v":""},{"$f":"IF(Tabelle2[[#This Row],[1]]>-1,VLOOKUP(B20,'WK 2'!$E$47:$F$55,2,FALSE),\"\")","v":0},{"$f":"IF(Tabelle2[[#This Row],[2]]>-1,VLOOKUP(B20,'WK 3'!$E$47:$F$55,2,FALSE),\"\")","v":0},{"$f":"IF(Tabelle2[[#This Row],[3]]>-1,VLOOKUP(B20,'WK 4'!$E$47:$F$55,2,FALSE),\"\")","v":0},{"$f":"IF(Tabelle2[[#This Row],[4]]>-1,VLOOKUP(B20,'WK 5'!$E$47:$F$55,2,FALSE),\"\")","v":0},{"$f":"IF(Tabelle2[[#This Row],[5]]>-1,VLOOKUP(B20,'WK 6'!$E$47:$F$55,2,FALSE),\"\")","v":0},{"$f":"IF(Tabelle2[[#This Row],[6]]>-1,VLOOKUP(B20,'WK 7'!$E$47:$F$55,2,FALSE),\"\")","v":0},{"$f":"IF(Tabelle2[[#This Row],[7]]>-1,VLOOKUP(B20,'WK 8'!$E$47:$F$55,2,FALSE),\"\")","v":0},{"$f":"IF(Tabelle2[[#This Row],[8]]>-1,VLOOKUP(B20,'WK 9'!$E$47:$F$55,2,FALSE),\"\")","v":0},{"$f":"IF(Tabelle2[[#This Row],[9]]>-1,VLOOKUP(B20,'WK 10'!$E$47:$F$55,2,FALSE),\"\")","v":0},0]
[null,{"$f":"IF(Mannschaft6=\"\",\"\",Mannschaft6)","v":""},{"$f":"IF(Tabelle2[[#This Row],[Mannschaft]]>\"\",VLOOKUP(B21,'WK 1'!$E$47:$F$55,2,FALSE),\"\")","v":""},{"$f":"IF(Tabelle2[[#This Row],[1]]>-1,VLOOKUP(B21,'WK 2'!$E$47:$F$55,2,FALSE),\"\")","v":0},{"$f":"IF(Tabelle2[[#This Row],[2]]>-1,VLOOKUP(B21,'WK 3'!$E$47:$F$55,2,FALSE),\"\")","v":0},{"$f":"IF(Tabelle2[[#This Row],[3]]>-1,VLOOKUP(B21,'WK 4'!$E$47:$F$55,2,FALSE),\"\")","v":0},{"$f":"IF(Tabelle2[[#This Row],[4]]>-1,VLOOKUP(B21,'WK 5'!$E$47:$F$55,2,FALSE),\"\")","v":0},{"$f":"IF(Tabelle2[[#This Row],[5]]>-1,VLOOKUP(B21,'WK 6'!$E$47:$F$55,2,FALSE),\"\")","v":0},{"$f":"IF(Tabelle2[[#This Row],[6]]>-1,VLOOKUP(B21,'WK 7'!$E$47:$F$55,2,FALSE),\"\")","v":0},{"$f":"IF(Tabelle2[[#This Row],[7]]>-1,VLOOKUP(B21,'WK 8'!$E$47:$F$55,2,FALSE),\"\")","v":0},{"$f":"IF(Tabelle2[[#This Row],[8]]>-1,VLOOKUP(B21,'WK 9'!$E$47:$F$55,2,FALSE),\"\")","v":0},{"$f":"IF(Tabelle2[[#This Row],[9]]>-1,VLOOKUP(B21,'WK 10'!$E$47:$F$55,2,FALSE),\"\")","v":0},0]
[null,{"$f":"IF(Mannschaft7=\"\",\"\",Mannschaft7)","v":""},{"$f":"IF(Tabelle2[[#This Row],[Mannschaft]]>\"\",VLOOKUP(B22,'WK 1'!$E$47:$F$55,2,FALSE),\"\")","v":""},{"$f":"IF(Tabelle2[[#This Row],[1]]>-1,VLOOKUP(B22,'WK 2'!$E$47:$F$55,2,FALSE),\"\")","v":0},{"$f":"IF(Tabelle2[[#This Row],[2]]>-1,VLOOKUP(B22,'WK 3'!$E$47:$F$55,2,FALSE),\"\")","v":0},{"$f":"IF(Tabelle2[[#This Row],[3]]>-1,VLOOKUP(B22,'WK 4'!$E$47:$F$55,2,FALSE),\"\")","v":0},{"$f":"IF(Tabelle2[[#This Row],[4]]>-1,VLOOKUP(B22,'WK 5'!$E$47:$F$55,2,FALSE),\"\")","v":0},{"$f":"IF(Tabelle2[[#This Row],[5]]>-1,VLOOKUP(B22,'WK 6'!$E$47:$F$55,2,FALSE),\"\")","v":0},{"$f":"IF(Tabelle2[[#This Row],[6]]>-1,VLOOKUP(B22,'WK 7'!$E$47:$F$55,2,FALSE),\"\")","v":0},{"$f":"IF(Tabelle2[[#This Row],[7]]>-1,VLOOKUP(B22,'WK 8'!$E$47:$F$55,2,FALSE),\"\")","v":0},{"$f":"IF(Tabelle2[[#This Row],[8]]>-1,VLOOKUP(B22,'WK 9'!$E$47:$F$55,2,FALSE),\"\")","v":0},{"$f":"IF(Tabelle2[[#This Row],[9]]>-1,VLOOKUP(B22,'WK 10'!$E$47:$F$55,2,FALSE),\"\")","v":0},0]
[null,{"$f":"IF(Mannschaft8=\"\",\"\",Mannschaft8)","v":""},{"$f":"IF(Tabelle2[[#This Row],[Mannschaft]]>\"\",VLOOKUP(B23,'WK 1'!$E$47:$F$55,2,FALSE),\"\")","v":""},{"$f":"IF(Tabelle2[[#This Row],[1]]>-1,VLOOKUP(B23,'WK 2'!$E$47:$F$55,2,FALSE),\"\")","v":0},{"$f":"IF(Tabelle2[[#This Row],[2]]>-1,VLOOKUP(B23,'WK 3'!$E$47:$F$55,2,FALSE),\"\")","v":0},{"$f":"IF(Tabelle2[[#This Row],[3]]>-1,VLOOKUP(B23,'WK 4'!$E$47:$F$55,2,FALSE),\"\")","v":0},{"$f":"IF(Tabelle2[[#This Row],[4]]>-1,VLOOKUP(B23,'WK 5'!$E$47:$F$55,2,FALSE),\"\")","v":0},{"$f":"IF(Tabelle2[[#This Row],[5]]>-1,VLOOKUP(B23,'WK 6'!$E$47:$F$55,2,FALSE),\"\")","v":0},{"$f":"IF(Tabelle2[[#This Row],[6]]>-1,VLOOKUP(B23,'WK 7'!$E$47:$F$55,2,FALSE),\"\")","v":0},{"$f":"IF(Tabelle2[[#This Row],[7]]>-1,VLOOKUP(B23,'WK 8'!$E$47:$F$55,2,FALSE),\"\")","v":0},{"$f":"IF(Tabelle2[[#This Row],[8]]>-1,VLOOKUP(B23,'WK 9'!$E$47:$F$55,2,FALSE),\"\")","v":0},{"$f":"IF(Tabelle2[[#This Row],[9]]>-1,VLOOKUP(B23,'WK 10'!$E$47:$F$55,2,FALSE),\"\")","v":0},0]
[null,{"$f":"IF(Mannschaft9=\"\",\"\",Mannschaft9)","v":""},{"$f":"IF(Tabelle2[[#This Row],[Mannschaft]]>\"\",VLOOKUP(B24,'WK 1'!$E$47:$F$55,2,FALSE),\"\")","v":""},{"$f":"IF(Tabelle2[[#This Row],[1]]>-1,VLOOKUP(B24,'WK 2'!$E$47:$F$55,2,FALSE),\"\")","v":0},{"$f":"IF(Tabelle2[[#This Row],[2]]>-1,VLOOKUP(B24,'WK 3'!$E$47:$F$55,2,FALSE),\"\")","v":0},{"$f":"IF(Tabelle2[[#This Row],[3]]>-1,VLOOKUP(B24,'WK 4'!$E$47:$F$55,2,FALSE),\"\")","v":0},{"$f":"IF(Tabelle2[[#This Row],[4]]>-1,VLOOKUP(B24,'WK 5'!$E$47:$F$55,2,FALSE),\"\")","v":0},{"$f":"IF(Tabelle2[[#This Row],[5]]>-1,VLOOKUP(B24,'WK 6'!$E$47:$F$55,2,FALSE),\"\")","v":0},{"$f":"IF(Tabelle2[[#This Row],[6]]>-1,VLOOKUP(B24,'WK 7'!$E$47:$F$55,2,FALSE),\"\")","v":0},{"$f":"IF(Tabelle2[[#This Row],[7]]>-1,VLOOKUP(B24,'WK 8'!$E$47:$F$55,2,FALSE),\"\")","v":0},{"$f":"IF(Tabelle2[[#This Row],[8]]>-1,VLOOKUP(B24,'WK 9'!$E$47:$F$55,2,FALSE),\"\")","v":0},{"$f":"IF(Tabelle2[[#This Row],[9]]>-1,VLOOKUP(B24,'WK 10'!$E$47:$F$55,2,FALSE),\"\")","v":0},0]

{"sheet":"Zwischenberechnung Einzel","index":17,"n_rows":361,"n_cols":15,"rows_kept":361,"cut":false,"hidden":true,"merged":[]}
[null,null,null,"1","2","3","4","5","6","7","8","9","10","Durchschnitt","Ist Neu"]
[null,null,{"$f":"'WK 1'!$K$6","v":" "},{"$f":"IF(VLOOKUP('WK 1'!K6,'WK 1'!$K$6:$L$41,2,FALSE)=0,\"\",VLOOKUP('WK 1'!K6,'WK 1'!$K$6:$L$41,2,FALSE))","v":""},{"$f":"IF(ISNA(VLOOKUP(C2,'WK 2'!$K$6:$L$41,2,FALSE)=0),\"\",IF(VLOOKUP(C2,'WK 2'!$K$6:$L$41,2,FALSE)=0,\"\",VLOOKUP(C2,'WK 2'!$K$6:$L$41,2,FALSE)))","v":""},{"$f":"IF(ISNA(VLOOKUP(C2,'WK 3'!$K$6:$L$41,2,FALSE)=0),\"\",IF(VLOOKUP(C2,'WK 3'!$K$6:$L$41,2,FALSE)=0,\"\",VLOOKUP(C2,'WK 3'!$K$6:$L$41,2,FALSE)))","v":""},{"$f":"IF(ISNA(VLOOKUP(C2,'WK 4'!$K$6:$L$41,2,FALSE)=0),\"\",IF(VLOOKUP(C2,'WK 4'!$K$6:$L$41,2,FALSE)=0,\"\",VLOOKUP(C2,'WK 4'!$K$6:$L$41,2,FALSE)))","v":""},{"$f":"IF(ISNA(VLOOKUP(C2,'WK 5'!$K$6:$L$41,2,FALSE)=0),\"\",IF(VLOOKUP(C2,'WK 5'!$K$6:$L$41,2,FALSE)=0,\"\",VLOOKUP(C2,'WK 5'!$K$6:$L$41,2,FALSE)))","v":""},{"$f":"IF(ISNA(VLOOKUP(C2,'WK 6'!$K$6:$L$41,2,FALSE)=0),\"\",IF(VLOOKUP(C2,'WK 6'!$K$6:$L$41,2,FALSE)=0,\"\",VLOOKUP(C2,'WK 6'!$K$6:$L$41,2,FALSE)))","v":""},{"$f":"IF(ISNA(VLOOKUP(C2,'WK 7'!$K$6:$L$41,2,FALSE)=0),\"\",IF(VLOOKUP(C2,'WK 7'!$K$6:$L$41,2,FALSE)=0,\"\",VLOOKUP(C2,'WK 7'!$K$6:$L$41,2,FALSE)))","v":""},{"$f":"IF(ISNA(VLOOKUP(C2,'WK 8'!$K$6:$L$41,2,FALSE)=0),\"\",IF(VLOOKUP(C2,'WK 8'!$K$6:$L$41,2,FALSE)=0,\"\",VLOOKUP(C2,'WK 8'!$K$6:$L$41,2,FALSE)))","v":""},{"$f":"IF(ISNA(VLOOKUP(C2,'WK 9'!$K$6:$L$41,2,FALSE)=0),\"\",IF(VLOOKUP(C2,'WK 9'!$K$6:$L$41,2,FALSE)=0,\"\",VLOOKUP(C2,'WK 9'!$K$6:$L$41,2,FALSE)))","v":""},{"$f":"IF(ISNA(VLOOKUP(C2,'WK 10'!$K$6:$L$41,2,FALSE)=0),\"\",IF(VLOOKUP(C2,'WK 10'!$K$6:$L$41,2,FALSE)=0,\"\",VLOOKUP(C2,'WK 10'!$K$6:$L$41,2,FALSE)))","v":""},{"$f":"IF(COUNT(D2:M2)=0,0,AVERAGE(D2:M2))","v":0}]
[null,null,{"$f":"'WK 1'!$K$7","v":" "},{"$f":"IF(VLOOKUP('WK 1'!K7,'WK 1'!$K$6:$L$41,2,FALSE)=0,\"\",VLOOKUP('WK 1'!K7,'WK 1'!$K$6:$L$41,2,FALSE))","v":""},{"$f":"IF(ISNA(VLOOKUP(C3,'WK 2'!$K$6:$L$41,2,FALSE)=0),\"\",IF(VLOOKUP(C3,'WK 2'!$K$6:$L$41,2,FALSE)=0,\"\",VLOOKUP(C3,'WK 2'!$K$6:$L$41,2,FALSE)))","v":""},{"$f":"IF(ISNA(VLOOKUP(C3,'WK 3'!$K$6:$L$41,2,FALSE)=0),\"\",IF(VLOOKUP(C3,'WK 3'!$K$6:$L$41,2,FALSE)=0,\"\",VLOOKUP(C3,'WK 3'!$K$6:$L$41,2,FALSE)))","v":""},{"$f":"IF(ISNA(VLOOKUP(C3,'WK 4'!$K$6:$L$41,2,FALSE)=0),\"\",IF(VLOOKUP(C3,'WK 4'!$K$6:$L$41,2,FALSE)=0,\"\",VLOOKUP(C3,'WK 4'!$K$6:$L$41,2,FALSE)))","v":""},{"$f":"IF(ISNA(VLOOKUP(C3,'WK 5'!$K$6:$L$41,2,FALSE)=0),\"\",IF(VLOOKUP(C3,'WK 5'!$K$6:$L$41,2,FALSE)=0,\"\",VLOOKUP(C3,'WK 5'!$K$6:$L$41,2,FALSE)))","v":""},{"$f":"IF(ISNA(VLOOKUP(C3,'WK 6'!$K$6:$L$41,2,FALSE)=0),\"\",IF(VLOOKUP(C3,'WK 6'!$K$6:$L$41,2,FALSE)=0,\"\",VLOOKUP(C3,'WK 6'!$K$6:$L$41,2,FALSE)))","v":""},{"$f":"IF(ISNA(VLOOKUP(C3,'WK 7'!$K$6:$L$41,2,FALSE)=0),\"\",IF(VLOOKUP(C3,'WK 7'!$K$6:$L$41,2,FALSE)=0,\"\",VLOOKUP(C3,'WK 7'!$K$6:$L$41,2,FALSE)))","v":""},{"$f":"IF(ISNA(VLOOKUP(C3,'WK 8'!$K$6:$L$41,2,FALSE)=0),\"\",IF(VLOOKUP(C3,'WK 8'!$K$6:$L$41,2,FALSE)=0,\"\",VLOOKUP(C3,'WK 8'!$K$6:$L$41,2,FALSE)))","v":""},{"$f":"IF(ISNA(VLOOKUP(C3,'WK 9'!$K$6:$L$41,2,FALSE)=0),\"\",IF(VLOOKUP(C3,'WK 9'!$K$6:$L$41,2,FALSE)=0,\"\",VLOOKUP(C3,'WK 9'!$K$6:$L$41,2,FALSE)))","v":""},{"$f":"IF(ISNA(VLOOKUP(C3,'WK 10'!$K$6:$L$41,2,FALSE)=0),\"\",IF(VLOOKUP(C3,'WK 10'!$K$6:$L$41,2,FALSE)=0,\"\",VLOOKUP(C3,'WK 10'!$K$6:$L$41,2,FALSE)))","v":""},{"$f":"IF(COUNT(D3:M3)=0,0,AVERAGE(D3:M3))","v":0}]
[null,null,{"$f":"'WK 1'!$K$8","v":" "},{"$f":"IF(VLOOKUP('WK 1'!K8,'WK 1'!$K$6:$L$41,2,FALSE)=0,\"\",VLOOKUP('WK 1'!K8,'WK 1'!$K$6:$L$41,2,FALSE))","v":""},{"$f":"IF(ISNA(VLOOKUP(C4,'WK 2'!$K$6:$L$41,2,FALSE)=0),\"\",IF(VLOOKUP(C4,'WK 2'!$K$6:$L$41,2,FALSE)=0,\"\",VLOOKUP(C4,'WK 2'!$K$6:$L$41,2,FALSE)))","v":""},{"$f":"IF(ISNA(VLOOKUP(C4,'WK 3'!$K$6:$L$41,2,FALSE)=0),\"\",IF(VLOOKUP(C4,'WK 3'!$K$6:$L$41,2,FALSE)=0,\"\",VLOOKUP(C4,'WK 3'!$K$6:$L$41,2,FALSE)))","v":""},{"$f":"IF(ISNA(VLOOKUP(C4,'WK 4'!$K$6:$L$41,2,FALSE)=0),\"\",IF(VLOOKUP(C4,'WK 4'!$K$6:$L$41,2,FALSE)=0,\"\",VLOOKUP(C4,'WK 4'!$K$6:$L$41,2,FALSE)))","v":""},{"$f":"IF(ISNA(VLOOKUP(C4,'WK 5'!$K$6:$L$41,2,FALSE)=0),\"\",IF(VLOOKUP(C4,'WK 5'!$K$6:$L$41,2,FALSE)=0,\"\",VLOOKUP(C4,'WK 5'!$K$6:$L$41,2,FALSE)))","v":""},{"$f":"IF(ISNA(VLOOKUP(C4,'WK 6'!$K$6:$L$41,2,FALSE)=0),\"\",IF(VLOOKUP(C4,'WK 6'!$K$6:$L$41,2,FALSE)=0,\"\",VLOOKUP(C4,'WK 6'!$K$6:$L$41,2,FALSE)))","v":""},{"$f":"IF(ISNA(VLOOKUP(C4,'WK 7'!$K$6:$L$41,2,FALSE)=0),\"\",IF(VLOOKUP(C4,'WK 7'!$K$6:$L$41,2,FALSE)=0,\"\",VLOOKUP(C4,'WK 7'!$K$6:$L$41,2,FALSE)))","v":""},{"$f":"IF(ISNA(VLOOKUP(C4,'WK 8'!$K$6:$L$41,2,FALSE)=0),\"\",IF(VLOOKUP(C4,'WK 8'!$K$6:$L$41,2,FALSE)=0,\"\",VLOOKUP(C4,'WK 8'!$K$6:$L$41,2,FALSE)))","v":""},{"$f":"IF(ISNA(VLOOKUP(C4,'WK 9'!$K$6:$L$41,2,FALSE)=0),\"\",IF(VLOOKUP(C4,'WK 9'!$K$6:$L$41,2,FALSE)=0,\"\",VLOOKUP(C4,'WK 9'!$K$6:$L$41,2,FALSE)))","v":""},{"$f":"IF(ISNA(VLOOKUP(C4,'WK 10'!$K$6:$L$41,2,FALSE)=0),\"\",IF(VLOOKUP(C4,'WK 10'!$K$6:$L$41,2,FALSE)=0,\"\",VLOOKUP(C4,'WK 10'!$K$6:$L$41,2,FALSE)))","v":""},0]
[null,null,{"$f":"'WK 1'!$K$9","v":" "},{"$f":"IF(VLOOKUP('WK 1'!K9,'WK 1'!$K$6:$L$41,2,FALSE)=0,\"\",VLOOKUP('WK 1'!K9,'WK 1'!$K$6:$L$41,2,FALSE))","v":""},{"$f":"IF(ISNA(VLOOKUP(C5,'WK 2'!$K$6:$L$41,2,FALSE)=0),\"\",IF(VLOOKUP(C5,'WK 2'!$K$6:$L$41,2,FALSE)=0,\"\",VLOOKUP(C5,'WK 2'!$K$6:$L$41,2,FALSE)))","v":""},{"$f":"IF(ISNA(VLOOKUP(C5,'WK 3'!$K$6:$L$41,2,FALSE)=0),\"\",IF(VLOOKUP(C5,'WK 3'!$K$6:$L$41,2,FALSE)=0,\"\",VLOOKUP(C5,'WK 3'!$K$6:$L$41,2,FALSE)))","v":""},{"$f":"IF(ISNA(VLOOKUP(C5,'WK 4'!$K$6:$L$41,2,FALSE)=0),\"\",IF(VLOOKUP(C5,'WK 4'!$K$6:$L$41,2,FALSE)=0,\"\",VLOOKUP(C5,'WK 4'!$K$6:$L$41,2,FALSE)))","v":""},{"$f":"IF(ISNA(VLOOKUP(C5,'WK 5'!$K$6:$L$41,2,FALSE)=0),\"\",IF(VLOOKUP(C5,'WK 5'!$K$6:$L$41,2,FALSE)=0,\"\",VLOOKUP(C5,'WK 5'!$K$6:$L$41,2,FALSE)))","v":""},{"$f":"IF(ISNA(VLOOKUP(C5,'WK 6'!$K$6:$L$41,2,FALSE)=0),\"\",IF(VLOOKUP(C5,'WK 6'!$K$6:$L$41,2,FALSE)=0,\"\",VLOOKUP(C5,'WK 6'!$K$6:$L$41,2,FALSE)))","v":""},{"$f":"IF(ISNA(VLOOKUP(C5,'WK 7'!$K$6:$L$41,2,FALSE)=0),\"\",IF(VLOOKUP(C5,'WK 7'!$K$6:$L$41,2,FALSE)=0,\"\",VLOOKUP(C5,'WK 7'!$K$6:$L$41,2,FALSE)))","v":""},{"$f":"IF(ISNA(VLOOKUP(C5,'WK 8'!$K$6:$L$41,2,FALSE)=0),\"\",IF(VLOOKUP(C5,'WK 8'!$K$6:$L$41,2,FALSE)=0,\"\",VLOOKUP(C5,'WK 8'!$K$6:$L$41,2,FALSE)))","v":""},{"$f":"IF(ISNA(VLOOKUP(C5,'WK 9'!$K$6:$L$41,2,FALSE)=0),\"\",IF(VLOOKUP(C5,'WK 9'!$K$6:$L$41,2,FALSE)=0,\"\",VLOOKUP(C5,'WK 9'!$K$6:$L$41,2,FALSE)))","v":""},{"$f":"IF(ISNA(VLOOKUP(C5,'WK 10'!$K$6:$L$41,2,FALSE)=0),\"\",IF(VLOOKUP(C5,'WK 10'!$K$6:$L$41,2,FALSE)=0,\"\",VLOOKUP(C5,'WK 10'!$K$6:$L$41,2,FALSE)))","v":""},0]
[null,null,{"$f":"'WK 1'!$K$10","v":" "},{"$f":"IF(VLOOKUP('WK 1'!K10,'WK 1'!$K$6:$L$41,2,FALSE)=0,\"\",VLOOKUP('WK 1'!K10,'WK 1'!$K$6:$L$41,2,FALSE))","v":""},{"$f":"IF(ISNA(VLOOKUP(C6,'WK 2'!$K$6:$L$41,2,FALSE)=0),\"\",IF(VLOOKUP(C6,'WK 2'!$K$6:$L$41,2,FALSE)=0,\"\",VLOOKUP(C6,'WK 2'!$K$6:$L$41,2,FALSE)))","v":""},{"$f":"IF(ISNA(VLOOKUP(C6,'WK 3'!$K$6:$L$41,2,FALSE)=0),\"\",IF(VLOOKUP(C6,'WK 3'!$K$6:$L$41,2,FALSE)=0,\"\",VLOOKUP(C6,'WK 3'!$K$6:$L$41,2,FALSE)))","v":""},{"$f":"IF(ISNA(VLOOKUP(C6,'WK 4'!$K$6:$L$41,2,FALSE)=0),\"\",IF(VLOOKUP(C6,'WK 4'!$K$6:$L$41,2,FALSE)=0,\"\",VLOOKUP(C6,'WK 4'!$K$6:$L$41,2,FALSE)))","v":""},{"$f":"IF(ISNA(VLOOKUP(C6,'WK 5'!$K$6:$L$41,2,FALSE)=0),\"\",IF(VLOOKUP(C6,'WK 5'!$K$6:$L$41,2,FALSE)=0,\"\",VLOOKUP(C6,'WK 5'!$K$6:$L$41,2,FALSE)))","v":""},{"$f":"IF(ISNA(VLOOKUP(C6,'WK 6'!$K$6:$L$41,2,FALSE)=0),\"\",IF(VLOOKUP(C6,'WK 6'!$K$6:$L$41,2,FALSE)=0,\"\",VLOOKUP(C6,'WK 6'!$K$6:$L$41,2,FALSE)))","v":""},{"$f":"IF(ISNA(VLOOKUP(C6,'WK 7'!$K$6:$L$41,2,FALSE)=0),\"\",IF(VLOOKUP(C6,'WK 7'!$K$6:$L$41,2,FALSE)=0,\"\",VLOOKUP(C6,'WK 7'!$K$6:$L$41,2,FALSE)))","v":""},{"$f":"IF(ISNA(VLOOKUP(C6,'WK 8'!$K$6:$L$41,2,FALSE)=0),\"\",IF(VLOOKUP(C6,'WK 8'!$K$6:$L$41,2,FALSE)=0,\"\",VLOOKUP(C6,'WK 8'!$K$6:$L$41,2,FALSE)))","v":""},{"$f":"IF(ISNA(VLOOKUP(C6,'WK 9'!$K$6:$L$41,2,FALSE)=0),\"\",IF(VLOOKUP(C6,'WK 9'!$K$6:$L$41,2,FALSE)=0,\"\",VLOOKUP(C6,'WK 9'!$K$6:$L$41,2,FALSE)))","v":""},{"$f":"IF(ISNA(VLOOKUP(C6,'WK 10'!$K$6:$L$41,2,FALSE)=0),\"\",IF(VLOOKUP(C6,'WK 10'!$K$6:$L$41,2,FALSE)=0,\"\",VLOOKUP(C6,'WK 10'!$K$6:$L$41,2,FALSE)))","v":""},0]
[null,null,{"$f":"'WK 1'!$K$11","v":" "},{"$f":"IF(VLOOKUP('WK 1'!K11,'WK 1'!$K$6:$L$41,2,FALSE)=0,\"\",VLOOKUP('WK 1'!K11,'WK 1'!$K$6:$L$41,2,FALSE))","v":""},{"$f":"IF(ISNA(VLOOKUP(C7,'WK 2'!$K$6:$L$41,2,FALSE)=0),\"\",IF(VLOOKUP(C7,'WK 2'!$K$6:$L$41,2,FALSE)=0,\"\",VLOOKUP(C7,'WK 2'!$K$6:$L$41,2,FALSE)))","v":""},{"$f":"IF(ISNA(VLOOKUP(C7,'WK 3'!$K$6:$L$41,2,FALSE)=0),\"\",IF(VLOOKUP(C7,'WK 3'!$K$6:$L$41,2,FALSE)=0,\"\",VLOOKUP(C7,'WK 3'!$K$6:$L$41,2,FALSE)))","v":""},{"$f":"IF(ISNA(VLOOKUP(C7,'WK 4'!$K$6:$L$41,2,FALSE)=0),\"\",IF(VLOOKUP(C7,'WK 4'!$K$6:$L$41,2,FALSE)=0,\"\",VLOOKUP(C7,'WK 4'!$K$6:$L$41,2,FALSE)))","v":""},{"$f":"IF(ISNA(VLOOKUP(C7,'WK 5'!$K$6:$L$41,2,FALSE)=0),\"\",IF(VLOOKUP(C7,'WK 5'!$K$6:$L$41,2,FALSE)=0,\"\",VLOOKUP(C7,'WK 5'!$K$6:$L$41,2,FALSE)))","v":""},{"$f":"IF(ISNA(VLOOKUP(C7,'WK 6'!$K$6:$L$41,2,FALSE)=0),\"\",IF(VLOOKUP(C7,'WK 6'!$K$6:$L$41,2,FALSE)=0,\"\",VLOOKUP(C7,'WK 6'!$K$6:$L$41,2,FALSE)))","v":""},{"$f":"IF(ISNA(VLOOKUP(C7,'WK 7'!$K$6:$L$41,2,FALSE)=0),\"\",IF(VLOOKUP(C7,'WK 7'!$K$6:$L$41,2,FALSE)=0,\"\",VLOOKUP(C7,'WK 7'!$K$6:$L$41,2,FALSE)))","v":""},{"$f":"IF(ISNA(VLOOKUP(C7,'WK 8'!$K$6:$L$41,2,FALSE)=0),\"\",IF(VLOOKUP(C7,'WK 8'!$K$6:$L$41,2,FALSE)=0,\"\",VLOOKUP(C7,'WK 8'!$K$6:$L$41,2,FALSE)))","v":""},{"$f":"IF(ISNA(VLOOKUP(C7,'WK 9'!$K$6:$L$41,2,FALSE)=0),\"\",IF(VLOOKUP(C7,'WK 9'!$K$6:$L$41,2,FALSE)=0,\"\",VLOOKUP(C7,'WK 9'!$K$6:$L$41,2,FALSE)))","v":""},{"$f":"IF(ISNA(VLOOKUP(C7,'WK 10'!$K$6:$L$41,2,FALSE)=0),\"\",IF(VLOOKUP(C7,'WK 10'!$K$6:$L$41,2,FALSE)=0,\"\",VLOOKUP(C7,'WK 10'!$K$6:$L$41,2,FALSE)))","v":""},0]
[null,null,{"$f":"'WK 1'!$K$12","v":" "},{"$f":"IF(VLOOKUP('WK 1'!K12,'WK 1'!$K$6:$L$41,2,FALSE)=0,\"\",VLOOKUP('WK 1'!K12,'WK 1'!$K$6:$L$41,2,FALSE))","v":""},{"$f":"IF(ISNA(VLOOKUP(C8,'WK 2'!$K$6:$L$41,2,FALSE)=0),\"\",IF(VLOOKUP(C8,'WK 2'!$K$6:$L$41,2,FALSE)=0,\"\",VLOOKUP(C8,'WK 2'!$K$6:$L$41,2,FALSE)))","v":""},{"$f":"IF(ISNA(VLOOKUP(C8,'WK 3'!$K$6:$L$41,2,FALSE)=0),\"\",IF(VLOOKUP(C8,'WK 3'!$K$6:$L$41,2,FALSE)=0,\"\",VLOOKUP(C8,'WK 3'!$K$6:$L$41,2,FALSE)))","v":""},{"$f":"IF(ISNA(VLOOKUP(C8,'WK 4'!$K$6:$L$41,2,FALSE)=0),\"\",IF(VLOOKUP(C8,'WK 4'!$K$6:$L$41,2,FALSE)=0,\"\",VLOOKUP(C8,'WK 4'!$K$6:$L$41,2,FALSE)))","v":""},{"$f":"IF(ISNA(VLOOKUP(C8,'WK 5'!$K$6:$L$41,2,FALSE)=0),\"\",IF(VLOOKUP(C8,'WK 5'!$K$6:$L$41,2,FALSE)=0,\"\",VLOOKUP(C8,'WK 5'!$K$6:$L$41,2,FALSE)))","v":""},{"$f":"IF(ISNA(VLOOKUP(C8,'WK 6'!$K$6:$L$41,2,FALSE)=0),\"\",IF(VLOOKUP(C8,'WK 6'!$K$6:$L$41,2,FALSE)=0,\"\",VLOOKUP(C8,'WK 6'!$K$6:$L$41,2,FALSE)))","v":""},{"$f":"IF(ISNA(VLOOKUP(C8,'WK 7'!$K$6:$L$41,2,FALSE)=0),\"\",IF(VLOOKUP(C8,'WK 7'!$K$6:$L$41,2,FALSE)=0,\"\",VLOOKUP(C8,'WK 7'!$K$6:$L$41,2,FALSE)))","v":""},{"$f":"IF(ISNA(VLOOKUP(C8,'WK 8'!$K$6:$L$41,2,FALSE)=0),\"\",IF(VLOOKUP(C8,'WK 8'!$K$6:$L$41,2,FALSE)=0,\"\",VLOOKUP(C8,'WK 8'!$K$6:$L$41,2,FALSE)))","v":""},{"$f":"IF(ISNA(VLOOKUP(C8,'WK 9'!$K$6:$L$41,2,FALSE)=0),\"\",IF(VLOOKUP(C8,'WK 9'!$K$6:$L$41,2,FALSE)=0,\"\",VLOOKUP(C8,'WK 9'!$K$6:$L$41,2,FALSE)))","v":""},{"$f":"IF(ISNA(VLOOKUP(C8,'WK 10'!$K$6:$L$41,2,FALSE)=0),\"\",IF(VLOOKUP(C8,'WK 10'!$K$6:$L$41,2,FALSE)=0,\"\",VLOOKUP(C8,'WK 10'!$K$6:$L$41,2,FALSE)))","v":""},0]
[null,null,{"$f":"'WK 1'!$K$13","v":" "},{"$f":"IF(VLOOKUP('WK 1'!K13,'WK 1'!$K$6:$L$41,2,FALSE)=0,\"\",VLOOKUP('WK 1'!K13,'WK 1'!$K$6:$L$41,2,FALSE))","v":""},{"$f":"IF(ISNA(VLOOKUP(C9,'WK 2'!$K$6:$L$41,2,FALSE)=0),\"\",IF(VLOOKUP(C9,'WK 2'!$K$6:$L$41,2,FALSE)=0,\"\",VLOOKUP(C9,'WK 2'!$K$6:$L$41,2,FALSE)))","v":""},{"$f":"IF(ISNA(VLOOKUP(C9,'WK 3'!$K$6:$L$41,2,FALSE)=0),\"\",IF(VLOOKUP(C9,'WK 3'!$K$6:$L$41,2,FALSE)=0,\"\",VLOOKUP(C9,'WK 3'!$K$6:$L$41,2,FALSE)))","v":""},{"$f":"IF(ISNA(VLOOKUP(C9,'WK 4'!$K$6:$L$41,2,FALSE)=0),\"\",IF(VLOOKUP(C9,'WK 4'!$K$6:$L$41,2,FALSE)=0,\"\",VLOOKUP(C9,'WK 4'!$K$6:$L$41,2,FALSE)))","v":""},{"$f":"IF(ISNA(VLOOKUP(C9,'WK 5'!$K$6:$L$41,2,FALSE)=0),\"\",IF(VLOOKUP(C9,'WK 5'!$K$6:$L$41,2,FALSE)=0,\"\",VLOOKUP(C9,'WK 5'!$K$6:$L$41,2,FALSE)))","v":""},{"$f":"IF(ISNA(VLOOKUP(C9,'WK 6'!$K$6:$L$41,2,FALSE)=0),\"\",IF(VLOOKUP(C9,'WK 6'!$K$6:$L$41,2,FALSE)=0,\"\",VLOOKUP(C9,'WK 6'!$K$6:$L$41,2,FALSE)))","v":""},{"$f":"IF(ISNA(VLOOKUP(C9,'WK 7'!$K$6:$L$41,2,FALSE)=0),\"\",IF(VLOOKUP(C9,'WK 7'!$K$6:$L$41,2,FALSE)=0,\"\",VLOOKUP(C9,'WK 7'!$K$6:$L$41,2,FALSE)))","v":""},{"$f":"IF(ISNA(VLOOKUP(C9,'WK 8'!$K$6:$L$41,2,FALSE)=0),\"\",IF(VLOOKUP(C9,'WK 8'!$K$6:$L$41,2,FALSE)=0,\"\",VLOOKUP(C9,'WK 8'!$K$6:$L$41,2,FALSE)))","v":""},{"$f":"IF(ISNA(VLOOKUP(C9,'WK 9'!$K$6:$L$41,2,FALSE)=0),\"\",IF(VLOOKUP(C9,'WK 9'!$K$6:$L$41,2,FALSE)=0,\"\",VLOOKUP(C9,'WK 9'!$K$6:$L$41,2,FALSE)))","v":""},{"$f":"IF(ISNA(VLOOKUP(C9,'WK 10'!$K$6:$L$41,2,FALSE)=0),\"\",IF(VLOOKUP(C9,'WK 10'!$K$6:$L$41,2,FALSE)=0,\"\",VLOOKUP(C9,'WK 10'!$K$6:$L$41,2,FALSE)))","v":""},0]
[null,null,{"$f":"'WK 1'!$K$14","v":" "},{"$f":"IF(VLOOKUP('WK 1'!K14,'WK 1'!$K$6:$L$41,2,FALSE)=0,\"\",VLOOKUP('WK 1'!K14,'WK 1'!$K$6:$L$41,2,FALSE))","v":""},{"$f":"IF(ISNA(VLOOKUP(C10,'WK 2'!$K$6:$L$41,2,FALSE)=0),\"\",IF(VLOOKUP(C10,'WK 2'!$K$6:$L$41,2,FALSE)=0,\"\",VLOOKUP(C10,'WK 2'!$K$6:$L$41,2,FALSE)))","v":""},{"$f":"IF(ISNA(VLOOKUP(C10,'WK 3'!$K$6:$L$41,2,FALSE)=0),\"\",IF(VLOOKUP(C10,'WK 3'!$K$6:$L$41,2,FALSE)=0,\"\",VLOOKUP(C10,'WK 3'!$K$6:$L$41,2,FALSE)))","v":""},{"$f":"IF(ISNA(VLOOKUP(C10,'WK 4'!$K$6:$L$41,2,FALSE)=0),\"\",IF(VLOOKUP(C10,'WK 4'!$K$6:$L$41,2,FALSE)=0,\"\",VLOOKUP(C10,'WK 4'!$K$6:$L$41,2,FALSE)))","v":""},{"$f":"IF(ISNA(VLOOKUP(C10,'WK 5'!$K$6:$L$41,2,FALSE)=0),\"\",IF(VLOOKUP(C10,'WK 5'!$K$6:$L$41,2,FALSE)=0,\"\",VLOOKUP(C10,'WK 5'!$K$6:$L$41,2,FALSE)))","v":""},{"$f":"IF(ISNA(VLOOKUP(C10,'WK 6'!$K$6:$L$41,2,FALSE)=0),\"\",IF(VLOOKUP(C10,'WK 6'!$K$6:$L$41,2,FALSE)=0,\"\",VLOOKUP(C10,'WK 6'!$K$6:$L$41,2,FALSE)))","v":""},{"$f":"IF(ISNA(VLOOKUP(C10,'WK 7'!$K$6:$L$41,2,FALSE)=0),\"\",IF(VLOOKUP(C10,'WK 7'!$K$6:$L$41,2,FALSE)=0,\"\",VLOOKUP(C10,'WK 7'!$K$6:$L$41,2,FALSE)))","v":""},{"$f":"IF(ISNA(VLOOKUP(C10,'WK 8'!$K$6:$L$41,2,FALSE)=0),\"\",IF(VLOOKUP(C10,'WK 8'!$K$6:$L$41,2,FALSE)=0,\"\",VLOOKUP(C10,'WK 8'!$K$6:$L$41,2,FALSE)))","v":""},{"$f":"IF(ISNA(VLOOKUP(C10,'WK 9'!$K$6:$L$41,2,FALSE)=0),\"\",IF(VLOOKUP(C10,'WK 9'!$K$6:$L$41,2,FALSE)=0,\"\",VLOOKUP(C10,'WK 9'!$K$6:$L$41,2,FALSE)))","v":""},{"$f":"IF(ISNA(VLOOKUP(C10,'WK 10'!$K$6:$L$41,2,FALSE)=0),\"\",IF(VLOOKUP(C10,'WK 10'!$K$6:$L$41,2,FALSE)=0,\"\",VLOOKUP(C10,'WK 10'!$K$6:$L$41,2,FALSE)))","v":""},0]
[null,null,{"$f":"'WK 1'!$K$15","v":" "},{"$f":"IF(VLOOKUP('WK 1'!K15,'WK 1'!$K$6:$L$41,2,FALSE)=0,\"\",VLOOKUP('WK 1'!K15,'WK 1'!$K$6:$L$41,2,FALSE))","v":""},{"$f":"IF(ISNA(VLOOKUP(C11,'WK 2'!$K$6:$L$41,2,FALSE)=0),\"\",IF(VLOOKUP(C11,'WK 2'!$K$6:$L$41,2,FALSE)=0,\"\",VLOOKUP(C11,'WK 2'!$K$6:$L$41,2,FALSE)))","v":""},{"$f":"IF(ISNA(VLOOKUP(C11,'WK 3'!$K$6:$L$41,2,FALSE)=0),\"\",IF(VLOOKUP(C11,'WK 3'!$K$6:$L$41,2,FALSE)=0,\"\",VLOOKUP(C11,'WK 3'!$K$6:$L$41,2,FALSE)))","v":""},{"$f":"IF(ISNA(VLOOKUP(C11,'WK 4'!$K$6:$L$41,2,FALSE)=0),\"\",IF(VLOOKUP(C11,'WK 4'!$K$6:$L$41,2,FALSE)=0,\"\",VLOOKUP(C11,'WK 4'!$K$6:$L$41,2,FALSE)))","v":""},{"$f":"IF(ISNA(VLOOKUP(C11,'WK 5'!$K$6:$L$41,2,FALSE)=0),\"\",IF(VLOOKUP(C11,'WK 5'!$K$6:$L$41,2,FALSE)=0,\"\",VLOOKUP(C11,'WK 5'!$K$6:$L$41,2,FALSE)))","v":""},{"$f":"IF(ISNA(VLOOKUP(C11,'WK 6'!$K$6:$L$41,2,FALSE)=0),\"\",IF(VLOOKUP(C11,'WK 6'!$K$6:$L$41,2,FALSE)=0,\"\",VLOOKUP(C11,'WK 6'!$K$6:$L$41,2,FALSE)))","v":""},{"$f":"IF(ISNA(VLOOKUP(C11,'WK 7'!$K$6:$L$41,2,FALSE)=0),\"\",IF(VLOOKUP(C11,'WK 7'!$K$6:$L$41,2,FALSE)=0,\"\",VLOOKUP(C11,'WK 7'!$K$6:$L$41,2,FALSE)))","v":""},{"$f":"IF(ISNA(VLOOKUP(C11,'WK 8'!$K$6:$L$41,2,FALSE)=0),\"\",IF(VLOOKUP(C11,'WK 8'!$K$6:$L$41,2,FALSE)=0,\"\",VLOOKUP(C11,'WK 8'!$K$6:$L$41,2,FALSE)))","v":""},{"$f":"IF(ISNA(VLOOKUP(C11,'WK 9'!$K$6:$L$41,2,FALSE)=0),\"\",IF(VLOOKUP(C11,'WK 9'!$K$6:$L$41,2,FALSE)=0,\"\",VLOOKUP(C11,'WK 9'!$K$6:$L$41,2,FALSE)))","v":""},{"$f":"IF(ISNA(VLOOKUP(C11,'WK 10'!$K$6:$L$41,2,FALSE)=0),\"\",IF(VLOOKUP(C11,'WK 10'!$K$6:$L$41,2,FALSE)=0,\"\",VLOOKUP(C11,'WK 10'!$K$6:$L$41,2,FALSE)))","v":""},0]
[null,null,{"$f":"'WK 1'!$K$16","v":" "},{"$f":"IF(VLOOKUP('WK 1'!K16,'WK 1'!$K$6:$L$41,2,FALSE)=0,\"\",VLOOKUP('WK 1'!K16,'WK 1'!$K$6:$L$41,2,FALSE))","v":""},{"$f":"IF(ISNA(VLOOKUP(C12,'WK 2'!$K$6:$L$41,2,FALSE)=0),\"\",IF(VLOOKUP(C12,'WK 2'!$K$6:$L$41,2,FALSE)=0,\"\",VLOOKUP(C12,'WK 2'!$K$6:$L$41,2,FALSE)))","v":""},{"$f":"IF(ISNA(VLOOKUP(C12,'WK 3'!$K$6:$L$41,2,FALSE)=0),\"\",IF(VLOOKUP(C12,'WK 3'!$K$6:$L$41,2,FALSE)=0,\"\",VLOOKUP(C12,'WK 3'!$K$6:$L$41,2,FALSE)))","v":""},{"$f":"IF(ISNA(VLOOKUP(C12,'WK 4'!$K$6:$L$41,2,FALSE)=0),\"\",IF(VLOOKUP(C12,'WK 4'!$K$6:$L$41,2,FALSE)=0,\"\",VLOOKUP(C12,'WK 4'!$K$6:$L$41,2,FALSE)))","v":""},{"$f":"IF(ISNA(VLOOKUP(C12,'WK 5'!$K$6:$L$41,2,FALSE)=0),\"\",IF(VLOOKUP(C12,'WK 5'!$K$6:$L$41,2,FALSE)=0,\"\",VLOOKUP(C12,'WK 5'!$K$6:$L$41,2,FALSE)))","v":""},{"$f":"IF(ISNA(VLOOKUP(C12,'WK 6'!$K$6:$L$41,2,FALSE)=0),\"\",IF(VLOOKUP(C12,'WK 6'!$K$6:$L$41,2,FALSE)=0,\"\",VLOOKUP(C12,'WK 6'!$K$6:$L$41,2,FALSE)))","v":""},{"$f":"IF(ISNA(VLOOKUP(C12,'WK 7'!$K$6:$L$41,2,FALSE)=0),\"\",IF(VLOOKUP(C12,'WK 7'!$K$6:$L$41,2,FALSE)=0,\"\",VLOOKUP(C12,'WK 7'!$K$6:$L$41,2,FALSE)))","v":""},{"$f":"IF(ISNA(VLOOKUP(C12,'WK 8'!$K$6:$L$41,2,FALSE)=0),\"\",IF(VLOOKUP(C12,'WK 8'!$K$6:$L$41,2,FALSE)=0,\"\",VLOOKUP(C12,'WK 8'!$K$6:$L$41,2,FALSE)))","v":""},{"$f":"IF(ISNA(VLOOKUP(C12,'WK 9'!$K$6:$L$41,2,FALSE)=0),\"\",IF(VLOOKUP(C12,'WK 9'!$K$6:$L$41,2,FALSE)=0,\"\",VLOOKUP(C12,'WK 9'!$K$6:$L$41,2,FALSE)))","v":""},{"$f":"IF(ISNA(VLOOKUP(C12,'WK 10'!$K$6:$L$41,2,FALSE)=0),\"\",IF(VLOOKUP(C12,'WK 10'!$K$6:$L$41,2,FALSE)=0,\"\",VLOOKUP(C12,'WK 10'!$K$6:$L$41,2,FALSE)))","v":""},0]
[null,null,{"$f":"'WK 1'!$K$17","v":" "},{"$f":"IF(VLOOKUP('WK 1'!K17,'WK 1'!$K$6:$L$41,2,FALSE)=0,\"\",VLOOKUP('WK 1'!K17,'WK 1'!$K$6:$L$41,2,FALSE))","v":""},{"$f":"IF(ISNA(VLOOKUP(C13,'WK 2'!$K$6:$L$41,2,FALSE)=0),\"\",IF(VLOOKUP(C13,'WK 2'!$K$6:$L$41,2,FALSE)=0,\"\",VLOOKUP(C13,'WK 2'!$K$6:$L$41,2,FALSE)))","v":""},{"$f":"IF(ISNA(VLOOKUP(C13,'WK 3'!$K$6:$L$41,2,FALSE)=0),\"\",IF(VLOOKUP(C13,'WK 3'!$K$6:$L$41,2,FALSE)=0,\"\",VLOOKUP(C13,'WK 3'!$K$6:$L$41,2,FALSE)))","v":""},{"$f":"IF(ISNA(VLOOKUP(C13,'WK 4'!$K$6:$L$41,2,FALSE)=0),\"\",IF(VLOOKUP(C13,'WK 4'!$K$6:$L$41,2,FALSE)=0,\"\",VLOOKUP(C13,'WK 4'!$K$6:$L$41,2,FALSE)))","v":""},{"$f":"IF(ISNA(VLOOKUP(C13,'WK 5'!$K$6:$L$41,2,FALSE)=0),\"\",IF(VLOOKUP(C13,'WK 5'!$K$6:$L$41,2,FALSE)=0,\"\",VLOOKUP(C13,'WK 5'!$K$6:$L$41,2,FALSE)))","v":""},{"$f":"IF(ISNA(VLOOKUP(C13,'WK 6'!$K$6:$L$41,2,FALSE)=0),\"\",IF(VLOOKUP(C13,'WK 6'!$K$6:$L$41,2,FALSE)=0,\"\",VLOOKUP(C13,'WK 6'!$K$6:$L$41,2,FALSE)))","v":""},{"$f":"IF(ISNA(VLOOKUP(C13,'WK 7'!$K$6:$L$41,2,FALSE)=0),\"\",IF(VLOOKUP(C13,'WK 7'!$K$6:$L$41,2,FALSE)=0,\"\",VLOOKUP(C13,'WK 7'!$K$6:$L$41,2,FALSE)))","v":""},{"$f":"IF(ISNA(VLOOKUP(C13,'WK 8'!$K$6:$L$41,2,FALSE)=0),\"\",IF(VLOOKUP(C13,'WK 8'!$K$6:$L$41,2,FALSE)=0,\"\",VLOOKUP(C13,'WK 8'!$K$6:$L$41,2,FALSE)))","v":""},{"$f":"IF(ISNA(VLOOKUP(C13,'WK 9'!$K$6:$L$41,2,FALSE)=0),\"\",IF(VLOOKUP(C13,'WK 9'!$K$6:$L$41,2,FALSE)=0,\"\",VLOOKUP(C13,'WK 9'!$K$6:$L$41,2,FALSE)))","v":""},{"$f":"IF(ISNA(VLOOKUP(C13,'WK 10'!$K$6:$L$41,2,FALSE)=0),\"\",IF(VLOOKUP(C13,'WK 10'!$K$6:$L$41,2,FALSE)=0,\"\",VLOOKUP(C13,'WK 10'!$K$6:$L$41,2,FALSE)))","v":""},0]
[null,null,{"$f":"'WK 1'!$K$18","v":" "},{"$f":"IF(VLOOKUP('WK 1'!K18,'WK 1'!$K$6:$L$41,2,FALSE)=0,\"\",VLOOKUP('WK 1'!K18,'WK 1'!$K$6:$L$41,2,FALSE))","v":""},{"$f":"IF(ISNA(VLOOKUP(C14,'WK 2'!$K$6:$L$41,2,FALSE)=0),\"\",IF(VLOOKUP(C14,'WK 2'!$K$6:$L$41,2,FALSE)=0,\"\",VLOOKUP(C14,'WK 2'!$K$6:$L$41,2,FALSE)))","v":""},{"$f":"IF(ISNA(VLOOKUP(C14,'WK 3'!$K$6:$L$41,2,FALSE)=0),\"\",IF(VLOOKUP(C14,'WK 3'!$K$6:$L$41,2,FALSE)=0,\"\",VLOOKUP(C14,'WK 3'!$K$6:$L$41,2,FALSE)))","v":""},{"$f":"IF(ISNA(VLOOKUP(C14,'WK 4'!$K$6:$L$41,2,FALSE)=0),\"\",IF(VLOOKUP(C14,'WK 4'!$K$6:$L$41,2,FALSE)=0,\"\",VLOOKUP(C14,'WK 4'!$K$6:$L$41,2,FALSE)))","v":""},{"$f":"IF(ISNA(VLOOKUP(C14,'WK 5'!$K$6:$L$41,2,FALSE)=0),\"\",IF(VLOOKUP(C14,'WK 5'!$K$6:$L$41,2,FALSE)=0,\"\",VLOOKUP(C14,'WK 5'!$K$6:$L$41,2,FALSE)))","v":""},{"$f":"IF(ISNA(VLOOKUP(C14,'WK 6'!$K$6:$L$41,2,FALSE)=0),\"\",IF(VLOOKUP(C14,'WK 6'!$K$6:$L$41,2,FALSE)=0,\"\",VLOOKUP(C14,'WK 6'!$K$6:$L$41,2,FALSE)))","v":""},{"$f":"IF(ISNA(VLOOKUP(C14,'WK 7'!$K$6:$L$41,2,FALSE)=0),\"\",IF(VLOOKUP(C14,'WK 7'!$K$6:$L$41,2,FALSE)=0,\"\",VLOOKUP(C14,'WK 7'!$K$6:$L$41,2,FALSE)))","v":""},{"$f":"IF(ISNA(VLOOKUP(C14,'WK 8'!$K$6:$L$41,2,FALSE)=0),\"\",IF(VLOOKUP(C14,'WK 8'!$K$6:$L$41,2,FALSE)=0,\"\",VLOOKUP(C14,'WK 8'!$K$6:$L$41,2,FALSE)))","v":""},{"$f":"IF(ISNA(VLOOKUP(C14,'WK 9'!$K$6:$L$41,2,FALSE)=0),\"\",IF(VLOOKUP(C14,'WK 9'!$K$6:$L$41,2,FALSE)=0,\"\",VLOOKUP(C14,'WK 9'!$K$6:$L$41,2,FALSE)))","v":""},{"$f":"IF(ISNA(VLOOKUP(C14,'WK 10'!$K$6:$L$41,2,FALSE)=0),\"\",IF(VLOOKUP(C14,'WK 10'!$K$6:$L$41,2,FALSE)=0,\"\",VLOOKUP(C14,'WK 10'!$K$6:$L$41,2,FALSE)))","v":""},0]
[null,null,{"$f":"'WK 1'!$K$19","v":" "},{"$f":"IF(VLOOKUP('WK 1'!K19,'WK 1'!$K$6:$L$41,2,FALSE)=0,\"\",VLOOKUP('WK 1'!K19,'WK 1'!$K$6:$L$41,2,FALSE))","v":""},{"$f":"IF(ISNA(VLOOKUP(C15,'WK 2'!$K$6:$L$41,2,FALSE)=0),\"\",IF(VLOOKUP(C15,'WK 2'!$K$6:$L$41,2,FALSE)=0,\"\",VLOOKUP(C15,'WK 2'!$K$6:$L$41,2,FALSE)))","v":""},{"$f":"IF(ISNA(VLOOKUP(C15,'WK 3'!$K$6:$L$41,2,FALSE)=0),\"\",IF(VLOOKUP(C15,'WK 3'!$K$6:$L$41,2,FALSE)=0,\"\",VLOOKUP(C15,'WK 3'!$K$6:$L$41,2,FALSE)))","v":""},{"$f":"IF(ISNA(VLOOKUP(C15,'WK 4'!$K$6:$L$41,2,FALSE)=0),\"\",IF(VLOOKUP(C15,'WK 4'!$K$6:$L$41,2,FALSE)=0,\"\",VLOOKUP(C15,'WK 4'!$K$6:$L$41,2,FALSE)))","v":""},{"$f":"IF(ISNA(VLOOKUP(C15,'WK 5'!$K$6:$L$41,2,FALSE)=0),\"\",IF(VLOOKUP(C15,'WK 5'!$K$6:$L$41,2,FALSE)=0,\"\",VLOOKUP(C15,'WK 5'!$K$6:$L$41,2,FALSE)))","v":""},{"$f":"IF(ISNA(VLOOKUP(C15,'WK 6'!$K$6:$L$41,2,FALSE)=0),\"\",IF(VLOOKUP(C15,'WK 6'!$K$6:$L$41,2,FALSE)=0,\"\",VLOOKUP(C15,'WK 6'!$K$6:$L$41,2,FALSE)))","v":""},{"$f":"IF(ISNA(VLOOKUP(C15,'WK 7'!$K$6:$L$41,2,FALSE)=0),\"\",IF(VLOOKUP(C15,'WK 7'!$K$6:$L$41,2,FALSE)=0,\"\",VLOOKUP(C15,'WK 7'!$K$6:$L$41,2,FALSE)))","v":""},{"$f":"IF(ISNA(VLOOKUP(C15,'WK 8'!$K$6:$L$41,2,FALSE)=0),\"\",IF(VLOOKUP(C15,'WK 8'!$K$6:$L$41,2,FALSE)=0,\"\",VLOOKUP(C15,'WK 8'!$K$6:$L$41,2,FALSE)))","v":""},{"$f":"IF(ISNA(VLOOKUP(C15,'WK 9'!$K$6:$L$41,2,FALSE)=0),\"\",IF(VLOOKUP(C15,'WK 9'!$K$6:$L$41,2,FALSE)=0,\"\",VLOOKUP(C15,'WK 9'!$K$6:$L$41,2,FALSE)))","v":""},{"$f":"IF(ISNA(VLOOKUP(C15,'WK 10'!$K$6:$L$41,2,FALSE)=0),\"\",IF(VLOOKUP(C15,'WK 10'!$K$6:$L$41,2,FALSE)=0,\"\",VLOOKUP(C15,'WK 10'!$K$6:$L$41,2,FALSE)))","v":""},0]
[null,null,{"$f":"'WK 1'!$K$20","v":" "},{"$f":"IF(VLOOKUP('WK 1'!K20,'WK 1'!$K$6:$L$41,2,FALSE)=0,\"\",VLOOKUP('WK 1'!K20,'WK 1'!$K$6:$L$41,2,FALSE))","v":""},{"$f":"IF(ISNA(VLOOKUP(C16,'WK 2'!$K$6:$L$41,2,FALSE)=0),\"\",IF(VLOOKUP(C16,'WK 2'!$K$6:$L$41,2,FALSE)=0,\"\",VLOOKUP(C16,'WK 2'!$K$6:$L$41,2,FALSE)))","v":""},{"$f":"IF(ISNA(VLOOKUP(C16,'WK 3'!$K$6:$L$41,2,FALSE)=0),\"\",IF(VLOOKUP(C16,'WK 3'!$K$6:$L$41,2,FALSE)=0,\"\",VLOOKUP(C16,'WK 3'!$K$6:$L$41,2,FALSE)))","v":""},{"$f":"IF(ISNA(VLOOKUP(C16,'WK 4'!$K$6:$L$41,2,FALSE)=0),\"\",IF(VLOOKUP(C16,'WK 4'!$K$6:$L$41,2,FALSE)=0,\"\",VLOOKUP(C16,'WK 4'!$K$6:$L$41,2,FALSE)))","v":""},{"$f":"IF(ISNA(VLOOKUP(C16,'WK 5'!$K$6:$L$41,2,FALSE)=0),\"\",IF(VLOOKUP(C16,'WK 5'!$K$6:$L$41,2,FALSE)=0,\"\",VLOOKUP(C16,'WK 5'!$K$6:$L$41,2,FALSE)))","v":""},{"$f":"IF(ISNA(VLOOKUP(C16,'WK 6'!$K$6:$L$41,2,FALSE)=0),\"\",IF(VLOOKUP(C16,'WK 6'!$K$6:$L$41,2,FALSE)=0,\"\",VLOOKUP(C16,'WK 6'!$K$6:$L$41,2,FALSE)))","v":""},{"$f":"IF(ISNA(VLOOKUP(C16,'WK 7'!$K$6:$L$41,2,FALSE)=0),\"\",IF(VLOOKUP(C16,'WK 7'!$K$6:$L$41,2,FALSE)=0,\"\",VLOOKUP(C16,'WK 7'!$K$6:$L$41,2,FALSE)))","v":""},{"$f":"IF(ISNA(VLOOKUP(C16,'WK 8'!$K$6:$L$41,2,FALSE)=0),\"\",IF(VLOOKUP(C16,'WK 8'!$K$6:$L$41,2,FALSE)=0,\"\",VLOOKUP(C16,'WK 8'!$K$6:$L$41,2,FALSE)))","v":""},{"$f":"IF(ISNA(VLOOKUP(C16,'WK 9'!$K$6:$L$41,2,FALSE)=0),\"\",IF(VLOOKUP(C16,'WK 9'!$K$6:$L$41,2,FALSE)=0,\"\",VLOOKUP(C16,'WK 9'!$K$6:$L$41,2,FALSE)))","v":""},{"$f":"IF(ISNA(VLOOKUP(C16,'WK 10'!$K$6:$L$41,2,FALSE)=0),\"\",IF(VLOOKUP(C16,'WK 10'!$K$6:$L$41,2,FALSE)=0,\"\",VLOOKUP(C16,'WK 10'!$K$6:$L$41,2,FALSE)))","v":""},0]
[null,null,{"$f":"'WK 1'!$K$21","v":" "},{"$f":"IF(VLOOKUP('WK 1'!K21,'WK 1'!$K$6:$L$41,2,FALSE)=0,\"\",VLOOKUP('WK 1'!K21,'WK 1'!$K$6:$L$41,2,FALSE))","v":""},{"$f":"IF(ISNA(VLOOKUP(C17,'WK 2'!$K$6:$L$41,2,FALSE)=0),\"\",IF(VLOOKUP(C17,'WK 2'!$K$6:$L$41,2,FALSE)=0,\"\",VLOOKUP(C17,'WK 2'!$K$6:$L$41,2,FALSE)))","v":""},{"$f":"IF(ISNA(VLOOKUP(C17,'WK 3'!$K$6:$L$41,2,FALSE)=0),\"\",IF(VLOOKUP(C17,'WK 3'!$K$6:$L$41,2,FALSE)=0,\"\",VLOOKUP(C17,'WK 3'!$K$6:$L$41,2,FALSE)))","v":""},{"$f":"IF(ISNA(VLOOKUP(C17,'WK 4'!$K$6:$L$41,2,FALSE)=0),\"\",IF(VLOOKUP(C17,'WK 4'!$K$6:$L$41,2,FALSE)=0,\"\",VLOOKUP(C17,'WK 4'!$K$6:$L$41,2,FALSE)))","v":""},{"$f":"IF(ISNA(VLOOKUP(C17,'WK 5'!$K$6:$L$41,2,FALSE)=0),\"\",IF(VLOOKUP(C17,'WK 5'!$K$6:$L$41,2,FALSE)=0,\"\",VLOOKUP(C17,'WK 5'!$K$6:$L$41,2,FALSE)))","v":""},{"$f":"IF(ISNA(VLOOKUP(C17,'WK 6'!$K$6:$L$41,2,FALSE)=0),\"\",IF(VLOOKUP(C17,'WK 6'!$K$6:$L$41,2,FALSE)=0,\"\",VLOOKUP(C17,'WK 6'!$K$6:$L$41,2,FALSE)))","v":""},{"$f":"IF(ISNA(VLOOKUP(C17,'WK 7'!$K$6:$L$41,2,FALSE)=0),\"\",IF(VLOOKUP(C17,'WK 7'!$K$6:$L$41,2,FALSE)=0,\"\",VLOOKUP(C17,'WK 7'!$K$6:$L$41,2,FALSE)))","v":""},{"$f":"IF(ISNA(VLOOKUP(C17,'WK 8'!$K$6:$L$41,2,FALSE)=0),\"\",IF(VLOOKUP(C17,'WK 8'!$K$6:$L$41,2,FALSE)=0,\"\",VLOOKUP(C17,'WK 8'!$K$6:$L$41,2,FALSE)))","v":""},{"$f":"IF(ISNA(VLOOKUP(C17,'WK 9'!$K$6:$L$41,2,FALSE)=0),\"\",IF(VLOOKUP(C17,'WK 9'!$K$6:$L$41,2,FALSE)=0,\"\",VLOOKUP(C17,'WK 9'!$K$6:$L$41,2,FALSE)))","v":""},{"$f":"IF(ISNA(VLOOKUP(C17,'WK 10'!$K$6:$L$41,2,FALSE)=0),\"\",IF(VLOOKUP(C17,'WK 10'!$K$6:$L$41,2,FALSE)=0,\"\",VLOOKUP(C17,'WK 10'!$K$6:$L$41,2,FALSE)))","v":""},0]
[null,null,{"$f":"'WK 1'!$K$22","v":" "},{"$f":"IF(VLOOKUP('WK 1'!K22,'WK 1'!$K$6:$L$41,2,FALSE)=0,\"\",VLOOKUP('WK 1'!K22,'WK 1'!$K$6:$L$41,2,FALSE))","v":""},{"$f":"IF(ISNA(VLOOKUP(C18,'WK 2'!$K$6:$L$41,2,FALSE)=0),\"\",IF(VLOOKUP(C18,'WK 2'!$K$6:$L$41,2,FALSE)=0,\"\",VLOOKUP(C18,'WK 2'!$K$6:$L$41,2,FALSE)))","v":""},{"$f":"IF(ISNA(VLOOKUP(C18,'WK 3'!$K$6:$L$41,2,FALSE)=0),\"\",IF(VLOOKUP(C18,'WK 3'!$K$6:$L$41,2,FALSE)=0,\"\",VLOOKUP(C18,'WK 3'!$K$6:$L$41,2,FALSE)))","v":""},{"$f":"IF(ISNA(VLOOKUP(C18,'WK 4'!$K$6:$L$41,2,FALSE)=0),\"\",IF(VLOOKUP(C18,'WK 4'!$K$6:$L$41,2,FALSE)=0,\"\",VLOOKUP(C18,'WK 4'!$K$6:$L$41,2,FALSE)))","v":""},{"$f":"IF(ISNA(VLOOKUP(C18,'WK 5'!$K$6:$L$41,2,FALSE)=0),\"\",IF(VLOOKUP(C18,'WK 5'!$K$6:$L$41,2,FALSE)=0,\"\",VLOOKUP(C18,'WK 5'!$K$6:$L$41,2,FALSE)))","v":""},{"$f":"IF(ISNA(VLOOKUP(C18,'WK 6'!$K$6:$L$41,2,FALSE)=0),\"\",IF(VLOOKUP(C18,'WK 6'!$K$6:$L$41,2,FALSE)=0,\"\",VLOOKUP(C18,'WK 6'!$K$6:$L$41,2,FALSE)))","v":""},{"$f":"IF(ISNA(VLOOKUP(C18,'WK 7'!$K$6:$L$41,2,FALSE)=0),\"\",IF(VLOOKUP(C18,'WK 7'!$K$6:$L$41,2,FALSE)=0,\"\",VLOOKUP(C18,'WK 7'!$K$6:$L$41,2,FALSE)))","v":""},{"$f":"IF(ISNA(VLOOKUP(C18,'WK 8'!$K$6:$L$41,2,FALSE)=0),\"\",IF(VLOOKUP(C18,'WK 8'!$K$6:$L$41,2,FALSE)=0,\"\",VLOOKUP(C18,'WK 8'!$K$6:$L$41,2,FALSE)))","v":""},{"$f":"IF(ISNA(VLOOKUP(C18,'WK 9'!$K$6:$L$41,2,FALSE)=0),\"\",IF(VLOOKUP(C18,'WK 9'!$K$6:$L$41,2,FALSE)=0,\"\",VLOOKUP(C18,'WK 9'!$K$6:$L$41,2,FALSE)))","v":""},{"$f":"IF(ISNA(VLOOKUP(C18,'WK 10'!$K$6:$L$41,2,FALSE)=0),\"\",IF(VLOOKUP(C18,'WK 10'!$K$6:$L$41,2,FALSE)=0,\"\",VLOOKUP(C18,'WK 10'!$K$6:$L$41,2,FALSE)))","v":""},{"$f":"IF(COUNT(D18:M18)=0,0,AVERAGE(D18:M18))","v":0}]
[null,null,{"$f":"'WK 1'!$K$23","v":" "},{"$f":"IF(VLOOKUP('WK 1'!K23,'WK 1'!$K$6:$L$41,2,FALSE)=0,\"\",VLOOKUP('WK 1'!K23,'WK 1'!$K$6:$L$41,2,FALSE))","v":""},{"$f":"IF(ISNA(VLOOKUP(C19,'WK 2'!$K$6:$L$41,2,FALSE)=0),\"\",IF(VLOOKUP(C19,'WK 2'!$K$6:$L$41,2,FALSE)=0,\"\",VLOOKUP(C19,'WK 2'!$K$6:$L$41,2,FALSE)))","v":""},{"$f":"IF(ISNA(VLOOKUP(C19,'WK 3'!$K$6:$L$41,2,FALSE)=0),\"\",IF(VLOOKUP(C19,'WK 3'!$K$6:$L$41,2,FALSE)=0,\"\",VLOOKUP(C19,'WK 3'!$K$6:$L$41,2,FALSE)))","v":""},{"$f":"IF(ISNA(VLOOKUP(C19,'WK 4'!$K$6:$L$41,2,FALSE)=0),\"\",IF(VLOOKUP(C19,'WK 4'!$K$6:$L$41,2,FALSE)=0,\"\",VLOOKUP(C19,'WK 4'!$K$6:$L$41,2,FALSE)))","v":""},{"$f":"IF(ISNA(VLOOKUP(C19,'WK 5'!$K$6:$L$41,2,FALSE)=0),\"\",IF(VLOOKUP(C19,'WK 5'!$K$6:$L$41,2,FALSE)=0,\"\",VLOOKUP(C19,'WK 5'!$K$6:$L$41,2,FALSE)))","v":""},{"$f":"IF(ISNA(VLOOKUP(C19,'WK 6'!$K$6:$L$41,2,FALSE)=0),\"\",IF(VLOOKUP(C19,'WK 6'!$K$6:$L$41,2,FALSE)=0,\"\",VLOOKUP(C19,'WK 6'!$K$6:$L$41,2,FALSE)))","v":""},{"$f":"IF(ISNA(VLOOKUP(C19,'WK 7'!$K$6:$L$41,2,FALSE)=0),\"\",IF(VLOOKUP(C19,'WK 7'!$K$6:$L$41,2,FALSE)=0,\"\",VLOOKUP(C19,'WK 7'!$K$6:$L$41,2,FALSE)))","v":""},{"$f":"IF(ISNA(VLOOKUP(C19,'WK 8'!$K$6:$L$41,2,FALSE)=0),\"\",IF(VLOOKUP(C19,'WK 8'!$K$6:$L$41,2,FALSE)=0,\"\",VLOOKUP(C19,'WK 8'!$K$6:$L$41,2,FALSE)))","v":""},{"$f":"IF(ISNA(VLOOKUP(C19,'WK 9'!$K$6:$L$41,2,FALSE)=0),\"\",IF(VLOOKUP(C19,'WK 9'!$K$6:$L$41,2,FALSE)=0,\"\",VLOOKUP(C19,'WK 9'!$K$6:$L$41,2,FALSE)))","v":""},{"$f":"IF(ISNA(VLOOKUP(C19,'WK 10'!$K$6:$L$41,2,FALSE)=0),\"\",IF(VLOOKUP(C19,'WK 10'!$K$6:$L$41,2,FALSE)=0,\"\",VLOOKUP(C19,'WK 10'!$K$6:$L$41,2,FALSE)))","v":""},0]
[null,null,{"$f":"'WK 1'!$K$24","v":" "},{"$f":"IF(VLOOKUP('WK 1'!K24,'WK 1'!$K$6:$L$41,2,FALSE)=0,\"\",VLOOKUP('WK 1'!K24,'WK 1'!$K$6:$L$41,2,FALSE))","v":""},{"$f":"IF(ISNA(VLOOKUP(C20,'WK 2'!$K$6:$L$41,2,FALSE)=0),\"\",IF(VLOOKUP(C20,'WK 2'!$K$6:$L$41,2,FALSE)=0,\"\",VLOOKUP(C20,'WK 2'!$K$6:$L$41,2,FALSE)))","v":""},{"$f":"IF(ISNA(VLOOKUP(C20,'WK 3'!$K$6:$L$41,2,FALSE)=0),\"\",IF(VLOOKUP(C20,'WK 3'!$K$6:$L$41,2,FALSE)=0,\"\",VLOOKUP(C20,'WK 3'!$K$6:$L$41,2,FALSE)))","v":""},{"$f":"IF(ISNA(VLOOKUP(C20,'WK 4'!$K$6:$L$41,2,FALSE)=0),\"\",IF(VLOOKUP(C20,'WK 4'!$K$6:$L$41,2,FALSE)=0,\"\",VLOOKUP(C20,'WK 4'!$K$6:$L$41,2,FALSE)))","v":""},{"$f":"IF(ISNA(VLOOKUP(C20,'WK 5'!$K$6:$L$41,2,FALSE)=0),\"\",IF(VLOOKUP(C20,'WK 5'!$K$6:$L$41,2,FALSE)=0,\"\",VLOOKUP(C20,'WK 5'!$K$6:$L$41,2,FALSE)))","v":""},{"$f":"IF(ISNA(VLOOKUP(C20,'WK 6'!$K$6:$L$41,2,FALSE)=0),\"\",IF(VLOOKUP(C20,'WK 6'!$K$6:$L$41,2,FALSE)=0,\"\",VLOOKUP(C20,'WK 6'!$K$6:$L$41,2,FALSE)))","v":""},{"$f":"IF(ISNA(VLOOKUP(C20,'WK 7'!$K$6:$L$41,2,FALSE)=0),\"\",IF(VLOOKUP(C20,'WK 7'!$K$6:$L$41,2,FALSE)=0,\"\",VLOOKUP(C20,'WK 7'!$K$6:$L$41,2,FALSE)))","v":""},{"$f":"IF(ISNA(VLOOKUP(C20,'WK 8'!$K$6:$L$41,2,FALSE)=0),\"\",IF(VLOOKUP(C20,'WK 8'!$K$6:$L$41,2,FALSE)=0,\"\",VLOOKUP(C20,'WK 8'!$K$6:$L$41,2,FALSE)))","v":""},{"$f":"IF(ISNA(VLOOKUP(C20,'WK 9'!$K$6:$L$41,2,FALSE)=0),\"\",IF(VLOOKUP(C20,'WK 9'!$K$6:$L$41,2,FALSE)=0,\"\",VLOOKUP(C20,'WK 9'!$K$6:$L$41,2,FALSE)))","v":""},{"$f":"IF(ISNA(VLOOKUP(C20,'WK 10'!$K$6:$L$41,2,FALSE)=0),\"\",IF(VLOOKUP(C20,'WK 10'!$K$6:$L$41,2,FALSE)=0,\"\",VLOOKUP(C20,'WK 10'!$K$6:$L$41,2,FALSE)))","v":""},0]
[null,null,{"$f":"'WK 1'!$K$25","v":" "},{"$f":"IF(VLOOKUP('WK 1'!K25,'WK 1'!$K$6:$L$41,2,FALSE)=0,\"\",VLOOKUP('WK 1'!K25,'WK 1'!$K$6:$L$41,2,FALSE))","v":""},{"$f":"IF(ISNA(VLOOKUP(C21,'WK 2'!$K$6:$L$41,2,FALSE)=0),\"\",IF(VLOOKUP(C21,'WK 2'!$K$6:$L$41,2,FALSE)=0,\"\",VLOOKUP(C21,'WK 2'!$K$6:$L$41,2,FALSE)))","v":""},{"$f":"IF(ISNA(VLOOKUP(C21,'WK 3'!$K$6:$L$41,2,FALSE)=0),\"\",IF(VLOOKUP(C21,'WK 3'!$K$6:$L$41,2,FALSE)=0,\"\",VLOOKUP(C21,'WK 3'!$K$6:$L$41,2,FALSE)))","v":""},{"$f":"IF(ISNA(VLOOKUP(C21,'WK 4'!$K$6:$L$41,2,FALSE)=0),\"\",IF(VLOOKUP(C21,'WK 4'!$K$6:$L$41,2,FALSE)=0,\"\",VLOOKUP(C21,'WK 4'!$K$6:$L$41,2,FALSE)))","v":""},{"$f":"IF(ISNA(VLOOKUP(C21,'WK 5'!$K$6:$L$41,2,FALSE)=0),\"\",IF(VLOOKUP(C21,'WK 5'!$K$6:$L$41,2,FALSE)=0,\"\",VLOOKUP(C21,'WK 5'!$K$6:$L$41,2,FALSE)))","v":""},{"$f":"IF(ISNA(VLOOKUP(C21,'WK 6'!$K$6:$L$41,2,FALSE)=0),\"\",IF(VLOOKUP(C21,'WK 6'!$K$6:$L$41,2,FALSE)=0,\"\",VLOOKUP(C21,'WK 6'!$K$6:$L$41,2,FALSE)))","v":""},{"$f":"IF(ISNA(VLOOKUP(C21,'WK 7'!$K$6:$L$41,2,FALSE)=0),\"\",IF(VLOOKUP(C21,'WK 7'!$K$6:$L$41,2,FALSE)=0,\"\",VLOOKUP(C21,'WK 7'!$K$6:$L$41,2,FALSE)))","v":""},{"$f":"IF(ISNA(VLOOKUP(C21,'WK 8'!$K$6:$L$41,2,FALSE)=0),\"\",IF(VLOOKUP(C21,'WK 8'!$K$6:$L$41,2,FALSE)=0,\"\",VLOOKUP(C21,'WK 8'!$K$6:$L$41,2,FALSE)))","v":""},{"$f":"IF(ISNA(VLOOKUP(C21,'WK 9'!$K$6:$L$41,2,FALSE)=0),\"\",IF(VLOOKUP(C21,'WK 9'!$K$6:$L$41,2,FALSE)=0,\"\",VLOOKUP(C21,'WK 9'!$K$6:$L$41,2,FALSE)))","v":""},{"$f":"IF(ISNA(VLOOKUP(C21,'WK 10'!$K$6:$L$41,2,FALSE)=0),\"\",IF(VLOOKUP(C21,'WK 10'!$K$6:$L$41,2,FALSE)=0,\"\",VLOOKUP(C21,'WK 10'!$K$6:$L$41,2,FALSE)))","v":""},0]
[null,null,{"$f":"'WK 1'!$K$26","v":" "},{"$f":"IF(VLOOKUP('WK 1'!K26,'WK 1'!$K$6:$L$41,2,FALSE)=0,\"\",VLOOKUP('WK 1'!K26,'WK 1'!$K$6:$L$41,2,FALSE))","v":""},{"$f":"IF(ISNA(VLOOKUP(C22,'WK 2'!$K$6:$L$41,2,FALSE)=0),\"\",IF(VLOOKUP(C22,'WK 2'!$K$6:$L$41,2,FALSE)=0,\"\",VLOOKUP(C22,'WK 2'!$K$6:$L$41,2,FALSE)))","v":""},{"$f":"IF(ISNA(VLOOKUP(C22,'WK 3'!$K$6:$L$41,2,FALSE)=0),\"\",IF(VLOOKUP(C22,'WK 3'!$K$6:$L$41,2,FALSE)=0,\"\",VLOOKUP(C22,'WK 3'!$K$6:$L$41,2,FALSE)))","v":""},{"$f":"IF(ISNA(VLOOKUP(C22,'WK 4'!$K$6:$L$41,2,FALSE)=0),\"\",IF(VLOOKUP(C22,'WK 4'!$K$6:$L$41,2,FALSE)=0,\"\",VLOOKUP(C22,'WK 4'!$K$6:$L$41,2,FALSE)))","v":""},{"$f":"IF(ISNA(VLOOKUP(C22,'WK 5'!$K$6:$L$41,2,FALSE)=0),\"\",IF(VLOOKUP(C22,'WK 5'!$K$6:$L$41,2,FALSE)=0,\"\",VLOOKUP(C22,'WK 5'!$K$6:$L$41,2,FALSE)))","v":""},{"$f":"IF(ISNA(VLOOKUP(C22,'WK 6'!$K$6:$L$41,2,FALSE)=0),\"\",IF(VLOOKUP(C22,'WK 6'!$K$6:$L$41,2,FALSE)=0,\"\",VLOOKUP(C22,'WK 6'!$K$6:$L$41,2,FALSE)))","v":""},{"$f":"IF(ISNA(VLOOKUP(C22,'WK 7'!$K$6:$L$41,2,FALSE)=0),\"\",IF(VLOOKUP(C22,'WK 7'!$K$6:$L$41,2,FALSE)=0,\"\",VLOOKUP(C22,'WK 7'!$K$6:$L$41,2,FALSE)))","v":""},{"$f":"IF(ISNA(VLOOKUP(C22,'WK 8'!$K$6:$L$41,2,FALSE)=0),\"\",IF(VLOOKUP(C22,'WK 8'!$K$6:$L$41,2,FALSE)=0,\"\",VLOOKUP(C22,'WK 8'!$K$6:$L$41,2,FALSE)))","v":""},{"$f":"IF(ISNA(VLOOKUP(C22,'WK 9'!$K$6:$L$41,2,FALSE)=0),\"\",IF(VLOOKUP(C22,'WK 9'!$K$6:$L$41,2,FALSE)=0,\"\",VLOOKUP(C22,'WK 9'!$K$6:$L$41,2,FALSE)))","v":""},{"$f":"IF(ISNA(VLOOKUP(C22,'WK 10'!$K$6:$L$41,2,FALSE)=0),\"\",IF(VLOOKUP(C22,'WK 10'!$K$6:$L$41,2,FALSE)=0,\"\",VLOOKUP(C22,'WK 10'!$K$6:$L$41,2,FALSE)))","v":""},0]
[null,null,{"$f":"'WK 1'!$K$27","v":" "},{"$f":"IF(VLOOKUP('WK 1'!K27,'WK 1'!$K$6:$L$41,2,FALSE)=0,\"\",VLOOKUP('WK 1'!K27,'WK 1'!$K$6:$L$41,2,FALSE))","v":""},{"$f":"IF(ISNA(VLOOKUP(C23,'WK 2'!$K$6:$L$41,2,FALSE)=0),\"\",IF(VLOOKUP(C23,'WK 2'!$K$6:$L$41,2,FALSE)=0,\"\",VLOOKUP(C23,'WK 2'!$K$6:$L$41,2,FALSE)))","v":""},{"$f":"IF(ISNA(VLOOKUP(C23,'WK 3'!$K$6:$L$41,2,FALSE)=0),\"\",IF(VLOOKUP(C23,'WK 3'!$K$6:$L$41,2,FALSE)=0,\"\",VLOOKUP(C23,'WK 3'!$K$6:$L$41,2,FALSE)))","v":""},{"$f":"IF(ISNA(VLOOKUP(C23,'WK 4'!$K$6:$L$41,2,FALSE)=0),\"\",IF(VLOOKUP(C23,'WK 4'!$K$6:$L$41,2,FALSE)=0,\"\",VLOOKUP(C23,'WK 4'!$K$6:$L$41,2,FALSE)))","v":""},{"$f":"IF(ISNA(VLOOKUP(C23,'WK 5'!$K$6:$L$41,2,FALSE)=0),\"\",IF(VLOOKUP(C23,'WK 5'!$K$6:$L$41,2,FALSE)=0,\"\",VLOOKUP(C23,'WK 5'!$K$6:$L$41,2,FALSE)))","v":""},{"$f":"IF(ISNA(VLOOKUP(C23,'WK 6'!$K$6:$L$41,2,FALSE)=0),\"\",IF(VLOOKUP(C23,'WK 6'!$K$6:$L$41,2,FALSE)=0,\"\",VLOOKUP(C23,'WK 6'!$K$6:$L$41,2,FALSE)))","v":""},{"$f":"IF(ISNA(VLOOKUP(C23,'WK 7'!$K$6:$L$41,2,FALSE)=0),\"\",IF(VLOOKUP(C23,'WK 7'!$K$6:$L$41,2,FALSE)=0,\"\",VLOOKUP(C23,'WK 7'!$K$6:$L$41,2,FALSE)))","v":""},{"$f":"IF(ISNA(VLOOKUP(C23,'WK 8'!$K$6:$L$41,2,FALSE)=0),\"\",IF(VLOOKUP(C23,'WK 8'!$K$6:$L$41,2,FALSE)=0,\"\",VLOOKUP(C23,'WK 8'!$K$6:$L$41,2,FALSE)))","v":""},{"$f":"IF(ISNA(VLOOKUP(C23,'WK 9'!$K$6:$L$41,2,FALSE)=0),\"\",IF(VLOOKUP(C23,'WK 9'!$K$6:$L$41,2,FALSE)=0,\"\",VLOOKUP(C23,'WK 9'!$K$6:$L$41,2,FALSE)))","v":""},{"$f":"IF(ISNA(VLOOKUP(C23,'WK 10'!$K$6:$L$41,2,FALSE)=0),\"\",IF(VLOOKUP(C23,'WK 10'!$K$6:$L$41,2,FALSE)=0,\"\",VLOOKUP(C23,'WK 10'!$K$6:$L$41,2,FALSE)))","v":""},0]
[null,null,{"$f":"'WK 1'!$K$28","v":" "},{"$f":"IF(VLOOKUP('WK 1'!K28,'WK 1'!$K$6:$L$41,2,FALSE)=0,\"\",VLOOKUP('WK 1'!K28,'WK 1'!$K$6:$L$41,2,FALSE))","v":""},{"$f":"IF(ISNA(VLOOKUP(C24,'WK 2'!$K$6:$L$41,2,FALSE)=0),\"\",IF(VLOOKUP(C24,'WK 2'!$K$6:$L$41,2,FALSE)=0,\"\",VLOOKUP(C24,'WK 2'!$K$6:$L$41,2,FALSE)))","v":""},{"$f":"IF(ISNA(VLOOKUP(C24,'WK 3'!$K$6:$L$41,2,FALSE)=0),\"\",IF(VLOOKUP(C24,'WK 3'!$K$6:$L$41,2,FALSE)=0,\"\",VLOOKUP(C24,'WK 3'!$K$6:$L$41,2,FALSE)))","v":""},{"$f":"IF(ISNA(VLOOKUP(C24,'WK 4'!$K$6:$L$41,2,FALSE)=0),\"\",IF(VLOOKUP(C24,'WK 4'!$K$6:$L$41,2,FALSE)=0,\"\",VLOOKUP(C24,'WK 4'!$K$6:$L$41,2,FALSE)))","v":""},{"$f":"IF(ISNA(VLOOKUP(C24,'WK 5'!$K$6:$L$41,2,FALSE)=0),\"\",IF(VLOOKUP(C24,'WK 5'!$K$6:$L$41,2,FALSE)=0,\"\",VLOOKUP(C24,'WK 5'!$K$6:$L$41,2,FALSE)))","v":""},{"$f":"IF(ISNA(VLOOKUP(C24,'WK 6'!$K$6:$L$41,2,FALSE)=0),\"\",IF(VLOOKUP(C24,'WK 6'!$K$6:$L$41,2,FALSE)=0,\"\",VLOOKUP(C24,'WK 6'!$K$6:$L$41,2,FALSE)))","v":""},{"$f":"IF(ISNA(VLOOKUP(C24,'WK 7'!$K$6:$L$41,2,FALSE)=0),\"\",IF(VLOOKUP(C24,'WK 7'!$K$6:$L$41,2,FALSE)=0,\"\",VLOOKUP(C24,'WK 7'!$K$6:$L$41,2,FALSE)))","v":""},{"$f":"IF(ISNA(VLOOKUP(C24,'WK 8'!$K$6:$L$41,2,FALSE)=0),\"\",IF(VLOOKUP(C24,'WK 8'!$K$6:$L$41,2,FALSE)=0,\"\",VLOOKUP(C24,'WK 8'!$K$6:$L$41,2,FALSE)))","v":""},{"$f":"IF(ISNA(VLOOKUP(C24,'WK 9'!$K$6:$L$41,2,FALSE)=0),\"\",IF(VLOOKUP(C24,'WK 9'!$K$6:$L$41,2,FALSE)=0,\"\",VLOOKUP(C24,'WK 9'!$K$6:$L$41,2,FALSE)))","v":""},{"$f":"IF(ISNA(VLOOKUP(C24,'WK 10'!$K$6:$L$41,2,FALSE)=0),\"\",IF(VLOOKUP(C24,'WK 10'!$K$6:$L$41,2,FALSE)=0,\"\",VLOOKUP(C24,'WK 10'!$K$6:$L$41,2,FALSE)))","v":""},0]
[null,null,{"$f":"'WK 1'!$K$29","v":" "},{"$f":"IF(VLOOKUP('WK 1'!K29,'WK 1'!$K$6:$L$41,2,FALSE)=0,\"\",VLOOKUP('WK 1'!K29,'WK 1'!$K$6:$L$41,2,FALSE))","v":""},{"$f":"IF(ISNA(VLOOKUP(C25,'WK 2'!$K$6:$L$41,2,FALSE)=0),\"\",IF(VLOOKUP(C25,'WK 2'!$K$6:$L$41,2,FALSE)=0,\"\",VLOOKUP(C25,'WK 2'!$K$6:$L$41,2,FALSE)))","v":""},{"$f":"IF(ISNA(VLOOKUP(C25,'WK 3'!$K$6:$L$41,2,FALSE)=0),\"\",IF(VLOOKUP(C25,'WK 3'!$K$6:$L$41,2,FALSE)=0,\"\",VLOOKUP(C25,'WK 3'!$K$6:$L$41,2,FALSE)))","v":""},{"$f":"IF(ISNA(VLOOKUP(C25,'WK 4'!$K$6:$L$41,2,FALSE)=0),\"\",IF(VLOOKUP(C25,'WK 4'!$K$6:$L$41,2,FALSE)=0,\"\",VLOOKUP(C25,'WK 4'!$K$6:$L$41,2,FALSE)))","v":""},{"$f":"IF(ISNA(VLOOKUP(C25,'WK 5'!$K$6:$L$41,2,FALSE)=0),\"\",IF(VLOOKUP(C25,'WK 5'!$K$6:$L$41,2,FALSE)=0,\"\",VLOOKUP(C25,'WK 5'!$K$6:$L$41,2,FALSE)))","v":""},{"$f":"IF(ISNA(VLOOKUP(C25,'WK 6'!$K$6:$L$41,2,FALSE)=0),\"\",IF(VLOOKUP(C25,'WK 6'!$K$6:$L$41,2,FALSE)=0,\"\",VLOOKUP(C25,'WK 6'!$K$6:$L$41,2,FALSE)))","v":""},{"$f":"IF(ISNA(VLOOKUP(C25,'WK 7'!$K$6:$L$41,2,FALSE)=0),\"\",IF(VLOOKUP(C25,'WK 7'!$K$6:$L$41,2,FALSE)=0,\"\",VLOOKUP(C25,'WK 7'!$K$6:$L$41,2,FALSE)))","v":""},{"$f":"IF(ISNA(VLOOKUP(C25,'WK 8'!$K$6:$L$41,2,FALSE)=0),\"\",IF(VLOOKUP(C25,'WK 8'!$K$6:$L$41,2,FALSE)=0,\"\",VLOOKUP(C25,'WK 8'!$K$6:$L$41,2,FALSE)))","v":""},{"$f":"IF(ISNA(VLOOKUP(C25,'WK 9'!$K$6:$L$41,2,FALSE)=0),\"\",IF(VLOOKUP(C25,'WK 9'!$K$6:$L$41,2,FALSE)=0,\"\",VLOOKUP(C25,'WK 9'!$K$6:$L$41,2,FALSE)))","v":""},{"$f":"IF(ISNA(VLOOKUP(C25,'WK 10'!$K$6:$L$41,2,FALSE)=0),\"\",IF(VLOOKUP(C25,'WK 10'!$K$6:$L$41,2,FALSE)=0,\"\",VLOOKUP(C25,'WK 10'!$K$6:$L$41,2,FALSE)))","v":""},0]
[null,null,{"$f":"'WK 1'!$K$30","v":" "},{"$f":"IF(VLOOKUP('WK 1'!K30,'WK 1'!$K$6:$L$41,2,FALSE)=0,\"\",VLOOKUP('WK 1'!K30,'WK 1'!$K$6:$L$41,2,FALSE))","v":""},{"$f":"IF(ISNA(VLOOKUP(C26,'WK 2'!$K$6:$L$41,2,FALSE)=0),\"\",IF(VLOOKUP(C26,'WK 2'!$K$6:$L$41,2,FALSE)=0,\"\",VLOOKUP(C26,'WK 2'!$K$6:$L$41,2,FALSE)))","v":""},{"$f":"IF(ISNA(VLOOKUP(C26,'WK 3'!$K$6:$L$41,2,FALSE)=0),\"\",IF(VLOOKUP(C26,'WK 3'!$K$6:$L$41,2,FALSE)=0,\"\",VLOOKUP(C26,'WK 3'!$K$6:$L$41,2,FALSE)))","v":""},{"$f":"IF(ISNA(VLOOKUP(C26,'WK 4'!$K$6:$L$41,2,FALSE)=0),\"\",IF(VLOOKUP(C26,'WK 4'!$K$6:$L$41,2,FALSE)=0,\"\",VLOOKUP(C26,'WK 4'!$K$6:$L$41,2,FALSE)))","v":""},{"$f":"IF(ISNA(VLOOKUP(C26,'WK 5'!$K$6:$L$41,2,FALSE)=0),\"\",IF(VLOOKUP(C26,'WK 5'!$K$6:$L$41,2,FALSE)=0,\"\",VLOOKUP(C26,'WK 5'!$K$6:$L$41,2,FALSE)))","v":""},{"$f":"IF(ISNA(VLOOKUP(C26,'WK 6'!$K$6:$L$41,2,FALSE)=0),\"\",IF(VLOOKUP(C26,'WK 6'!$K$6:$L$41,2,FALSE)=0,\"\",VLOOKUP(C26,'WK 6'!$K$6:$L$41,2,FALSE)))","v":""},{"$f":"IF(ISNA(VLOOKUP(C26,'WK 7'!$K$6:$L$41,2,FALSE)=0),\"\",IF(VLOOKUP(C26,'WK 7'!$K$6:$L$41,2,FALSE)=0,\"\",VLOOKUP(C26,'WK 7'!$K$6:$L$41,2,FALSE)))","v":""},{"$f":"IF(ISNA(VLOOKUP(C26,'WK 8'!$K$6:$L$41,2,FALSE)=0),\"\",IF(VLOOKUP(C26,'WK 8'!$K$6:$L$41,2,FALSE)=0,\"\",VLOOKUP(C26,'WK 8'!$K$6:$L$41,2,FALSE)))","v":""},{"$f":"IF(ISNA(VLOOKUP(C26,'WK 9'!$K$6:$L$41,2,FALSE)=0),\"\",IF(VLOOKUP(C26,'WK 9'!$K$6:$L$41,2,FALSE)=0,\"\",VLOOKUP(C26,'WK 9'!$K$6:$L$41,2,FALSE)))","v":""},{"$f":"IF(ISNA(VLOOKUP(C26,'WK 10'!$K$6:$L$41,2,FALSE)=0),\"\",IF(VLOOKUP(C26,'WK 10'!$K$6:$L$41,2,FALSE)=0,\"\",VLOOKUP(C26,'WK 10'!$K$6:$L$41,2,FALSE)))","v":""},0]
[null,null,{"$f":"'WK 1'!$K$31","v":" "},{"$f":"IF(VLOOKUP('WK 1'!K31,'WK 1'!$K$6:$L$41,2,FALSE)=0,\"\",VLOOKUP('WK 1'!K31,'WK 1'!$K$6:$L$41,2,FALSE))","v":""},{"$f":"IF(ISNA(VLOOKUP(C27,'WK 2'!$K$6:$L$41,2,FALSE)=0),\"\",IF(VLOOKUP(C27,'WK 2'!$K$6:$L$41,2,FALSE)=0,\"\",VLOOKUP(C27,'WK 2'!$K$6:$L$41,2,FALSE)))","v":""},{"$f":"IF(ISNA(VLOOKUP(C27,'WK 3'!$K$6:$L$41,2,FALSE)=0),\"\",IF(VLOOKUP(C27,'WK 3'!$K$6:$L$41,2,FALSE)=0,\"\",VLOOKUP(C27,'WK 3'!$K$6:$L$41,2,FALSE)))","v":""},{"$f":"IF(ISNA(VLOOKUP(C27,'WK 4'!$K$6:$L$41,2,FALSE)=0),\"\",IF(VLOOKUP(C27,'WK 4'!$K$6:$L$41,2,FALSE)=0,\"\",VLOOKUP(C27,'WK 4'!$K$6:$L$41,2,FALSE)))","v":""},{"$f":"IF(ISNA(VLOOKUP(C27,'WK 5'!$K$6:$L$41,2,FALSE)=0),\"\",IF(VLOOKUP(C27,'WK 5'!$K$6:$L$41,2,FALSE)=0,\"\",VLOOKUP(C27,'WK 5'!$K$6:$L$41,2,FALSE)))","v":""},{"$f":"IF(ISNA(VLOOKUP(C27,'WK 6'!$K$6:$L$41,2,FALSE)=0),\"\",IF(VLOOKUP(C27,'WK 6'!$K$6:$L$41,2,FALSE)=0,\"\",VLOOKUP(C27,'WK 6'!$K$6:$L$41,2,FALSE)))","v":""},{"$f":"IF(ISNA(VLOOKUP(C27,'WK 7'!$K$6:$L$41,2,FALSE)=0),\"\",IF(VLOOKUP(C27,'WK 7'!$K$6:$L$41,2,FALSE)=0,\"\",VLOOKUP(C27,'WK 7'!$K$6:$L$41,2,FALSE)))","v":""},{"$f":"IF(ISNA(VLOOKUP(C27,'WK 8'!$K$6:$L$41,2,FALSE)=0),\"\",IF(VLOOKUP(C27,'WK 8'!$K$6:$L$41,2,FALSE)=0,\"\",VLOOKUP(C27,'WK 8'!$K$6:$L$41,2,FALSE)))","v":""},{"$f":"IF(ISNA(VLOOKUP(C27,'WK 9'!$K$6:$L$41,2,FALSE)=0),\"\",IF(VLOOKUP(C27,'WK 9'!$K$6:$L$41,2,FALSE)=0,\"\",VLOOKUP(C27,'WK 9'!$K$6:$L$41,2,FALSE)))","v":""},{"$f":"IF(ISNA(VLOOKUP(C27,'WK 10'!$K$6:$L$41,2,FALSE)=0),\"\",IF(VLOOKUP(C27,'WK 10'!$K$6:$L$41,2,FALSE)=0,\"\",VLOOKUP(C27,'WK 10'!$K$6:$L$41,2,FALSE)))","v":""},0]
[null,null,{"$f":"'WK 1'!$K$32","v":" "},{"$f":"IF(VLOOKUP('WK 1'!K32,'WK 1'!$K$6:$L$41,2,FALSE)=0,\"\",VLOOKUP('WK 1'!K32,'WK 1'!$K$6:$L$41,2,FALSE))","v":""},{"$f":"IF(ISNA(VLOOKUP(C28,'WK 2'!$K$6:$L$41,2,FALSE)=0),\"\",IF(VLOOKUP(C28,'WK 2'!$K$6:$L$41,2,FALSE)=0,\"\",VLOOKUP(C28,'WK 2'!$K$6:$L$41,2,FALSE)))","v":""},{"$f":"IF(ISNA(VLOOKUP(C28,'WK 3'!$K$6:$L$41,2,FALSE)=0),\"\",IF(VLOOKUP(C28,'WK 3'!$K$6:$L$41,2,FALSE)=0,\"\",VLOOKUP(C28,'WK 3'!$K$6:$L$41,2,FALSE)))","v":""},{"$f":"IF(ISNA(VLOOKUP(C28,'WK 4'!$K$6:$L$41,2,FALSE)=0),\"\",IF(VLOOKUP(C28,'WK 4'!$K$6:$L$41,2,FALSE)=0,\"\",VLOOKUP(C28,'WK 4'!$K$6:$L$41,2,FALSE)))","v":""},{"$f":"IF(ISNA(VLOOKUP(C28,'WK 5'!$K$6:$L$41,2,FALSE)=0),\"\",IF(VLOOKUP(C28,'WK 5'!$K$6:$L$41,2,FALSE)=0,\"\",VLOOKUP(C28,'WK 5'!$K$6:$L$41,2,FALSE)))","v":""},{"$f":"IF(ISNA(VLOOKUP(C28,'WK 6'!$K$6:$L$41,2,FALSE)=0),\"\",IF(VLOOKUP(C28,'WK 6'!$K$6:$L$41,2,FALSE)=0,\"\",VLOOKUP(C28,'WK 6'!$K$6:$L$41,2,FALSE)))","v":""},{"$f":"IF(ISNA(VLOOKUP(C28,'WK 7'!$K$6:$L$41,2,FALSE)=0),\"\",IF(VLOOKUP(C28,'WK 7'!$K$6:$L$41,2,FALSE)=0,\"\",VLOOKUP(C28,'WK 7'!$K$6:$L$41,2,FALSE)))","v":""},{"$f":"IF(ISNA(VLOOKUP(C28,'WK 8'!$K$6:$L$41,2,FALSE)=0),\"\",IF(VLOOKUP(C28,'WK 8'!$K$6:$L$41,2,FALSE)=0,\"\",VLOOKUP(C28,'WK 8'!$K$6:$L$41,2,FALSE)))","v":""},{"$f":"IF(ISNA(VLOOKUP(C28,'WK 9'!$K$6:$L$41,2,FALSE)=0),\"\",IF(VLOOKUP(C28,'WK 9'!$K$6:$L$41,2,FALSE)=0,\"\",VLOOKUP(C28,'WK 9'!$K$6:$L$41,2,FALSE)))","v":""},{"$f":"IF(ISNA(VLOOKUP(C28,'WK 10'!$K$6:$L$41,2,FALSE)=0),\"\",IF(VLOOKUP(C28,'WK 10'!$K$6:$L$41,2,FALSE)=0,\"\",VLOOKUP(C28,'WK 10'!$K$6:$L$41,2,FALSE)))","v":""},0]
[null,null,{"$f":"'WK 1'!$K$33","v":" "},{"$f":"IF(VLOOKUP('WK 1'!K33,'WK 1'!$K$6:$L$41,2,FALSE)=0,\"\",VLOOKUP('WK 1'!K33,'WK 1'!$K$6:$L$41,2,FALSE))","v":""},{"$f":"IF(ISNA(VLOOKUP(C29,'WK 2'!$K$6:$L$41,2,FALSE)=0),\"\",IF(VLOOKUP(C29,'WK 2'!$K$6:$L$41,2,FALSE)=0,\"\",VLOOKUP(C29,'WK 2'!$K$6:$L$41,2,FALSE)))","v":""},{"$f":"IF(ISNA(VLOOKUP(C29,'WK 3'!$K$6:$L$41,2,FALSE)=0),\"\",IF(VLOOKUP(C29,'WK 3'!$K$6:$L$41,2,FALSE)=0,\"\",VLOOKUP(C29,'WK 3'!$K$6:$L$41,2,FALSE)))","v":""},{"$f":"IF(ISNA(VLOOKUP(C29,'WK 4'!$K$6:$L$41,2,FALSE)=0),\"\",IF(VLOOKUP(C29,'WK 4'!$K$6:$L$41,2,FALSE)=0,\"\",VLOOKUP(C29,'WK 4'!$K$6:$L$41,2,FALSE)))","v":""},{"$f":"IF(ISNA(VLOOKUP(C29,'WK 5'!$K$6:$L$41,2,FALSE)=0),\"\",IF(VLOOKUP(C29,'WK 5'!$K$6:$L$41,2,FALSE)=0,\"\",VLOOKUP(C29,'WK 5'!$K$6:$L$41,2,FALSE)))","v":""},{"$f":"IF(ISNA(VLOOKUP(C29,'WK 6'!$K$6:$L$41,2,FALSE)=0),\"\",IF(VLOOKUP(C29,'WK 6'!$K$6:$L$41,2,FALSE)=0,\"\",VLOOKUP(C29,'WK 6'!$K$6:$L$41,2,FALSE)))","v":""},{"$f":"IF(ISNA(VLOOKUP(C29,'WK 7'!$K$6:$L$41,2,FALSE)=0),\"\",IF(VLOOKUP(C29,'WK 7'!$K$6:$L$41,2,FALSE)=0,\"\",VLOOKUP(C29,'WK 7'!$K$6:$L$41,2,FALSE)))","v":""},{"$f":"IF(ISNA(VLOOKUP(C29,'WK 8'!$K$6:$L$41,2,FALSE)=0),\"\",IF(VLOOKUP(C29,'WK 8'!$K$6:$L$41,2,FALSE)=0,\"\",VLOOKUP(C29,'WK 8'!$K$6:$L$41,2,FALSE)))","v":""},{"$f":"IF(ISNA(VLOOKUP(C29,'WK 9'!$K$6:$L$41,2,FALSE)=0),\"\",IF(VLOOKUP(C29,'WK 9'!$K$6:$L$41,2,FALSE)=0,\"\",VLOOKUP(C29,'WK 9'!$K$6:$L$41,2,FALSE)))","v":""},{"$f":"IF(ISNA(VLOOKUP(C29,'WK 10'!$K$6:$L$41,2,FALSE)=0),\"\",IF(VLOOKUP(C29,'WK 10'!$K$6:$L$41,2,FALSE)=0,\"\",VLOOKUP(C29,'WK 10'!$K$6:$L$41,2,FALSE)))","v":""},0]
[null,null,{"$f":"'WK 1'!$K$34","v":" "},{"$f":"IF(VLOOKUP('WK 1'!K34,'WK 1'!$K$6:$L$41,2,FALSE)=0,\"\",VLOOKUP('WK 1'!K34,'WK 1'!$K$6:$L$41,2,FALSE))","v":""},{"$f":"IF(ISNA(VLOOKUP(C30,'WK 2'!$K$6:$L$41,2,FALSE)=0),\"\",IF(VLOOKUP(C30,'WK 2'!$K$6:$L$41,2,FALSE)=0,\"\",VLOOKUP(C30,'WK 2'!$K$6:$L$41,2,FALSE)))","v":""},{"$f":"IF(ISNA(VLOOKUP(C30,'WK 3'!$K$6:$L$41,2,FALSE)=0),\"\",IF(VLOOKUP(C30,'WK 3'!$K$6:$L$41,2,FALSE)=0,\"\",VLOOKUP(C30,'WK 3'!$K$6:$L$41,2,FALSE)))","v":""},{"$f":"IF(ISNA(VLOOKUP(C30,'WK 4'!$K$6:$L$41,2,FALSE)=0),\"\",IF(VLOOKUP(C30,'WK 4'!$K$6:$L$41,2,FALSE)=0,\"\",VLOOKUP(C30,'WK 4'!$K$6:$L$41,2,FALSE)))","v":""},{"$f":"IF(ISNA(VLOOKUP(C30,'WK 5'!$K$6:$L$41,2,FALSE)=0),\"\",IF(VLOOKUP(C30,'WK 5'!$K$6:$L$41,2,FALSE)=0,\"\",VLOOKUP(C30,'WK 5'!$K$6:$L$41,2,FALSE)))","v":""},{"$f":"IF(ISNA(VLOOKUP(C30,'WK 6'!$K$6:$L$41,2,FALSE)=0),\"\",IF(VLOOKUP(C30,'WK 6'!$K$6:$L$41,2,FALSE)=0,\"\",VLOOKUP(C30,'WK 6'!$K$6:$L$41,2,FALSE)))","v":""},{"$f":"IF(ISNA(VLOOKUP(C30,'WK 7'!$K$6:$L$41,2,FALSE)=0),\"\",IF(VLOOKUP(C30,'WK 7'!$K$6:$L$41,2,FALSE)=0,\"\",VLOOKUP(C30,'WK 7'!$K$6:$L$41,2,FALSE)))","v":""},{"$f":"IF(ISNA(VLOOKUP(C30,'WK 8'!$K$6:$L$41,2,FALSE)=0),\"\",IF(VLOOKUP(C30,'WK 8'!$K$6:$L$41,2,FALSE)=0,\"\",VLOOKUP(C30,'WK 8'!$K$6:$L$41,2,FALSE)))","v":""},{"$f":"IF(ISNA(VLOOKUP(C30,'WK 9'!$K$6:$L$41,2,FALSE)=0),\"\",IF(VLOOKUP(C30,'WK 9'!$K$6:$L$41,2,FALSE)=0,\"\",VLOOKUP(C30,'WK 9'!$K$6:$L$41,2,FALSE)))","v":""},{"$f":"IF(ISNA(VLOOKUP(C30,'WK 10'!$K$6:$L$41,2,FALSE)=0),\"\",IF(VLOOKUP(C30,'WK 10'!$K$6:$L$41,2,FALSE)=0,\"\",VLOOKUP(C30,'WK 10'!$K$6:$L$41,2,FALSE)))","v":""},0]
[null,null,{"$f":"'WK 1'!$K$35","v":" "},{"$f":"IF(VLOOKUP('WK 1'!K35,'WK 1'!$K$6:$L$41,2,FALSE)=0,\"\",VLOOKUP('WK 1'!K35,'WK 1'!$K$6:$L$41,2,FALSE))","v":""},{"$f":"IF(ISNA(VLOOKUP(C31,'WK 2'!$K$6:$L$41,2,FALSE)=0),\"\",IF(VLOOKUP(C31,'WK 2'!$K$6:$L$41,2,FALSE)=0,\"\",VLOOKUP(C31,'WK 2'!$K$6:$L$41,2,FALSE)))","v":""},{"$f":"IF(ISNA(VLOOKUP(C31,'WK 3'!$K$6:$L$41,2,FALSE)=0),\"\",IF(VLOOKUP(C31,'WK 3'!$K$6:$L$41,2,FALSE)=0,\"\",VLOOKUP(C31,'WK 3'!$K$6:$L$41,2,FALSE)))","v":""},{"$f":"IF(ISNA(VLOOKUP(C31,'WK 4'!$K$6:$L$41,2,FALSE)=0),\"\",IF(VLOOKUP(C31,'WK 4'!$K$6:$L$41,2,FALSE)=0,\"\",VLOOKUP(C31,'WK 4'!$K$6:$L$41,2,FALSE)))","v":""},{"$f":"IF(ISNA(VLOOKUP(C31,'WK 5'!$K$6:$L$41,2,FALSE)=0),\"\",IF(VLOOKUP(C31,'WK 5'!$K$6:$L$41,2,FALSE)=0,\"\",VLOOKUP(C31,'WK 5'!$K$6:$L$41,2,FALSE)))","v":""},{"$f":"IF(ISNA(VLOOKUP(C31,'WK 6'!$K$6:$L$41,2,FALSE)=0),\"\",IF(VLOOKUP(C31,'WK 6'!$K$6:$L$41,2,FALSE)=0,\"\",VLOOKUP(C31,'WK 6'!$K$6:$L$41,2,FALSE)))","v":""},{"$f":"IF(ISNA(VLOOKUP(C31,'WK 7'!$K$6:$L$41,2,FALSE)=0),\"\",IF(VLOOKUP(C31,'WK 7'!$K$6:$L$41,2,FALSE)=0,\"\",VLOOKUP(C31,'WK 7'!$K$6:$L$41,2,FALSE)))","v":""},{"$f":"IF(ISNA(VLOOKUP(C31,'WK 8'!$K$6:$L$41,2,FALSE)=0),\"\",IF(VLOOKUP(C31,'WK 8'!$K$6:$L$41,2,FALSE)=0,\"\",VLOOKUP(C31,'WK 8'!$K$6:$L$41,2,FALSE)))","v":""},{"$f":"IF(ISNA(VLOOKUP(C31,'WK 9'!$K$6:$L$41,2,FALSE)=0),\"\",IF(VLOOKUP(C31,'WK 9'!$K$6:$L$41,2,FALSE)=0,\"\",VLOOKUP(C31,'WK 9'!$K$6:$L$41,2,FALSE)))","v":""},{"$f":"IF(ISNA(VLOOKUP(C31,'WK 10'!$K$6:$L$41,2,FALSE)=0),\"\",IF(VLOOKUP(C31,'WK 10'!$K$6:$L$41,2,FALSE)=0,\"\",VLOOKUP(C31,'WK 10'!$K$6:$L$41,2,FALSE)))","v":""},0]
[null,null,{"$f":"'WK 1'!$K$36","v":" "},{"$f":"IF(VLOOKUP('WK 1'!K36,'WK 1'!$K$6:$L$41,2,FALSE)=0,\"\",VLOOKUP('WK 1'!K36,'WK 1'!$K$6:$L$41,2,FALSE))","v":""},{"$f":"IF(ISNA(VLOOKUP(C32,'WK 2'!$K$6:$L$41,2,FALSE)=0),\"\",IF(VLOOKUP(C32,'WK 2'!$K$6:$L$41,2,FALSE)=0,\"\",VLOOKUP(C32,'WK 2'!$K$6:$L$41,2,FALSE)))","v":""},{"$f":"IF(ISNA(VLOOKUP(C32,'WK 3'!$K$6:$L$41,2,FALSE)=0),\"\",IF(VLOOKUP(C32,'WK 3'!$K$6:$L$41,2,FALSE)=0,\"\",VLOOKUP(C32,'WK 3'!$K$6:$L$41,2,FALSE)))","v":""},{"$f":"IF(ISNA(VLOOKUP(C32,'WK 4'!$K$6:$L$41,2,FALSE)=0),\"\",IF(VLOOKUP(C32,'WK 4'!$K$6:$L$41,2,FALSE)=0,\"\",VLOOKUP(C32,'WK 4'!$K$6:$L$41,2,FALSE)))","v":""},{"$f":"IF(ISNA(VLOOKUP(C32,'WK 5'!$K$6:$L$41,2,FALSE)=0),\"\",IF(VLOOKUP(C32,'WK 5'!$K$6:$L$41,2,FALSE)=0,\"\",VLOOKUP(C32,'WK 5'!$K$6:$L$41,2,FALSE)))","v":""},{"$f":"IF(ISNA(VLOOKUP(C32,'WK 6'!$K$6:$L$41,2,FALSE)=0),\"\",IF(VLOOKUP(C32,'WK 6'!$K$6:$L$41,2,FALSE)=0,\"\",VLOOKUP(C32,'WK 6'!$K$6:$L$41,2,FALSE)))","v":""},{"$f":"IF(ISNA(VLOOKUP(C32,'WK 7'!$K$6:$L$41,2,FALSE)=0),\"\",IF(VLOOKUP(C32,'WK 7'!$K$6:$L$41,2,FALSE)=0,\"\",VLOOKUP(C32,'WK 7'!$K$6:$L$41,2,FALSE)))","v":""},{"$f":"IF(ISNA(VLOOKUP(C32,'WK 8'!$K$6:$L$41,2,FALSE)=0),\"\",IF(VLOOKUP(C32,'WK 8'!$K$6:$L$41,2,FALSE)=0,\"\",VLOOKUP(C32,'WK 8'!$K$6:$L$41,2,FALSE)))","v":""},{"$f":"IF(ISNA(VLOOKUP(C32,'WK 9'!$K$6:$L$41,2,FALSE)=0),\"\",IF(VLOOKUP(C32,'WK 9'!$K$6:$L$41,2,FALSE)=0,\"\",VLOOKUP(C32,'WK 9'!$K$6:$L$41,2,FALSE)))","v":""},{"$f":"IF(ISNA(VLOOKUP(C32,'WK 10'!$K$6:$L$41,2,FALSE)=0),\"\",IF(VLOOKUP(C32,'WK 10'!$K$6:$L$41,2,FALSE)=0,\"\",VLOOKUP(C32,'WK 10'!$K$6:$L$41,2,FALSE)))","v":""},0]
[null,null,{"$f":"'WK 1'!$K$37","v":" "},{"$f":"IF(VLOOKUP('WK 1'!K37,'WK 1'!$K$6:$L$41,2,FALSE)=0,\"\",VLOOKUP('WK 1'!K37,'WK 1'!$K$6:$L$41,2,FALSE))","v":""},{"$f":"IF(ISNA(VLOOKUP(C33,'WK 2'!$K$6:$L$41,2,FALSE)=0),\"\",IF(VLOOKUP(C33,'WK 2'!$K$6:$L$41,2,FALSE)=0,\"\",VLOOKUP(C33,'WK 2'!$K$6:$L$41,2,FALSE)))","v":""},{"$f":"IF(ISNA(VLOOKUP(C33,'WK 3'!$K$6:$L$41,2,FALSE)=0),\"\",IF(VLOOKUP(C33,'WK 3'!$K$6:$L$41,2,FALSE)=0,\"\",VLOOKUP(C33,'WK 3'!$K$6:$L$41,2,FALSE)))","v":""},{"$f":"IF(ISNA(VLOOKUP(C33,'WK 4'!$K$6:$L$41,2,FALSE)=0),\"\",IF(VLOOKUP(C33,'WK 4'!$K$6:$L$41,2,FALSE)=0,\"\",VLOOKUP(C33,'WK 4'!$K$6:$L$41,2,FALSE)))","v":""},{"$f":"IF(ISNA(VLOOKUP(C33,'WK 5'!$K$6:$L$41,2,FALSE)=0),\"\",IF(VLOOKUP(C33,'WK 5'!$K$6:$L$41,2,FALSE)=0,\"\",VLOOKUP(C33,'WK 5'!$K$6:$L$41,2,FALSE)))","v":""},{"$f":"IF(ISNA(VLOOKUP(C33,'WK 6'!$K$6:$L$41,2,FALSE)=0),\"\",IF(VLOOKUP(C33,'WK 6'!$K$6:$L$41,2,FALSE)=0,\"\",VLOOKUP(C33,'WK 6'!$K$6:$L$41,2,FALSE)))","v":""},{"$f":"IF(ISNA(VLOOKUP(C33,'WK 7'!$K$6:$L$41,2,FALSE)=0),\"\",IF(VLOOKUP(C33,'WK 7'!$K$6:$L$41,2,FALSE)=0,\"\",VLOOKUP(C33,'WK 7'!$K$6:$L$41,2,FALSE)))","v":""},{"$f":"IF(ISNA(VLOOKUP(C33,'WK 8'!$K$6:$L$41,2,FALSE)=0),\"\",IF(VLOOKUP(C33,'WK 8'!$K$6:$L$41,2,FALSE)=0,\"\",VLOOKUP(C33,'WK 8'!$K$6:$L$41,2,FALSE)))","v":""},{"$f":"IF(ISNA(VLOOKUP(C33,'WK 9'!$K$6:$L$41,2,FALSE)=0),\"\",IF(VLOOKUP(C33,'WK 9'!$K$6:$L$41,2,FALSE)=0,\"\",VLOOKUP(C33,'WK 9'!$K$6:$L$41,2,FALSE)))","v":""},{"$f":"IF(ISNA(VLOOKUP(C33,'WK 10'!$K$6:$L$41,2,FALSE)=0),\"\",IF(VLOOKUP(C33,'WK 10'!$K$6:$L$41,2,FALSE)=0,\"\",VLOOKUP(C33,'WK 10'!$K$6:$L$41,2,FALSE)))","v":""},0]
[null,null,{"$f":"'WK 1'!$K$38","v":" "},{"$f":"IF(VLOOKUP('WK 1'!K38,'WK 1'!$K$6:$L$41,2,FALSE)=0,\"\",VLOOKUP('WK 1'!K38,'WK 1'!$K$6:$L$41,2,FALSE))","v":""},{"$f":"IF(ISNA(VLOOKUP(C34,'WK 2'!$K$6:$L$41,2,FALSE)=0),\"\",IF(VLOOKUP(C34,'WK 2'!$K$6:$L$41,2,FALSE)=0,\"\",VLOOKUP(C34,'WK 2'!$K$6:$L$41,2,FALSE)))","v":""},{"$f":"IF(ISNA(VLOOKUP(C34,'WK 3'!$K$6:$L$41,2,FALSE)=0),\"\",IF(VLOOKUP(C34,'WK 3'!$K$6:$L$41,2,FALSE)=0,\"\",VLOOKUP(C34,'WK 3'!$K$6:$L$41,2,FALSE)))","v":""},{"$f":"IF(ISNA(VLOOKUP(C34,'WK 4'!$K$6:$L$41,2,FALSE)=0),\"\",IF(VLOOKUP(C34,'WK 4'!$K$6:$L$41,2,FALSE)=0,\"\",VLOOKUP(C34,'WK 4'!$K$6:$L$41,2,FALSE)))","v":""},{"$f":"IF(ISNA(VLOOKUP(C34,'WK 5'!$K$6:$L$41,2,FALSE)=0),\"\",IF(VLOOKUP(C34,'WK 5'!$K$6:$L$41,2,FALSE)=0,\"\",VLOOKUP(C34,'WK 5'!$K$6:$L$41,2,FALSE)))","v":""},{"$f":"IF(ISNA(VLOOKUP(C34,'WK 6'!$K$6:$L$41,2,FALSE)=0),\"\",IF(VLOOKUP(C34,'WK 6'!$K$6:$L$41,2,FALSE)=0,\"\",VLOOKUP(C34,'WK 6'!$K$6:$L$41,2,FALSE)))","v":""},{"$f":"IF(ISNA(VLOOKUP(C34,'WK 7'!$K$6:$L$41,2,FALSE)=0),\"\",IF(VLOOKUP(C34,'WK 7'!$K$6:$L$41,2,FALSE)=0,\"\",VLOOKUP(C34,'WK 7'!$K$6:$L$41,2,FALSE)))","v":""},{"$f":"IF(ISNA(VLOOKUP(C34,'WK 8'!$K$6:$L$41,2,FALSE)=0),\"\",IF(VLOOKUP(C34,'WK 8'!$K$6:$L$41,2,FALSE)=0,\"\",VLOOKUP(C34,'WK 8'!$K$6:$L$41,2,FALSE)))","v":""},{"$f":"IF(ISNA(VLOOKUP(C34,'WK 9'!$K$6:$L$41,2,FALSE)=0),\"\",IF(VLOOKUP(C34,'WK 9'!$K$6:$L$41,2,FALSE)=0,\"\",VLOOKUP(C34,'WK 9'!$K$6:$L$41,2,FALSE)))","v":""},{"$f":"IF(ISNA(VLOOKUP(C34,'WK 10'!$K$6:$L$41,2,FALSE)=0),\"\",IF(VLOOKUP(C34,'WK 10'!$K$6:$L$41,2,FALSE)=0,\"\",VLOOKUP(C34,'WK 10'!$K$6:$L$41,2,FALSE)))","v":""},0]
[null,null,{"$f":"'WK 1'!$K$39","v":" "},{"$f":"IF(VLOOKUP('WK 1'!K39,'WK 1'!$K$6:$L$41,2,FALSE)=0,\"\",VLOOKUP('WK 1'!K39,'WK 1'!$K$6:$L$41,2,FALSE))","v":""},{"$f":"IF(ISNA(VLOOKUP(C35,'WK 2'!$K$6:$L$41,2,FALSE)=0),\"\",IF(VLOOKUP(C35,'WK 2'!$K$6:$L$41,2,FALSE)=0,\"\",VLOOKUP(C35,'WK 2'!$K$6:$L$41,2,FALSE)))","v":""},{"$f":"IF(ISNA(VLOOKUP(C35,'WK 3'!$K$6:$L$41,2,FALSE)=0),\"\",IF(VLOOKUP(C35,'WK 3'!$K$6:$L$41,2,FALSE)=0,\"\",VLOOKUP(C35,'WK 3'!$K$6:$L$41,2,FALSE)))","v":""},{"$f":"IF(ISNA(VLOOKUP(C35,'WK 4'!$K$6:$L$41,2,FALSE)=0),\"\",IF(VLOOKUP(C35,'WK 4'!$K$6:$L$41,2,FALSE)=0,\"\",VLOOKUP(C35,'WK 4'!$K$6:$L$41,2,FALSE)))","v":""},{"$f":"IF(ISNA(VLOOKUP(C35,'WK 5'!$K$6:$L$41,2,FALSE)=0),\"\",IF(VLOOKUP(C35,'WK 5'!$K$6:$L$41,2,FALSE)=0,\"\",VLOOKUP(C35,'WK 5'!$K$6:$L$41,2,FALSE)))","v":""},{"$f":"IF(ISNA(VLOOKUP(C35,'WK 6'!$K$6:$L$41,2,FALSE)=0),\"\",IF(VLOOKUP(C35,'WK 6'!$K$6:$L$41,2,FALSE)=0,\"\",VLOOKUP(C35,'WK 6'!$K$6:$L$41,2,FALSE)))","v":""},{"$f":"IF(ISNA(VLOOKUP(C35,'WK 7'!$K$6:$L$41,2,FALSE)=0),\"\",IF(VLOOKUP(C35,'WK 7'!$K$6:$L$41,2,FALSE)=0,\"\",VLOOKUP(C35,'WK 7'!$K$6:$L$41,2,FALSE)))","v":""},{"$f":"IF(ISNA(VLOOKUP(C35,'WK 8'!$K$6:$L$41,2,FALSE)=0),\"\",IF(VLOOKUP(C35,'WK 8'!$K$6:$L$41,2,FALSE)=0,\"\",VLOOKUP(C35,'WK 8'!$K$6:$L$41,2,FALSE)))","v":""},{"$f":"IF(ISNA(VLOOKUP(C35,'WK 9'!$K$6:$L$41,2,FALSE)=0),\"\",IF(VLOOKUP(C35,'WK 9'!$K$6:$L$41,2,FALSE)=0,\"\",VLOOKUP(C35,'WK 9'!$K$6:$L$41,2,FALSE)))","v":""},{"$f":"IF(ISNA(VLOOKUP(C35,'WK 10'!$K$6:$L$41,2,FALSE)=0),\"\",IF(VLOOKUP(C35,'WK 10'!$K$6:$L$41,2,FALSE)=0,\"\",VLOOKUP(C35,'WK 10'!$K$6:$L$41,2,FALSE)))","v":""},0]
[null,null,{"$f":"'WK 1'!$K$40","v":" "},{"$f":"IF(VLOOKUP('WK 1'!K40,'WK 1'!$K$6:$L$41,2,FALSE)=0,\"\",VLOOKUP('WK 1'!K40,'WK 1'!$K$6:$L$41,2,FALSE))","v":""},{"$f":"IF(ISNA(VLOOKUP(C36,'WK 2'!$K$6:$L$41,2,FALSE)=0),\"\",IF(VLOOKUP(C36,'WK 2'!$K$6:$L$41,2,FALSE)=0,\"\",VLOOKUP(C36,'WK 2'!$K$6:$L$41,2,FALSE)))","v":""},{"$f":"IF(ISNA(VLOOKUP(C36,'WK 3'!$K$6:$L$41,2,FALSE)=0),\"\",IF(VLOOKUP(C36,'WK 3'!$K$6:$L$41,2,FALSE)=0,\"\",VLOOKUP(C36,'WK 3'!$K$6:$L$41,2,FALSE)))","v":""},{"$f":"IF(ISNA(VLOOKUP(C36,'WK 4'!$K$6:$L$41,2,FALSE)=0),\"\",IF(VLOOKUP(C36,'WK 4'!$K$6:$L$41,2,FALSE)=0,\"\",VLOOKUP(C36,'WK 4'!$K$6:$L$41,2,FALSE)))","v":""},{"$f":"IF(ISNA(VLOOKUP(C36,'WK 5'!$K$6:$L$41,2,FALSE)=0),\"\",IF(VLOOKUP(C36,'WK 5'!$K$6:$L$41,2,FALSE)=0,\"\",VLOOKUP(C36,'WK 5'!$K$6:$L$41,2,FALSE)))","v":""},{"$f":"IF(ISNA(VLOOKUP(C36,'WK 6'!$K$6:$L$41,2,FALSE)=0),\"\",IF(VLOOKUP(C36,'WK 6'!$K$6:$L$41,2,FALSE)=0,\"\",VLOOKUP(C36,'WK 6'!$K$6:$L$41,2,FALSE)))","v":""},{"$f":"IF(ISNA(VLOOKUP(C36,'WK 7'!$K$6:$L$41,2,FALSE)=0),\"\",IF(VLOOKUP(C36,'WK 7'!$K$6:$L$41,2,FALSE)=0,\"\",VLOOKUP(C36,'WK 7'!$K$6:$L$41,2,FALSE)))","v":""},{"$f":"IF(ISNA(VLOOKUP(C36,'WK 8'!$K$6:$L$41,2,FALSE)=0),\"\",IF(VLOOKUP(C36,'WK 8'!$K$6:$L$41,2,FALSE)=0,\"\",VLOOKUP(C36,'WK 8'!$K$6:$L$41,2,FALSE)))","v":""},{"$f":"IF(ISNA(VLOOKUP(C36,'WK 9'!$K$6:$L$41,2,FALSE)=0),\"\",IF(VLOOKUP(C36,'WK 9'!$K$6:$L$41,2,FALSE)=0,\"\",VLOOKUP(C36,'WK 9'!$K$6:$L$41,2,FALSE)))","v":""},{"$f":"IF(ISNA(VLOOKUP(C36,'WK 10'!$K$6:$L$41,2,FALSE)=0),\"\",IF(VLOOKUP(C36,'WK 10'!$K$6:$L$41,2,FALSE)=0,\"\",VLOOKUP(C36,'WK 10'!$K$6:$L$41,2,FALSE)))","v":""},0]
[null,null,{"$f":"'WK 1'!$K$41","v":" "},{"$f":"IF(VLOOKUP('WK 1'!K41,'WK 1'!$K$6:$L$41,2,FALSE)=0,\"\",VLOOKUP('WK 1'!K41,'WK 1'!$K$6:$L$41,2,FALSE))","v":""},{"$f":"IF(ISNA(VLOOKUP(C37,'WK 2'!$K$6:$L$41,2,FALSE)=0),\"\",IF(VLOOKUP(C37,'WK 2'!$K$6:$L$41,2,FALSE)=0,\"\",VLOOKUP(C37,'WK 2'!$K$6:$L$41,2,FALSE)))","v":""},{"$f":"IF(ISNA(VLOOKUP(C37,'WK 3'!$K$6:$L$41,2,FALSE)=0),\"\",IF(VLOOKUP(C37,'WK 3'!$K$6:$L$41,2,FALSE)=0,\"\",VLOOKUP(C37,'WK 3'!$K$6:$L$41,2,FALSE)))","v":""},{"$f":"IF(ISNA(VLOOKUP(C37,'WK 4'!$K$6:$L$41,2,FALSE)=0),\"\",IF(VLOOKUP(C37,'WK 4'!$K$6:$L$41,2,FALSE)=0,\"\",VLOOKUP(C37,'WK 4'!$K$6:$L$41,2,FALSE)))","v":""},{"$f":"IF(ISNA(VLOOKUP(C37,'WK 5'!$K$6:$L$41,2,FALSE)=0),\"\",IF(VLOOKUP(C37,'WK 5'!$K$6:$L$41,2,FALSE)=0,\"\",VLOOKUP(C37,'WK 5'!$K$6:$L$41,2,FALSE)))","v":""},{"$f":"IF(ISNA(VLOOKUP(C37,'WK 6'!$K$6:$L$41,2,FALSE)=0),\"\",IF(VLOOKUP(C37,'WK 6'!$K$6:$L$41,2,FALSE)=0,\"\",VLOOKUP(C37,'WK 6'!$K$6:$L$41,2,FALSE)))","v":""},{"$f":"IF(ISNA(VLOOKUP(C37,'WK 7'!$K$6:$L$41,2,FALSE)=0),\"\",IF(VLOOKUP(C37,'WK 7'!$K$6:$L$41,2,FALSE)=0,\"\",VLOOKUP(C37,'WK 7'!$K$6:$L$41,2,FALSE)))","v":""},{"$f":"IF(ISNA(VLOOKUP(C37,'WK 8'!$K$6:$L$41,2,FALSE)=0),\"\",IF(VLOOKUP(C37,'WK 8'!$K$6:$L$41,2,FALSE)=0,\"\",VLOOKUP(C37,'WK 8'!$K$6:$L$41,2,FALSE)))","v":""},{"$f":"IF(ISNA(VLOOKUP(C37,'WK 9'!$K$6:$L$41,2,FALSE)=0),\"\",IF(VLOOKUP(C37,'WK 9'!$K$6:$L$41,2,FALSE)=0,\"\",VLOOKUP(C37,'WK 9'!$K$6:$L$41,2,FALSE)))","v":""},{"$f":"IF(ISNA(VLOOKUP(C37,'WK 10'!$K$6:$L$41,2,FALSE)=0),\"\",IF(VLOOKUP(C37,'WK 10'!$K$6:$L$41,2,FALSE)=0,\"\",VLOOKUP(C37,'WK 10'!$K$6:$L$41,2,FALSE)))","v":""},0]
[null,"WK 2 Beginn",{"$f":"IF(ISNA(VLOOKUP('WK 2'!K6,$C$2:$C$37,1,FALSE)),VLOOKUP('WK 2'!K6,'WK 2'!$K$6:$K$450,1,FALSE),\"\")","v":""},null,{"$f":"IF(ISNA(VLOOKUP(C38,'WK 2'!$K$6:$L$41,2,FALSE)=0),\"\",IF(VLOOKUP(C38,'WK 2'!$K$6:$L$41,2,FALSE)=0,\"\",VLOOKUP(C38,'WK 2'!$K$6:$L$41,2,FALSE)))","v":""},{"$f":"IF(ISNA(VLOOKUP(C38,'WK 3'!$K$6:$L$41,2,FALSE)=0),\"\",IF(VLOOKUP(C38,'WK 3'!$K$6:$L$41,2,FALSE)=0,\"\",VLOOKUP(C38,'WK 3'!$K$6:$L$41,2,FALSE)))","v":""},{"$f":"IF(ISNA(VLOOKUP(C38,'WK 4'!$K$6:$L$41,2,FALSE)=0),\"\",IF(VLOOKUP(C38,'WK 4'!$K$6:$L$41,2,FALSE)=0,\"\",VLOOKUP(C38,'WK 4'!$K$6:$L$41,2,FALSE)))","v":""},{"$f":"IF(ISNA(VLOOKUP(C38,'WK 5'!$K$6:$L$41,2,FALSE)=0),\"\",IF(VLOOKUP(C38,'WK 5'!$K$6:$L$41,2,FALSE)=0,\"\",VLOOKUP(C38,'WK 5'!$K$6:$L$41,2,FALSE)))","v":""},{"$f":"IF(ISNA(VLOOKUP(C38,'WK 6'!$K$6:$L$41,2,FALSE)=0),\"\",IF(VLOOKUP(C38,'WK 6'!$K$6:$L$41,2,FALSE)=0,\"\",VLOOKUP(C38,'WK 6'!$K$6:$L$41,2,FALSE)))","v":""},{"$f":"IF(ISNA(VLOOKUP(C38,'WK 7'!$K$6:$L$41,2,FALSE)=0),\"\",IF(VLOOKUP(C38,'WK 7'!$K$6:$L$41,2,FALSE)=0,\"\",VLOOKUP(C38,'WK 7'!$K$6:$L$41,2,FALSE)))","v":""},{"$f":"IF(ISNA(VLOOKUP(C38,'WK 8'!$K$6:$L$41,2,FALSE)=0),\"\",IF(VLOOKUP(C38,'WK 8'!$K$6:$L$41,2,FALSE)=0,\"\",VLOOKUP(C38,'WK 8'!$K$6:$L$41,2,FALSE)))","v":""},{"$f":"IF(ISNA(VLOOKUP(C38,'WK 9'!$K$6:$L$41,2,FALSE)=0),\"\",IF(VLOOKUP(C38,'WK 9'!$K$6:$L$41,2,FALSE)=0,\"\",VLOOKUP(C38,'WK 9'!$K$6:$L$41,2,FALSE)))","v":""},{"$f":"IF(ISNA(VLOOKUP(C38,'WK 10'!$K$6:$L$41,2,FALSE)=0),\"\",IF(VLOOKUP(C38,'WK 10'!$K$6:$L$41,2,FALSE)=0,\"\",VLOOKUP(C38,'WK 10'!$K$6:$L$41,2,FALSE)))","v":""},0]
[null,null,{"$f":"IF(ISNA(VLOOKUP('WK 2'!K7,$C$2:$C$37,1,FALSE)),VLOOKUP('WK 2'!K7,'WK 2'!$K$6:$K$450,1,FALSE),\"\")","v":""},null,{"$f":"IF(ISNA(VLOOKUP(C39,'WK 2'!$K$6:$L$41,2,FALSE)=0),\"\",IF(VLOOKUP(C39,'WK 2'!$K$6:$L$41,2,FALSE)=0,\"\",VLOOKUP(C39,'WK 2'!$K$6:$L$41,2,FALSE)))","v":""},{"$f":"IF(ISNA(VLOOKUP(C39,'WK 3'!$K$6:$L$41,2,FALSE)=0),\"\",IF(VLOOKUP(C39,'WK 3'!$K$6:$L$41,2,FALSE)=0,\"\",VLOOKUP(C39,'WK 3'!$K$6:$L$41,2,FALSE)))","v":""},{"$f":"IF(ISNA(VLOOKUP(C39,'WK 4'!$K$6:$L$41,2,FALSE)=0),\"\",IF(VLOOKUP(C39,'WK 4'!$K$6:$L$41,2,FALSE)=0,\"\",VLOOKUP(C39,'WK 4'!$K$6:$L$41,2,FALSE)))","v":""},{"$f":"IF(ISNA(VLOOKUP(C39,'WK 5'!$K$6:$L$41,2,FALSE)=0),\"\",IF(VLOOKUP(C39,'WK 5'!$K$6:$L$41,2,FALSE)=0,\"\",VLOOKUP(C39,'WK 5'!$K$6:$L$41,2,FALSE)))","v":""},{"$f":"IF(ISNA(VLOOKUP(C39,'WK 6'!$K$6:$L$41,2,FALSE)=0),\"\",IF(VLOOKUP(C39,'WK 6'!$K$6:$L$41,2,FALSE)=0,\"\",VLOOKUP(C39,'WK 6'!$K$6:$L$41,2,FALSE)))","v":""},{"$f":"IF(ISNA(VLOOKUP(C39,'WK 7'!$K$6:$L$41,2,FALSE)=0),\"\",IF(VLOOKUP(C39,'WK 7'!$K$6:$L$41,2,FALSE)=0,\"\",VLOOKUP(C39,'WK 7'!$K$6:$L$41,2,FALSE)))","v":""},{"$f":"IF(ISNA(VLOOKUP(C39,'WK 8'!$K$6:$L$41,2,FALSE)=0),\"\",IF(VLOOKUP(C39,'WK 8'!$K$6:$L$41,2,FALSE)=0,\"\",VLOOKUP(C39,'WK 8'!$K$6:$L$41,2,FALSE)))","v":""},{"$f":"IF(ISNA(VLOOKUP(C39,'WK 9'!$K$6:$L$41,2,FALSE)=0),\"\",IF(VLOOKUP(C39,'WK 9'!$K$6:$L$41,2,FALSE)=0,\"\",VLOOKUP(C39,'WK 9'!$K$6:$L$41,2,FALSE)))","v":""},{"$f":"IF(ISNA(VLOOKUP(C39,'WK 10'!$K$6:$L$41,2,FALSE)=0),\"\",IF(VLOOKUP(C39,'WK 10'!$K$6:$L$41,2,FALSE)=0,\"\",VLOOKUP(C39,'WK 10'!$K$6:$L$41,2,FALSE)))","v":""},0]
[null,null,{"$f":"IF(ISNA(VLOOKUP('WK 2'!K8,$C$2:$C$37,1,FALSE)),VLOOKUP('WK 2'!K8,'WK 2'!$K$6:$K$450,1,FALSE),\"\")","v":""},null,{"$f":"IF(ISNA(VLOOKUP(C40,'WK 2'!$K$6:$L$41,2,FALSE)=0),\"\",IF(VLOOKUP(C40,'WK 2'!$K$6:$L$41,2,FALSE)=0,\"\",VLOOKUP(C40,'WK 2'!$K$6:$L$41,2,FALSE)))","v":""},{"$f":"IF(ISNA(VLOOKUP(C40,'WK 3'!$K$6:$L$41,2,FALSE)=0),\"\",IF(VLOOKUP(C40,'WK 3'!$K$6:$L$41,2,FALSE)=0,\"\",VLOOKUP(C40,'WK 3'!$K$6:$L$41,2,FALSE)))","v":""},{"$f":"IF(ISNA(VLOOKUP(C40,'WK 4'!$K$6:$L$41,2,FALSE)=0),\"\",IF(VLOOKUP(C40,'WK 4'!$K$6:$L$41,2,FALSE)=0,\"\",VLOOKUP(C40,'WK 4'!$K$6:$L$41,2,FALSE)))","v":""},{"$f":"IF(ISNA(VLOOKUP(C40,'WK 5'!$K$6:$L$41,2,FALSE)=0),\"\",IF(VLOOKUP(C40,'WK 5'!$K$6:$L$41,2,FALSE)=0,\"\",VLOOKUP(C40,'WK 5'!$K$6:$L$41,2,FALSE)))","v":""},{"$f":"IF(ISNA(VLOOKUP(C40,'WK 6'!$K$6:$L$41,2,FALSE)=0),\"\",IF(VLOOKUP(C40,'WK 6'!$K$6:$L$41,2,FALSE)=0,\"\",VLOOKUP(C40,'WK 6'!$K$6:$L$41,2,FALSE)))","v":""},{"$f":"IF(ISNA(VLOOKUP(C40,'WK 7'!$K$6:$L$41,2,FALSE)=0),\"\",IF(VLOOKUP(C40,'WK 7'!$K$6:$L$41,2,FALSE)=0,\"\",VLOOKUP(C40,'WK 7'!$K$6:$L$41,2,FALSE)))","v":""},{"$f":"IF(ISNA(VLOOKUP(C40,'WK 8'!$K$6:$L$41,2,FALSE)=0),\"\",IF(VLOOKUP(C40,'WK 8'!$K$6:$L$41,2,FALSE)=0,\"\",VLOOKUP(C40,'WK 8'!$K$6:$L$41,2,FALSE)))","v":""},{"$f":"IF(ISNA(VLOOKUP(C40,'WK 9'!$K$6:$L$41,2,FALSE)=0),\"\",IF(VLOOKUP(C40,'WK 9'!$K$6:$L$41,2,FALSE)=0,\"\",VLOOKUP(C40,'WK 9'!$K$6:$L$41,2,FALSE)))","v":""},{"$f":"IF(ISNA(VLOOKUP(C40,'WK 10'!$K$6:$L$41,2,FALSE)=0),\"\",IF(VLOOKUP(C40,'WK 10'!$K$6:$L$41,2,FALSE)=0,\"\",VLOOKUP(C40,'WK 10'!$K$6:$L$41,2,FALSE)))","v":""},0]
[null,null,{"$f":"IF(ISNA(VLOOKUP('WK 2'!K9,$C$2:$C$37,1,FALSE)),VLOOKUP('WK 2'!K9,'WK 2'!$K$6:$K$450,1,FALSE),\"\")","v":""},null,{"$f":"IF(ISNA(VLOOKUP(C41,'WK 2'!$K$6:$L$41,2,FALSE)=0),\"\",IF(VLOOKUP(C41,'WK 2'!$K$6:$L$41,2,FALSE)=0,\"\",VLOOKUP(C41,'WK 2'!$K$6:$L$41,2,FALSE)))","v":""},{"$f":"IF(ISNA(VLOOKUP(C41,'WK 3'!$K$6:$L$41,2,FALSE)=0),\"\",IF(VLOOKUP(C41,'WK 3'!$K$6:$L$41,2,FALSE)=0,\"\",VLOOKUP(C41,'WK 3'!$K$6:$L$41,2,FALSE)))","v":""},{"$f":"IF(ISNA(VLOOKUP(C41,'WK 4'!$K$6:$L$41,2,FALSE)=0),\"\",IF(VLOOKUP(C41,'WK 4'!$K$6:$L$41,2,FALSE)=0,\"\",VLOOKUP(C41,'WK 4'!$K$6:$L$41,2,FALSE)))","v":""},{"$f":"IF(ISNA(VLOOKUP(C41,'WK 5'!$K$6:$L$41,2,FALSE)=0),\"\",IF(VLOOKUP(C41,'WK 5'!$K$6:$L$41,2,FALSE)=0,\"\",VLOOKUP(C41,'WK 5'!$K$6:$L$41,2,FALSE)))","v":""},{"$f":"IF(ISNA(VLOOKUP(C41,'WK 6'!$K$6:$L$41,2,FALSE)=0),\"\",IF(VLOOKUP(C41,'WK 6'!$K$6:$L$41,2,FALSE)=0,\"\",VLOOKUP(C41,'WK 6'!$K$6:$L$41,2,FALSE)))","v":""},{"$f":"IF(ISNA(VLOOKUP(C41,'WK 7'!$K$6:$L$41,2,FALSE)=0),\"\",IF(VLOOKUP(C41,'WK 7'!$K$6:$L$41,2,FALSE)=0,\"\",VLOOKUP(C41,'WK 7'!$K$6:$L$41,2,FALSE)))","v":""},{"$f":"IF(ISNA(VLOOKUP(C41,'WK 8'!$K$6:$L$41,2,FALSE)=0),\"\",IF(VLOOKUP(C41,'WK 8'!$K$6:$L$41,2,FALSE)=0,\"\",VLOOKUP(C41,'WK 8'!$K$6:$L$41,2,FALSE)))","v":""},{"$f":"IF(ISNA(VLOOKUP(C41,'WK 9'!$K$6:$L$41,2,FALSE)=0),\"\",IF(VLOOKUP(C41,'WK 9'!$K$6:$L$41,2,FALSE)=0,\"\",VLOOKUP(C41,'WK 9'!$K$6:$L$41,2,FALSE)))","v":""},{"$f":"IF(ISNA(VLOOKUP(C41,'WK 10'!$K$6:$L$41,2,FALSE)=0),\"\",IF(VLOOKUP(C41,'WK 10'!$K$6:$L$41,2,FALSE)=0,\"\",VLOOKUP(C41,'WK 10'!$K$6:$L$41,2,FALSE)))","v":""},0]
[null,null,{"$f":"IF(ISNA(VLOOKUP('WK 2'!K10,$C$2:$C$37,1,FALSE)),VLOOKUP('WK 2'!K10,'WK 2'!$K$6:$K$450,1,FALSE),\"\")","v":""},null,{"$f":"IF(ISNA(VLOOKUP(C42,'WK 2'!$K$6:$L$41,2,FALSE)=0),\"\",IF(VLOOKUP(C42,'WK 2'!$K$6:$L$41,2,FALSE)=0,\"\",VLOOKUP(C42,'WK 2'!$K$6:$L$41,2,FALSE)))","v":""},{"$f":"IF(ISNA(VLOOKUP(C42,'WK 3'!$K$6:$L$41,2,FALSE)=0),\"\",IF(VLOOKUP(C42,'WK 3'!$K$6:$L$41,2,FALSE)=0,\"\",VLOOKUP(C42,'WK 3'!$K$6:$L$41,2,FALSE)))","v":""},{"$f":"IF(ISNA(VLOOKUP(C42,'WK 4'!$K$6:$L$41,2,FALSE)=0),\"\",IF(VLOOKUP(C42,'WK 4'!$K$6:$L$41,2,FALSE)=0,\"\",VLOOKUP(C42,'WK 4'!$K$6:$L$41,2,FALSE)))","v":""},{"$f":"IF(ISNA(VLOOKUP(C42,'WK 5'!$K$6:$L$41,2,FALSE)=0),\"\",IF(VLOOKUP(C42,'WK 5'!$K$6:$L$41,2,FALSE)=0,\"\",VLOOKUP(C42,'WK 5'!$K$6:$L$41,2,FALSE)))","v":""},{"$f":"IF(ISNA(VLOOKUP(C42,'WK 6'!$K$6:$L$41,2,FALSE)=0),\"\",IF(VLOOKUP(C42,'WK 6'!$K$6:$L$41,2,FALSE)=0,\"\",VLOOKUP(C42,'WK 6'!$K$6:$L$41,2,FALSE)))","v":""},{"$f":"IF(ISNA(VLOOKUP(C42,'WK 7'!$K$6:$L$41,2,FALSE)=0),\"\",IF(VLOOKUP(C42,'WK 7'!$K$6:$L$41,2,FALSE)=0,\"\",VLOOKUP(C42,'WK 7'!$K$6:$L$41,2,FALSE)))","v":""},{"$f":"IF(ISNA(VLOOKUP(C42,'WK 8'!$K$6:$L$41,2,FALSE)=0),\"\",IF(VLOOKUP(C42,'WK 8'!$K$6:$L$41,2,FALSE)=0,\"\",VLOOKUP(C42,'WK 8'!$K$6:$L$41,2,FALSE)))","v":""},{"$f":"IF(ISNA(VLOOKUP(C42,'WK 9'!$K$6:$L$41,2,FALSE)=0),\"\",IF(VLOOKUP(C42,'WK 9'!$K$6:$L$41,2,FALSE)=0,\"\",VLOOKUP(C42,'WK 9'!$K$6:$L$41,2,FALSE)))","v":""},{"$f":"IF(ISNA(VLOOKUP(C42,'WK 10'!$K$6:$L$41,2,FALSE)=0),\"\",IF(VLOOKUP(C42,'WK 10'!$K$6:$L$41,2,FALSE)=0,\"\",VLOOKUP(C42,'WK 10'!$K$6:$L$41,2,FALSE)))","v":""},0]
[null,null,{"$f":"IF(ISNA(VLOOKUP('WK 2'!K11,$C$2:$C$37,1,FALSE)),VLOOKUP('WK 2'!K11,'WK 2'!$K$6:$K$450,1,FALSE),\"\")","v":""},null,{"$f":"IF(ISNA(VLOOKUP(C43,'WK 2'!$K$6:$L$41,2,FALSE)=0),\"\",IF(VLOOKUP(C43,'WK 2'!$K$6:$L$41,2,FALSE)=0,\"\",VLOOKUP(C43,'WK 2'!$K$6:$L$41,2,FALSE)))","v":""},{"$f":"IF(ISNA(VLOOKUP(C43,'WK 3'!$K$6:$L$41,2,FALSE)=0),\"\",IF(VLOOKUP(C43,'WK 3'!$K$6:$L$41,2,FALSE)=0,\"\",VLOOKUP(C43,'WK 3'!$K$6:$L$41,2,FALSE)))","v":""},{"$f":"IF(ISNA(VLOOKUP(C43,'WK 4'!$K$6:$L$41,2,FALSE)=0),\"\",IF(VLOOKUP(C43,'WK 4'!$K$6:$L$41,2,FALSE)=0,\"\",VLOOKUP(C43,'WK 4'!$K$6:$L$41,2,FALSE)))","v":""},{"$f":"IF(ISNA(VLOOKUP(C43,'WK 5'!$K$6:$L$41,2,FALSE)=0),\"\",IF(VLOOKUP(C43,'WK 5'!$K$6:$L$41,2,FALSE)=0,\"\",VLOOKUP(C43,'WK 5'!$K$6:$L$41,2,FALSE)))","v":""},{"$f":"IF(ISNA(VLOOKUP(C43,'WK 6'!$K$6:$L$41,2,FALSE)=0),\"\",IF(VLOOKUP(C43,'WK 6'!$K$6:$L$41,2,FALSE)=0,\"\",VLOOKUP(C43,'WK 6'!$K$6:$L$41,2,FALSE)))","v":""},{"$f":"IF(ISNA(VLOOKUP(C43,'WK 7'!$K$6:$L$41,2,FALSE)=0),\"\",IF(VLOOKUP(C43,'WK 7'!$K$6:$L$41,2,FALSE)=0,\"\",VLOOKUP(C43,'WK 7'!$K$6:$L$41,2,FALSE)))","v":""},{"$f":"IF(ISNA(VLOOKUP(C43,'WK 8'!$K$6:$L$41,2,FALSE)=0),\"\",IF(VLOOKUP(C43,'WK 8'!$K$6:$L$41,2,FALSE)=0,\"\",VLOOKUP(C43,'WK 8'!$K$6:$L$41,2,FALSE)))","v":""},{"$f":"IF(ISNA(VLOOKUP(C43,'WK 9'!$K$6:$L$41,2,FALSE)=0),\"\",IF(VLOOKUP(C43,'WK 9'!$K$6:$L$41,2,FALSE)=0,\"\",VLOOKUP(C43,'WK 9'!$K$6:$L$41,2,FALSE)))","v":""},{"$f":"IF(ISNA(VLOOKUP(C43,'WK 10'!$K$6:$L$41,2,FALSE)=0),\"\",IF(VLOOKUP(C43,'WK 10'!$K$6:$L$41,2,FALSE)=0,\"\",VLOOKUP(C43,'WK 10'!$K$6:$L$41,2,FALSE)))","v":""},0]
[null,null,{"$f":"IF(ISNA(VLOOKUP('WK 2'!K12,$C$2:$C$37,1,FALSE)),VLOOKUP('WK 2'!K12,'WK 2'!$K$6:$K$450,1,FALSE),\"\")","v":""},null,{"$f":"IF(ISNA(VLOOKUP(C44,'WK 2'!$K$6:$L$41,2,FALSE)=0),\"\",IF(VLOOKUP(C44,'WK 2'!$K$6:$L$41,2,FALSE)=0,\"\",VLOOKUP(C44,'WK 2'!$K$6:$L$41,2,FALSE)))","v":""},{"$f":"IF(ISNA(VLOOKUP(C44,'WK 3'!$K$6:$L$41,2,FALSE)=0),\"\",IF(VLOOKUP(C44,'WK 3'!$K$6:$L$41,2,FALSE)=0,\"\",VLOOKUP(C44,'WK 3'!$K$6:$L$41,2,FALSE)))","v":""},{"$f":"IF(ISNA(VLOOKUP(C44,'WK 4'!$K$6:$L$41,2,FALSE)=0),\"\",IF(VLOOKUP(C44,'WK 4'!$K$6:$L$41,2,FALSE)=0,\"\",VLOOKUP(C44,'WK 4'!$K$6:$L$41,2,FALSE)))","v":""},{"$f":"IF(ISNA(VLOOKUP(C44,'WK 5'!$K$6:$L$41,2,FALSE)=0),\"\",IF(VLOOKUP(C44,'WK 5'!$K$6:$L$41,2,FALSE)=0,\"\",VLOOKUP(C44,'WK 5'!$K$6:$L$41,2,FALSE)))","v":""},{"$f":"IF(ISNA(VLOOKUP(C44,'WK 6'!$K$6:$L$41,2,FALSE)=0),\"\",IF(VLOOKUP(C44,'WK 6'!$K$6:$L$41,2,FALSE)=0,\"\",VLOOKUP(C44,'WK 6'!$K$6:$L$41,2,FALSE)))","v":""},{"$f":"IF(ISNA(VLOOKUP(C44,'WK 7'!$K$6:$L$41,2,FALSE)=0),\"\",IF(VLOOKUP(C44,'WK 7'!$K$6:$L$41,2,FALSE)=0,\"\",VLOOKUP(C44,'WK 7'!$K$6:$L$41,2,FALSE)))","v":""},{"$f":"IF(ISNA(VLOOKUP(C44,'WK 8'!$K$6:$L$41,2,FALSE)=0),\"\",IF(VLOOKUP(C44,'WK 8'!$K$6:$L$41,2,FALSE)=0,\"\",VLOOKUP(C44,'WK 8'!$K$6:$L$41,2,FALSE)))","v":""},{"$f":"IF(ISNA(VLOOKUP(C44,'WK 9'!$K$6:$L$41,2,FALSE)=0),\"\",IF(VLOOKUP(C44,'WK 9'!$K$6:$L$41,2,FALSE)=0,\"\",VLOOKUP(C44,'WK 9'!$K$6:$L$41,2,FALSE)))","v":""},{"$f":"IF(ISNA(VLOOKUP(C44,'WK 10'!$K$6:$L$41,2,FALSE)=0),\"\",IF(VLOOKUP(C44,'WK 10'!$K$6:$L$41,2,FALSE)=0,\"\",VLOOKUP(C44,'WK 10'!$K$6:$L$41,2,FALSE)))","v":""},0]
[null,null,{"$f":"IF(ISNA(VLOOKUP('WK 2'!K13,$C$2:$C$37,1,FALSE)),VLOOKUP('WK 2'!K13,'WK 2'!$K$6:$K$450,1,FALSE),\"\")","v":""},null,{"$f":"IF(ISNA(VLOOKUP(C45,'WK 2'!$K$6:$L$41,2,FALSE)=0),\"\",IF(VLOOKUP(C45,'WK 2'!$K$6:$L$41,2,FALSE)=0,\"\",VLOOKUP(C45,'WK 2'!$K$6:$L$41,2,FALSE)))","v":""},{"$f":"IF(ISNA(VLOOKUP(C45,'WK 3'!$K$6:$L$41,2,FALSE)=0),\"\",IF(VLOOKUP(C45,'WK 3'!$K$6:$L$41,2,FALSE)=0,\"\",VLOOKUP(C45,'WK 3'!$K$6:$L$41,2,FALSE)))","v":""},{"$f":"IF(ISNA(VLOOKUP(C45,'WK 4'!$K$6:$L$41,2,FALSE)=0),\"\",IF(VLOOKUP(C45,'WK 4'!$K$6:$L$41,2,FALSE)=0,\"\",VLOOKUP(C45,'WK 4'!$K$6:$L$41,2,FALSE)))","v":""},{"$f":"IF(ISNA(VLOOKUP(C45,'WK 5'!$K$6:$L$41,2,FALSE)=0),\"\",IF(VLOOKUP(C45,'WK 5'!$K$6:$L$41,2,FALSE)=0,\"\",VLOOKUP(C45,'WK 5'!$K$6:$L$41,2,FALSE)))","v":""},{"$f":"IF(ISNA(VLOOKUP(C45,'WK 6'!$K$6:$L$41,2,FALSE)=0),\"\",IF(VLOOKUP(C45,'WK 6'!$K$6:$L$41,2,FALSE)=0,\"\",VLOOKUP(C45,'WK 6'!$K$6:$L$41,2,FALSE)))","v":""},{"$f":"IF(ISNA(VLOOKUP(C45,'WK 7'!$K$6:$L$41,2,FALSE)=0),\"\",IF(VLOOKUP(C45,'WK 7'!$K$6:$L$41,2,FALSE)=0,\"\",VLOOKUP(C45,'WK 7'!$K$6:$L$41,2,FALSE)))","v":""},{"$f":"IF(ISNA(VLOOKUP(C45,'WK 8'!$K$6:$L$41,2,FALSE)=0),\"\",IF(VLOOKUP(C45,'WK 8'!$K$6:$L$41,2,FALSE)=0,\"\",VLOOKUP(C45,'WK 8'!$K$6:$L$41,2,FALSE)))","v":""},{"$f":"IF(ISNA(VLOOKUP(C45,'WK 9'!$K$6:$L$41,2,FALSE)=0),\"\",IF(VLOOKUP(C45,'WK 9'!$K$6:$L$41,2,FALSE)=0,\"\",VLOOKUP(C45,'WK 9'!$K$6:$L$41,2,FALSE)))","v":""},{"$f":"IF(ISNA(VLOOKUP(C45,'WK 10'!$K$6:$L$41,2,FALSE)=0),\"\",IF(VLOOKUP(C45,'WK 10'!$K$6:$L$41,2,FALSE)=0,\"\",VLOOKUP(C45,'WK 10'!$K$6:$L$41,2,FALSE)))","v":""},0]
[null,null,{"$f":"IF(ISNA(VLOOKUP('WK 2'!K14,$C$2:$C$37,1,FALSE)),VLOOKUP('WK 2'!K14,'WK 2'!$K$6:$K$450,1,FALSE),\"\")","v":""},null,{"$f":"IF(ISNA(VLOOKUP(C46,'WK 2'!$K$6:$L$41,2,FALSE)=0),\"\",IF(VLOOKUP(C46,'WK 2'!$K$6:$L$41,2,FALSE)=0,\"\",VLOOKUP(C46,'WK 2'!$K$6:$L$41,2,FALSE)))","v":""},{"$f":"IF(ISNA(VLOOKUP(C46,'WK 3'!$K$6:$L$41,2,FALSE)=0),\"\",IF(VLOOKUP(C46,'WK 3'!$K$6:$L$41,2,FALSE)=0,\"\",VLOOKUP(C46,'WK 3'!$K$6:$L$41,2,FALSE)))","v":""},{"$f":"IF(ISNA(VLOOKUP(C46,'WK 4'!$K$6:$L$41,2,FALSE)=0),\"\",IF(VLOOKUP(C46,'WK 4'!$K$6:$L$41,2,FALSE)=0,\"\",VLOOKUP(C46,'WK 4'!$K$6:$L$41,2,FALSE)))","v":""},{"$f":"IF(ISNA(VLOOKUP(C46,'WK 5'!$K$6:$L$41,2,FALSE)=0),\"\",IF(VLOOKUP(C46,'WK 5'!$K$6:$L$41,2,FALSE)=0,\"\",VLOOKUP(C46,'WK 5'!$K$6:$L$41,2,FALSE)))","v":""},{"$f":"IF(ISNA(VLOOKUP(C46,'WK 6'!$K$6:$L$41,2,FALSE)=0),\"\",IF(VLOOKUP(C46,'WK 6'!$K$6:$L$41,2,FALSE)=0,\"\",VLOOKUP(C46,'WK 6'!$K$6:$L$41,2,FALSE)))","v":""},{"$f":"IF(ISNA(VLOOKUP(C46,'WK 7'!$K$6:$L$41,2,FALSE)=0),\"\",IF(VLOOKUP(C46,'WK 7'!$K$6:$L$41,2,FALSE)=0,\"\",VLOOKUP(C46,'WK 7'!$K$6:$L$41,2,FALSE)))","v":""},{"$f":"IF(ISNA(VLOOKUP(C46,'WK 8'!$K$6:$L$41,2,FALSE)=0),\"\",IF(VLOOKUP(C46,'WK 8'!$K$6:$L$41,2,FALSE)=0,\"\",VLOOKUP(C46,'WK 8'!$K$6:$L$41,2,FALSE)))","v":""},{"$f":"IF(ISNA(VLOOKUP(C46,'WK 9'!$K$6:$L$41,2,FALSE)=0),\"\",IF(VLOOKUP(C46,'WK 9'!$K$6:$L$41,2,FALSE)=0,\"\",VLOOKUP(C46,'WK 9'!$K$6:$L$41,2,FALSE)))","v":""},{"$f":"IF(ISNA(VLOOKUP(C46,'WK 10'!$K$6:$L$41,2,FALSE)=0),\"\",IF(VLOOKUP(C46,'WK 10'!$K$6:$L$41,2,FALSE)=0,\"\",VLOOKUP(C46,'WK 10'!$K$6:$L$41,2,FALSE)))","v":""},0]
[null,null,{"$f":"IF(ISNA(VLOOKUP('WK 2'!K15,$C$2:$C$37,1,FALSE)),VLOOKUP('WK 2'!K15,'WK 2'!$K$6:$K$450,1,FALSE),\"\")","v":""},null,{"$f":"IF(ISNA(VLOOKUP(C47,'WK 2'!$K$6:$L$41,2,FALSE)=0),\"\",IF(VLOOKUP(C47,'WK 2'!$K$6:$L$41,2,FALSE)=0,\"\",VLOOKUP(C47,'WK 2'!$K$6:$L$41,2,FALSE)))","v":""},{"$f":"IF(ISNA(VLOOKUP(C47,'WK 3'!$K$6:$L$41,2,FALSE)=0),\"\",IF(VLOOKUP(C47,'WK 3'!$K$6:$L$41,2,FALSE)=0,\"\",VLOOKUP(C47,'WK 3'!$K$6:$L$41,2,FALSE)))","v":""},{"$f":"IF(ISNA(VLOOKUP(C47,'WK 4'!$K$6:$L$41,2,FALSE)=0),\"\",IF(VLOOKUP(C47,'WK 4'!$K$6:$L$41,2,FALSE)=0,\"\",VLOOKUP(C47,'WK 4'!$K$6:$L$41,2,FALSE)))","v":""},{"$f":"IF(ISNA(VLOOKUP(C47,'WK 5'!$K$6:$L$41,2,FALSE)=0),\"\",IF(VLOOKUP(C47,'WK 5'!$K$6:$L$41,2,FALSE)=0,\"\",VLOOKUP(C47,'WK 5'!$K$6:$L$41,2,FALSE)))","v":""},{"$f":"IF(ISNA(VLOOKUP(C47,'WK 6'!$K$6:$L$41,2,FALSE)=0),\"\",IF(VLOOKUP(C47,'WK 6'!$K$6:$L$41,2,FALSE)=0,\"\",VLOOKUP(C47,'WK 6'!$K$6:$L$41,2,FALSE)))","v":""},{"$f":"IF(ISNA(VLOOKUP(C47,'WK 7'!$K$6:$L$41,2,FALSE)=0),\"\",IF(VLOOKUP(C47,'WK 7'!$K$6:$L$41,2,FALSE)=0,\"\",VLOOKUP(C47,'WK 7'!$K$6:$L$41,2,FALSE)))","v":""},{"$f":"IF(ISNA(VLOOKUP(C47,'WK 8'!$K$6:$L$41,2,FALSE)=0),\"\",IF(VLOOKUP(C47,'WK 8'!$K$6:$L$41,2,FALSE)=0,\"\",VLOOKUP(C47,'WK 8'!$K$6:$L$41,2,FALSE)))","v":""},{"$f":"IF(ISNA(VLOOKUP(C47,'WK 9'!$K$6:$L$41,2,FALSE)=0),\"\",IF(VLOOKUP(C47,'WK 9'!$K$6:$L$41,2,FALSE)=0,\"\",VLOOKUP(C47,'WK 9'!$K$6:$L$41,2,FALSE)))","v":""},{"$f":"IF(ISNA(VLOOKUP(C47,'WK 10'!$K$6:$L$41,2,FALSE)=0),\"\",IF(VLOOKUP(C47,'WK 10'!$K$6:$L$41,2,FALSE)=0,\"\",VLOOKUP(C47,'WK 10'!$K$6:$L$41,2,FALSE)))","v":""},0]
[null,null,{"$f":"IF(ISNA(VLOOKUP('WK 2'!K16,$C$2:$C$37,1,FALSE)),VLOOKUP('WK 2'!K16,'WK 2'!$K$6:$K$450,1,FALSE),\"\")","v":""},null,{"$f":"IF(ISNA(VLOOKUP(C48,'WK 2'!$K$6:$L$41,2,FALSE)=0),\"\",IF(VLOOKUP(C48,'WK 2'!$K$6:$L$41,2,FALSE)=0,\"\",VLOOKUP(C48,'WK 2'!$K$6:$L$41,2,FALSE)))","v":""},{"$f":"IF(ISNA(VLOOKUP(C48,'WK 3'!$K$6:$L$41,2,FALSE)=0),\"\",IF(VLOOKUP(C48,'WK 3'!$K$6:$L$41,2,FALSE)=0,\"\",VLOOKUP(C48,'WK 3'!$K$6:$L$41,2,FALSE)))","v":""},{"$f":"IF(ISNA(VLOOKUP(C48,'WK 4'!$K$6:$L$41,2,FALSE)=0),\"\",IF(VLOOKUP(C48,'WK 4'!$K$6:$L$41,2,FALSE)=0,\"\",VLOOKUP(C48,'WK 4'!$K$6:$L$41,2,FALSE)))","v":""},{"$f":"IF(ISNA(VLOOKUP(C48,'WK 5'!$K$6:$L$41,2,FALSE)=0),\"\",IF(VLOOKUP(C48,'WK 5'!$K$6:$L$41,2,FALSE)=0,\"\",VLOOKUP(C48,'WK 5'!$K$6:$L$41,2,FALSE)))","v":""},{"$f":"IF(ISNA(VLOOKUP(C48,'WK 6'!$K$6:$L$41,2,FALSE)=0),\"\",IF(VLOOKUP(C48,'WK 6'!$K$6:$L$41,2,FALSE)=0,\"\",VLOOKUP(C48,'WK 6'!$K$6:$L$41,2,FALSE)))","v":""},{"$f":"IF(ISNA(VLOOKUP(C48,'WK 7'!$K$6:$L$41,2,FALSE)=0),\"\",IF(VLOOKUP(C48,'WK 7'!$K$6:$L$41,2,FALSE)=0,\"\",VLOOKUP(C48,'WK 7'!$K$6:$L$41,2,FALSE)))","v":""},{"$f":"IF(ISNA(VLOOKUP(C48,'WK 8'!$K$6:$L$41,2,FALSE)=0),\"\",IF(VLOOKUP(C48,'WK 8'!$K$6:$L$41,2,FALSE)=0,\"\",VLOOKUP(C48,'WK 8'!$K$6:$L$41,2,FALSE)))","v":""},{"$f":"IF(ISNA(VLOOKUP(C48,'WK 9'!$K$6:$L$41,2,FALSE)=0),\"\",IF(VLOOKUP(C48,'WK 9'!$K$6:$L$41,2,FALSE)=0,\"\",VLOOKUP(C48,'WK 9'!$K$6:$L$41,2,FALSE)))","v":""},{"$f":"IF(ISNA(VLOOKUP(C48,'WK 10'!$K$6:$L$41,2,FALSE)=0),\"\",IF(VLOOKUP(C48,'WK 10'!$K$6:$L$41,2,FALSE)=0,\"\",VLOOKUP(C48,'WK 10'!$K$6:$L$41,2,FALSE)))","v":""},0]
[null,null,{"$f":"IF(ISNA(VLOOKUP('WK 2'!K17,$C$2:$C$37,1,FALSE)),VLOOKUP('WK 2'!K17,'WK 2'!$K$6:$K$450,1,FALSE),\"\")","v":""},null,{"$f":"IF(ISNA(VLOOKUP(C49,'WK 2'!$K$6:$L$41,2,FALSE)=0),\"\",IF(VLOOKUP(C49,'WK 2'!$K$6:$L$41,2,FALSE)=0,\"\",VLOOKUP(C49,'WK 2'!$K$6:$L$41,2,FALSE)))","v":""},{"$f":"IF(ISNA(VLOOKUP(C49,'WK 3'!$K$6:$L$41,2,FALSE)=0),\"\",IF(VLOOKUP(C49,'WK 3'!$K$6:$L$41,2,FALSE)=0,\"\",VLOOKUP(C49,'WK 3'!$K$6:$L$41,2,FALSE)))","v":""},{"$f":"IF(ISNA(VLOOKUP(C49,'WK 4'!$K$6:$L$41,2,FALSE)=0),\"\",IF(VLOOKUP(C49,'WK 4'!$K$6:$L$41,2,FALSE)=0,\"\",VLOOKUP(C49,'WK 4'!$K$6:$L$41,2,FALSE)))","v":""},{"$f":"IF(ISNA(VLOOKUP(C49,'WK 5'!$K$6:$L$41,2,FALSE)=0),\"\",IF(VLOOKUP(C49,'WK 5'!$K$6:$L$41,2,FALSE)=0,\"\",VLOOKUP(C49,'WK 5'!$K$6:$L$41,2,FALSE)))","v":""},{"$f":"IF(ISNA(VLOOKUP(C49,'WK 6'!$K$6:$L$41,2,FALSE)=0),\"\",IF(VLOOKUP(C49,'WK 6'!$K$6:$L$41,2,FALSE)=0,\"\",VLOOKUP(C49,'WK 6'!$K$6:$L$41,2,FALSE)))","v":""},{"$f":"IF(ISNA(VLOOKUP(C49,'WK 7'!$K$6:$L$41,2,FALSE)=0),\"\",IF(VLOOKUP(C49,'WK 7'!$K$6:$L$41,2,FALSE)=0,\"\",VLOOKUP(C49,'WK 7'!$K$6:$L$41,2,FALSE)))","v":""},{"$f":"IF(ISNA(VLOOKUP(C49,'WK 8'!$K$6:$L$41,2,FALSE)=0),\"\",IF(VLOOKUP(C49,'WK 8'!$K$6:$L$41,2,FALSE)=0,\"\",VLOOKUP(C49,'WK 8'!$K$6:$L$41,2,FALSE)))","v":""},{"$f":"IF(ISNA(VLOOKUP(C49,'WK 9'!$K$6:$L$41,2,FALSE)=0),\"\",IF(VLOOKUP(C49,'WK 9'!$K$6:$L$41,2,FALSE)=0,\"\",VLOOKUP(C49,'WK 9'!$K$6:$L$41,2,FALSE)))","v":""},{"$f":"IF(ISNA(VLOOKUP(C49,'WK 10'!$K$6:$L$41,2,FALSE)=0),\"\",IF(VLOOKUP(C49,'WK 10'!$K$6:$L$41,2,FALSE)=0,\"\",VLOOKUP(C49,'WK 10'!$K$6:$L$41,2,FALSE)))","v":""},0]
[null,null,{"$f":"IF(ISNA(VLOOKUP('WK 2'!K18,$C$2:$C$37,1,FALSE)),VLOOKUP('WK 2'!K18,'WK 2'!$K$6:$K$450,1,FALSE),\"\")","v":""},null,{"$f":"IF(ISNA(VLOOKUP(C50,'WK 2'!$K$6:$L$41,2,FALSE)=0),\"\",IF(VLOOKUP(C50,'WK 2'!$K$6:$L$41,2,FALSE)=0,\"\",VLOOKUP(C50,'WK 2'!$K$6:$L$41,2,FALSE)))","v":""},{"$f":"IF(ISNA(VLOOKUP(C50,'WK 3'!$K$6:$L$41,2,FALSE)=0),\"\",IF(VLOOKUP(C50,'WK 3'!$K$6:$L$41,2,FALSE)=0,\"\",VLOOKUP(C50,'WK 3'!$K$6:$L$41,2,FALSE)))","v":""},{"$f":"IF(ISNA(VLOOKUP(C50,'WK 4'!$K$6:$L$41,2,FALSE)=0),\"\",IF(VLOOKUP(C50,'WK 4'!$K$6:$L$41,2,FALSE)=0,\"\",VLOOKUP(C50,'WK 4'!$K$6:$L$41,2,FALSE)))","v":""},{"$f":"IF(ISNA(VLOOKUP(C50,'WK 5'!$K$6:$L$41,2,FALSE)=0),\"\",IF(VLOOKUP(C50,'WK 5'!$K$6:$L$41,2,FALSE)=0,\"\",VLOOKUP(C50,'WK 5'!$K$6:$L$41,2,FALSE)))","v":""},{"$f":"IF(ISNA(VLOOKUP(C50,'WK 6'!$K$6:$L$41,2,FALSE)=0),\"\",IF(VLOOKUP(C50,'WK 6'!$K$6:$L$41,2,FALSE)=0,\"\",VLOOKUP(C50,'WK 6'!$K$6:$L$41,2,FALSE)))","v":""},{"$f":"IF(ISNA(VLOOKUP(C50,'WK 7'!$K$6:$L$41,2,FALSE)=0),\"\",IF(VLOOKUP(C50,'WK 7'!$K$6:$L$41,2,FALSE)=0,\"\",VLOOKUP(C50,'WK 7'!$K$6:$L$41,2,FALSE)))","v":""},{"$f":"IF(ISNA(VLOOKUP(C50,'WK 8'!$K$6:$L$41,2,FALSE)=0),\"\",IF(VLOOKUP(C50,'WK 8'!$K$6:$L$41,2,FALSE)=0,\"\",VLOOKUP(C50,'WK 8'!$K$6:$L$41,2,FALSE)))","v":""},{"$f":"IF(ISNA(VLOOKUP(C50,'WK 9'!$K$6:$L$41,2,FALSE)=0),\"\",IF(VLOOKUP(C50,'WK 9'!$K$6:$L$41,2,FALSE)=0,\"\",VLOOKUP(C50,'WK 9'!$K$6:$L$41,2,FALSE)))","v":""},{"$f":"IF(ISNA(VLOOKUP(C50,'WK 10'!$K$6:$L$41,2,FALSE)=0),\"\",IF(VLOOKUP(C50,'WK 10'!$K$6:$L$41,2,FALSE)=0,\"\",VLOOKUP(C50,'WK 10'!$K$6:$L$41,2,FALSE)))","v":""},0]
[null,null,{"$f":"IF(ISNA(VLOOKUP('WK 2'!K19,$C$2:$C$37,1,FALSE)),VLOOKUP('WK 2'!K19,'WK 2'!$K$6:$K$450,1,FALSE),\"\")","v":""},null,{"$f":"IF(ISNA(VLOOKUP(C51,'WK 2'!$K$6:$L$41,2,FALSE)=0),\"\",IF(VLOOKUP(C51,'WK 2'!$K$6:$L$41,2,FALSE)=0,\"\",VLOOKUP(C51,'WK 2'!$K$6:$L$41,2,FALSE)))","v":""},{"$f":"IF(ISNA(VLOOKUP(C51,'WK 3'!$K$6:$L$41,2,FALSE)=0),\"\",IF(VLOOKUP(C51,'WK 3'!$K$6:$L$41,2,FALSE)=0,\"\",VLOOKUP(C51,'WK 3'!$K$6:$L$41,2,FALSE)))","v":""},{"$f":"IF(ISNA(VLOOKUP(C51,'WK 4'!$K$6:$L$41,2,FALSE)=0),\"\",IF(VLOOKUP(C51,'WK 4'!$K$6:$L$41,2,FALSE)=0,\"\",VLOOKUP(C51,'WK 4'!$K$6:$L$41,2,FALSE)))","v":""},{"$f":"IF(ISNA(VLOOKUP(C51,'WK 5'!$K$6:$L$41,2,FALSE)=0),\"\",IF(VLOOKUP(C51,'WK 5'!$K$6:$L$41,2,FALSE)=0,\"\",VLOOKUP(C51,'WK 5'!$K$6:$L$41,2,FALSE)))","v":""},{"$f":"IF(ISNA(VLOOKUP(C51,'WK 6'!$K$6:$L$41,2,FALSE)=0),\"\",IF(VLOOKUP(C51,'WK 6'!$K$6:$L$41,2,FALSE)=0,\"\",VLOOKUP(C51,'WK 6'!$K$6:$L$41,2,FALSE)))","v":""},{"$f":"IF(ISNA(VLOOKUP(C51,'WK 7'!$K$6:$L$41,2,FALSE)=0),\"\",IF(VLOOKUP(C51,'WK 7'!$K$6:$L$41,2,FALSE)=0,\"\",VLOOKUP(C51,'WK 7'!$K$6:$L$41,2,FALSE)))","v":""},{"$f":"IF(ISNA(VLOOKUP(C51,'WK 8'!$K$6:$L$41,2,FALSE)=0),\"\",IF(VLOOKUP(C51,'WK 8'!$K$6:$L$41,2,FALSE)=0,\"\",VLOOKUP(C51,'WK 8'!$K$6:$L$41,2,FALSE)))","v":""},{"$f":"IF(ISNA(VLOOKUP(C51,'WK 9'!$K$6:$L$41,2,FALSE)=0),\"\",IF(VLOOKUP(C51,'WK 9'!$K$6:$L$41,2,FALSE)=0,\"\",VLOOKUP(C51,'WK 9'!$K$6:$L$41,2,FALSE)))","v":""},{"$f":"IF(ISNA(VLOOKUP(C51,'WK 10'!$K$6:$L$41,2,FALSE)=0),\"\",IF(VLOOKUP(C51,'WK 10'!$K$6:$L$41,2,FALSE)=0,\"\",VLOOKUP(C51,'WK 10'!$K$6:$L$41,2,FALSE)))","v":""},0]
[null,null,{"$f":"IF(ISNA(VLOOKUP('WK 2'!K20,$C$2:$C$37,1,FALSE)),VLOOKUP('WK 2'!K20,'WK 2'!$K$6:$K$450,1,FALSE),\"\")","v":""},null,{"$f":"IF(ISNA(VLOOKUP(C52,'WK 2'!$K$6:$L$41,2,FALSE)=0),\"\",IF(VLOOKUP(C52,'WK 2'!$K$6:$L$41,2,FALSE)=0,\"\",VLOOKUP(C52,'WK 2'!$K$6:$L$41,2,FALSE)))","v":""},{"$f":"IF(ISNA(VLOOKUP(C52,'WK 3'!$K$6:$L$41,2,FALSE)=0),\"\",IF(VLOOKUP(C52,'WK 3'!$K$6:$L$41,2,FALSE)=0,\"\",VLOOKUP(C52,'WK 3'!$K$6:$L$41,2,FALSE)))","v":""},{"$f":"IF(ISNA(VLOOKUP(C52,'WK 4'!$K$6:$L$41,2,FALSE)=0),\"\",IF(VLOOKUP(C52,'WK 4'!$K$6:$L$41,2,FALSE)=0,\"\",VLOOKUP(C52,'WK 4'!$K$6:$L$41,2,FALSE)))","v":""},{"$f":"IF(ISNA(VLOOKUP(C52,'WK 5'!$K$6:$L$41,2,FALSE)=0),\"\",IF(VLOOKUP(C52,'WK 5'!$K$6:$L$41,2,FALSE)=0,\"\",VLOOKUP(C52,'WK 5'!$K$6:$L$41,2,FALSE)))","v":""},{"$f":"IF(ISNA(VLOOKUP(C52,'WK 6'!$K$6:$L$41,2,FALSE)=0),\"\",IF(VLOOKUP(C52,'WK 6'!$K$6:$L$41,2,FALSE)=0,\"\",VLOOKUP(C52,'WK 6'!$K$6:$L$41,2,FALSE)))","v":""},{"$f":"IF(ISNA(VLOOKUP(C52,'WK 7'!$K$6:$L$41,2,FALSE)=0),\"\",IF(VLOOKUP(C52,'WK 7'!$K$6:$L$41,2,FALSE)=0,\"\",VLOOKUP(C52,'WK 7'!$K$6:$L$41,2,FALSE)))","v":""},{"$f":"IF(ISNA(VLOOKUP(C52,'WK 8'!$K$6:$L$41,2,FALSE)=0),\"\",IF(VLOOKUP(C52,'WK 8'!$K$6:$L$41,2,FALSE)=0,\"\",VLOOKUP(C52,'WK 8'!$K$6:$L$41,2,FALSE)))","v":""},{"$f":"IF(ISNA(VLOOKUP(C52,'WK 9'!$K$6:$L$41,2,FALSE)=0),\"\",IF(VLOOKUP(C52,'WK 9'!$K$6:$L$41,2,FALSE)=0,\"\",VLOOKUP(C52,'WK 9'!$K$6:$L$41,2,FALSE)))","v":""},{"$f":"IF(ISNA(VLOOKUP(C52,'WK 10'!$K$6:$L$41,2,FALSE)=0),\"\",IF(VLOOKUP(C52,'WK 10'!$K$6:$L$41,2,FALSE)=0,\"\",VLOOKUP(C52,'WK 10'!$K$6:$L$41,2,FALSE)))","v":""},0]
[null,null,{"$f":"IF(ISNA(VLOOKUP('WK 2'!K21,$C$2:$C$37,1,FALSE)),VLOOKUP('WK 2'!K21,'WK 2'!$K$6:$K$450,1,FALSE),\"\")","v":""},null,{"$f":"IF(ISNA(VLOOKUP(C53,'WK 2'!$K$6:$L$41,2,FALSE)=0),\"\",IF(VLOOKUP(C53,'WK 2'!$K$6:$L$41,2,FALSE)=0,\"\",VLOOKUP(C53,'WK 2'!$K$6:$L$41,2,FALSE)))","v":""},{"$f":"IF(ISNA(VLOOKUP(C53,'WK 3'!$K$6:$L$41,2,FALSE)=0),\"\",IF(VLOOKUP(C53,'WK 3'!$K$6:$L$41,2,FALSE)=0,\"\",VLOOKUP(C53,'WK 3'!$K$6:$L$41,2,FALSE)))","v":""},{"$f":"IF(ISNA(VLOOKUP(C53,'WK 4'!$K$6:$L$41,2,FALSE)=0),\"\",IF(VLOOKUP(C53,'WK 4'!$K$6:$L$41,2,FALSE)=0,\"\",VLOOKUP(C53,'WK 4'!$K$6:$L$41,2,FALSE)))","v":""},{"$f":"IF(ISNA(VLOOKUP(C53,'WK 5'!$K$6:$L$41,2,FALSE)=0),\"\",IF(VLOOKUP(C53,'WK 5'!$K$6:$L$41,2,FALSE)=0,\"\",VLOOKUP(C53,'WK 5'!$K$6:$L$41,2,FALSE)))","v":""},{"$f":"IF(ISNA(VLOOKUP(C53,'WK 6'!$K$6:$L$41,2,FALSE)=0),\"\",IF(VLOOKUP(C53,'WK 6'!$K$6:$L$41,2,FALSE)=0,\"\",VLOOKUP(C53,'WK 6'!$K$6:$L$41,2,FALSE)))","v":""},{"$f":"IF(ISNA(VLOOKUP(C53,'WK 7'!$K$6:$L$41,2,FALSE)=0),\"\",IF(VLOOKUP(C53,'WK 7'!$K$6:$L$41,2,FALSE)=0,\"\",VLOOKUP(C53,'WK 7'!$K$6:$L$41,2,FALSE)))","v":""},{"$f":"IF(ISNA(VLOOKUP(C53,'WK 8'!$K$6:$L$41,2,FALSE)=0),\"\",IF(VLOOKUP(C53,'WK 8'!$K$6:$L$41,2,FALSE)=0,\"\",VLOOKUP(C53,'WK 8'!$K$6:$L$41,2,FALSE)))","v":""},{"$f":"IF(ISNA(VLOOKUP(C53,'WK 9'!$K$6:$L$41,2,FALSE)=0),\"\",IF(VLOOKUP(C53,'WK 9'!$K$6:$L$41,2,FALSE)=0,\"\",VLOOKUP(C53,'WK 9'!$K$6:$L$41,2,FALSE)))","v":""},{"$f":"IF(ISNA(VLOOKUP(C53,'WK 10'!$K$6:$L$41,2,FALSE)=0),\"\",IF(VLOOKUP(C53,'WK 10'!$K$6:$L$41,2,FALSE)=0,\"\",VLOOKUP(C53,'WK 10'!$K$6:$L$41,2,FALSE)))","v":""},0]
[null,null,{"$f":"IF(ISNA(VLOOKUP('WK 2'!K22,$C$2:$C$37,1,FALSE)),VLOOKUP('WK 2'!K22,'WK 2'!$K$6:$K$450,1,FALSE),\"\")","v":""},null,{"$f":"IF(ISNA(VLOOKUP(C54,'WK 2'!$K$6:$L$41,2,FALSE)=0),\"\",IF(VLOOKUP(C54,'WK 2'!$K$6:$L$41,2,FALSE)=0,\"\",VLOOKUP(C54,'WK 2'!$K$6:$L$41,2,FALSE)))","v":""},{"$f":"IF(ISNA(VLOOKUP(C54,'WK 3'!$K$6:$L$41,2,FALSE)=0),\"\",IF(VLOOKUP(C54,'WK 3'!$K$6:$L$41,2,FALSE)=0,\"\",VLOOKUP(C54,'WK 3'!$K$6:$L$41,2,FALSE)))","v":""},{"$f":"IF(ISNA(VLOOKUP(C54,'WK 4'!$K$6:$L$41,2,FALSE)=0),\"\",IF(VLOOKUP(C54,'WK 4'!$K$6:$L$41,2,FALSE)=0,\"\",VLOOKUP(C54,'WK 4'!$K$6:$L$41,2,FALSE)))","v":""},{"$f":"IF(ISNA(VLOOKUP(C54,'WK 5'!$K$6:$L$41,2,FALSE)=0),\"\",IF(VLOOKUP(C54,'WK 5'!$K$6:$L$41,2,FALSE)=0,\"\",VLOOKUP(C54,'WK 5'!$K$6:$L$41,2,FALSE)))","v":""},{"$f":"IF(ISNA(VLOOKUP(C54,'WK 6'!$K$6:$L$41,2,FALSE)=0),\"\",IF(VLOOKUP(C54,'WK 6'!$K$6:$L$41,2,FALSE)=0,\"\",VLOOKUP(C54,'WK 6'!$K$6:$L$41,2,FALSE)))","v":""},{"$f":"IF(ISNA(VLOOKUP(C54,'WK 7'!$K$6:$L$41,2,FALSE)=0),\"\",IF(VLOOKUP(C54,'WK 7'!$K$6:$L$41,2,FALSE)=0,\"\",VLOOKUP(C54,'WK 7'!$K$6:$L$41,2,FALSE)))","v":""},{"$f":"IF(ISNA(VLOOKUP(C54,'WK 8'!$K$6:$L$41,2,FALSE)=0),\"\",IF(VLOOKUP(C54,'WK 8'!$K$6:$L$41,2,FALSE)=0,\"\",VLOOKUP(C54,'WK 8'!$K$6:$L$41,2,FALSE)))","v":""},{"$f":"IF(ISNA(VLOOKUP(C54,'WK 9'!$K$6:$L$41,2,FALSE)=0),\"\",IF(VLOOKUP(C54,'WK 9'!$K$6:$L$41,2,FALSE)=0,\"\",VLOOKUP(C54,'WK 9'!$K$6:$L$41,2,FALSE)))","v":""},{"$f":"IF(ISNA(VLOOKUP(C54,'WK 10'!$K$6:$L$41,2,FALSE)=0),\"\",IF(VLOOKUP(C54,'WK 10'!$K$6:$L$41,2,FALSE)=0,\"\",VLOOKUP(C54,'WK 10'!$K$6:$L$41,2,FALSE)))","v":""},0]
[null,null,{"$f":"IF(ISNA(VLOOKUP('WK 2'!K23,$C$2:$C$37,1,FALSE)),VLOOKUP('WK 2'!K23,'WK 2'!$K$6:$K$450,1,FALSE),\"\")","v":""},null,{"$f":"IF(ISNA(VLOOKUP(C55,'WK 2'!$K$6:$L$41,2,FALSE)=0),\"\",IF(VLOOKUP(C55,'WK 2'!$K$6:$L$41,2,FALSE)=0,\"\",VLOOKUP(C55,'WK 2'!$K$6:$L$41,2,FALSE)))","v":""},{"$f":"IF(ISNA(VLOOKUP(C55,'WK 3'!$K$6:$L$41,2,FALSE)=0),\"\",IF(VLOOKUP(C55,'WK 3'!$K$6:$L$41,2,FALSE)=0,\"\",VLOOKUP(C55,'WK 3'!$K$6:$L$41,2,FALSE)))","v":""},{"$f":"IF(ISNA(VLOOKUP(C55,'WK 4'!$K$6:$L$41,2,FALSE)=0),\"\",IF(VLOOKUP(C55,'WK 4'!$K$6:$L$41,2,FALSE)=0,\"\",VLOOKUP(C55,'WK 4'!$K$6:$L$41,2,FALSE)))","v":""},{"$f":"IF(ISNA(VLOOKUP(C55,'WK 5'!$K$6:$L$41,2,FALSE)=0),\"\",IF(VLOOKUP(C55,'WK 5'!$K$6:$L$41,2,FALSE)=0,\"\",VLOOKUP(C55,'WK 5'!$K$6:$L$41,2,FALSE)))","v":""},{"$f":"IF(ISNA(VLOOKUP(C55,'WK 6'!$K$6:$L$41,2,FALSE)=0),\"\",IF(VLOOKUP(C55,'WK 6'!$K$6:$L$41,2,FALSE)=0,\"\",VLOOKUP(C55,'WK 6'!$K$6:$L$41,2,FALSE)))","v":""},{"$f":"IF(ISNA(VLOOKUP(C55,'WK 7'!$K$6:$L$41,2,FALSE)=0),\"\",IF(VLOOKUP(C55,'WK 7'!$K$6:$L$41,2,FALSE)=0,\"\",VLOOKUP(C55,'WK 7'!$K$6:$L$41,2,FALSE)))","v":""},{"$f":"IF(ISNA(VLOOKUP(C55,'WK 8'!$K$6:$L$41,2,FALSE)=0),\"\",IF(VLOOKUP(C55,'WK 8'!$K$6:$L$41,2,FALSE)=0,\"\",VLOOKUP(C55,'WK 8'!$K$6:$L$41,2,FALSE)))","v":""},{"$f":"IF(ISNA(VLOOKUP(C55,'WK 9'!$K$6:$L$41,2,FALSE)=0),\"\",IF(VLOOKUP(C55,'WK 9'!$K$6:$L$41,2,FALSE)=0,\"\",VLOOKUP(C55,'WK 9'!$K$6:$L$41,2,FALSE)))","v":""},{"$f":"IF(ISNA(VLOOKUP(C55,'WK 10'!$K$6:$L$41,2,FALSE)=0),\"\",IF(VLOOKUP(C55,'WK 10'!$K$6:$L$41,2,FALSE)=0,\"\",VLOOKUP(C55,'WK 10'!$K$6:$L$41,2,FALSE)))","v":""},0]
[null,null,{"$f":"IF(ISNA(VLOOKUP('WK 2'!K24,$C$2:$C$37,1,FALSE)),VLOOKUP('WK 2'!K24,'WK 2'!$K$6:$K$450,1,FALSE),\"\")","v":""},null,{"$f":"IF(ISNA(VLOOKUP(C56,'WK 2'!$K$6:$L$41,2,FALSE)=0),\"\",IF(VLOOKUP(C56,'WK 2'!$K$6:$L$41,2,FALSE)=0,\"\",VLOOKUP(C56,'WK 2'!$K$6:$L$41,2,FALSE)))","v":""},{"$f":"IF(ISNA(VLOOKUP(C56,'WK 3'!$K$6:$L$41,2,FALSE)=0),\"\",IF(VLOOKUP(C56,'WK 3'!$K$6:$L$41,2,FALSE)=0,\"\",VLOOKUP(C56,'WK 3'!$K$6:$L$41,2,FALSE)))","v":""},{"$f":"IF(ISNA(VLOOKUP(C56,'WK 4'!$K$6:$L$41,2,FALSE)=0),\"\",IF(VLOOKUP(C56,'WK 4'!$K$6:$L$41,2,FALSE)=0,\"\",VLOOKUP(C56,'WK 4'!$K$6:$L$41,2,FALSE)))","v":""},{"$f":"IF(ISNA(VLOOKUP(C56,'WK 5'!$K$6:$L$41,2,FALSE)=0),\"\",IF(VLOOKUP(C56,'WK 5'!$K$6:$L$41,2,FALSE)=0,\"\",VLOOKUP(C56,'WK 5'!$K$6:$L$41,2,FALSE)))","v":""},{"$f":"IF(ISNA(VLOOKUP(C56,'WK 6'!$K$6:$L$41,2,FALSE)=0),\"\",IF(VLOOKUP(C56,'WK 6'!$K$6:$L$41,2,FALSE)=0,\"\",VLOOKUP(C56,'WK 6'!$K$6:$L$41,2,FALSE)))","v":""},{"$f":"IF(ISNA(VLOOKUP(C56,'WK 7'!$K$6:$L$41,2,FALSE)=0),\"\",IF(VLOOKUP(C56,'WK 7'!$K$6:$L$41,2,FALSE)=0,\"\",VLOOKUP(C56,'WK 7'!$K$6:$L$41,2,FALSE)))","v":""},{"$f":"IF(ISNA(VLOOKUP(C56,'WK 8'!$K$6:$L$41,2,FALSE)=0),\"\",IF(VLOOKUP(C56,'WK 8'!$K$6:$L$41,2,FALSE)=0,\"\",VLOOKUP(C56,'WK 8'!$K$6:$L$41,2,FALSE)))","v":""},{"$f":"IF(ISNA(VLOOKUP(C56,'WK 9'!$K$6:$L$41,2,FALSE)=0),\"\",IF(VLOOKUP(C56,'WK 9'!$K$6:$L$41,2,FALSE)=0,\"\",VLOOKUP(C56,'WK 9'!$K$6:$L$41,2,FALSE)))","v":""},{"$f":"IF(ISNA(VLOOKUP(C56,'WK 10'!$K$6:$L$41,2,FALSE)=0),\"\",IF(VLOOKUP(C56,'WK 10'!$K$6:$L$41,2,FALSE)=0,\"\",VLOOKUP(C56,'WK 10'!$K$6:$L$41,2,FALSE)))","v":""},0]
[null,null,{"$f":"IF(ISNA(VLOOKUP('WK 2'!K25,$C$2:$C$37,1,FALSE)),VLOOKUP('WK 2'!K25,'WK 2'!$K$6:$K$450,1,FALSE),\"\")","v":""},null,{"$f":"IF(ISNA(VLOOKUP(C57,'WK 2'!$K$6:$L$41,2,FALSE)=0),\"\",IF(VLOOKUP(C57,'WK 2'!$K$6:$L$41,2,FALSE)=0,\"\",VLOOKUP(C57,'WK 2'!$K$6:$L$41,2,FALSE)))","v":""},{"$f":"IF(ISNA(VLOOKUP(C57,'WK 3'!$K$6:$L$41,2,FALSE)=0),\"\",IF(VLOOKUP(C57,'WK 3'!$K$6:$L$41,2,FALSE)=0,\"\",VLOOKUP(C57,'WK 3'!$K$6:$L$41,2,FALSE)))","v":""},{"$f":"IF(ISNA(VLOOKUP(C57,'WK 4'!$K$6:$L$41,2,FALSE)=0),\"\",IF(VLOOKUP(C57,'WK 4'!$K$6:$L$41,2,FALSE)=0,\"\",VLOOKUP(C57,'WK 4'!$K$6:$L$41,2,FALSE)))","v":""},{"$f":"IF(ISNA(VLOOKUP(C57,'WK 5'!$K$6:$L$41,2,FALSE)=0),\"\",IF(VLOOKUP(C57,'WK 5'!$K$6:$L$41,2,FALSE)=0,\"\",VLOOKUP(C57,'WK 5'!$K$6:$L$41,2,FALSE)))","v":""},{"$f":"IF(ISNA(VLOOKUP(C57,'WK 6'!$K$6:$L$41,2,FALSE)=0),\"\",IF(VLOOKUP(C57,'WK 6'!$K$6:$L$41,2,FALSE)=0,\"\",VLOOKUP(C57,'WK 6'!$K$6:$L$41,2,FALSE)))","v":""},{"$f":"IF(ISNA(VLOOKUP(C57,'WK 7'!$K$6:$L$41,2,FALSE)=0),\"\",IF(VLOOKUP(C57,'WK 7'!$K$6:$L$41,2,FALSE)=0,\"\",VLOOKUP(C57,'WK 7'!$K$6:$L$41,2,FALSE)))","v":""},{"$f":"IF(ISNA(VLOOKUP(C57,'WK 8'!$K$6:$L$41,2,FALSE)=0),\"\",IF(VLOOKUP(C57,'WK 8'!$K$6:$L$41,2,FALSE)=0,\"\",VLOOKUP(C57,'WK 8'!$K$6:$L$41,2,FALSE)))","v":""},{"$f":"IF(ISNA(VLOOKUP(C57,'WK 9'!$K$6:$L$41,2,FALSE)=0),\"\",IF(VLOOKUP(C57,'WK 9'!$K$6:$L$41,2,FALSE)=0,\"\",VLOOKUP(C57,'WK 9'!$K$6:$L$41,2,FALSE)))","v":""},{"$f":"IF(ISNA(VLOOKUP(C57,'WK 10'!$K$6:$L$41,2,FALSE)=0),\"\",IF(VLOOKUP(C57,'WK 10'!$K$6:$L$41,2,FALSE)=0,\"\",VLOOKUP(C57,'WK 10'!$K$6:$L$41,2,FALSE)))","v":""},0]
[null,null,{"$f":"IF(ISNA(VLOOKUP('WK 2'!K26,$C$2:$C$37,1,FALSE)),VLOOKUP('WK 2'!K26,'WK 2'!$K$6:$K$450,1,FALSE),\"\")","v":""},null,{"$f":"IF(ISNA(VLOOKUP(C58,'WK 2'!$K$6:$L$41,2,FALSE)=0),\"\",IF(VLOOKUP(C58,'WK 2'!$K$6:$L$41,2,FALSE)=0,\"\",VLOOKUP(C58,'WK 2'!$K$6:$L$41,2,FALSE)))","v":""},{"$f":"IF(ISNA(VLOOKUP(C58,'WK 3'!$K$6:$L$41,2,FALSE)=0),\"\",IF(VLOOKUP(C58,'WK 3'!$K$6:$L$41,2,FALSE)=0,\"\",VLOOKUP(C58,'WK 3'!$K$6:$L$41,2,FALSE)))","v":""},{"$f":"IF(ISNA(VLOOKUP(C58,'WK 4'!$K$6:$L$41,2,FALSE)=0),\"\",IF(VLOOKUP(C58,'WK 4'!$K$6:$L$41,2,FALSE)=0,\"\",VLOOKUP(C58,'WK 4'!$K$6:$L$41,2,FALSE)))","v":""},{"$f":"IF(ISNA(VLOOKUP(C58,'WK 5'!$K$6:$L$41,2,FALSE)=0),\"\",IF(VLOOKUP(C58,'WK 5'!$K$6:$L$41,2,FALSE)=0,\"\",VLOOKUP(C58,'WK 5'!$K$6:$L$41,2,FALSE)))","v":""},{"$f":"IF(ISNA(VLOOKUP(C58,'WK 6'!$K$6:$L$41,2,FALSE)=0),\"\",IF(VLOOKUP(C58,'WK 6'!$K$6:$L$41,2,FALSE)=0,\"\",VLOOKUP(C58,'WK 6'!$K$6:$L$41,2,FALSE)))","v":""},{"$f":"IF(ISNA(VLOOKUP(C58,'WK 7'!$K$6:$L$41,2,FALSE)=0),\"\",IF(VLOOKUP(C58,'WK 7'!$K$6:$L$41,2,FALSE)=0,\"\",VLOOKUP(C58,'WK 7'!$K$6:$L$41,2,FALSE)))","v":""},{"$f":"IF(ISNA(VLOOKUP(C58,'WK 8'!$K$6:$L$41,2,FALSE)=0),\"\",IF(VLOOKUP(C58,'WK 8'!$K$6:$L$41,2,FALSE)=0,\"\",VLOOKUP(C58,'WK 8'!$K$6:$L$41,2,FALSE)))","v":""},{"$f":"IF(ISNA(VLOOKUP(C58,'WK 9'!$K$6:$L$41,2,FALSE)=0),\"\",IF(VLOOKUP(C58,'WK 9'!$K$6:$L$41,2,FALSE)=0,\"\",VLOOKUP(C58,'WK 9'!$K$6:$L$41,2,FALSE)))","v":""},{"$f":"IF(ISNA(VLOOKUP(C58,'WK 10'!$K$6:$L$41,2,FALSE)=0),\"\",IF(VLOOKUP(C58,'WK 10'!$K$6:$L$41,2,FALSE)=0,\"\",VLOOKUP(C58,'WK 10'!$K$6:$L$41,2,FALSE)))","v":""},0]
[null,null,{"$f":"IF(ISNA(VLOOKUP('WK 2'!K27,$C$2:$C$37,1,FALSE)),VLOOKUP('WK 2'!K27,'WK 2'!$K$6:$K$450,1,FALSE),\"\")","v":""},null,{"$f":"IF(ISNA(VLOOKUP(C59,'WK 2'!$K$6:$L$41,2,FALSE)=0),\"\",IF(VLOOKUP(C59,'WK 2'!$K$6:$L$41,2,FALSE)=0,\"\",VLOOKUP(C59,'WK 2'!$K$6:$L$41,2,FALSE)))","v":""},{"$f":"IF(ISNA(VLOOKUP(C59,'WK 3'!$K$6:$L$41,2,FALSE)=0),\"\",IF(VLOOKUP(C59,'WK 3'!$K$6:$L$41,2,FALSE)=0,\"\",VLOOKUP(C59,'WK 3'!$K$6:$L$41,2,FALSE)))","v":""},{"$f":"IF(ISNA(VLOOKUP(C59,'WK 4'!$K$6:$L$41,2,FALSE)=0),\"\",IF(VLOOKUP(C59,'WK 4'!$K$6:$L$41,2,FALSE)=0,\"\",VLOOKUP(C59,'WK 4'!$K$6:$L$41,2,FALSE)))","v":""},{"$f":"IF(ISNA(VLOOKUP(C59,'WK 5'!$K$6:$L$41,2,FALSE)=0),\"\",IF(VLOOKUP(C59,'WK 5'!$K$6:$L$41,2,FALSE)=0,\"\",VLOOKUP(C59,'WK 5'!$K$6:$L$41,2,FALSE)))","v":""},{"$f":"IF(ISNA(VLOOKUP(C59,'WK 6'!$K$6:$L$41,2,FALSE)=0),\"\",IF(VLOOKUP(C59,'WK 6'!$K$6:$L$41,2,FALSE)=0,\"\",VLOOKUP(C59,'WK 6'!$K$6:$L$41,2,FALSE)))","v":""},{"$f":"IF(ISNA(VLOOKUP(C59,'WK 7'!$K$6:$L$41,2,FALSE)=0),\"\",IF(VLOOKUP(C59,'WK 7'!$K$6:$L$41,2,FALSE)=0,\"\",VLOOKUP(C59,'WK 7'!$K$6:$L$41,2,FALSE)))","v":""},{"$f":"IF(ISNA(VLOOKUP(C59,'WK 8'!$K$6:$L$41,2,FALSE)=0),\"\",IF(VLOOKUP(C59,'WK 8'!$K$6:$L$41,2,FALSE)=0,\"\",VLOOKUP(C59,'WK 8'!$K$6:$L$41,2,FALSE)))","v":""},{"$f":"IF(ISNA(VLOOKUP(C59,'WK 9'!$K$6:$L$41,2,FALSE)=0),\"\",IF(VLOOKUP(C59,'WK 9'!$K$6:$L$41,2,FALSE)=0,\"\",VLOOKUP(C59,'WK 9'!$K$6:$L$41,2,FALSE)))","v":""},{"$f":"IF(ISNA(VLOOKUP(C59,'WK 10'!$K$6:$L$41,2,FALSE)=0),\"\",IF(VLOOKUP(C59,'WK 10'!$K$6:$L$41,2,FALSE)=0,\"\",VLOOKUP(C59,'WK 10'!$K$6:$L$41,2,FALSE)))","v":""},0]
[null,null,{"$f":"IF(ISNA(VLOOKUP('WK 2'!K28,$C$2:$C$37,1,FALSE)),VLOOKUP('WK 2'!K28,'WK 2'!$K$6:$K$450,1,FALSE),\"\")","v":""},null,{"$f":"IF(ISNA(VLOOKUP(C60,'WK 2'!$K$6:$L$41,2,FALSE)=0),\"\",IF(VLOOKUP(C60,'WK 2'!$K$6:$L$41,2,FALSE)=0,\"\",VLOOKUP(C60,'WK 2'!$K$6:$L$41,2,FALSE)))","v":""},{"$f":"IF(ISNA(VLOOKUP(C60,'WK 3'!$K$6:$L$41,2,FALSE)=0),\"\",IF(VLOOKUP(C60,'WK 3'!$K$6:$L$41,2,FALSE)=0,\"\",VLOOKUP(C60,'WK 3'!$K$6:$L$41,2,FALSE)))","v":""},{"$f":"IF(ISNA(VLOOKUP(C60,'WK 4'!$K$6:$L$41,2,FALSE)=0),\"\",IF(VLOOKUP(C60,'WK 4'!$K$6:$L$41,2,FALSE)=0,\"\",VLOOKUP(C60,'WK 4'!$K$6:$L$41,2,FALSE)))","v":""},{"$f":"IF(ISNA(VLOOKUP(C60,'WK 5'!$K$6:$L$41,2,FALSE)=0),\"\",IF(VLOOKUP(C60,'WK 5'!$K$6:$L$41,2,FALSE)=0,\"\",VLOOKUP(C60,'WK 5'!$K$6:$L$41,2,FALSE)))","v":""},{"$f":"IF(ISNA(VLOOKUP(C60,'WK 6'!$K$6:$L$41,2,FALSE)=0),\"\",IF(VLOOKUP(C60,'WK 6'!$K$6:$L$41,2,FALSE)=0,\"\",VLOOKUP(C60,'WK 6'!$K$6:$L$41,2,FALSE)))","v":""},{"$f":"IF(ISNA(VLOOKUP(C60,'WK 7'!$K$6:$L$41,2,FALSE)=0),\"\",IF(VLOOKUP(C60,'WK 7'!$K$6:$L$41,2,FALSE)=0,\"\",VLOOKUP(C60,'WK 7'!$K$6:$L$41,2,FALSE)))","v":""},{"$f":"IF(ISNA(VLOOKUP(C60,'WK 8'!$K$6:$L$41,2,FALSE)=0),\"\",IF(VLOOKUP(C60,'WK 8'!$K$6:$L$41,2,FALSE)=0,\"\",VLOOKUP(C60,'WK 8'!$K$6:$L$41,2,FALSE)))","v":""},{"$f":"IF(ISNA(VLOOKUP(C60,'WK 9'!$K$6:$L$41,2,FALSE)=0),\"\",IF(VLOOKUP(C60,'WK 9'!$K$6:$L$41,2,FALSE)=0,\"\",VLOOKUP(C60,'WK 9'!$K$6:$L$41,2,FALSE)))","v":""},{"$f":"IF(ISNA(VLOOKUP(C60,'WK 10'!$K$6:$L$41,2,FALSE)=0),\"\",IF(VLOOKUP(C60,'WK 10'!$K$6:$L$41,2,FALSE)=0,\"\",VLOOKUP(C60,'WK 10'!$K$6:$L$41,2,FALSE)))","v":""},0]
[null,null,{"$f":"IF(ISNA(VLOOKUP('WK 2'!K29,$C$2:$C$37,1,FALSE)),VLOOKUP('WK 2'!K29,'WK 2'!$K$6:$K$450,1,FALSE),\"\")","v":""},null,{"$f":"IF(ISNA(VLOOKUP(C61,'WK 2'!$K$6:$L$41,2,FALSE)=0),\"\",IF(VLOOKUP(C61,'WK 2'!$K$6:$L$41,2,FALSE)=0,\"\",VLOOKUP(C61,'WK 2'!$K$6:$L$41,2,FALSE)))","v":""},{"$f":"IF(ISNA(VLOOKUP(C61,'WK 3'!$K$6:$L$41,2,FALSE)=0),\"\",IF(VLOOKUP(C61,'WK 3'!$K$6:$L$41,2,FALSE)=0,\"\",VLOOKUP(C61,'WK 3'!$K$6:$L$41,2,FALSE)))","v":""},{"$f":"IF(ISNA(VLOOKUP(C61,'WK 4'!$K$6:$L$41,2,FALSE)=0),\"\",IF(VLOOKUP(C61,'WK 4'!$K$6:$L$41,2,FALSE)=0,\"\",VLOOKUP(C61,'WK 4'!$K$6:$L$41,2,FALSE)))","v":""},{"$f":"IF(ISNA(VLOOKUP(C61,'WK 5'!$K$6:$L$41,2,FALSE)=0),\"\",IF(VLOOKUP(C61,'WK 5'!$K$6:$L$41,2,FALSE)=0,\"\",VLOOKUP(C61,'WK 5'!$K$6:$L$41,2,FALSE)))","v":""},{"$f":"IF(ISNA(VLOOKUP(C61,'WK 6'!$K$6:$L$41,2,FALSE)=0),\"\",IF(VLOOKUP(C61,'WK 6'!$K$6:$L$41,2,FALSE)=0,\"\",VLOOKUP(C61,'WK 6'!$K$6:$L$41,2,FALSE)))","v":""},{"$f":"IF(ISNA(VLOOKUP(C61,'WK 7'!$K$6:$L$41,2,FALSE)=0),\"\",IF(VLOOKUP(C61,'WK 7'!$K$6:$L$41,2,FALSE)=0,\"\",VLOOKUP(C61,'WK 7'!$K$6:$L$41,2,FALSE)))","v":""},{"$f":"IF(ISNA(VLOOKUP(C61,'WK 8'!$K$6:$L$41,2,FALSE)=0),\"\",IF(VLOOKUP(C61,'WK 8'!$K$6:$L$41,2,FALSE)=0,\"\",VLOOKUP(C61,'WK 8'!$K$6:$L$41,2,FALSE)))","v":""},{"$f":"IF(ISNA(VLOOKUP(C61,'WK 9'!$K$6:$L$41,2,FALSE)=0),\"\",IF(VLOOKUP(C61,'WK 9'!$K$6:$L$41,2,FALSE)=0,\"\",VLOOKUP(C61,'WK 9'!$K$6:$L$41,2,FALSE)))","v":""},{"$f":"IF(ISNA(VLOOKUP(C61,'WK 10'!$K$6:$L$41,2,FALSE)=0),\"\",IF(VLOOKUP(C61,'WK 10'!$K$6:$L$41,2,FALSE)=0,\"\",VLOOKUP(C61,'WK 10'!$K$6:$L$41,2,FALSE)))","v":""},0]
[null,null,{"$f":"IF(ISNA(VLOOKUP('WK 2'!K30,$C$2:$C$37,1,FALSE)),VLOOKUP('WK 2'!K30,'WK 2'!$K$6:$K$450,1,FALSE),\"\")","v":""},null,{"$f":"IF(ISNA(VLOOKUP(C62,'WK 2'!$K$6:$L$41,2,FALSE)=0),\"\",IF(VLOOKUP(C62,'WK 2'!$K$6:$L$41,2,FALSE)=0,\"\",VLOOKUP(C62,'WK 2'!$K$6:$L$41,2,FALSE)))","v":""},{"$f":"IF(ISNA(VLOOKUP(C62,'WK 3'!$K$6:$L$41,2,FALSE)=0),\"\",IF(VLOOKUP(C62,'WK 3'!$K$6:$L$41,2,FALSE)=0,\"\",VLOOKUP(C62,'WK 3'!$K$6:$L$41,2,FALSE)))","v":""},{"$f":"IF(ISNA(VLOOKUP(C62,'WK 4'!$K$6:$L$41,2,FALSE)=0),\"\",IF(VLOOKUP(C62,'WK 4'!$K$6:$L$41,2,FALSE)=0,\"\",VLOOKUP(C62,'WK 4'!$K$6:$L$41,2,FALSE)))","v":""},{"$f":"IF(ISNA(VLOOKUP(C62,'WK 5'!$K$6:$L$41,2,FALSE)=0),\"\",IF(VLOOKUP(C62,'WK 5'!$K$6:$L$41,2,FALSE)=0,\"\",VLOOKUP(C62,'WK 5'!$K$6:$L$41,2,FALSE)))","v":""},{"$f":"IF(ISNA(VLOOKUP(C62,'WK 6'!$K$6:$L$41,2,FALSE)=0),\"\",IF(VLOOKUP(C62,'WK 6'!$K$6:$L$41,2,FALSE)=0,\"\",VLOOKUP(C62,'WK 6'!$K$6:$L$41,2,FALSE)))","v":""},{"$f":"IF(ISNA(VLOOKUP(C62,'WK 7'!$K$6:$L$41,2,FALSE)=0),\"\",IF(VLOOKUP(C62,'WK 7'!$K$6:$L$41,2,FALSE)=0,\"\",VLOOKUP(C62,'WK 7'!$K$6:$L$41,2,FALSE)))","v":""},{"$f":"IF(ISNA(VLOOKUP(C62,'WK 8'!$K$6:$L$41,2,FALSE)=0),\"\",IF(VLOOKUP(C62,'WK 8'!$K$6:$L$41,2,FALSE)=0,\"\",VLOOKUP(C62,'WK 8'!$K$6:$L$41,2,FALSE)))","v":""},{"$f":"IF(ISNA(VLOOKUP(C62,'WK 9'!$K$6:$L$41,2,FALSE)=0),\"\",IF(VLOOKUP(C62,'WK 9'!$K$6:$L$41,2,FALSE)=0,\"\",VLOOKUP(C62,'WK 9'!$K$6:$L$41,2,FALSE)))","v":""},{"$f":"IF(ISNA(VLOOKUP(C62,'WK 10'!$K$6:$L$41,2,FALSE)=0),\"\",IF(VLOOKUP(C62,'WK 10'!$K$6:$L$41,2,FALSE)=0,\"\",VLOOKUP(C62,'WK 10'!$K$6:$L$41,2,FALSE)))","v":""},0]
[null,null,{"$f":"IF(ISNA(VLOOKUP('WK 2'!K31,$C$2:$C$37,1,FALSE)),VLOOKUP('WK 2'!K31,'WK 2'!$K$6:$K$450,1,FALSE),\"\")","v":""},null,{"$f":"IF(ISNA(VLOOKUP(C63,'WK 2'!$K$6:$L$41,2,FALSE)=0),\"\",IF(VLOOKUP(C63,'WK 2'!$K$6:$L$41,2,FALSE)=0,\"\",VLOOKUP(C63,'WK 2'!$K$6:$L$41,2,FALSE)))","v":""},{"$f":"IF(ISNA(VLOOKUP(C63,'WK 3'!$K$6:$L$41,2,FALSE)=0),\"\",IF(VLOOKUP(C63,'WK 3'!$K$6:$L$41,2,FALSE)=0,\"\",VLOOKUP(C63,'WK 3'!$K$6:$L$41,2,FALSE)))","v":""},{"$f":"IF(ISNA(VLOOKUP(C63,'WK 4'!$K$6:$L$41,2,FALSE)=0),\"\",IF(VLOOKUP(C63,'WK 4'!$K$6:$L$41,2,FALSE)=0,\"\",VLOOKUP(C63,'WK 4'!$K$6:$L$41,2,FALSE)))","v":""},{"$f":"IF(ISNA(VLOOKUP(C63,'WK 5'!$K$6:$L$41,2,FALSE)=0),\"\",IF(VLOOKUP(C63,'WK 5'!$K$6:$L$41,2,FALSE)=0,\"\",VLOOKUP(C63,'WK 5'!$K$6:$L$41,2,FALSE)))","v":""},{"$f":"IF(ISNA(VLOOKUP(C63,'WK 6'!$K$6:$L$41,2,FALSE)=0),\"\",IF(VLOOKUP(C63,'WK 6'!$K$6:$L$41,2,FALSE)=0,\"\",VLOOKUP(C63,'WK 6'!$K$6:$L$41,2,FALSE)))","v":""},{"$f":"IF(ISNA(VLOOKUP(C63,'WK 7'!$K$6:$L$41,2,FALSE)=0),\"\",IF(VLOOKUP(C63,'WK 7'!$K$6:$L$41,2,FALSE)=0,\"\",VLOOKUP(C63,'WK 7'!$K$6:$L$41,2,FALSE)))","v":""},{"$f":"IF(ISNA(VLOOKUP(C63,'WK 8'!$K$6:$L$41,2,FALSE)=0),\"\",IF(VLOOKUP(C63,'WK 8'!$K$6:$L$41,2,FALSE)=0,\"\",VLOOKUP(C63,'WK 8'!$K$6:$L$41,2,FALSE)))","v":""},{"$f":"IF(ISNA(VLOOKUP(C63,'WK 9'!$K$6:$L$41,2,FALSE)=0),\"\",IF(VLOOKUP(C63,'WK 9'!$K$6:$L$41,2,FALSE)=0,\"\",VLOOKUP(C63,'WK 9'!$K$6:$L$41,2,FALSE)))","v":""},{"$f":"IF(ISNA(VLOOKUP(C63,'WK 10'!$K$6:$L$41,2,FALSE)=0),\"\",IF(VLOOKUP(C63,'WK 10'!$K$6:$L$41,2,FALSE)=0,\"\",VLOOKUP(C63,'WK 10'!$K$6:$L$41,2,FALSE)))","v":""},0]
[null,null,{"$f":"IF(ISNA(VLOOKUP('WK 2'!K32,$C$2:$C$37,1,FALSE)),VLOOKUP('WK 2'!K32,'WK 2'!$K$6:$K$450,1,FALSE),\"\")","v":""},null,{"$f":"IF(ISNA(VLOOKUP(C64,'WK 2'!$K$6:$L$41,2,FALSE)=0),\"\",IF(VLOOKUP(C64,'WK 2'!$K$6:$L$41,2,FALSE)=0,\"\",VLOOKUP(C64,'WK 2'!$K$6:$L$41,2,FALSE)))","v":""},{"$f":"IF(ISNA(VLOOKUP(C64,'WK 3'!$K$6:$L$41,2,FALSE)=0),\"\",IF(VLOOKUP(C64,'WK 3'!$K$6:$L$41,2,FALSE)=0,\"\",VLOOKUP(C64,'WK 3'!$K$6:$L$41,2,FALSE)))","v":""},{"$f":"IF(ISNA(VLOOKUP(C64,'WK 4'!$K$6:$L$41,2,FALSE)=0),\"\",IF(VLOOKUP(C64,'WK 4'!$K$6:$L$41,2,FALSE)=0,\"\",VLOOKUP(C64,'WK 4'!$K$6:$L$41,2,FALSE)))","v":""},{"$f":"IF(ISNA(VLOOKUP(C64,'WK 5'!$K$6:$L$41,2,FALSE)=0),\"\",IF(VLOOKUP(C64,'WK 5'!$K$6:$L$41,2,FALSE)=0,\"\",VLOOKUP(C64,'WK 5'!$K$6:$L$41,2,FALSE)))","v":""},{"$f":"IF(ISNA(VLOOKUP(C64,'WK 6'!$K$6:$L$41,2,FALSE)=0),\"\",IF(VLOOKUP(C64,'WK 6'!$K$6:$L$41,2,FALSE)=0,\"\",VLOOKUP(C64,'WK 6'!$K$6:$L$41,2,FALSE)))","v":""},{"$f":"IF(ISNA(VLOOKUP(C64,'WK 7'!$K$6:$L$41,2,FALSE)=0),\"\",IF(VLOOKUP(C64,'WK 7'!$K$6:$L$41,2,FALSE)=0,\"\",VLOOKUP(C64,'WK 7'!$K$6:$L$41,2,FALSE)))","v":""},{"$f":"IF(ISNA(VLOOKUP(C64,'WK 8'!$K$6:$L$41,2,FALSE)=0),\"\",IF(VLOOKUP(C64,'WK 8'!$K$6:$L$41,2,FALSE)=0,\"\",VLOOKUP(C64,'WK 8'!$K$6:$L$41,2,FALSE)))","v":""},{"$f":"IF(ISNA(VLOOKUP(C64,'WK 9'!$K$6:$L$41,2,FALSE)=0),\"\",IF(VLOOKUP(C64,'WK 9'!$K$6:$L$41,2,FALSE)=0,\"\",VLOOKUP(C64,'WK 9'!$K$6:$L$41,2,FALSE)))","v":""},{"$f":"IF(ISNA(VLOOKUP(C64,'WK 10'!$K$6:$L$41,2,FALSE)=0),\"\",IF(VLOOKUP(C64,'WK 10'!$K$6:$L$41,2,FALSE)=0,\"\",VLOOKUP(C64,'WK 10'!$K$6:$L$41,2,FALSE)))","v":""},0]
[null,null,{"$f":"IF(ISNA(VLOOKUP('WK 2'!K33,$C$2:$C$37,1,FALSE)),VLOOKUP('WK 2'!K33,'WK 2'!$K$6:$K$450,1,FALSE),\"\")","v":""},null,{"$f":"IF(ISNA(VLOOKUP(C65,'WK 2'!$K$6:$L$41,2,FALSE)=0),\"\",IF(VLOOKUP(C65,'WK 2'!$K$6:$L$41,2,FALSE)=0,\"\",VLOOKUP(C65,'WK 2'!$K$6:$L$41,2,FALSE)))","v":""},{"$f":"IF(ISNA(VLOOKUP(C65,'WK 3'!$K$6:$L$41,2,FALSE)=0),\"\",IF(VLOOKUP(C65,'WK 3'!$K$6:$L$41,2,FALSE)=0,\"\",VLOOKUP(C65,'WK 3'!$K$6:$L$41,2,FALSE)))","v":""},{"$f":"IF(ISNA(VLOOKUP(C65,'WK 4'!$K$6:$L$41,2,FALSE)=0),\"\",IF(VLOOKUP(C65,'WK 4'!$K$6:$L$41,2,FALSE)=0,\"\",VLOOKUP(C65,'WK 4'!$K$6:$L$41,2,FALSE)))","v":""},{"$f":"IF(ISNA(VLOOKUP(C65,'WK 5'!$K$6:$L$41,2,FALSE)=0),\"\",IF(VLOOKUP(C65,'WK 5'!$K$6:$L$41,2,FALSE)=0,\"\",VLOOKUP(C65,'WK 5'!$K$6:$L$41,2,FALSE)))","v":""},{"$f":"IF(ISNA(VLOOKUP(C65,'WK 6'!$K$6:$L$41,2,FALSE)=0),\"\",IF(VLOOKUP(C65,'WK 6'!$K$6:$L$41,2,FALSE)=0,\"\",VLOOKUP(C65,'WK 6'!$K$6:$L$41,2,FALSE)))","v":""},{"$f":"IF(ISNA(VLOOKUP(C65,'WK 7'!$K$6:$L$41,2,FALSE)=0),\"\",IF(VLOOKUP(C65,'WK 7'!$K$6:$L$41,2,FALSE)=0,\"\",VLOOKUP(C65,'WK 7'!$K$6:$L$41,2,FALSE)))","v":""},{"$f":"IF(ISNA(VLOOKUP(C65,'WK 8'!$K$6:$L$41,2,FALSE)=0),\"\",IF(VLOOKUP(C65,'WK 8'!$K$6:$L$41,2,FALSE)=0,\"\",VLOOKUP(C65,'WK 8'!$K$6:$L$41,2,FALSE)))","v":""},{"$f":"IF(ISNA(VLOOKUP(C65,'WK 9'!$K$6:$L$41,2,FALSE)=0),\"\",IF(VLOOKUP(C65,'WK 9'!$K$6:$L$41,2,FALSE)=0,\"\",VLOOKUP(C65,'WK 9'!$K$6:$L$41,2,FALSE)))","v":""},{"$f":"IF(ISNA(VLOOKUP(C65,'WK 10'!$K$6:$L$41,2,FALSE)=0),\"\",IF(VLOOKUP(C65,'WK 10'!$K$6:$L$41,2,FALSE)=0,\"\",VLOOKUP(C65,'WK 10'!$K$6:$L$41,2,FALSE)))","v":""},0]
[null,null,{"$f":"IF(ISNA(VLOOKUP('WK 2'!K34,$C$2:$C$37,1,FALSE)),VLOOKUP('WK 2'!K34,'WK 2'!$K$6:$K$450,1,FALSE),\"\")","v":""},null,{"$f":"IF(ISNA(VLOOKUP(C66,'WK 2'!$K$6:$L$41,2,FALSE)=0),\"\",IF(VLOOKUP(C66,'WK 2'!$K$6:$L$41,2,FALSE)=0,\"\",VLOOKUP(C66,'WK 2'!$K$6:$L$41,2,FALSE)))","v":""},{"$f":"IF(ISNA(VLOOKUP(C66,'WK 3'!$K$6:$L$41,2,FALSE)=0),\"\",IF(VLOOKUP(C66,'WK 3'!$K$6:$L$41,2,FALSE)=0,\"\",VLOOKUP(C66,'WK 3'!$K$6:$L$41,2,FALSE)))","v":""},{"$f":"IF(ISNA(VLOOKUP(C66,'WK 4'!$K$6:$L$41,2,FALSE)=0),\"\",IF(VLOOKUP(C66,'WK 4'!$K$6:$L$41,2,FALSE)=0,\"\",VLOOKUP(C66,'WK 4'!$K$6:$L$41,2,FALSE)))","v":""},{"$f":"IF(ISNA(VLOOKUP(C66,'WK 5'!$K$6:$L$41,2,FALSE)=0),\"\",IF(VLOOKUP(C66,'WK 5'!$K$6:$L$41,2,FALSE)=0,\"\",VLOOKUP(C66,'WK 5'!$K$6:$L$41,2,FALSE)))","v":""},{"$f":"IF(ISNA(VLOOKUP(C66,'WK 6'!$K$6:$L$41,2,FALSE)=0),\"\",IF(VLOOKUP(C66,'WK 6'!$K$6:$L$41,2,FALSE)=0,\"\",VLOOKUP(C66,'WK 6'!$K$6:$L$41,2,FALSE)))","v":""},{"$f":"IF(ISNA(VLOOKUP(C66,'WK 7'!$K$6:$L$41,2,FALSE)=0),\"\",IF(VLOOKUP(C66,'WK 7'!$K$6:$L$41,2,FALSE)=0,\"\",VLOOKUP(C66,'WK 7'!$K$6:$L$41,2,FALSE)))","v":""},{"$f":"IF(ISNA(VLOOKUP(C66,'WK 8'!$K$6:$L$41,2,FALSE)=0),\"\",IF(VLOOKUP(C66,'WK 8'!$K$6:$L$41,2,FALSE)=0,\"\",VLOOKUP(C66,'WK 8'!$K$6:$L$41,2,FALSE)))","v":""},{"$f":"IF(ISNA(VLOOKUP(C66,'WK 9'!$K$6:$L$41,2,FALSE)=0),\"\",IF(VLOOKUP(C66,'WK 9'!$K$6:$L$41,2,FALSE)=0,\"\",VLOOKUP(C66,'WK 9'!$K$6:$L$41,2,FALSE)))","v":""},{"$f":"IF(ISNA(VLOOKUP(C66,'WK 10'!$K$6:$L$41,2,FALSE)=0),\"\",IF(VLOOKUP(C66,'WK 10'!$K$6:$L$41,2,FALSE)=0,\"\",VLOOKUP(C66,'WK 10'!$K$6:$L$41,2,FALSE)))","v":""},0]
[null,null,{"$f":"IF(ISNA(VLOOKUP('WK 2'!K35,$C$2:$C$37,1,FALSE)),VLOOKUP('WK 2'!K35,'WK 2'!$K$6:$K$450,1,FALSE),\"\")","v":""},null,{"$f":"IF(ISNA(VLOOKUP(C67,'WK 2'!$K$6:$L$41,2,FALSE)=0),\"\",IF(VLOOKUP(C67,'WK 2'!$K$6:$L$41,2,FALSE)=0,\"\",VLOOKUP(C67,'WK 2'!$K$6:$L$41,2,FALSE)))","v":""},{"$f":"IF(ISNA(VLOOKUP(C67,'WK 3'!$K$6:$L$41,2,FALSE)=0),\"\",IF(VLOOKUP(C67,'WK 3'!$K$6:$L$41,2,FALSE)=0,\"\",VLOOKUP(C67,'WK 3'!$K$6:$L$41,2,FALSE)))","v":""},{"$f":"IF(ISNA(VLOOKUP(C67,'WK 4'!$K$6:$L$41,2,FALSE)=0),\"\",IF(VLOOKUP(C67,'WK 4'!$K$6:$L$41,2,FALSE)=0,\"\",VLOOKUP(C67,'WK 4'!$K$6:$L$41,2,FALSE)))","v":""},{"$f":"IF(ISNA(VLOOKUP(C67,'WK 5'!$K$6:$L$41,2,FALSE)=0),\"\",IF(VLOOKUP(C67,'WK 5'!$K$6:$L$41,2,FALSE)=0,\"\",VLOOKUP(C67,'WK 5'!$K$6:$L$41,2,FALSE)))","v":""},{"$f":"IF(ISNA(VLOOKUP(C67,'WK 6'!$K$6:$L$41,2,FALSE)=0),\"\",IF(VLOOKUP(C67,'WK 6'!$K$6:$L$41,2,FALSE)=0,\"\",VLOOKUP(C67,'WK 6'!$K$6:$L$41,2,FALSE)))","v":""},{"$f":"IF(ISNA(VLOOKUP(C67,'WK 7'!$K$6:$L$41,2,FALSE)=0),\"\",IF(VLOOKUP(C67,'WK 7'!$K$6:$L$41,2,FALSE)=0,\"\",VLOOKUP(C67,'WK 7'!$K$6:$L$41,2,FALSE)))","v":""},{"$f":"IF(ISNA(VLOOKUP(C67,'WK 8'!$K$6:$L$41,2,FALSE)=0),\"\",IF(VLOOKUP(C67,'WK 8'!$K$6:$L$41,2,FALSE)=0,\"\",VLOOKUP(C67,'WK 8'!$K$6:$L$41,2,FALSE)))","v":""},{"$f":"IF(ISNA(VLOOKUP(C67,'WK 9'!$K$6:$L$41,2,FALSE)=0),\"\",IF(VLOOKUP(C67,'WK 9'!$K$6:$L$41,2,FALSE)=0,\"\",VLOOKUP(C67,'WK 9'!$K$6:$L$41,2,FALSE)))","v":""},{"$f":"IF(ISNA(VLOOKUP(C67,'WK 10'!$K$6:$L$41,2,FALSE)=0),\"\",IF(VLOOKUP(C67,'WK 10'!$K$6:$L$41,2,FALSE)=0,\"\",VLOOKUP(C67,'WK 10'!$K$6:$L$41,2,FALSE)))","v":""},{"$f":"IF(COUNT(D67:M67)=0,0,AVERAGE(D67:M67))","v":0}]
[null,null,{"$f":"IF(ISNA(VLOOKUP('WK 2'!K36,$C$2:$C$37,1,FALSE)),VLOOKUP('WK 2'!K36,'WK 2'!$K$6:$K$450,1,FALSE),\"\")","v":""},null,{"$f":"IF(ISNA(VLOOKUP(C68,'WK 2'!$K$6:$L$41,2,FALSE)=0),\"\",IF(VLOOKUP(C68,'WK 2'!$K$6:$L$41,2,FALSE)=0,\"\",VLOOKUP(C68,'WK 2'!$K$6:$L$41,2,FALSE)))","v":""},{"$f":"IF(ISNA(VLOOKUP(C68,'WK 3'!$K$6:$L$41,2,FALSE)=0),\"\",IF(VLOOKUP(C68,'WK 3'!$K$6:$L$41,2,FALSE)=0,\"\",VLOOKUP(C68,'WK 3'!$K$6:$L$41,2,FALSE)))","v":""},{"$f":"IF(ISNA(VLOOKUP(C68,'WK 4'!$K$6:$L$41,2,FALSE)=0),\"\",IF(VLOOKUP(C68,'WK 4'!$K$6:$L$41,2,FALSE)=0,\"\",VLOOKUP(C68,'WK 4'!$K$6:$L$41,2,FALSE)))","v":""},{"$f":"IF(ISNA(VLOOKUP(C68,'WK 5'!$K$6:$L$41,2,FALSE)=0),\"\",IF(VLOOKUP(C68,'WK 5'!$K$6:$L$41,2,FALSE)=0,\"\",VLOOKUP(C68,'WK 5'!$K$6:$L$41,2,FALSE)))","v":""},{"$f":"IF(ISNA(VLOOKUP(C68,'WK 6'!$K$6:$L$41,2,FALSE)=0),\"\",IF(VLOOKUP(C68,'WK 6'!$K$6:$L$41,2,FALSE)=0,\"\",VLOOKUP(C68,'WK 6'!$K$6:$L$41,2,FALSE)))","v":""},{"$f":"IF(ISNA(VLOOKUP(C68,'WK 7'!$K$6:$L$41,2,FALSE)=0),\"\",IF(VLOOKUP(C68,'WK 7'!$K$6:$L$41,2,FALSE)=0,\"\",VLOOKUP(C68,'WK 7'!$K$6:$L$41,2,FALSE)))","v":""},{"$f":"IF(ISNA(VLOOKUP(C68,'WK 8'!$K$6:$L$41,2,FALSE)=0),\"\",IF(VLOOKUP(C68,'WK 8'!$K$6:$L$41,2,FALSE)=0,\"\",VLOOKUP(C68,'WK 8'!$K$6:$L$41,2,FALSE)))","v":""},{"$f":"IF(ISNA(VLOOKUP(C68,'WK 9'!$K$6:$L$41,2,FALSE)=0),\"\",IF(VLOOKUP(C68,'WK 9'!$K$6:$L$41,2,FALSE)=0,\"\",VLOOKUP(C68,'WK 9'!$K$6:$L$41,2,FALSE)))","v":""},{"$f":"IF(ISNA(VLOOKUP(C68,'WK 10'!$K$6:$L$41,2,FALSE)=0),\"\",IF(VLOOKUP(C68,'WK 10'!$K$6:$L$41,2,FALSE)=0,\"\",VLOOKUP(C68,'WK 10'!$K$6:$L$41,2,FALSE)))","v":""},0]
[null,null,{"$f":"IF(ISNA(VLOOKUP('WK 2'!K37,$C$2:$C$37,1,FALSE)),VLOOKUP('WK 2'!K37,'WK 2'!$K$6:$K$450,1,FALSE),\"\")","v":""},null,{"$f":"IF(ISNA(VLOOKUP(C69,'WK 2'!$K$6:$L$41,2,FALSE)=0),\"\",IF(VLOOKUP(C69,'WK 2'!$K$6:$L$41,2,FALSE)=0,\"\",VLOOKUP(C69,'WK 2'!$K$6:$L$41,2,FALSE)))","v":""},{"$f":"IF(ISNA(VLOOKUP(C69,'WK 3'!$K$6:$L$41,2,FALSE)=0),\"\",IF(VLOOKUP(C69,'WK 3'!$K$6:$L$41,2,FALSE)=0,\"\",VLOOKUP(C69,'WK 3'!$K$6:$L$41,2,FALSE)))","v":""},{"$f":"IF(ISNA(VLOOKUP(C69,'WK 4'!$K$6:$L$41,2,FALSE)=0),\"\",IF(VLOOKUP(C69,'WK 4'!$K$6:$L$41,2,FALSE)=0,\"\",VLOOKUP(C69,'WK 4'!$K$6:$L$41,2,FALSE)))","v":""},{"$f":"IF(ISNA(VLOOKUP(C69,'WK 5'!$K$6:$L$41,2,FALSE)=0),\"\",IF(VLOOKUP(C69,'WK 5'!$K$6:$L$41,2,FALSE)=0,\"\",VLOOKUP(C69,'WK 5'!$K$6:$L$41,2,FALSE)))","v":""},{"$f":"IF(ISNA(VLOOKUP(C69,'WK 6'!$K$6:$L$41,2,FALSE)=0),\"\",IF(VLOOKUP(C69,'WK 6'!$K$6:$L$41,2,FALSE)=0,\"\",VLOOKUP(C69,'WK 6'!$K$6:$L$41,2,FALSE)))","v":""},{"$f":"IF(ISNA(VLOOKUP(C69,'WK 7'!$K$6:$L$41,2,FALSE)=0),\"\",IF(VLOOKUP(C69,'WK 7'!$K$6:$L$41,2,FALSE)=0,\"\",VLOOKUP(C69,'WK 7'!$K$6:$L$41,2,FALSE)))","v":""},{"$f":"IF(ISNA(VLOOKUP(C69,'WK 8'!$K$6:$L$41,2,FALSE)=0),\"\",IF(VLOOKUP(C69,'WK 8'!$K$6:$L$41,2,FALSE)=0,\"\",VLOOKUP(C69,'WK 8'!$K$6:$L$41,2,FALSE)))","v":""},{"$f":"IF(ISNA(VLOOKUP(C69,'WK 9'!$K$6:$L$41,2,FALSE)=0),\"\",IF(VLOOKUP(C69,'WK 9'!$K$6:$L$41,2,FALSE)=0,\"\",VLOOKUP(C69,'WK 9'!$K$6:$L$41,2,FALSE)))","v":""},{"$f":"IF(ISNA(VLOOKUP(C69,'WK 10'!$K$6:$L$41,2,FALSE)=0),\"\",IF(VLOOKUP(C69,'WK 10'!$K$6:$L$41,2,FALSE)=0,\"\",VLOOKUP(C69,'WK 10'!$K$6:$L$41,2,FALSE)))","v":""},0]
[null,null,{"$f":"IF(ISNA(VLOOKUP('WK 2'!K38,$C$2:$C$37,1,FALSE)),VLOOKUP('WK 2'!K38,'WK 2'!$K$6:$K$450,1,FALSE),\"\")","v":""},null,{"$f":"IF(ISNA(VLOOKUP(C70,'WK 2'!$K$6:$L$41,2,FALSE)=0),\"\",IF(VLOOKUP(C70,'WK 2'!$K$6:$L$41,2,FALSE)=0,\"\",VLOOKUP(C70,'WK 2'!$K$6:$L$41,2,FALSE)))","v":""},{"$f":"IF(ISNA(VLOOKUP(C70,'WK 3'!$K$6:$L$41,2,FALSE)=0),\"\",IF(VLOOKUP(C70,'WK 3'!$K$6:$L$41,2,FALSE)=0,\"\",VLOOKUP(C70,'WK 3'!$K$6:$L$41,2,FALSE)))","v":""},{"$f":"IF(ISNA(VLOOKUP(C70,'WK 4'!$K$6:$L$41,2,FALSE)=0),\"\",IF(VLOOKUP(C70,'WK 4'!$K$6:$L$41,2,FALSE)=0,\"\",VLOOKUP(C70,'WK 4'!$K$6:$L$41,2,FALSE)))","v":""},{"$f":"IF(ISNA(VLOOKUP(C70,'WK 5'!$K$6:$L$41,2,FALSE)=0),\"\",IF(VLOOKUP(C70,'WK 5'!$K$6:$L$41,2,FALSE)=0,\"\",VLOOKUP(C70,'WK 5'!$K$6:$L$41,2,FALSE)))","v":""},{"$f":"IF(ISNA(VLOOKUP(C70,'WK 6'!$K$6:$L$41,2,FALSE)=0),\"\",IF(VLOOKUP(C70,'WK 6'!$K$6:$L$41,2,FALSE)=0,\"\",VLOOKUP(C70,'WK 6'!$K$6:$L$41,2,FALSE)))","v":""},{"$f":"IF(ISNA(VLOOKUP(C70,'WK 7'!$K$6:$L$41,2,FALSE)=0),\"\",IF(VLOOKUP(C70,'WK 7'!$K$6:$L$41,2,FALSE)=0,\"\",VLOOKUP(C70,'WK 7'!$K$6:$L$41,2,FALSE)))","v":""},{"$f":"IF(ISNA(VLOOKUP(C70,'WK 8'!$K$6:$L$41,2,FALSE)=0),\"\",IF(VLOOKUP(C70,'WK 8'!$K$6:$L$41,2,FALSE)=0,\"\",VLOOKUP(C70,'WK 8'!$K$6:$L$41,2,FALSE)))","v":""},{"$f":"IF(ISNA(VLOOKUP(C70,'WK 9'!$K$6:$L$41,2,FALSE)=0),\"\",IF(VLOOKUP(C70,'WK 9'!$K$6:$L$41,2,FALSE)=0,\"\",VLOOKUP(C70,'WK 9'!$K$6:$L$41,2,FALSE)))","v":""},{"$f":"IF(ISNA(VLOOKUP(C70,'WK 10'!$K$6:$L$41,2,FALSE)=0),\"\",IF(VLOOKUP(C70,'WK 10'!$K$6:$L$41,2,FALSE)=0,\"\",VLOOKUP(C70,'WK 10'!$K$6:$L$41,2,FALSE)))","v":""},0]
[null,null,{"$f":"IF(ISNA(VLOOKUP('WK 2'!K39,$C$2:$C$37,1,FALSE)),VLOOKUP('WK 2'!K39,'WK 2'!$K$6:$K$450,1,FALSE),\"\")","v":""},null,{"$f":"IF(ISNA(VLOOKUP(C71,'WK 2'!$K$6:$L$41,2,FALSE)=0),\"\",IF(VLOOKUP(C71,'WK 2'!$K$6:$L$41,2,FALSE)=0,\"\",VLOOKUP(C71,'WK 2'!$K$6:$L$41,2,FALSE)))","v":""},{"$f":"IF(ISNA(VLOOKUP(C71,'WK 3'!$K$6:$L$41,2,FALSE)=0),\"\",IF(VLOOKUP(C71,'WK 3'!$K$6:$L$41,2,FALSE)=0,\"\",VLOOKUP(C71,'WK 3'!$K$6:$L$41,2,FALSE)))","v":""},{"$f":"IF(ISNA(VLOOKUP(C71,'WK 4'!$K$6:$L$41,2,FALSE)=0),\"\",IF(VLOOKUP(C71,'WK 4'!$K$6:$L$41,2,FALSE)=0,\"\",VLOOKUP(C71,'WK 4'!$K$6:$L$41,2,FALSE)))","v":""},{"$f":"IF(ISNA(VLOOKUP(C71,'WK 5'!$K$6:$L$41,2,FALSE)=0),\"\",IF(VLOOKUP(C71,'WK 5'!$K$6:$L$41,2,FALSE)=0,\"\",VLOOKUP(C71,'WK 5'!$K$6:$L$41,2,FALSE)))","v":""},{"$f":"IF(ISNA(VLOOKUP(C71,'WK 6'!$K$6:$L$41,2,FALSE)=0),\"\",IF(VLOOKUP(C71,'WK 6'!$K$6:$L$41,2,FALSE)=0,\"\",VLOOKUP(C71,'WK 6'!$K$6:$L$41,2,FALSE)))","v":""},{"$f":"IF(ISNA(VLOOKUP(C71,'WK 7'!$K$6:$L$41,2,FALSE)=0),\"\",IF(VLOOKUP(C71,'WK 7'!$K$6:$L$41,2,FALSE)=0,\"\",VLOOKUP(C71,'WK 7'!$K$6:$L$41,2,FALSE)))","v":""},{"$f":"IF(ISNA(VLOOKUP(C71,'WK 8'!$K$6:$L$41,2,FALSE)=0),\"\",IF(VLOOKUP(C71,'WK 8'!$K$6:$L$41,2,FALSE)=0,\"\",VLOOKUP(C71,'WK 8'!$K$6:$L$41,2,FALSE)))","v":""},{"$f":"IF(ISNA(VLOOKUP(C71,'WK 9'!$K$6:$L$41,2,FALSE)=0),\"\",IF(VLOOKUP(C71,'WK 9'!$K$6:$L$41,2,FALSE)=0,\"\",VLOOKUP(C71,'WK 9'!$K$6:$L$41,2,FALSE)))","v":""},{"$f":"IF(ISNA(VLOOKUP(C71,'WK 10'!$K$6:$L$41,2,FALSE)=0),\"\",IF(VLOOKUP(C71,'WK 10'!$K$6:$L$41,2,FALSE)=0,\"\",VLOOKUP(C71,'WK 10'!$K$6:$L$41,2,FALSE)))","v":""},0]
[null,null,{"$f":"IF(ISNA(VLOOKUP('WK 2'!K40,$C$2:$C$37,1,FALSE)),VLOOKUP('WK 2'!K40,'WK 2'!$K$6:$K$450,1,FALSE),\"\")","v":""},null,{"$f":"IF(ISNA(VLOOKUP(C72,'WK 2'!$K$6:$L$41,2,FALSE)=0),\"\",IF(VLOOKUP(C72,'WK 2'!$K$6:$L$41,2,FALSE)=0,\"\",VLOOKUP(C72,'WK 2'!$K$6:$L$41,2,FALSE)))","v":""},{"$f":"IF(ISNA(VLOOKUP(C72,'WK 3'!$K$6:$L$41,2,FALSE)=0),\"\",IF(VLOOKUP(C72,'WK 3'!$K$6:$L$41,2,FALSE)=0,\"\",VLOOKUP(C72,'WK 3'!$K$6:$L$41,2,FALSE)))","v":""},{"$f":"IF(ISNA(VLOOKUP(C72,'WK 4'!$K$6:$L$41,2,FALSE)=0),\"\",IF(VLOOKUP(C72,'WK 4'!$K$6:$L$41,2,FALSE)=0,\"\",VLOOKUP(C72,'WK 4'!$K$6:$L$41,2,FALSE)))","v":""},{"$f":"IF(ISNA(VLOOKUP(C72,'WK 5'!$K$6:$L$41,2,FALSE)=0),\"\",IF(VLOOKUP(C72,'WK 5'!$K$6:$L$41,2,FALSE)=0,\"\",VLOOKUP(C72,'WK 5'!$K$6:$L$41,2,FALSE)))","v":""},{"$f":"IF(ISNA(VLOOKUP(C72,'WK 6'!$K$6:$L$41,2,FALSE)=0),\"\",IF(VLOOKUP(C72,'WK 6'!$K$6:$L$41,2,FALSE)=0,\"\",VLOOKUP(C72,'WK 6'!$K$6:$L$41,2,FALSE)))","v":""},{"$f":"IF(ISNA(VLOOKUP(C72,'WK 7'!$K$6:$L$41,2,FALSE)=0),\"\",IF(VLOOKUP(C72,'WK 7'!$K$6:$L$41,2,FALSE)=0,\"\",VLOOKUP(C72,'WK 7'!$K$6:$L$41,2,FALSE)))","v":""},{"$f":"IF(ISNA(VLOOKUP(C72,'WK 8'!$K$6:$L$41,2,FALSE)=0),\"\",IF(VLOOKUP(C72,'WK 8'!$K$6:$L$41,2,FALSE)=0,\"\",VLOOKUP(C72,'WK 8'!$K$6:$L$41,2,FALSE)))","v":""},{"$f":"IF(ISNA(VLOOKUP(C72,'WK 9'!$K$6:$L$41,2,FALSE)=0),\"\",IF(VLOOKUP(C72,'WK 9'!$K$6:$L$41,2,FALSE)=0,\"\",VLOOKUP(C72,'WK 9'!$K$6:$L$41,2,FALSE)))","v":""},{"$f":"IF(ISNA(VLOOKUP(C72,'WK 10'!$K$6:$L$41,2,FALSE)=0),\"\",IF(VLOOKUP(C72,'WK 10'!$K$6:$L$41,2,FALSE)=0,\"\",VLOOKUP(C72,'WK 10'!$K$6:$L$41,2,FALSE)))","v":""},0]
[null,null,{"$f":"IF(ISNA(VLOOKUP('WK 2'!K41,$C$2:$C$37,1,FALSE)),VLOOKUP('WK 2'!K41,'WK 2'!$K$6:$K$450,1,FALSE),\"\")","v":""},null,{"$f":"IF(ISNA(VLOOKUP(C73,'WK 2'!$K$6:$L$41,2,FALSE)=0),\"\",IF(VLOOKUP(C73,'WK 2'!$K$6:$L$41,2,FALSE)=0,\"\",VLOOKUP(C73,'WK 2'!$K$6:$L$41,2,FALSE)))","v":""},{"$f":"IF(ISNA(VLOOKUP(C73,'WK 3'!$K$6:$L$41,2,FALSE)=0),\"\",IF(VLOOKUP(C73,'WK 3'!$K$6:$L$41,2,FALSE)=0,\"\",VLOOKUP(C73,'WK 3'!$K$6:$L$41,2,FALSE)))","v":""},{"$f":"IF(ISNA(VLOOKUP(C73,'WK 4'!$K$6:$L$41,2,FALSE)=0),\"\",IF(VLOOKUP(C73,'WK 4'!$K$6:$L$41,2,FALSE)=0,\"\",VLOOKUP(C73,'WK 4'!$K$6:$L$41,2,FALSE)))","v":""},{"$f":"IF(ISNA(VLOOKUP(C73,'WK 5'!$K$6:$L$41,2,FALSE)=0),\"\",IF(VLOOKUP(C73,'WK 5'!$K$6:$L$41,2,FALSE)=0,\"\",VLOOKUP(C73,'WK 5'!$K$6:$L$41,2,FALSE)))","v":""},{"$f":"IF(ISNA(VLOOKUP(C73,'WK 6'!$K$6:$L$41,2,FALSE)=0),\"\",IF(VLOOKUP(C73,'WK 6'!$K$6:$L$41,2,FALSE)=0,\"\",VLOOKUP(C73,'WK 6'!$K$6:$L$41,2,FALSE)))","v":""},{"$f":"IF(ISNA(VLOOKUP(C73,'WK 7'!$K$6:$L$41,2,FALSE)=0),\"\",IF(VLOOKUP(C73,'WK 7'!$K$6:$L$41,2,FALSE)=0,\"\",VLOOKUP(C73,'WK 7'!$K$6:$L$41,2,FALSE)))","v":""},{"$f":"IF(ISNA(VLOOKUP(C73,'WK 8'!$K$6:$L$41,2,FALSE)=0),\"\",IF(VLOOKUP(C73,'WK 8'!$K$6:$L$41,2,FALSE)=0,\"\",VLOOKUP(C73,'WK 8'!$K$6:$L$41,2,FALSE)))","v":""},{"$f":"IF(ISNA(VLOOKUP(C73,'WK 9'!$K$6:$L$41,2,FALSE)=0),\"\",IF(VLOOKUP(C73,'WK 9'!$K$6:$L$41,2,FALSE)=0,\"\",VLOOKUP(C73,'WK 9'!$K$6:$L$41,2,FALSE)))","v":""},{"$f":"IF(ISNA(VLOOKUP(C73,'WK 10'!$K$6:$L$41,2,FALSE)=0),\"\",IF(VLOOKUP(C73,'WK 10'!$K$6:$L$41,2,FALSE)=0,\"\",VLOOKUP(C73,'WK 10'!$K$6:$L$41,2,FALSE)))","v":""},0]
[null,"WK 3 Beginn",{"$f":"IF(ISNA(VLOOKUP('WK 3'!K6,$C$2:$C$73,1,FALSE)),VLOOKUP('WK 3'!K6,'WK 3'!$K$6:$K$450,1,FALSE),\"\")","v":""},null,{"$f":"IF(ISNA(VLOOKUP(C74,'WK 2'!$K$6:$L$41,2,FALSE)=0),\"\",IF(VLOOKUP(C74,'WK 2'!$K$6:$L$41,2,FALSE)=0,\"\",VLOOKUP(C74,'WK 2'!$K$6:$L$41,2,FALSE)))","v":""},{"$f":"IF(ISNA(VLOOKUP(C74,'WK 3'!$K$6:$L$41,2,FALSE)=0),\"\",IF(VLOOKUP(C74,'WK 3'!$K$6:$L$41,2,FALSE)=0,\"\",VLOOKUP(C74,'WK 3'!$K$6:$L$41,2,FALSE)))","v":""},{"$f":"IF(ISNA(VLOOKUP(C74,'WK 4'!$K$6:$L$41,2,FALSE)=0),\"\",IF(VLOOKUP(C74,'WK 4'!$K$6:$L$41,2,FALSE)=0,\"\",VLOOKUP(C74,'WK 4'!$K$6:$L$41,2,FALSE)))","v":""},{"$f":"IF(ISNA(VLOOKUP(C74,'WK 5'!$K$6:$L$41,2,FALSE)=0),\"\",IF(VLOOKUP(C74,'WK 5'!$K$6:$L$41,2,FALSE)=0,\"\",VLOOKUP(C74,'WK 5'!$K$6:$L$41,2,FALSE)))","v":""},{"$f":"IF(ISNA(VLOOKUP(C74,'WK 6'!$K$6:$L$41,2,FALSE)=0),\"\",IF(VLOOKUP(C74,'WK 6'!$K$6:$L$41,2,FALSE)=0,\"\",VLOOKUP(C74,'WK 6'!$K$6:$L$41,2,FALSE)))","v":""},{"$f":"IF(ISNA(VLOOKUP(C74,'WK 7'!$K$6:$L$41,2,FALSE)=0),\"\",IF(VLOOKUP(C74,'WK 7'!$K$6:$L$41,2,FALSE)=0,\"\",VLOOKUP(C74,'WK 7'!$K$6:$L$41,2,FALSE)))","v":""},{"$f":"IF(ISNA(VLOOKUP(C74,'WK 8'!$K$6:$L$41,2,FALSE)=0),\"\",IF(VLOOKUP(C74,'WK 8'!$K$6:$L$41,2,FALSE)=0,\"\",VLOOKUP(C74,'WK 8'!$K$6:$L$41,2,FALSE)))","v":""},{"$f":"IF(ISNA(VLOOKUP(C74,'WK 9'!$K$6:$L$41,2,FALSE)=0),\"\",IF(VLOOKUP(C74,'WK 9'!$K$6:$L$41,2,FALSE)=0,\"\",VLOOKUP(C74,'WK 9'!$K$6:$L$41,2,FALSE)))","v":""},{"$f":"IF(ISNA(VLOOKUP(C74,'WK 10'!$K$6:$L$41,2,FALSE)=0),\"\",IF(VLOOKUP(C74,'WK 10'!$K$6:$L$41,2,FALSE)=0,\"\",VLOOKUP(C74,'WK 10'!$K$6:$L$41,2,FALSE)))","v":""},0]
[null,null,{"$f":"IF(ISNA(VLOOKUP('WK 3'!K7,$C$2:$C$73,1,FALSE)),VLOOKUP('WK 3'!K7,'WK 3'!$K$6:$K$450,1,FALSE),\"\")","v":""},null,{"$f":"IF(ISNA(VLOOKUP(C75,'WK 2'!$K$6:$L$41,2,FALSE)=0),\"\",IF(VLOOKUP(C75,'WK 2'!$K$6:$L$41,2,FALSE)=0,\"\",VLOOKUP(C75,'WK 2'!$K$6:$L$41,2,FALSE)))","v":""},{"$f":"IF(ISNA(VLOOKUP(C75,'WK 3'!$K$6:$L$41,2,FALSE)=0),\"\",IF(VLOOKUP(C75,'WK 3'!$K$6:$L$41,2,FALSE)=0,\"\",VLOOKUP(C75,'WK 3'!$K$6:$L$41,2,FALSE)))","v":""},{"$f":"IF(ISNA(VLOOKUP(C75,'WK 4'!$K$6:$L$41,2,FALSE)=0),\"\",IF(VLOOKUP(C75,'WK 4'!$K$6:$L$41,2,FALSE)=0,\"\",VLOOKUP(C75,'WK 4'!$K$6:$L$41,2,FALSE)))","v":""},{"$f":"IF(ISNA(VLOOKUP(C75,'WK 5'!$K$6:$L$41,2,FALSE)=0),\"\",IF(VLOOKUP(C75,'WK 5'!$K$6:$L$41,2,FALSE)=0,\"\",VLOOKUP(C75,'WK 5'!$K$6:$L$41,2,FALSE)))","v":""},{"$f":"IF(ISNA(VLOOKUP(C75,'WK 6'!$K$6:$L$41,2,FALSE)=0),\"\",IF(VLOOKUP(C75,'WK 6'!$K$6:$L$41,2,FALSE)=0,\"\",VLOOKUP(C75,'WK 6'!$K$6:$L$41,2,FALSE)))","v":""},{"$f":"IF(ISNA(VLOOKUP(C75,'WK 7'!$K$6:$L$41,2,FALSE)=0),\"\",IF(VLOOKUP(C75,'WK 7'!$K$6:$L$41,2,FALSE)=0,\"\",VLOOKUP(C75,'WK 7'!$K$6:$L$41,2,FALSE)))","v":""},{"$f":"IF(ISNA(VLOOKUP(C75,'WK 8'!$K$6:$L$41,2,FALSE)=0),\"\",IF(VLOOKUP(C75,'WK 8'!$K$6:$L$41,2,FALSE)=0,\"\",VLOOKUP(C75,'WK 8'!$K$6:$L$41,2,FALSE)))","v":""},{"$f":"IF(ISNA(VLOOKUP(C75,'WK 9'!$K$6:$L$41,2,FALSE)=0),\"\",IF(VLOOKUP(C75,'WK 9'!$K$6:$L$41,2,FALSE)=0,\"\",VLOOKUP(C75,'WK 9'!$K$6:$L$41,2,FALSE)))","v":""},{"$f":"IF(ISNA(VLOOKUP(C75,'WK 10'!$K$6:$L$41,2,FALSE)=0),\"\",IF(VLOOKUP(C75,'WK 10'!$K$6:$L$41,2,FALSE)=0,\"\",VLOOKUP(C75,'WK 10'!$K$6:$L$41,2,FALSE)))","v":""},0]
[null,null,{"$f":"IF(ISNA(VLOOKUP('WK 3'!K8,$C$2:$C$73,1,FALSE)),VLOOKUP('WK 3'!K8,'WK 3'!$K$6:$K$450,1,FALSE),\"\")","v":""},null,{"$f":"IF(ISNA(VLOOKUP(C76,'WK 2'!$K$6:$L$41,2,FALSE)=0),\"\",IF(VLOOKUP(C76,'WK 2'!$K$6:$L$41,2,FALSE)=0,\"\",VLOOKUP(C76,'WK 2'!$K$6:$L$41,2,FALSE)))","v":""},{"$f":"IF(ISNA(VLOOKUP(C76,'WK 3'!$K$6:$L$41,2,FALSE)=0),\"\",IF(VLOOKUP(C76,'WK 3'!$K$6:$L$41,2,FALSE)=0,\"\",VLOOKUP(C76,'WK 3'!$K$6:$L$41,2,FALSE)))","v":""},{"$f":"IF(ISNA(VLOOKUP(C76,'WK 4'!$K$6:$L$41,2,FALSE)=0),\"\",IF(VLOOKUP(C76,'WK 4'!$K$6:$L$41,2,FALSE)=0,\"\",VLOOKUP(C76,'WK 4'!$K$6:$L$41,2,FALSE)))","v":""},{"$f":"IF(ISNA(VLOOKUP(C76,'WK 5'!$K$6:$L$41,2,FALSE)=0),\"\",IF(VLOOKUP(C76,'WK 5'!$K$6:$L$41,2,FALSE)=0,\"\",VLOOKUP(C76,'WK 5'!$K$6:$L$41,2,FALSE)))","v":""},{"$f":"IF(ISNA(VLOOKUP(C76,'WK 6'!$K$6:$L$41,2,FALSE)=0),\"\",IF(VLOOKUP(C76,'WK 6'!$K$6:$L$41,2,FALSE)=0,\"\",VLOOKUP(C76,'WK 6'!$K$6:$L$41,2,FALSE)))","v":""},{"$f":"IF(ISNA(VLOOKUP(C76,'WK 7'!$K$6:$L$41,2,FALSE)=0),\"\",IF(VLOOKUP(C76,'WK 7'!$K$6:$L$41,2,FALSE)=0,\"\",VLOOKUP(C76,'WK 7'!$K$6:$L$41,2,FALSE)))","v":""},{"$f":"IF(ISNA(VLOOKUP(C76,'WK 8'!$K$6:$L$41,2,FALSE)=0),\"\",IF(VLOOKUP(C76,'WK 8'!$K$6:$L$41,2,FALSE)=0,\"\",VLOOKUP(C76,'WK 8'!$K$6:$L$41,2,FALSE)))","v":""},{"$f":"IF(ISNA(VLOOKUP(C76,'WK 9'!$K$6:$L$41,2,FALSE)=0),\"\",IF(VLOOKUP(C76,'WK 9'!$K$6:$L$41,2,FALSE)=0,\"\",VLOOKUP(C76,'WK 9'!$K$6:$L$41,2,FALSE)))","v":""},{"$f":"IF(ISNA(VLOOKUP(C76,'WK 10'!$K$6:$L$41,2,FALSE)=0),\"\",IF(VLOOKUP(C76,'WK 10'!$K$6:$L$41,2,FALSE)=0,\"\",VLOOKUP(C76,'WK 10'!$K$6:$L$41,2,FALSE)))","v":""},0]
[null,null,{"$f":"IF(ISNA(VLOOKUP('WK 3'!K9,$C$2:$C$73,1,FALSE)),VLOOKUP('WK 3'!K9,'WK 3'!$K$6:$K$450,1,FALSE),\"\")","v":""},null,{"$f":"IF(ISNA(VLOOKUP(C77,'WK 2'!$K$6:$L$41,2,FALSE)=0),\"\",IF(VLOOKUP(C77,'WK 2'!$K$6:$L$41,2,FALSE)=0,\"\",VLOOKUP(C77,'WK 2'!$K$6:$L$41,2,FALSE)))","v":""},{"$f":"IF(ISNA(VLOOKUP(C77,'WK 3'!$K$6:$L$41,2,FALSE)=0),\"\",IF(VLOOKUP(C77,'WK 3'!$K$6:$L$41,2,FALSE)=0,\"\",VLOOKUP(C77,'WK 3'!$K$6:$L$41,2,FALSE)))","v":""},{"$f":"IF(ISNA(VLOOKUP(C77,'WK 4'!$K$6:$L$41,2,FALSE)=0),\"\",IF(VLOOKUP(C77,'WK 4'!$K$6:$L$41,2,FALSE)=0,\"\",VLOOKUP(C77,'WK 4'!$K$6:$L$41,2,FALSE)))","v":""},{"$f":"IF(ISNA(VLOOKUP(C77,'WK 5'!$K$6:$L$41,2,FALSE)=0),\"\",IF(VLOOKUP(C77,'WK 5'!$K$6:$L$41,2,FALSE)=0,\"\",VLOOKUP(C77,'WK 5'!$K$6:$L$41,2,FALSE)))","v":""},{"$f":"IF(ISNA(VLOOKUP(C77,'WK 6'!$K$6:$L$41,2,FALSE)=0),\"\",IF(VLOOKUP(C77,'WK 6'!$K$6:$L$41,2,FALSE)=0,\"\",VLOOKUP(C77,'WK 6'!$K$6:$L$41,2,FALSE)))","v":""},{"$f":"IF(ISNA(VLOOKUP(C77,'WK 7'!$K$6:$L$41,2,FALSE)=0),\"\",IF(VLOOKUP(C77,'WK 7'!$K$6:$L$41,2,FALSE)=0,\"\",VLOOKUP(C77,'WK 7'!$K$6:$L$41,2,FALSE)))","v":""},{"$f":"IF(ISNA(VLOOKUP(C77,'WK 8'!$K$6:$L$41,2,FALSE)=0),\"\",IF(VLOOKUP(C77,'WK 8'!$K$6:$L$41,2,FALSE)=0,\"\",VLOOKUP(C77,'WK 8'!$K$6:$L$41,2,FALSE)))","v":""},{"$f":"IF(ISNA(VLOOKUP(C77,'WK 9'!$K$6:$L$41,2,FALSE)=0),\"\",IF(VLOOKUP(C77,'WK 9'!$K$6:$L$41,2,FALSE)=0,\"\",VLOOKUP(C77,'WK 9'!$K$6:$L$41,2,FALSE)))","v":""},{"$f":"IF(ISNA(VLOOKUP(C77,'WK 10'!$K$6:$L$41,2,FALSE)=0),\"\",IF(VLOOKUP(C77,'WK 10'!$K$6:$L$41,2,FALSE)=0,\"\",VLOOKUP(C77,'WK 10'!$K$6:$L$41,2,FALSE)))","v":""},0]
[null,null,{"$f":"IF(ISNA(VLOOKUP('WK 3'!K10,$C$2:$C$73,1,FALSE)),VLOOKUP('WK 3'!K10,'WK 3'!$K$6:$K$450,1,FALSE),\"\")","v":""},null,{"$f":"IF(ISNA(VLOOKUP(C78,'WK 2'!$K$6:$L$41,2,FALSE)=0),\"\",IF(VLOOKUP(C78,'WK 2'!$K$6:$L$41,2,FALSE)=0,\"\",VLOOKUP(C78,'WK 2'!$K$6:$L$41,2,FALSE)))","v":""},{"$f":"IF(ISNA(VLOOKUP(C78,'WK 3'!$K$6:$L$41,2,FALSE)=0),\"\",IF(VLOOKUP(C78,'WK 3'!$K$6:$L$41,2,FALSE)=0,\"\",VLOOKUP(C78,'WK 3'!$K$6:$L$41,2,FALSE)))","v":""},{"$f":"IF(ISNA(VLOOKUP(C78,'WK 4'!$K$6:$L$41,2,FALSE)=0),\"\",IF(VLOOKUP(C78,'WK 4'!$K$6:$L$41,2,FALSE)=0,\"\",VLOOKUP(C78,'WK 4'!$K$6:$L$41,2,FALSE)))","v":""},{"$f":"IF(ISNA(VLOOKUP(C78,'WK 5'!$K$6:$L$41,2,FALSE)=0),\"\",IF(VLOOKUP(C78,'WK 5'!$K$6:$L$41,2,FALSE)=0,\"\",VLOOKUP(C78,'WK 5'!$K$6:$L$41,2,FALSE)))","v":""},{"$f":"IF(ISNA(VLOOKUP(C78,'WK 6'!$K$6:$L$41,2,FALSE)=0),\"\",IF(VLOOKUP(C78,'WK 6'!$K$6:$L$41,2,FALSE)=0,\"\",VLOOKUP(C78,'WK 6'!$K$6:$L$41,2,FALSE)))","v":""},{"$f":"IF(ISNA(VLOOKUP(C78,'WK 7'!$K$6:$L$41,2,FALSE)=0),\"\",IF(VLOOKUP(C78,'WK 7'!$K$6:$L$41,2,FALSE)=0,\"\",VLOOKUP(C78,'WK 7'!$K$6:$L$41,2,FALSE)))","v":""},{"$f":"IF(ISNA(VLOOKUP(C78,'WK 8'!$K$6:$L$41,2,FALSE)=0),\"\",IF(VLOOKUP(C78,'WK 8'!$K$6:$L$41,2,FALSE)=0,\"\",VLOOKUP(C78,'WK 8'!$K$6:$L$41,2,FALSE)))","v":""},{"$f":"IF(ISNA(VLOOKUP(C78,'WK 9'!$K$6:$L$41,2,FALSE)=0),\"\",IF(VLOOKUP(C78,'WK 9'!$K$6:$L$41,2,FALSE)=0,\"\",VLOOKUP(C78,'WK 9'!$K$6:$L$41,2,FALSE)))","v":""},{"$f":"IF(ISNA(VLOOKUP(C78,'WK 10'!$K$6:$L$41,2,FALSE)=0),\"\",IF(VLOOKUP(C78,'WK 10'!$K$6:$L$41,2,FALSE)=0,\"\",VLOOKUP(C78,'WK 10'!$K$6:$L$41,2,FALSE)))","v":""},0]
[null,null,{"$f":"IF(ISNA(VLOOKUP('WK 3'!K11,$C$2:$C$73,1,FALSE)),VLOOKUP('WK 3'!K11,'WK 3'!$K$6:$K$450,1,FALSE),\"\")","v":""},null,{"$f":"IF(ISNA(VLOOKUP(C79,'WK 2'!$K$6:$L$41,2,FALSE)=0),\"\",IF(VLOOKUP(C79,'WK 2'!$K$6:$L$41,2,FALSE)=0,\"\",VLOOKUP(C79,'WK 2'!$K$6:$L$41,2,FALSE)))","v":""},{"$f":"IF(ISNA(VLOOKUP(C79,'WK 3'!$K$6:$L$41,2,FALSE)=0),\"\",IF(VLOOKUP(C79,'WK 3'!$K$6:$L$41,2,FALSE)=0,\"\",VLOOKUP(C79,'WK 3'!$K$6:$L$41,2,FALSE)))","v":""},{"$f":"IF(ISNA(VLOOKUP(C79,'WK 4'!$K$6:$L$41,2,FALSE)=0),\"\",IF(VLOOKUP(C79,'WK 4'!$K$6:$L$41,2,FALSE)=0,\"\",VLOOKUP(C79,'WK 4'!$K$6:$L$41,2,FALSE)))","v":""},{"$f":"IF(ISNA(VLOOKUP(C79,'WK 5'!$K$6:$L$41,2,FALSE)=0),\"\",IF(VLOOKUP(C79,'WK 5'!$K$6:$L$41,2,FALSE)=0,\"\",VLOOKUP(C79,'WK 5'!$K$6:$L$41,2,FALSE)))","v":""},{"$f":"IF(ISNA(VLOOKUP(C79,'WK 6'!$K$6:$L$41,2,FALSE)=0),\"\",IF(VLOOKUP(C79,'WK 6'!$K$6:$L$41,2,FALSE)=0,\"\",VLOOKUP(C79,'WK 6'!$K$6:$L$41,2,FALSE)))","v":""},{"$f":"IF(ISNA(VLOOKUP(C79,'WK 7'!$K$6:$L$41,2,FALSE)=0),\"\",IF(VLOOKUP(C79,'WK 7'!$K$6:$L$41,2,FALSE)=0,\"\",VLOOKUP(C79,'WK 7'!$K$6:$L$41,2,FALSE)))","v":""},{"$f":"IF(ISNA(VLOOKUP(C79,'WK 8'!$K$6:$L$41,2,FALSE)=0),\"\",IF(VLOOKUP(C79,'WK 8'!$K$6:$L$41,2,FALSE)=0,\"\",VLOOKUP(C79,'WK 8'!$K$6:$L$41,2,FALSE)))","v":""},{"$f":"IF(ISNA(VLOOKUP(C79,'WK 9'!$K$6:$L$41,2,FALSE)=0),\"\",IF(VLOOKUP(C79,'WK 9'!$K$6:$L$41,2,FALSE)=0,\"\",VLOOKUP(C79,'WK 9'!$K$6:$L$41,2,FALSE)))","v":""},{"$f":"IF(ISNA(VLOOKUP(C79,'WK 10'!$K$6:$L$41,2,FALSE)=0),\"\",IF(VLOOKUP(C79,'WK 10'!$K$6:$L$41,2,FALSE)=0,\"\",VLOOKUP(C79,'WK 10'!$K$6:$L$41,2,FALSE)))","v":""},0]
[null,null,{"$f":"IF(ISNA(VLOOKUP('WK 3'!K12,$C$2:$C$73,1,FALSE)),VLOOKUP('WK 3'!K12,'WK 3'!$K$6:$K$450,1,FALSE),\"\")","v":""},null,{"$f":"IF(ISNA(VLOOKUP(C80,'WK 2'!$K$6:$L$41,2,FALSE)=0),\"\",IF(VLOOKUP(C80,'WK 2'!$K$6:$L$41,2,FALSE)=0,\"\",VLOOKUP(C80,'WK 2'!$K$6:$L$41,2,FALSE)))","v":""},{"$f":"IF(ISNA(VLOOKUP(C80,'WK 3'!$K$6:$L$41,2,FALSE)=0),\"\",IF(VLOOKUP(C80,'WK 3'!$K$6:$L$41,2,FALSE)=0,\"\",VLOOKUP(C80,'WK 3'!$K$6:$L$41,2,FALSE)))","v":""},{"$f":"IF(ISNA(VLOOKUP(C80,'WK 4'!$K$6:$L$41,2,FALSE)=0),\"\",IF(VLOOKUP(C80,'WK 4'!$K$6:$L$41,2,FALSE)=0,\"\",VLOOKUP(C80,'WK 4'!$K$6:$L$41,2,FALSE)))","v":""},{"$f":"IF(ISNA(VLOOKUP(C80,'WK 5'!$K$6:$L$41,2,FALSE)=0),\"\",IF(VLOOKUP(C80,'WK 5'!$K$6:$L$41,2,FALSE)=0,\"\",VLOOKUP(C80,'WK 5'!$K$6:$L$41,2,FALSE)))","v":""},{"$f":"IF(ISNA(VLOOKUP(C80,'WK 6'!$K$6:$L$41,2,FALSE)=0),\"\",IF(VLOOKUP(C80,'WK 6'!$K$6:$L$41,2,FALSE)=0,\"\",VLOOKUP(C80,'WK 6'!$K$6:$L$41,2,FALSE)))","v":""},{"$f":"IF(ISNA(VLOOKUP(C80,'WK 7'!$K$6:$L$41,2,FALSE)=0),\"\",IF(VLOOKUP(C80,'WK 7'!$K$6:$L$41,2,FALSE)=0,\"\",VLOOKUP(C80,'WK 7'!$K$6:$L$41,2,FALSE)))","v":""},{"$f":"IF(ISNA(VLOOKUP(C80,'WK 8'!$K$6:$L$41,2,FALSE)=0),\"\",IF(VLOOKUP(C80,'WK 8'!$K$6:$L$41,2,FALSE)=0,\"\",VLOOKUP(C80,'WK 8'!$K$6:$L$41,2,FALSE)))","v":""},{"$f":"IF(ISNA(VLOOKUP(C80,'WK 9'!$K$6:$L$41,2,FALSE)=0),\"\",IF(VLOOKUP(C80,'WK 9'!$K$6:$L$41,2,FALSE)=0,\"\",VLOOKUP(C80,'WK 9'!$K$6:$L$41,2,FALSE)))","v":""},{"$f":"IF(ISNA(VLOOKUP(C80,'WK 10'!$K$6:$L$41,2,FALSE)=0),\"\",IF(VLOOKUP(C80,'WK 10'!$K$6:$L$41,2,FALSE)=0,\"\",VLOOKUP(C80,'WK 10'!$K$6:$L$41,2,FALSE)))","v":""},0]
[null,null,{"$f":"IF(ISNA(VLOOKUP('WK 3'!K13,$C$2:$C$73,1,FALSE)),VLOOKUP('WK 3'!K13,'WK 3'!$K$6:$K$450,1,FALSE),\"\")","v":""},null,{"$f":"IF(ISNA(VLOOKUP(C81,'WK 2'!$K$6:$L$41,2,FALSE)=0),\"\",IF(VLOOKUP(C81,'WK 2'!$K$6:$L$41,2,FALSE)=0,\"\",VLOOKUP(C81,'WK 2'!$K$6:$L$41,2,FALSE)))","v":""},{"$f":"IF(ISNA(VLOOKUP(C81,'WK 3'!$K$6:$L$41,2,FALSE)=0),\"\",IF(VLOOKUP(C81,'WK 3'!$K$6:$L$41,2,FALSE)=0,\"\",VLOOKUP(C81,'WK 3'!$K$6:$L$41,2,FALSE)))","v":""},{"$f":"IF(ISNA(VLOOKUP(C81,'WK 4'!$K$6:$L$41,2,FALSE)=0),\"\",IF(VLOOKUP(C81,'WK 4'!$K$6:$L$41,2,FALSE)=0,\"\",VLOOKUP(C81,'WK 4'!$K$6:$L$41,2,FALSE)))","v":""},{"$f":"IF(ISNA(VLOOKUP(C81,'WK 5'!$K$6:$L$41,2,FALSE)=0),\"\",IF(VLOOKUP(C81,'WK 5'!$K$6:$L$41,2,FALSE)=0,\"\",VLOOKUP(C81,'WK 5'!$K$6:$L$41,2,FALSE)))","v":""},{"$f":"IF(ISNA(VLOOKUP(C81,'WK 6'!$K$6:$L$41,2,FALSE)=0),\"\",IF(VLOOKUP(C81,'WK 6'!$K$6:$L$41,2,FALSE)=0,\"\",VLOOKUP(C81,'WK 6'!$K$6:$L$41,2,FALSE)))","v":""},{"$f":"IF(ISNA(VLOOKUP(C81,'WK 7'!$K$6:$L$41,2,FALSE)=0),\"\",IF(VLOOKUP(C81,'WK 7'!$K$6:$L$41,2,FALSE)=0,\"\",VLOOKUP(C81,'WK 7'!$K$6:$L$41,2,FALSE)))","v":""},{"$f":"IF(ISNA(VLOOKUP(C81,'WK 8'!$K$6:$L$41,2,FALSE)=0),\"\",IF(VLOOKUP(C81,'WK 8'!$K$6:$L$41,2,FALSE)=0,\"\",VLOOKUP(C81,'WK 8'!$K$6:$L$41,2,FALSE)))","v":""},{"$f":"IF(ISNA(VLOOKUP(C81,'WK 9'!$K$6:$L$41,2,FALSE)=0),\"\",IF(VLOOKUP(C81,'WK 9'!$K$6:$L$41,2,FALSE)=0,\"\",VLOOKUP(C81,'WK 9'!$K$6:$L$41,2,FALSE)))","v":""},{"$f":"IF(ISNA(VLOOKUP(C81,'WK 10'!$K$6:$L$41,2,FALSE)=0),\"\",IF(VLOOKUP(C81,'WK 10'!$K$6:$L$41,2,FALSE)=0,\"\",VLOOKUP(C81,'WK 10'!$K$6:$L$41,2,FALSE)))","v":""},0]
[null,null,{"$f":"IF(ISNA(VLOOKUP('WK 3'!K14,$C$2:$C$73,1,FALSE)),VLOOKUP('WK 3'!K14,'WK 3'!$K$6:$K$450,1,FALSE),\"\")","v":""},null,{"$f":"IF(ISNA(VLOOKUP(C82,'WK 2'!$K$6:$L$41,2,FALSE)=0),\"\",IF(VLOOKUP(C82,'WK 2'!$K$6:$L$41,2,FALSE)=0,\"\",VLOOKUP(C82,'WK 2'!$K$6:$L$41,2,FALSE)))","v":""},{"$f":"IF(ISNA(VLOOKUP(C82,'WK 3'!$K$6:$L$41,2,FALSE)=0),\"\",IF(VLOOKUP(C82,'WK 3'!$K$6:$L$41,2,FALSE)=0,\"\",VLOOKUP(C82,'WK 3'!$K$6:$L$41,2,FALSE)))","v":""},{"$f":"IF(ISNA(VLOOKUP(C82,'WK 4'!$K$6:$L$41,2,FALSE)=0),\"\",IF(VLOOKUP(C82,'WK 4'!$K$6:$L$41,2,FALSE)=0,\"\",VLOOKUP(C82,'WK 4'!$K$6:$L$41,2,FALSE)))","v":""},{"$f":"IF(ISNA(VLOOKUP(C82,'WK 5'!$K$6:$L$41,2,FALSE)=0),\"\",IF(VLOOKUP(C82,'WK 5'!$K$6:$L$41,2,FALSE)=0,\"\",VLOOKUP(C82,'WK 5'!$K$6:$L$41,2,FALSE)))","v":""},{"$f":"IF(ISNA(VLOOKUP(C82,'WK 6'!$K$6:$L$41,2,FALSE)=0),\"\",IF(VLOOKUP(C82,'WK 6'!$K$6:$L$41,2,FALSE)=0,\"\",VLOOKUP(C82,'WK 6'!$K$6:$L$41,2,FALSE)))","v":""},{"$f":"IF(ISNA(VLOOKUP(C82,'WK 7'!$K$6:$L$41,2,FALSE)=0),\"\",IF(VLOOKUP(C82,'WK 7'!$K$6:$L$41,2,FALSE)=0,\"\",VLOOKUP(C82,'WK 7'!$K$6:$L$41,2,FALSE)))","v":""},{"$f":"IF(ISNA(VLOOKUP(C82,'WK 8'!$K$6:$L$41,2,FALSE)=0),\"\",IF(VLOOKUP(C82,'WK 8'!$K$6:$L$41,2,FALSE)=0,\"\",VLOOKUP(C82,'WK 8'!$K$6:$L$41,2,FALSE)))","v":""},{"$f":"IF(ISNA(VLOOKUP(C82,'WK 9'!$K$6:$L$41,2,FALSE)=0),\"\",IF(VLOOKUP(C82,'WK 9'!$K$6:$L$41,2,FALSE)=0,\"\",VLOOKUP(C82,'WK 9'!$K$6:$L$41,2,FALSE)))","v":""},{"$f":"IF(ISNA(VLOOKUP(C82,'WK 10'!$K$6:$L$41,2,FALSE)=0),\"\",IF(VLOOKUP(C82,'WK 10'!$K$6:$L$41,2,FALSE)=0,\"\",VLOOKUP(C82,'WK 10'!$K$6:$L$41,2,FALSE)))","v":""},0]
[null,null,{"$f":"IF(ISNA(VLOOKUP('WK 3'!K15,$C$2:$C$73,1,FALSE)),VLOOKUP('WK 3'!K15,'WK 3'!$K$6:$K$450,1,FALSE),\"\")","v":""},null,{"$f":"IF(ISNA(VLOOKUP(C83,'WK 2'!$K$6:$L$41,2,FALSE)=0),\"\",IF(VLOOKUP(C83,'WK 2'!$K$6:$L$41,2,FALSE)=0,\"\",VLOOKUP(C83,'WK 2'!$K$6:$L$41,2,FALSE)))","v":""},{"$f":"IF(ISNA(VLOOKUP(C83,'WK 3'!$K$6:$L$41,2,FALSE)=0),\"\",IF(VLOOKUP(C83,'WK 3'!$K$6:$L$41,2,FALSE)=0,\"\",VLOOKUP(C83,'WK 3'!$K$6:$L$41,2,FALSE)))","v":""},{"$f":"IF(ISNA(VLOOKUP(C83,'WK 4'!$K$6:$L$41,2,FALSE)=0),\"\",IF(VLOOKUP(C83,'WK 4'!$K$6:$L$41,2,FALSE)=0,\"\",VLOOKUP(C83,'WK 4'!$K$6:$L$41,2,FALSE)))","v":""},{"$f":"IF(ISNA(VLOOKUP(C83,'WK 5'!$K$6:$L$41,2,FALSE)=0),\"\",IF(VLOOKUP(C83,'WK 5'!$K$6:$L$41,2,FALSE)=0,\"\",VLOOKUP(C83,'WK 5'!$K$6:$L$41,2,FALSE)))","v":""},{"$f":"IF(ISNA(VLOOKUP(C83,'WK 6'!$K$6:$L$41,2,FALSE)=0),\"\",IF(VLOOKUP(C83,'WK 6'!$K$6:$L$41,2,FALSE)=0,\"\",VLOOKUP(C83,'WK 6'!$K$6:$L$41,2,FALSE)))","v":""},{"$f":"IF(ISNA(VLOOKUP(C83,'WK 7'!$K$6:$L$41,2,FALSE)=0),\"\",IF(VLOOKUP(C83,'WK 7'!$K$6:$L$41,2,FALSE)=0,\"\",VLOOKUP(C83,'WK 7'!$K$6:$L$41,2,FALSE)))","v":""},{"$f":"IF(ISNA(VLOOKUP(C83,'WK 8'!$K$6:$L$41,2,FALSE)=0),\"\",IF(VLOOKUP(C83,'WK 8'!$K$6:$L$41,2,FALSE)=0,\"\",VLOOKUP(C83,'WK 8'!$K$6:$L$41,2,FALSE)))","v":""},{"$f":"IF(ISNA(VLOOKUP(C83,'WK 9'!$K$6:$L$41,2,FALSE)=0),\"\",IF(VLOOKUP(C83,'WK 9'!$K$6:$L$41,2,FALSE)=0,\"\",VLOOKUP(C83,'WK 9'!$K$6:$L$41,2,FALSE)))","v":""},{"$f":"IF(ISNA(VLOOKUP(C83,'WK 10'!$K$6:$L$41,2,FALSE)=0),\"\",IF(VLOOKUP(C83,'WK 10'!$K$6:$L$41,2,FALSE)=0,\"\",VLOOKUP(C83,'WK 10'!$K$6:$L$41,2,FALSE)))","v":""},0]
[null,null,{"$f":"IF(ISNA(VLOOKUP('WK 3'!K16,$C$2:$C$73,1,FALSE)),VLOOKUP('WK 3'!K16,'WK 3'!$K$6:$K$450,1,FALSE),\"\")","v":""},null,{"$f":"IF(ISNA(VLOOKUP(C84,'WK 2'!$K$6:$L$41,2,FALSE)=0),\"\",IF(VLOOKUP(C84,'WK 2'!$K$6:$L$41,2,FALSE)=0,\"\",VLOOKUP(C84,'WK 2'!$K$6:$L$41,2,FALSE)))","v":""},{"$f":"IF(ISNA(VLOOKUP(C84,'WK 3'!$K$6:$L$41,2,FALSE)=0),\"\",IF(VLOOKUP(C84,'WK 3'!$K$6:$L$41,2,FALSE)=0,\"\",VLOOKUP(C84,'WK 3'!$K$6:$L$41,2,FALSE)))","v":""},{"$f":"IF(ISNA(VLOOKUP(C84,'WK 4'!$K$6:$L$41,2,FALSE)=0),\"\",IF(VLOOKUP(C84,'WK 4'!$K$6:$L$41,2,FALSE)=0,\"\",VLOOKUP(C84,'WK 4'!$K$6:$L$41,2,FALSE)))","v":""},{"$f":"IF(ISNA(VLOOKUP(C84,'WK 5'!$K$6:$L$41,2,FALSE)=0),\"\",IF(VLOOKUP(C84,'WK 5'!$K$6:$L$41,2,FALSE)=0,\"\",VLOOKUP(C84,'WK 5'!$K$6:$L$41,2,FALSE)))","v":""},{"$f":"IF(ISNA(VLOOKUP(C84,'WK 6'!$K$6:$L$41,2,FALSE)=0),\"\",IF(VLOOKUP(C84,'WK 6'!$K$6:$L$41,2,FALSE)=0,\"\",VLOOKUP(C84,'WK 6'!$K$6:$L$41,2,FALSE)))","v":""},{"$f":"IF(ISNA(VLOOKUP(C84,'WK 7'!$K$6:$L$41,2,FALSE)=0),\"\",IF(VLOOKUP(C84,'WK 7'!$K$6:$L$41,2,FALSE)=0,\"\",VLOOKUP(C84,'WK 7'!$K$6:$L$41,2,FALSE)))","v":""},{"$f":"IF(ISNA(VLOOKUP(C84,'WK 8'!$K$6:$L$41,2,FALSE)=0),\"\",IF(VLOOKUP(C84,'WK 8'!$K$6:$L$41,2,FALSE)=0,\"\",VLOOKUP(C84,'WK 8'!$K$6:$L$41,2,FALSE)))","v":""},{"$f":"IF(ISNA(VLOOKUP(C84,'WK 9'!$K$6:$L$41,2,FALSE)=0),\"\",IF(VLOOKUP(C84,'WK 9'!$K$6:$L$41,2,FALSE)=0,\"\",VLOOKUP(C84,'WK 9'!$K$6:$L$41,2,FALSE)))","v":""},{"$f":"IF(ISNA(VLOOKUP(C84,'WK 10'!$K$6:$L$41,2,FALSE)=0),\"\",IF(VLOOKUP(C84,'WK 10'!$K$6:$L$41,2,FALSE)=0,\"\",VLOOKUP(C84,'WK 10'!$K$6:$L$41,2,FALSE)))","v":""},0]
[null,null,{"$f":"IF(ISNA(VLOOKUP('WK 3'!K17,$C$2:$C$73,1,FALSE)),VLOOKUP('WK 3'!K17,'WK 3'!$K$6:$K$450,1,FALSE),\"\")","v":""},null,{"$f":"IF(ISNA(VLOOKUP(C85,'WK 2'!$K$6:$L$41,2,FALSE)=0),\"\",IF(VLOOKUP(C85,'WK 2'!$K$6:$L$41,2,FALSE)=0,\"\",VLOOKUP(C85,'WK 2'!$K$6:$L$41,2,FALSE)))","v":""},{"$f":"IF(ISNA(VLOOKUP(C85,'WK 3'!$K$6:$L$41,2,FALSE)=0),\"\",IF(VLOOKUP(C85,'WK 3'!$K$6:$L$41,2,FALSE)=0,\"\",VLOOKUP(C85,'WK 3'!$K$6:$L$41,2,FALSE)))","v":""},{"$f":"IF(ISNA(VLOOKUP(C85,'WK 4'!$K$6:$L$41,2,FALSE)=0),\"\",IF(VLOOKUP(C85,'WK 4'!$K$6:$L$41,2,FALSE)=0,\"\",VLOOKUP(C85,'WK 4'!$K$6:$L$41,2,FALSE)))","v":""},{"$f":"IF(ISNA(VLOOKUP(C85,'WK 5'!$K$6:$L$41,2,FALSE)=0),\"\",IF(VLOOKUP(C85,'WK 5'!$K$6:$L$41,2,FALSE)=0,\"\",VLOOKUP(C85,'WK 5'!$K$6:$L$41,2,FALSE)))","v":""},{"$f":"IF(ISNA(VLOOKUP(C85,'WK 6'!$K$6:$L$41,2,FALSE)=0),\"\",IF(VLOOKUP(C85,'WK 6'!$K$6:$L$41,2,FALSE)=0,\"\",VLOOKUP(C85,'WK 6'!$K$6:$L$41,2,FALSE)))","v":""},{"$f":"IF(ISNA(VLOOKUP(C85,'WK 7'!$K$6:$L$41,2,FALSE)=0),\"\",IF(VLOOKUP(C85,'WK 7'!$K$6:$L$41,2,FALSE)=0,\"\",VLOOKUP(C85,'WK 7'!$K$6:$L$41,2,FALSE)))","v":""},{"$f":"IF(ISNA(VLOOKUP(C85,'WK 8'!$K$6:$L$41,2,FALSE)=0),\"\",IF(VLOOKUP(C85,'WK 8'!$K$6:$L$41,2,FALSE)=0,\"\",VLOOKUP(C85,'WK 8'!$K$6:$L$41,2,FALSE)))","v":""},{"$f":"IF(ISNA(VLOOKUP(C85,'WK 9'!$K$6:$L$41,2,FALSE)=0),\"\",IF(VLOOKUP(C85,'WK 9'!$K$6:$L$41,2,FALSE)=0,\"\",VLOOKUP(C85,'WK 9'!$K$6:$L$41,2,FALSE)))","v":""},{"$f":"IF(ISNA(VLOOKUP(C85,'WK 10'!$K$6:$L$41,2,FALSE)=0),\"\",IF(VLOOKUP(C85,'WK 10'!$K$6:$L$41,2,FALSE)=0,\"\",VLOOKUP(C85,'WK 10'!$K$6:$L$41,2,FALSE)))","v":""},0]
[null,null,{"$f":"IF(ISNA(VLOOKUP('WK 3'!K18,$C$2:$C$73,1,FALSE)),VLOOKUP('WK 3'!K18,'WK 3'!$K$6:$K$450,1,FALSE),\"\")","v":""},null,{"$f":"IF(ISNA(VLOOKUP(C86,'WK 2'!$K$6:$L$41,2,FALSE)=0),\"\",IF(VLOOKUP(C86,'WK 2'!$K$6:$L$41,2,FALSE)=0,\"\",VLOOKUP(C86,'WK 2'!$K$6:$L$41,2,FALSE)))","v":""},{"$f":"IF(ISNA(VLOOKUP(C86,'WK 3'!$K$6:$L$41,2,FALSE)=0),\"\",IF(VLOOKUP(C86,'WK 3'!$K$6:$L$41,2,FALSE)=0,\"\",VLOOKUP(C86,'WK 3'!$K$6:$L$41,2,FALSE)))","v":""},{"$f":"IF(ISNA(VLOOKUP(C86,'WK 4'!$K$6:$L$41,2,FALSE)=0),\"\",IF(VLOOKUP(C86,'WK 4'!$K$6:$L$41,2,FALSE)=0,\"\",VLOOKUP(C86,'WK 4'!$K$6:$L$41,2,FALSE)))","v":""},{"$f":"IF(ISNA(VLOOKUP(C86,'WK 5'!$K$6:$L$41,2,FALSE)=0),\"\",IF(VLOOKUP(C86,'WK 5'!$K$6:$L$41,2,FALSE)=0,\"\",VLOOKUP(C86,'WK 5'!$K$6:$L$41,2,FALSE)))","v":""},{"$f":"IF(ISNA(VLOOKUP(C86,'WK 6'!$K$6:$L$41,2,FALSE)=0),\"\",IF(VLOOKUP(C86,'WK 6'!$K$6:$L$41,2,FALSE)=0,\"\",VLOOKUP(C86,'WK 6'!$K$6:$L$41,2,FALSE)))","v":""},{"$f":"IF(ISNA(VLOOKUP(C86,'WK 7'!$K$6:$L$41,2,FALSE)=0),\"\",IF(VLOOKUP(C86,'WK 7'!$K$6:$L$41,2,FALSE)=0,\"\",VLOOKUP(C86,'WK 7'!$K$6:$L$41,2,FALSE)))","v":""},{"$f":"IF(ISNA(VLOOKUP(C86,'WK 8'!$K$6:$L$41,2,FALSE)=0),\"\",IF(VLOOKUP(C86,'WK 8'!$K$6:$L$41,2,FALSE)=0,\"\",VLOOKUP(C86,'WK 8'!$K$6:$L$41,2,FALSE)))","v":""},{"$f":"IF(ISNA(VLOOKUP(C86,'WK 9'!$K$6:$L$41,2,FALSE)=0),\"\",IF(VLOOKUP(C86,'WK 9'!$K$6:$L$41,2,FALSE)=0,\"\",VLOOKUP(C86,'WK 9'!$K$6:$L$41,2,FALSE)))","v":""},{"$f":"IF(ISNA(VLOOKUP(C86,'WK 10'!$K$6:$L$41,2,FALSE)=0),\"\",IF(VLOOKUP(C86,'WK 10'!$K$6:$L$41,2,FALSE)=0,\"\",VLOOKUP(C86,'WK 10'!$K$6:$L$41,2,FALSE)))","v":""},0]
[null,null,{"$f":"IF(ISNA(VLOOKUP('WK 3'!K19,$C$2:$C$73,1,FALSE)),VLOOKUP('WK 3'!K19,'WK 3'!$K$6:$K$450,1,FALSE),\"\")","v":""},null,{"$f":"IF(ISNA(VLOOKUP(C87,'WK 2'!$K$6:$L$41,2,FALSE)=0),\"\",IF(VLOOKUP(C87,'WK 2'!$K$6:$L$41,2,FALSE)=0,\"\",VLOOKUP(C87,'WK 2'!$K$6:$L$41,2,FALSE)))","v":""},{"$f":"IF(ISNA(VLOOKUP(C87,'WK 3'!$K$6:$L$41,2,FALSE)=0),\"\",IF(VLOOKUP(C87,'WK 3'!$K$6:$L$41,2,FALSE)=0,\"\",VLOOKUP(C87,'WK 3'!$K$6:$L$41,2,FALSE)))","v":""},{"$f":"IF(ISNA(VLOOKUP(C87,'WK 4'!$K$6:$L$41,2,FALSE)=0),\"\",IF(VLOOKUP(C87,'WK 4'!$K$6:$L$41,2,FALSE)=0,\"\",VLOOKUP(C87,'WK 4'!$K$6:$L$41,2,FALSE)))","v":""},{"$f":"IF(ISNA(VLOOKUP(C87,'WK 5'!$K$6:$L$41,2,FALSE)=0),\"\",IF(VLOOKUP(C87,'WK 5'!$K$6:$L$41,2,FALSE)=0,\"\",VLOOKUP(C87,'WK 5'!$K$6:$L$41,2,FALSE)))","v":""},{"$f":"IF(ISNA(VLOOKUP(C87,'WK 6'!$K$6:$L$41,2,FALSE)=0),\"\",IF(VLOOKUP(C87,'WK 6'!$K$6:$L$41,2,FALSE)=0,\"\",VLOOKUP(C87,'WK 6'!$K$6:$L$41,2,FALSE)))","v":""},{"$f":"IF(ISNA(VLOOKUP(C87,'WK 7'!$K$6:$L$41,2,FALSE)=0),\"\",IF(VLOOKUP(C87,'WK 7'!$K$6:$L$41,2,FALSE)=0,\"\",VLOOKUP(C87,'WK 7'!$K$6:$L$41,2,FALSE)))","v":""},{"$f":"IF(ISNA(VLOOKUP(C87,'WK 8'!$K$6:$L$41,2,FALSE)=0),\"\",IF(VLOOKUP(C87,'WK 8'!$K$6:$L$41,2,FALSE)=0,\"\",VLOOKUP(C87,'WK 8'!$K$6:$L$41,2,FALSE)))","v":""},{"$f":"IF(ISNA(VLOOKUP(C87,'WK 9'!$K$6:$L$41,2,FALSE)=0),\"\",IF(VLOOKUP(C87,'WK 9'!$K$6:$L$41,2,FALSE)=0,\"\",VLOOKUP(C87,'WK 9'!$K$6:$L$41,2,FALSE)))","v":""},{"$f":"IF(ISNA(VLOOKUP(C87,'WK 10'!$K$6:$L$41,2,FALSE)=0),\"\",IF(VLOOKUP(C87,'WK 10'!$K$6:$L$41,2,FALSE)=0,\"\",VLOOKUP(C87,'WK 10'!$K$6:$L$41,2,FALSE)))","v":""},0]
[null,null,{"$f":"IF(ISNA(VLOOKUP('WK 3'!K20,$C$2:$C$73,1,FALSE)),VLOOKUP('WK 3'!K20,'WK 3'!$K$6:$K$450,1,FALSE),\"\")","v":""},null,{"$f":"IF(ISNA(VLOOKUP(C88,'WK 2'!$K$6:$L$41,2,FALSE)=0),\"\",IF(VLOOKUP(C88,'WK 2'!$K$6:$L$41,2,FALSE)=0,\"\",VLOOKUP(C88,'WK 2'!$K$6:$L$41,2,FALSE)))","v":""},{"$f":"IF(ISNA(VLOOKUP(C88,'WK 3'!$K$6:$L$41,2,FALSE)=0),\"\",IF(VLOOKUP(C88,'WK 3'!$K$6:$L$41,2,FALSE)=0,\"\",VLOOKUP(C88,'WK 3'!$K$6:$L$41,2,FALSE)))","v":""},{"$f":"IF(ISNA(VLOOKUP(C88,'WK 4'!$K$6:$L$41,2,FALSE)=0),\"\",IF(VLOOKUP(C88,'WK 4'!$K$6:$L$41,2,FALSE)=0,\"\",VLOOKUP(C88,'WK 4'!$K$6:$L$41,2,FALSE)))","v":""},{"$f":"IF(ISNA(VLOOKUP(C88,'WK 5'!$K$6:$L$41,2,FALSE)=0),\"\",IF(VLOOKUP(C88,'WK 5'!$K$6:$L$41,2,FALSE)=0,\"\",VLOOKUP(C88,'WK 5'!$K$6:$L$41,2,FALSE)))","v":""},{"$f":"IF(ISNA(VLOOKUP(C88,'WK 6'!$K$6:$L$41,2,FALSE)=0),\"\",IF(VLOOKUP(C88,'WK 6'!$K$6:$L$41,2,FALSE)=0,\"\",VLOOKUP(C88,'WK 6'!$K$6:$L$41,2,FALSE)))","v":""},{"$f":"IF(ISNA(VLOOKUP(C88,'WK 7'!$K$6:$L$41,2,FALSE)=0),\"\",IF(VLOOKUP(C88,'WK 7'!$K$6:$L$41,2,FALSE)=0,\"\",VLOOKUP(C88,'WK 7'!$K$6:$L$41,2,FALSE)))","v":""},{"$f":"IF(ISNA(VLOOKUP(C88,'WK 8'!$K$6:$L$41,2,FALSE)=0),\"\",IF(VLOOKUP(C88,'WK 8'!$K$6:$L$41,2,FALSE)=0,\"\",VLOOKUP(C88,'WK 8'!$K$6:$L$41,2,FALSE)))","v":""},{"$f":"IF(ISNA(VLOOKUP(C88,'WK 9'!$K$6:$L$41,2,FALSE)=0),\"\",IF(VLOOKUP(C88,'WK 9'!$K$6:$L$41,2,FALSE)=0,\"\",VLOOKUP(C88,'WK 9'!$K$6:$L$41,2,FALSE)))","v":""},{"$f":"IF(ISNA(VLOOKUP(C88,'WK 10'!$K$6:$L$41,2,FALSE)=0),\"\",IF(VLOOKUP(C88,'WK 10'!$K$6:$L$41,2,FALSE)=0,\"\",VLOOKUP(C88,'WK 10'!$K$6:$L$41,2,FALSE)))","v":""},0]
[null,null,{"$f":"IF(ISNA(VLOOKUP('WK 3'!K21,$C$2:$C$73,1,FALSE)),VLOOKUP('WK 3'!K21,'WK 3'!$K$6:$K$450,1,FALSE),\"\")","v":""},null,{"$f":"IF(ISNA(VLOOKUP(C89,'WK 2'!$K$6:$L$41,2,FALSE)=0),\"\",IF(VLOOKUP(C89,'WK 2'!$K$6:$L$41,2,FALSE)=0,\"\",VLOOKUP(C89,'WK 2'!$K$6:$L$41,2,FALSE)))","v":""},{"$f":"IF(ISNA(VLOOKUP(C89,'WK 3'!$K$6:$L$41,2,FALSE)=0),\"\",IF(VLOOKUP(C89,'WK 3'!$K$6:$L$41,2,FALSE)=0,\"\",VLOOKUP(C89,'WK 3'!$K$6:$L$41,2,FALSE)))","v":""},{"$f":"IF(ISNA(VLOOKUP(C89,'WK 4'!$K$6:$L$41,2,FALSE)=0),\"\",IF(VLOOKUP(C89,'WK 4'!$K$6:$L$41,2,FALSE)=0,\"\",VLOOKUP(C89,'WK 4'!$K$6:$L$41,2,FALSE)))","v":""},{"$f":"IF(ISNA(VLOOKUP(C89,'WK 5'!$K$6:$L$41,2,FALSE)=0),\"\",IF(VLOOKUP(C89,'WK 5'!$K$6:$L$41,2,FALSE)=0,\"\",VLOOKUP(C89,'WK 5'!$K$6:$L$41,2,FALSE)))","v":""},{"$f":"IF(ISNA(VLOOKUP(C89,'WK 6'!$K$6:$L$41,2,FALSE)=0),\"\",IF(VLOOKUP(C89,'WK 6'!$K$6:$L$41,2,FALSE)=0,\"\",VLOOKUP(C89,'WK 6'!$K$6:$L$41,2,FALSE)))","v":""},{"$f":"IF(ISNA(VLOOKUP(C89,'WK 7'!$K$6:$L$41,2,FALSE)=0),\"\",IF(VLOOKUP(C89,'WK 7'!$K$6:$L$41,2,FALSE)=0,\"\",VLOOKUP(C89,'WK 7'!$K$6:$L$41,2,FALSE)))","v":""},{"$f":"IF(ISNA(VLOOKUP(C89,'WK 8'!$K$6:$L$41,2,FALSE)=0),\"\",IF(VLOOKUP(C89,'WK 8'!$K$6:$L$41,2,FALSE)=0,\"\",VLOOKUP(C89,'WK 8'!$K$6:$L$41,2,FALSE)))","v":""},{"$f":"IF(ISNA(VLOOKUP(C89,'WK 9'!$K$6:$L$41,2,FALSE)=0),\"\",IF(VLOOKUP(C89,'WK 9'!$K$6:$L$41,2,FALSE)=0,\"\",VLOOKUP(C89,'WK 9'!$K$6:$L$41,2,FALSE)))","v":""},{"$f":"IF(ISNA(VLOOKUP(C89,'WK 10'!$K$6:$L$41,2,FALSE)=0),\"\",IF(VLOOKUP(C89,'WK 10'!$K$6:$L$41,2,FALSE)=0,\"\",VLOOKUP(C89,'WK 10'!$K$6:$L$41,2,FALSE)))","v":""},0]
[null,null,{"$f":"IF(ISNA(VLOOKUP('WK 3'!K22,$C$2:$C$73,1,FALSE)),VLOOKUP('WK 3'!K22,'WK 3'!$K$6:$K$450,1,FALSE),\"\")","v":""},null,{"$f":"IF(ISNA(VLOOKUP(C90,'WK 2'!$K$6:$L$41,2,FALSE)=0),\"\",IF(VLOOKUP(C90,'WK 2'!$K$6:$L$41,2,FALSE)=0,\"\",VLOOKUP(C90,'WK 2'!$K$6:$L$41,2,FALSE)))","v":""},{"$f":"IF(ISNA(VLOOKUP(C90,'WK 3'!$K$6:$L$41,2,FALSE)=0),\"\",IF(VLOOKUP(C90,'WK 3'!$K$6:$L$41,2,FALSE)=0,\"\",VLOOKUP(C90,'WK 3'!$K$6:$L$41,2,FALSE)))","v":""},{"$f":"IF(ISNA(VLOOKUP(C90,'WK 4'!$K$6:$L$41,2,FALSE)=0),\"\",IF(VLOOKUP(C90,'WK 4'!$K$6:$L$41,2,FALSE)=0,\"\",VLOOKUP(C90,'WK 4'!$K$6:$L$41,2,FALSE)))","v":""},{"$f":"IF(ISNA(VLOOKUP(C90,'WK 5'!$K$6:$L$41,2,FALSE)=0),\"\",IF(VLOOKUP(C90,'WK 5'!$K$6:$L$41,2,FALSE)=0,\"\",VLOOKUP(C90,'WK 5'!$K$6:$L$41,2,FALSE)))","v":""},{"$f":"IF(ISNA(VLOOKUP(C90,'WK 6'!$K$6:$L$41,2,FALSE)=0),\"\",IF(VLOOKUP(C90,'WK 6'!$K$6:$L$41,2,FALSE)=0,\"\",VLOOKUP(C90,'WK 6'!$K$6:$L$41,2,FALSE)))","v":""},{"$f":"IF(ISNA(VLOOKUP(C90,'WK 7'!$K$6:$L$41,2,FALSE)=0),\"\",IF(VLOOKUP(C90,'WK 7'!$K$6:$L$41,2,FALSE)=0,\"\",VLOOKUP(C90,'WK 7'!$K$6:$L$41,2,FALSE)))","v":""},{"$f":"IF(ISNA(VLOOKUP(C90,'WK 8'!$K$6:$L$41,2,FALSE)=0),\"\",IF(VLOOKUP(C90,'WK 8'!$K$6:$L$41,2,FALSE)=0,\"\",VLOOKUP(C90,'WK 8'!$K$6:$L$41,2,FALSE)))","v":""},{"$f":"IF(ISNA(VLOOKUP(C90,'WK 9'!$K$6:$L$41,2,FALSE)=0),\"\",IF(VLOOKUP(C90,'WK 9'!$K$6:$L$41,2,FALSE)=0,\"\",VLOOKUP(C90,'WK 9'!$K$6:$L$41,2,FALSE)))","v":""},{"$f":"IF(ISNA(VLOOKUP(C90,'WK 10'!$K$6:$L$41,2,FALSE)=0),\"\",IF(VLOOKUP(C90,'WK 10'!$K$6:$L$41,2,FALSE)=0,\"\",VLOOKUP(C90,'WK 10'!$K$6:$L$41,2,FALSE)))","v":""},0]
[null,null,{"$f":"IF(ISNA(VLOOKUP('WK 3'!K23,$C$2:$C$73,1,FALSE)),VLOOKUP('WK 3'!K23,'WK 3'!$K$6:$K$450,1,FALSE),\"\")","v":""},null,{"$f":"IF(ISNA(VLOOKUP(C91,'WK 2'!$K$6:$L$41,2,FALSE)=0),\"\",IF(VLOOKUP(C91,'WK 2'!$K$6:$L$41,2,FALSE)=0,\"\",VLOOKUP(C91,'WK 2'!$K$6:$L$41,2,FALSE)))","v":""},{"$f":"IF(ISNA(VLOOKUP(C91,'WK 3'!$K$6:$L$41,2,FALSE)=0),\"\",IF(VLOOKUP(C91,'WK 3'!$K$6:$L$41,2,FALSE)=0,\"\",VLOOKUP(C91,'WK 3'!$K$6:$L$41,2,FALSE)))","v":""},{"$f":"IF(ISNA(VLOOKUP(C91,'WK 4'!$K$6:$L$41,2,FALSE)=0),\"\",IF(VLOOKUP(C91,'WK 4'!$K$6:$L$41,2,FALSE)=0,\"\",VLOOKUP(C91,'WK 4'!$K$6:$L$41,2,FALSE)))","v":""},{"$f":"IF(ISNA(VLOOKUP(C91,'WK 5'!$K$6:$L$41,2,FALSE)=0),\"\",IF(VLOOKUP(C91,'WK 5'!$K$6:$L$41,2,FALSE)=0,\"\",VLOOKUP(C91,'WK 5'!$K$6:$L$41,2,FALSE)))","v":""},{"$f":"IF(ISNA(VLOOKUP(C91,'WK 6'!$K$6:$L$41,2,FALSE)=0),\"\",IF(VLOOKUP(C91,'WK 6'!$K$6:$L$41,2,FALSE)=0,\"\",VLOOKUP(C91,'WK 6'!$K$6:$L$41,2,FALSE)))","v":""},{"$f":"IF(ISNA(VLOOKUP(C91,'WK 7'!$K$6:$L$41,2,FALSE)=0),\"\",IF(VLOOKUP(C91,'WK 7'!$K$6:$L$41,2,FALSE)=0,\"\",VLOOKUP(C91,'WK 7'!$K$6:$L$41,2,FALSE)))","v":""},{"$f":"IF(ISNA(VLOOKUP(C91,'WK 8'!$K$6:$L$41,2,FALSE)=0),\"\",IF(VLOOKUP(C91,'WK 8'!$K$6:$L$41,2,FALSE)=0,\"\",VLOOKUP(C91,'WK 8'!$K$6:$L$41,2,FALSE)))","v":""},{"$f":"IF(ISNA(VLOOKUP(C91,'WK 9'!$K$6:$L$41,2,FALSE)=0),\"\",IF(VLOOKUP(C91,'WK 9'!$K$6:$L$41,2,FALSE)=0,\"\",VLOOKUP(C91,'WK 9'!$K$6:$L$41,2,FALSE)))","v":""},{"$f":"IF(ISNA(VLOOKUP(C91,'WK 10'!$K$6:$L$41,2,FALSE)=0),\"\",IF(VLOOKUP(C91,'WK 10'!$K$6:$L$41,2,FALSE)=0,\"\",VLOOKUP(C91,'WK 10'!$K$6:$L$41,2,FALSE)))","v":""},0]
[null,null,{"$f":"IF(ISNA(VLOOKUP('WK 3'!K24,$C$2:$C$73,1,FALSE)),VLOOKUP('WK 3'!K24,'WK 3'!$K$6:$K$450,1,FALSE),\"\")","v":""},null,{"$f":"IF(ISNA(VLOOKUP(C92,'WK 2'!$K$6:$L$41,2,FALSE)=0),\"\",IF(VLOOKUP(C92,'WK 2'!$K$6:$L$41,2,FALSE)=0,\"\",VLOOKUP(C92,'WK 2'!$K$6:$L$41,2,FALSE)))","v":""},{"$f":"IF(ISNA(VLOOKUP(C92,'WK 3'!$K$6:$L$41,2,FALSE)=0),\"\",IF(VLOOKUP(C92,'WK 3'!$K$6:$L$41,2,FALSE)=0,\"\",VLOOKUP(C92,'WK 3'!$K$6:$L$41,2,FALSE)))","v":""},{"$f":"IF(ISNA(VLOOKUP(C92,'WK 4'!$K$6:$L$41,2,FALSE)=0),\"\",IF(VLOOKUP(C92,'WK 4'!$K$6:$L$41,2,FALSE)=0,\"\",VLOOKUP(C92,'WK 4'!$K$6:$L$41,2,FALSE)))","v":""},{"$f":"IF(ISNA(VLOOKUP(C92,'WK 5'!$K$6:$L$41,2,FALSE)=0),\"\",IF(VLOOKUP(C92,'WK 5'!$K$6:$L$41,2,FALSE)=0,\"\",VLOOKUP(C92,'WK 5'!$K$6:$L$41,2,FALSE)))","v":""},{"$f":"IF(ISNA(VLOOKUP(C92,'WK 6'!$K$6:$L$41,2,FALSE)=0),\"\",IF(VLOOKUP(C92,'WK 6'!$K$6:$L$41,2,FALSE)=0,\"\",VLOOKUP(C92,'WK 6'!$K$6:$L$41,2,FALSE)))","v":""},{"$f":"IF(ISNA(VLOOKUP(C92,'WK 7'!$K$6:$L$41,2,FALSE)=0),\"\",IF(VLOOKUP(C92,'WK 7'!$K$6:$L$41,2,FALSE)=0,\"\",VLOOKUP(C92,'WK 7'!$K$6:$L$41,2,FALSE)))","v":""},{"$f":"IF(ISNA(VLOOKUP(C92,'WK 8'!$K$6:$L$41,2,FALSE)=0),\"\",IF(VLOOKUP(C92,'WK 8'!$K$6:$L$41,2,FALSE)=0,\"\",VLOOKUP(C92,'WK 8'!$K$6:$L$41,2,FALSE)))","v":""},{"$f":"IF(ISNA(VLOOKUP(C92,'WK 9'!$K$6:$L$41,2,FALSE)=0),\"\",IF(VLOOKUP(C92,'WK 9'!$K$6:$L$41,2,FALSE)=0,\"\",VLOOKUP(C92,'WK 9'!$K$6:$L$41,2,FALSE)))","v":""},{"$f":"IF(ISNA(VLOOKUP(C92,'WK 10'!$K$6:$L$41,2,FALSE)=0),\"\",IF(VLOOKUP(C92,'WK 10'!$K$6:$L$41,2,FALSE)=0,\"\",VLOOKUP(C92,'WK 10'!$K$6:$L$41,2,FALSE)))","v":""},0]
[null,null,{"$f":"IF(ISNA(VLOOKUP('WK 3'!K25,$C$2:$C$73,1,FALSE)),VLOOKUP('WK 3'!K25,'WK 3'!$K$6:$K$450,1,FALSE),\"\")","v":""},null,{"$f":"IF(ISNA(VLOOKUP(C93,'WK 2'!$K$6:$L$41,2,FALSE)=0),\"\",IF(VLOOKUP(C93,'WK 2'!$K$6:$L$41,2,FALSE)=0,\"\",VLOOKUP(C93,'WK 2'!$K$6:$L$41,2,FALSE)))","v":""},{"$f":"IF(ISNA(VLOOKUP(C93,'WK 3'!$K$6:$L$41,2,FALSE)=0),\"\",IF(VLOOKUP(C93,'WK 3'!$K$6:$L$41,2,FALSE)=0,\"\",VLOOKUP(C93,'WK 3'!$K$6:$L$41,2,FALSE)))","v":""},{"$f":"IF(ISNA(VLOOKUP(C93,'WK 4'!$K$6:$L$41,2,FALSE)=0),\"\",IF(VLOOKUP(C93,'WK 4'!$K$6:$L$41,2,FALSE)=0,\"\",VLOOKUP(C93,'WK 4'!$K$6:$L$41,2,FALSE)))","v":""},{"$f":"IF(ISNA(VLOOKUP(C93,'WK 5'!$K$6:$L$41,2,FALSE)=0),\"\",IF(VLOOKUP(C93,'WK 5'!$K$6:$L$41,2,FALSE)=0,\"\",VLOOKUP(C93,'WK 5'!$K$6:$L$41,2,FALSE)))","v":""},{"$f":"IF(ISNA(VLOOKUP(C93,'WK 6'!$K$6:$L$41,2,FALSE)=0),\"\",IF(VLOOKUP(C93,'WK 6'!$K$6:$L$41,2,FALSE)=0,\"\",VLOOKUP(C93,'WK 6'!$K$6:$L$41,2,FALSE)))","v":""},{"$f":"IF(ISNA(VLOOKUP(C93,'WK 7'!$K$6:$L$41,2,FALSE)=0),\"\",IF(VLOOKUP(C93,'WK 7'!$K$6:$L$41,2,FALSE)=0,\"\",VLOOKUP(C93,'WK 7'!$K$6:$L$41,2,FALSE)))","v":""},{"$f":"IF(ISNA(VLOOKUP(C93,'WK 8'!$K$6:$L$41,2,FALSE)=0),\"\",IF(VLOOKUP(C93,'WK 8'!$K$6:$L$41,2,FALSE)=0,\"\",VLOOKUP(C93,'WK 8'!$K$6:$L$41,2,FALSE)))","v":""},{"$f":"IF(ISNA(VLOOKUP(C93,'WK 9'!$K$6:$L$41,2,FALSE)=0),\"\",IF(VLOOKUP(C93,'WK 9'!$K$6:$L$41,2,FALSE)=0,\"\",VLOOKUP(C93,'WK 9'!$K$6:$L$41,2,FALSE)))","v":""},{"$f":"IF(ISNA(VLOOKUP(C93,'WK 10'!$K$6:$L$41,2,FALSE)=0),\"\",IF(VLOOKUP(C93,'WK 10'!$K$6:$L$41,2,FALSE)=0,\"\",VLOOKUP(C93,'WK 10'!$K$6:$L$41,2,FALSE)))","v":""},0]
[null,null,{"$f":"IF(ISNA(VLOOKUP('WK 3'!K26,$C$2:$C$73,1,FALSE)),VLOOKUP('WK 3'!K26,'WK 3'!$K$6:$K$450,1,FALSE),\"\")","v":""},null,{"$f":"IF(ISNA(VLOOKUP(C94,'WK 2'!$K$6:$L$41,2,FALSE)=0),\"\",IF(VLOOKUP(C94,'WK 2'!$K$6:$L$41,2,FALSE)=0,\"\",VLOOKUP(C94,'WK 2'!$K$6:$L$41,2,FALSE)))","v":""},{"$f":"IF(ISNA(VLOOKUP(C94,'WK 3'!$K$6:$L$41,2,FALSE)=0),\"\",IF(VLOOKUP(C94,'WK 3'!$K$6:$L$41,2,FALSE)=0,\"\",VLOOKUP(C94,'WK 3'!$K$6:$L$41,2,FALSE)))","v":""},{"$f":"IF(ISNA(VLOOKUP(C94,'WK 4'!$K$6:$L$41,2,FALSE)=0),\"\",IF(VLOOKUP(C94,'WK 4'!$K$6:$L$41,2,FALSE)=0,\"\",VLOOKUP(C94,'WK 4'!$K$6:$L$41,2,FALSE)))","v":""},{"$f":"IF(ISNA(VLOOKUP(C94,'WK 5'!$K$6:$L$41,2,FALSE)=0),\"\",IF(VLOOKUP(C94,'WK 5'!$K$6:$L$41,2,FALSE)=0,\"\",VLOOKUP(C94,'WK 5'!$K$6:$L$41,2,FALSE)))","v":""},{"$f":"IF(ISNA(VLOOKUP(C94,'WK 6'!$K$6:$L$41,2,FALSE)=0),\"\",IF(VLOOKUP(C94,'WK 6'!$K$6:$L$41,2,FALSE)=0,\"\",VLOOKUP(C94,'WK 6'!$K$6:$L$41,2,FALSE)))","v":""},{"$f":"IF(ISNA(VLOOKUP(C94,'WK 7'!$K$6:$L$41,2,FALSE)=0),\"\",IF(VLOOKUP(C94,'WK 7'!$K$6:$L$41,2,FALSE)=0,\"\",VLOOKUP(C94,'WK 7'!$K$6:$L$41,2,FALSE)))","v":""},{"$f":"IF(ISNA(VLOOKUP(C94,'WK 8'!$K$6:$L$41,2,FALSE)=0),\"\",IF(VLOOKUP(C94,'WK 8'!$K$6:$L$41,2,FALSE)=0,\"\",VLOOKUP(C94,'WK 8'!$K$6:$L$41,2,FALSE)))","v":""},{"$f":"IF(ISNA(VLOOKUP(C94,'WK 9'!$K$6:$L$41,2,FALSE)=0),\"\",IF(VLOOKUP(C94,'WK 9'!$K$6:$L$41,2,FALSE)=0,\"\",VLOOKUP(C94,'WK 9'!$K$6:$L$41,2,FALSE)))","v":""},{"$f":"IF(ISNA(VLOOKUP(C94,'WK 10'!$K$6:$L$41,2,FALSE)=0),\"\",IF(VLOOKUP(C94,'WK 10'!$K$6:$L$41,2,FALSE)=0,\"\",VLOOKUP(C94,'WK 10'!$K$6:$L$41,2,FALSE)))","v":""},0]
[null,null,{"$f":"IF(ISNA(VLOOKUP('WK 3'!K27,$C$2:$C$73,1,FALSE)),VLOOKUP('WK 3'!K27,'WK 3'!$K$6:$K$450,1,FALSE),\"\")","v":""},null,{"$f":"IF(ISNA(VLOOKUP(C95,'WK 2'!$K$6:$L$41,2,FALSE)=0),\"\",IF(VLOOKUP(C95,'WK 2'!$K$6:$L$41,2,FALSE)=0,\"\",VLOOKUP(C95,'WK 2'!$K$6:$L$41,2,FALSE)))","v":""},{"$f":"IF(ISNA(VLOOKUP(C95,'WK 3'!$K$6:$L$41,2,FALSE)=0),\"\",IF(VLOOKUP(C95,'WK 3'!$K$6:$L$41,2,FALSE)=0,\"\",VLOOKUP(C95,'WK 3'!$K$6:$L$41,2,FALSE)))","v":""},{"$f":"IF(ISNA(VLOOKUP(C95,'WK 4'!$K$6:$L$41,2,FALSE)=0),\"\",IF(VLOOKUP(C95,'WK 4'!$K$6:$L$41,2,FALSE)=0,\"\",VLOOKUP(C95,'WK 4'!$K$6:$L$41,2,FALSE)))","v":""},{"$f":"IF(ISNA(VLOOKUP(C95,'WK 5'!$K$6:$L$41,2,FALSE)=0),\"\",IF(VLOOKUP(C95,'WK 5'!$K$6:$L$41,2,FALSE)=0,\"\",VLOOKUP(C95,'WK 5'!$K$6:$L$41,2,FALSE)))","v":""},{"$f":"IF(ISNA(VLOOKUP(C95,'WK 6'!$K$6:$L$41,2,FALSE)=0),\"\",IF(VLOOKUP(C95,'WK 6'!$K$6:$L$41,2,FALSE)=0,\"\",VLOOKUP(C95,'WK 6'!$K$6:$L$41,2,FALSE)))","v":""},{"$f":"IF(ISNA(VLOOKUP(C95,'WK 7'!$K$6:$L$41,2,FALSE)=0),\"\",IF(VLOOKUP(C95,'WK 7'!$K$6:$L$41,2,FALSE)=0,\"\",VLOOKUP(C95,'WK 7'!$K$6:$L$41,2,FALSE)))","v":""},{"$f":"IF(ISNA(VLOOKUP(C95,'WK 8'!$K$6:$L$41,2,FALSE)=0),\"\",IF(VLOOKUP(C95,'WK 8'!$K$6:$L$41,2,FALSE)=0,\"\",VLOOKUP(C95,'WK 8'!$K$6:$L$41,2,FALSE)))","v":""},{"$f":"IF(ISNA(VLOOKUP(C95,'WK 9'!$K$6:$L$41,2,FALSE)=0),\"\",IF(VLOOKUP(C95,'WK 9'!$K$6:$L$41,2,FALSE)=0,\"\",VLOOKUP(C95,'WK 9'!$K$6:$L$41,2,FALSE)))","v":""},{"$f":"IF(ISNA(VLOOKUP(C95,'WK 10'!$K$6:$L$41,2,FALSE)=0),\"\",IF(VLOOKUP(C95,'WK 10'!$K$6:$L$41,2,FALSE)=0,\"\",VLOOKUP(C95,'WK 10'!$K$6:$L$41,2,FALSE)))","v":""},0]
[null,null,{"$f":"IF(ISNA(VLOOKUP('WK 3'!K28,$C$2:$C$73,1,FALSE)),VLOOKUP('WK 3'!K28,'WK 3'!$K$6:$K$450,1,FALSE),\"\")","v":""},null,{"$f":"IF(ISNA(VLOOKUP(C96,'WK 2'!$K$6:$L$41,2,FALSE)=0),\"\",IF(VLOOKUP(C96,'WK 2'!$K$6:$L$41,2,FALSE)=0,\"\",VLOOKUP(C96,'WK 2'!$K$6:$L$41,2,FALSE)))","v":""},{"$f":"IF(ISNA(VLOOKUP(C96,'WK 3'!$K$6:$L$41,2,FALSE)=0),\"\",IF(VLOOKUP(C96,'WK 3'!$K$6:$L$41,2,FALSE)=0,\"\",VLOOKUP(C96,'WK 3'!$K$6:$L$41,2,FALSE)))","v":""},{"$f":"IF(ISNA(VLOOKUP(C96,'WK 4'!$K$6:$L$41,2,FALSE)=0),\"\",IF(VLOOKUP(C96,'WK 4'!$K$6:$L$41,2,FALSE)=0,\"\",VLOOKUP(C96,'WK 4'!$K$6:$L$41,2,FALSE)))","v":""},{"$f":"IF(ISNA(VLOOKUP(C96,'WK 5'!$K$6:$L$41,2,FALSE)=0),\"\",IF(VLOOKUP(C96,'WK 5'!$K$6:$L$41,2,FALSE)=0,\"\",VLOOKUP(C96,'WK 5'!$K$6:$L$41,2,FALSE)))","v":""},{"$f":"IF(ISNA(VLOOKUP(C96,'WK 6'!$K$6:$L$41,2,FALSE)=0),\"\",IF(VLOOKUP(C96,'WK 6'!$K$6:$L$41,2,FALSE)=0,\"\",VLOOKUP(C96,'WK 6'!$K$6:$L$41,2,FALSE)))","v":""},{"$f":"IF(ISNA(VLOOKUP(C96,'WK 7'!$K$6:$L$41,2,FALSE)=0),\"\",IF(VLOOKUP(C96,'WK 7'!$K$6:$L$41,2,FALSE)=0,\"\",VLOOKUP(C96,'WK 7'!$K$6:$L$41,2,FALSE)))","v":""},{"$f":"IF(ISNA(VLOOKUP(C96,'WK 8'!$K$6:$L$41,2,FALSE)=0),\"\",IF(VLOOKUP(C96,'WK 8'!$K$6:$L$41,2,FALSE)=0,\"\",VLOOKUP(C96,'WK 8'!$K$6:$L$41,2,FALSE)))","v":""},{"$f":"IF(ISNA(VLOOKUP(C96,'WK 9'!$K$6:$L$41,2,FALSE)=0),\"\",IF(VLOOKUP(C96,'WK 9'!$K$6:$L$41,2,FALSE)=0,\"\",VLOOKUP(C96,'WK 9'!$K$6:$L$41,2,FALSE)))","v":""},{"$f":"IF(ISNA(VLOOKUP(C96,'WK 10'!$K$6:$L$41,2,FALSE)=0),\"\",IF(VLOOKUP(C96,'WK 10'!$K$6:$L$41,2,FALSE)=0,\"\",VLOOKUP(C96,'WK 10'!$K$6:$L$41,2,FALSE)))","v":""},0]
[null,null,{"$f":"IF(ISNA(VLOOKUP('WK 3'!K29,$C$2:$C$73,1,FALSE)),VLOOKUP('WK 3'!K29,'WK 3'!$K$6:$K$450,1,FALSE),\"\")","v":""},null,{"$f":"IF(ISNA(VLOOKUP(C97,'WK 2'!$K$6:$L$41,2,FALSE)=0),\"\",IF(VLOOKUP(C97,'WK 2'!$K$6:$L$41,2,FALSE)=0,\"\",VLOOKUP(C97,'WK 2'!$K$6:$L$41,2,FALSE)))","v":""},{"$f":"IF(ISNA(VLOOKUP(C97,'WK 3'!$K$6:$L$41,2,FALSE)=0),\"\",IF(VLOOKUP(C97,'WK 3'!$K$6:$L$41,2,FALSE)=0,\"\",VLOOKUP(C97,'WK 3'!$K$6:$L$41,2,FALSE)))","v":""},{"$f":"IF(ISNA(VLOOKUP(C97,'WK 4'!$K$6:$L$41,2,FALSE)=0),\"\",IF(VLOOKUP(C97,'WK 4'!$K$6:$L$41,2,FALSE)=0,\"\",VLOOKUP(C97,'WK 4'!$K$6:$L$41,2,FALSE)))","v":""},{"$f":"IF(ISNA(VLOOKUP(C97,'WK 5'!$K$6:$L$41,2,FALSE)=0),\"\",IF(VLOOKUP(C97,'WK 5'!$K$6:$L$41,2,FALSE)=0,\"\",VLOOKUP(C97,'WK 5'!$K$6:$L$41,2,FALSE)))","v":""},{"$f":"IF(ISNA(VLOOKUP(C97,'WK 6'!$K$6:$L$41,2,FALSE)=0),\"\",IF(VLOOKUP(C97,'WK 6'!$K$6:$L$41,2,FALSE)=0,\"\",VLOOKUP(C97,'WK 6'!$K$6:$L$41,2,FALSE)))","v":""},{"$f":"IF(ISNA(VLOOKUP(C97,'WK 7'!$K$6:$L$41,2,FALSE)=0),\"\",IF(VLOOKUP(C97,'WK 7'!$K$6:$L$41,2,FALSE)=0,\"\",VLOOKUP(C97,'WK 7'!$K$6:$L$41,2,FALSE)))","v":""},{"$f":"IF(ISNA(VLOOKUP(C97,'WK 8'!$K$6:$L$41,2,FALSE)=0),\"\",IF(VLOOKUP(C97,'WK 8'!$K$6:$L$41,2,FALSE)=0,\"\",VLOOKUP(C97,'WK 8'!$K$6:$L$41,2,FALSE)))","v":""},{"$f":"IF(ISNA(VLOOKUP(C97,'WK 9'!$K$6:$L$41,2,FALSE)=0),\"\",IF(VLOOKUP(C97,'WK 9'!$K$6:$L$41,2,FALSE)=0,\"\",VLOOKUP(C97,'WK 9'!$K$6:$L$41,2,FALSE)))","v":""},{"$f":"IF(ISNA(VLOOKUP(C97,'WK 10'!$K$6:$L$41,2,FALSE)=0),\"\",IF(VLOOKUP(C97,'WK 10'!$K$6:$L$41,2,FALSE)=0,\"\",VLOOKUP(C97,'WK 10'!$K$6:$L$41,2,FALSE)))","v":""},0]
[null,null,{"$f":"IF(ISNA(VLOOKUP('WK 3'!K30,$C$2:$C$73,1,FALSE)),VLOOKUP('WK 3'!K30,'WK 3'!$K$6:$K$450,1,FALSE),\"\")","v":""},null,{"$f":"IF(ISNA(VLOOKUP(C98,'WK 2'!$K$6:$L$41,2,FALSE)=0),\"\",IF(VLOOKUP(C98,'WK 2'!$K$6:$L$41,2,FALSE)=0,\"\",VLOOKUP(C98,'WK 2'!$K$6:$L$41,2,FALSE)))","v":""},{"$f":"IF(ISNA(VLOOKUP(C98,'WK 3'!$K$6:$L$41,2,FALSE)=0),\"\",IF(VLOOKUP(C98,'WK 3'!$K$6:$L$41,2,FALSE)=0,\"\",VLOOKUP(C98,'WK 3'!$K$6:$L$41,2,FALSE)))","v":""},{"$f":"IF(ISNA(VLOOKUP(C98,'WK 4'!$K$6:$L$41,2,FALSE)=0),\"\",IF(VLOOKUP(C98,'WK 4'!$K$6:$L$41,2,FALSE)=0,\"\",VLOOKUP(C98,'WK 4'!$K$6:$L$41,2,FALSE)))","v":""},{"$f":"IF(ISNA(VLOOKUP(C98,'WK 5'!$K$6:$L$41,2,FALSE)=0),\"\",IF(VLOOKUP(C98,'WK 5'!$K$6:$L$41,2,FALSE)=0,\"\",VLOOKUP(C98,'WK 5'!$K$6:$L$41,2,FALSE)))","v":""},{"$f":"IF(ISNA(VLOOKUP(C98,'WK 6'!$K$6:$L$41,2,FALSE)=0),\"\",IF(VLOOKUP(C98,'WK 6'!$K$6:$L$41,2,FALSE)=0,\"\",VLOOKUP(C98,'WK 6'!$K$6:$L$41,2,FALSE)))","v":""},{"$f":"IF(ISNA(VLOOKUP(C98,'WK 7'!$K$6:$L$41,2,FALSE)=0),\"\",IF(VLOOKUP(C98,'WK 7'!$K$6:$L$41,2,FALSE)=0,\"\",VLOOKUP(C98,'WK 7'!$K$6:$L$41,2,FALSE)))","v":""},{"$f":"IF(ISNA(VLOOKUP(C98,'WK 8'!$K$6:$L$41,2,FALSE)=0),\"\",IF(VLOOKUP(C98,'WK 8'!$K$6:$L$41,2,FALSE)=0,\"\",VLOOKUP(C98,'WK 8'!$K$6:$L$41,2,FALSE)))","v":""},{"$f":"IF(ISNA(VLOOKUP(C98,'WK 9'!$K$6:$L$41,2,FALSE)=0),\"\",IF(VLOOKUP(C98,'WK 9'!$K$6:$L$41,2,FALSE)=0,\"\",VLOOKUP(C98,'WK 9'!$K$6:$L$41,2,FALSE)))","v":""},{"$f":"IF(ISNA(VLOOKUP(C98,'WK 10'!$K$6:$L$41,2,FALSE)=0),\"\",IF(VLOOKUP(C98,'WK 10'!$K$6:$L$41,2,FALSE)=0,\"\",VLOOKUP(C98,'WK 10'!$K$6:$L$41,2,FALSE)))","v":""},0]
[null,null,{"$f":"IF(ISNA(VLOOKUP('WK 3'!K31,$C$2:$C$73,1,FALSE)),VLOOKUP('WK 3'!K31,'WK 3'!$K$6:$K$450,1,FALSE),\"\")","v":""},null,{"$f":"IF(ISNA(VLOOKUP(C99,'WK 2'!$K$6:$L$41,2,FALSE)=0),\"\",IF(VLOOKUP(C99,'WK 2'!$K$6:$L$41,2,FALSE)=0,\"\",VLOOKUP(C99,'WK 2'!$K$6:$L$41,2,FALSE)))","v":""},{"$f":"IF(ISNA(VLOOKUP(C99,'WK 3'!$K$6:$L$41,2,FALSE)=0),\"\",IF(VLOOKUP(C99,'WK 3'!$K$6:$L$41,2,FALSE)=0,\"\",VLOOKUP(C99,'WK 3'!$K$6:$L$41,2,FALSE)))","v":""},{"$f":"IF(ISNA(VLOOKUP(C99,'WK 4'!$K$6:$L$41,2,FALSE)=0),\"\",IF(VLOOKUP(C99,'WK 4'!$K$6:$L$41,2,FALSE)=0,\"\",VLOOKUP(C99,'WK 4'!$K$6:$L$41,2,FALSE)))","v":""},{"$f":"IF(ISNA(VLOOKUP(C99,'WK 5'!$K$6:$L$41,2,FALSE)=0),\"\",IF(VLOOKUP(C99,'WK 5'!$K$6:$L$41,2,FALSE)=0,\"\",VLOOKUP(C99,'WK 5'!$K$6:$L$41,2,FALSE)))","v":""},{"$f":"IF(ISNA(VLOOKUP(C99,'WK 6'!$K$6:$L$41,2,FALSE)=0),\"\",IF(VLOOKUP(C99,'WK 6'!$K$6:$L$41,2,FALSE)=0,\"\",VLOOKUP(C99,'WK 6'!$K$6:$L$41,2,FALSE)))","v":""},{"$f":"IF(ISNA(VLOOKUP(C99,'WK 7'!$K$6:$L$41,2,FALSE)=0),\"\",IF(VLOOKUP(C99,'WK 7'!$K$6:$L$41,2,FALSE)=0,\"\",VLOOKUP(C99,'WK 7'!$K$6:$L$41,2,FALSE)))","v":""},{"$f":"IF(ISNA(VLOOKUP(C99,'WK 8'!$K$6:$L$41,2,FALSE)=0),\"\",IF(VLOOKUP(C99,'WK 8'!$K$6:$L$41,2,FALSE)=0,\"\",VLOOKUP(C99,'WK 8'!$K$6:$L$41,2,FALSE)))","v":""},{"$f":"IF(ISNA(VLOOKUP(C99,'WK 9'!$K$6:$L$41,2,FALSE)=0),\"\",IF(VLOOKUP(C99,'WK 9'!$K$6:$L$41,2,FALSE)=0,\"\",VLOOKUP(C99,'WK 9'!$K$6:$L$41,2,FALSE)))","v":""},{"$f":"IF(ISNA(VLOOKUP(C99,'WK 10'!$K$6:$L$41,2,FALSE)=0),\"\",IF(VLOOKUP(C99,'WK 10'!$K$6:$L$41,2,FALSE)=0,\"\",VLOOKUP(C99,'WK 10'!$K$6:$L$41,2,FALSE)))","v":""},0]
[null,null,{"$f":"IF(ISNA(VLOOKUP('WK 3'!K32,$C$2:$C$73,1,FALSE)),VLOOKUP('WK 3'!K32,'WK 3'!$K$6:$K$450,1,FALSE),\"\")","v":""},null,{"$f":"IF(ISNA(VLOOKUP(C100,'WK 2'!$K$6:$L$41,2,FALSE)=0),\"\",IF(VLOOKUP(C100,'WK 2'!$K$6:$L$41,2,FALSE)=0,\"\",VLOOKUP(C100,'WK 2'!$K$6:$L$41,2,FALSE)))","v":""},{"$f":"IF(ISNA(VLOOKUP(C100,'WK 3'!$K$6:$L$41,2,FALSE)=0),\"\",IF(VLOOKUP(C100,'WK 3'!$K$6:$L$41,2,FALSE)=0,\"\",VLOOKUP(C100,'WK 3'!$K$6:$L$41,2,FALSE)))","v":""},{"$f":"IF(ISNA(VLOOKUP(C100,'WK 4'!$K$6:$L$41,2,FALSE)=0),\"\",IF(VLOOKUP(C100,'WK 4'!$K$6:$L$41,2,FALSE)=0,\"\",VLOOKUP(C100,'WK 4'!$K$6:$L$41,2,FALSE)))","v":""},{"$f":"IF(ISNA(VLOOKUP(C100,'WK 5'!$K$6:$L$41,2,FALSE)=0),\"\",IF(VLOOKUP(C100,'WK 5'!$K$6:$L$41,2,FALSE)=0,\"\",VLOOKUP(C100,'WK 5'!$K$6:$L$41,2,FALSE)))","v":""},{"$f":"IF(ISNA(VLOOKUP(C100,'WK 6'!$K$6:$L$41,2,FALSE)=0),\"\",IF(VLOOKUP(C100,'WK 6'!$K$6:$L$41,2,FALSE)=0,\"\",VLOOKUP(C100,'WK 6'!$K$6:$L$41,2,FALSE)))","v":""},{"$f":"IF(ISNA(VLOOKUP(C100,'WK 7'!$K$6:$L$41,2,FALSE)=0),\"\",IF(VLOOKUP(C100,'WK 7'!$K$6:$L$41,2,FALSE)=0,\"\",VLOOKUP(C100,'WK 7'!$K$6:$L$41,2,FALSE)))","v":""},{"$f":"IF(ISNA(VLOOKUP(C100,'WK 8'!$K$6:$L$41,2,FALSE)=0),\"\",IF(VLOOKUP(C100,'WK 8'!$K$6:$L$41,2,FALSE)=0,\"\",VLOOKUP(C100,'WK 8'!$K$6:$L$41,2,FALSE)))","v":""},{"$f":"IF(ISNA(VLOOKUP(C100,'WK 9'!$K$6:$L$41,2,FALSE)=0),\"\",IF(VLOOKUP(C100,'WK 9'!$K$6:$L$41,2,FALSE)=0,\"\",VLOOKUP(C100,'WK 9'!$K$6:$L$41,2,FALSE)))","v":""},{"$f":"IF(ISNA(VLOOKUP(C100,'WK 10'!$K$6:$L$41,2,FALSE)=0),\"\",IF(VLOOKUP(C100,'WK 10'!$K$6:$L$41,2,FALSE)=0,\"\",VLOOKUP(C100,'WK 10'!$K$6:$L$41,2,FALSE)))","v":""},0]
[null,null,{"$f":"IF(ISNA(VLOOKUP('WK 3'!K33,$C$2:$C$73,1,FALSE)),VLOOKUP('WK 3'!K33,'WK 3'!$K$6:$K$450,1,FALSE),\"\")","v":""},null,{"$f":"IF(ISNA(VLOOKUP(C101,'WK 2'!$K$6:$L$41,2,FALSE)=0),\"\",IF(VLOOKUP(C101,'WK 2'!$K$6:$L$41,2,FALSE)=0,\"\",VLOOKUP(C101,'WK 2'!$K$6:$L$41,2,FALSE)))","v":""},{"$f":"IF(ISNA(VLOOKUP(C101,'WK 3'!$K$6:$L$41,2,FALSE)=0),\"\",IF(VLOOKUP(C101,'WK 3'!$K$6:$L$41,2,FALSE)=0,\"\",VLOOKUP(C101,'WK 3'!$K$6:$L$41,2,FALSE)))","v":""},{"$f":"IF(ISNA(VLOOKUP(C101,'WK 4'!$K$6:$L$41,2,FALSE)=0),\"\",IF(VLOOKUP(C101,'WK 4'!$K$6:$L$41,2,FALSE)=0,\"\",VLOOKUP(C101,'WK 4'!$K$6:$L$41,2,FALSE)))","v":""},{"$f":"IF(ISNA(VLOOKUP(C101,'WK 5'!$K$6:$L$41,2,FALSE)=0),\"\",IF(VLOOKUP(C101,'WK 5'!$K$6:$L$41,2,FALSE)=0,\"\",VLOOKUP(C101,'WK 5'!$K$6:$L$41,2,FALSE)))","v":""},{"$f":"IF(ISNA(VLOOKUP(C101,'WK 6'!$K$6:$L$41,2,FALSE)=0),\"\",IF(VLOOKUP(C101,'WK 6'!$K$6:$L$41,2,FALSE)=0,\"\",VLOOKUP(C101,'WK 6'!$K$6:$L$41,2,FALSE)))","v":""},{"$f":"IF(ISNA(VLOOKUP(C101,'WK 7'!$K$6:$L$41,2,FALSE)=0),\"\",IF(VLOOKUP(C101,'WK 7'!$K$6:$L$41,2,FALSE)=0,\"\",VLOOKUP(C101,'WK 7'!$K$6:$L$41,2,FALSE)))","v":""},{"$f":"IF(ISNA(VLOOKUP(C101,'WK 8'!$K$6:$L$41,2,FALSE)=0),\"\",IF(VLOOKUP(C101,'WK 8'!$K$6:$L$41,2,FALSE)=0,\"\",VLOOKUP(C101,'WK 8'!$K$6:$L$41,2,FALSE)))","v":""},{"$f":"IF(ISNA(VLOOKUP(C101,'WK 9'!$K$6:$L$41,2,FALSE)=0),\"\",IF(VLOOKUP(C101,'WK 9'!$K$6:$L$41,2,FALSE)=0,\"\",VLOOKUP(C101,'WK 9'!$K$6:$L$41,2,FALSE)))","v":""},{"$f":"IF(ISNA(VLOOKUP(C101,'WK 10'!$K$6:$L$41,2,FALSE)=0),\"\",IF(VLOOKUP(C101,'WK 10'!$K$6:$L$41,2,FALSE)=0,\"\",VLOOKUP(C101,'WK 10'!$K$6:$L$41,2,FALSE)))","v":""},0]
[null,null,{"$f":"IF(ISNA(VLOOKUP('WK 3'!K34,$C$2:$C$73,1,FALSE)),VLOOKUP('WK 3'!K34,'WK 3'!$K$6:$K$450,1,FALSE),\"\")","v":""},null,{"$f":"IF(ISNA(VLOOKUP(C102,'WK 2'!$K$6:$L$41,2,FALSE)=0),\"\",IF(VLOOKUP(C102,'WK 2'!$K$6:$L$41,2,FALSE)=0,\"\",VLOOKUP(C102,'WK 2'!$K$6:$L$41,2,FALSE)))","v":""},{"$f":"IF(ISNA(VLOOKUP(C102,'WK 3'!$K$6:$L$41,2,FALSE)=0),\"\",IF(VLOOKUP(C102,'WK 3'!$K$6:$L$41,2,FALSE)=0,\"\",VLOOKUP(C102,'WK 3'!$K$6:$L$41,2,FALSE)))","v":""},{"$f":"IF(ISNA(VLOOKUP(C102,'WK 4'!$K$6:$L$41,2,FALSE)=0),\"\",IF(VLOOKUP(C102,'WK 4'!$K$6:$L$41,2,FALSE)=0,\"\",VLOOKUP(C102,'WK 4'!$K$6:$L$41,2,FALSE)))","v":""},{"$f":"IF(ISNA(VLOOKUP(C102,'WK 5'!$K$6:$L$41,2,FALSE)=0),\"\",IF(VLOOKUP(C102,'WK 5'!$K$6:$L$41,2,FALSE)=0,\"\",VLOOKUP(C102,'WK 5'!$K$6:$L$41,2,FALSE)))","v":""},{"$f":"IF(ISNA(VLOOKUP(C102,'WK 6'!$K$6:$L$41,2,FALSE)=0),\"\",IF(VLOOKUP(C102,'WK 6'!$K$6:$L$41,2,FALSE)=0,\"\",VLOOKUP(C102,'WK 6'!$K$6:$L$41,2,FALSE)))","v":""},{"$f":"IF(ISNA(VLOOKUP(C102,'WK 7'!$K$6:$L$41,2,FALSE)=0),\"\",IF(VLOOKUP(C102,'WK 7'!$K$6:$L$41,2,FALSE)=0,\"\",VLOOKUP(C102,'WK 7'!$K$6:$L$41,2,FALSE)))","v":""},{"$f":"IF(ISNA(VLOOKUP(C102,'WK 8'!$K$6:$L$41,2,FALSE)=0),\"\",IF(VLOOKUP(C102,'WK 8'!$K$6:$L$41,2,FALSE)=0,\"\",VLOOKUP(C102,'WK 8'!$K$6:$L$41,2,FALSE)))","v":""},{"$f":"IF(ISNA(VLOOKUP(C102,'WK 9'!$K$6:$L$41,2,FALSE)=0),\"\",IF(VLOOKUP(C102,'WK 9'!$K$6:$L$41,2,FALSE)=0,\"\",VLOOKUP(C102,'WK 9'!$K$6:$L$41,2,FALSE)))","v":""},{"$f":"IF(ISNA(VLOOKUP(C102,'WK 10'!$K$6:$L$41,2,FALSE)=0),\"\",IF(VLOOKUP(C102,'WK 10'!$K$6:$L$41,2,FALSE)=0,\"\",VLOOKUP(C102,'WK 10'!$K$6:$L$41,2,FALSE)))","v":""},0]
[null,null,{"$f":"IF(ISNA(VLOOKUP('WK 3'!K35,$C$2:$C$73,1,FALSE)),VLOOKUP('WK 3'!K35,'WK 3'!$K$6:$K$450,1,FALSE),\"\")","v":""},null,{"$f":"IF(ISNA(VLOOKUP(C103,'WK 2'!$K$6:$L$41,2,FALSE)=0),\"\",IF(VLOOKUP(C103,'WK 2'!$K$6:$L$41,2,FALSE)=0,\"\",VLOOKUP(C103,'WK 2'!$K$6:$L$41,2,FALSE)))","v":""},{"$f":"IF(ISNA(VLOOKUP(C103,'WK 3'!$K$6:$L$41,2,FALSE)=0),\"\",IF(VLOOKUP(C103,'WK 3'!$K$6:$L$41,2,FALSE)=0,\"\",VLOOKUP(C103,'WK 3'!$K$6:$L$41,2,FALSE)))","v":""},{"$f":"IF(ISNA(VLOOKUP(C103,'WK 4'!$K$6:$L$41,2,FALSE)=0),\"\",IF(VLOOKUP(C103,'WK 4'!$K$6:$L$41,2,FALSE)=0,\"\",VLOOKUP(C103,'WK 4'!$K$6:$L$41,2,FALSE)))","v":""},{"$f":"IF(ISNA(VLOOKUP(C103,'WK 5'!$K$6:$L$41,2,FALSE)=0),\"\",IF(VLOOKUP(C103,'WK 5'!$K$6:$L$41,2,FALSE)=0,\"\",VLOOKUP(C103,'WK 5'!$K$6:$L$41,2,FALSE)))","v":""},{"$f":"IF(ISNA(VLOOKUP(C103,'WK 6'!$K$6:$L$41,2,FALSE)=0),\"\",IF(VLOOKUP(C103,'WK 6'!$K$6:$L$41,2,FALSE)=0,\"\",VLOOKUP(C103,'WK 6'!$K$6:$L$41,2,FALSE)))","v":""},{"$f":"IF(ISNA(VLOOKUP(C103,'WK 7'!$K$6:$L$41,2,FALSE)=0),\"\",IF(VLOOKUP(C103,'WK 7'!$K$6:$L$41,2,FALSE)=0,\"\",VLOOKUP(C103,'WK 7'!$K$6:$L$41,2,FALSE)))","v":""},{"$f":"IF(ISNA(VLOOKUP(C103,'WK 8'!$K$6:$L$41,2,FALSE)=0),\"\",IF(VLOOKUP(C103,'WK 8'!$K$6:$L$41,2,FALSE)=0,\"\",VLOOKUP(C103,'WK 8'!$K$6:$L$41,2,FALSE)))","v":""},{"$f":"IF(ISNA(VLOOKUP(C103,'WK 9'!$K$6:$L$41,2,FALSE)=0),\"\",IF(VLOOKUP(C103,'WK 9'!$K$6:$L$41,2,FALSE)=0,\"\",VLOOKUP(C103,'WK 9'!$K$6:$L$41,2,FALSE)))","v":""},{"$f":"IF(ISNA(VLOOKUP(C103,'WK 10'!$K$6:$L$41,2,FALSE)=0),\"\",IF(VLOOKUP(C103,'WK 10'!$K$6:$L$41,2,FALSE)=0,\"\",VLOOKUP(C103,'WK 10'!$K$6:$L$41,2,FALSE)))","v":""},0]
[null,null,{"$f":"IF(ISNA(VLOOKUP('WK 3'!K36,$C$2:$C$73,1,FALSE)),VLOOKUP('WK 3'!K36,'WK 3'!$K$6:$K$450,1,FALSE),\"\")","v":""},null,{"$f":"IF(ISNA(VLOOKUP(C104,'WK 2'!$K$6:$L$41,2,FALSE)=0),\"\",IF(VLOOKUP(C104,'WK 2'!$K$6:$L$41,2,FALSE)=0,\"\",VLOOKUP(C104,'WK 2'!$K$6:$L$41,2,FALSE)))","v":""},{"$f":"IF(ISNA(VLOOKUP(C104,'WK 3'!$K$6:$L$41,2,FALSE)=0),\"\",IF(VLOOKUP(C104,'WK 3'!$K$6:$L$41,2,FALSE)=0,\"\",VLOOKUP(C104,'WK 3'!$K$6:$L$41,2,FALSE)))","v":""},{"$f":"IF(ISNA(VLOOKUP(C104,'WK 4'!$K$6:$L$41,2,FALSE)=0),\"\",IF(VLOOKUP(C104,'WK 4'!$K$6:$L$41,2,FALSE)=0,\"\",VLOOKUP(C104,'WK 4'!$K$6:$L$41,2,FALSE)))","v":""},{"$f":"IF(ISNA(VLOOKUP(C104,'WK 5'!$K$6:$L$41,2,FALSE)=0),\"\",IF(VLOOKUP(C104,'WK 5'!$K$6:$L$41,2,FALSE)=0,\"\",VLOOKUP(C104,'WK 5'!$K$6:$L$41,2,FALSE)))","v":""},{"$f":"IF(ISNA(VLOOKUP(C104,'WK 6'!$K$6:$L$41,2,FALSE)=0),\"\",IF(VLOOKUP(C104,'WK 6'!$K$6:$L$41,2,FALSE)=0,\"\",VLOOKUP(C104,'WK 6'!$K$6:$L$41,2,FALSE)))","v":""},{"$f":"IF(ISNA(VLOOKUP(C104,'WK 7'!$K$6:$L$41,2,FALSE)=0),\"\",IF(VLOOKUP(C104,'WK 7'!$K$6:$L$41,2,FALSE)=0,\"\",VLOOKUP(C104,'WK 7'!$K$6:$L$41,2,FALSE)))","v":""},{"$f":"IF(ISNA(VLOOKUP(C104,'WK 8'!$K$6:$L$41,2,FALSE)=0),\"\",IF(VLOOKUP(C104,'WK 8'!$K$6:$L$41,2,FALSE)=0,\"\",VLOOKUP(C104,'WK 8'!$K$6:$L$41,2,FALSE)))","v":""},{"$f":"IF(ISNA(VLOOKUP(C104,'WK 9'!$K$6:$L$41,2,FALSE)=0),\"\",IF(VLOOKUP(C104,'WK 9'!$K$6:$L$41,2,FALSE)=0,\"\",VLOOKUP(C104,'WK 9'!$K$6:$L$41,2,FALSE)))","v":""},{"$f":"IF(ISNA(VLOOKUP(C104,'WK 10'!$K$6:$L$41,2,FALSE)=0),\"\",IF(VLOOKUP(C104,'WK 10'!$K$6:$L$41,2,FALSE)=0,\"\",VLOOKUP(C104,'WK 10'!$K$6:$L$41,2,FALSE)))","v":""},0]
[null,null,{"$f":"IF(ISNA(VLOOKUP('WK 3'!K37,$C$2:$C$73,1,FALSE)),VLOOKUP('WK 3'!K37,'WK 3'!$K$6:$K$450,1,FALSE),\"\")","v":""},null,{"$f":"IF(ISNA(VLOOKUP(C105,'WK 2'!$K$6:$L$41,2,FALSE)=0),\"\",IF(VLOOKUP(C105,'WK 2'!$K$6:$L$41,2,FALSE)=0,\"\",VLOOKUP(C105,'WK 2'!$K$6:$L$41,2,FALSE)))","v":""},{"$f":"IF(ISNA(VLOOKUP(C105,'WK 3'!$K$6:$L$41,2,FALSE)=0),\"\",IF(VLOOKUP(C105,'WK 3'!$K$6:$L$41,2,FALSE)=0,\"\",VLOOKUP(C105,'WK 3'!$K$6:$L$41,2,FALSE)))","v":""},{"$f":"IF(ISNA(VLOOKUP(C105,'WK 4'!$K$6:$L$41,2,FALSE)=0),\"\",IF(VLOOKUP(C105,'WK 4'!$K$6:$L$41,2,FALSE)=0,\"\",VLOOKUP(C105,'WK 4'!$K$6:$L$41,2,FALSE)))","v":""},{"$f":"IF(ISNA(VLOOKUP(C105,'WK 5'!$K$6:$L$41,2,FALSE)=0),\"\",IF(VLOOKUP(C105,'WK 5'!$K$6:$L$41,2,FALSE)=0,\"\",VLOOKUP(C105,'WK 5'!$K$6:$L$41,2,FALSE)))","v":""},{"$f":"IF(ISNA(VLOOKUP(C105,'WK 6'!$K$6:$L$41,2,FALSE)=0),\"\",IF(VLOOKUP(C105,'WK 6'!$K$6:$L$41,2,FALSE)=0,\"\",VLOOKUP(C105,'WK 6'!$K$6:$L$41,2,FALSE)))","v":""},{"$f":"IF(ISNA(VLOOKUP(C105,'WK 7'!$K$6:$L$41,2,FALSE)=0),\"\",IF(VLOOKUP(C105,'WK 7'!$K$6:$L$41,2,FALSE)=0,\"\",VLOOKUP(C105,'WK 7'!$K$6:$L$41,2,FALSE)))","v":""},{"$f":"IF(ISNA(VLOOKUP(C105,'WK 8'!$K$6:$L$41,2,FALSE)=0),\"\",IF(VLOOKUP(C105,'WK 8'!$K$6:$L$41,2,FALSE)=0,\"\",VLOOKUP(C105,'WK 8'!$K$6:$L$41,2,FALSE)))","v":""},{"$f":"IF(ISNA(VLOOKUP(C105,'WK 9'!$K$6:$L$41,2,FALSE)=0),\"\",IF(VLOOKUP(C105,'WK 9'!$K$6:$L$41,2,FALSE)=0,\"\",VLOOKUP(C105,'WK 9'!$K$6:$L$41,2,FALSE)))","v":""},{"$f":"IF(ISNA(VLOOKUP(C105,'WK 10'!$K$6:$L$41,2,FALSE)=0),\"\",IF(VLOOKUP(C105,'WK 10'!$K$6:$L$41,2,FALSE)=0,\"\",VLOOKUP(C105,'WK 10'!$K$6:$L$41,2,FALSE)))","v":""},0]
[null,null,{"$f":"IF(ISNA(VLOOKUP('WK 3'!K38,$C$2:$C$73,1,FALSE)),VLOOKUP('WK 3'!K38,'WK 3'!$K$6:$K$450,1,FALSE),\"\")","v":""},null,{"$f":"IF(ISNA(VLOOKUP(C106,'WK 2'!$K$6:$L$41,2,FALSE)=0),\"\",IF(VLOOKUP(C106,'WK 2'!$K$6:$L$41,2,FALSE)=0,\"\",VLOOKUP(C106,'WK 2'!$K$6:$L$41,2,FALSE)))","v":""},{"$f":"IF(ISNA(VLOOKUP(C106,'WK 3'!$K$6:$L$41,2,FALSE)=0),\"\",IF(VLOOKUP(C106,'WK 3'!$K$6:$L$41,2,FALSE)=0,\"\",VLOOKUP(C106,'WK 3'!$K$6:$L$41,2,FALSE)))","v":""},{"$f":"IF(ISNA(VLOOKUP(C106,'WK 4'!$K$6:$L$41,2,FALSE)=0),\"\",IF(VLOOKUP(C106,'WK 4'!$K$6:$L$41,2,FALSE)=0,\"\",VLOOKUP(C106,'WK 4'!$K$6:$L$41,2,FALSE)))","v":""},{"$f":"IF(ISNA(VLOOKUP(C106,'WK 5'!$K$6:$L$41,2,FALSE)=0),\"\",IF(VLOOKUP(C106,'WK 5'!$K$6:$L$41,2,FALSE)=0,\"\",VLOOKUP(C106,'WK 5'!$K$6:$L$41,2,FALSE)))","v":""},{"$f":"IF(ISNA(VLOOKUP(C106,'WK 6'!$K$6:$L$41,2,FALSE)=0),\"\",IF(VLOOKUP(C106,'WK 6'!$K$6:$L$41,2,FALSE)=0,\"\",VLOOKUP(C106,'WK 6'!$K$6:$L$41,2,FALSE)))","v":""},{"$f":"IF(ISNA(VLOOKUP(C106,'WK 7'!$K$6:$L$41,2,FALSE)=0),\"\",IF(VLOOKUP(C106,'WK 7'!$K$6:$L$41,2,FALSE)=0,\"\",VLOOKUP(C106,'WK 7'!$K$6:$L$41,2,FALSE)))","v":""},{"$f":"IF(ISNA(VLOOKUP(C106,'WK 8'!$K$6:$L$41,2,FALSE)=0),\"\",IF(VLOOKUP(C106,'WK 8'!$K$6:$L$41,2,FALSE)=0,\"\",VLOOKUP(C106,'WK 8'!$K$6:$L$41,2,FALSE)))","v":""},{"$f":"IF(ISNA(VLOOKUP(C106,'WK 9'!$K$6:$L$41,2,FALSE)=0),\"\",IF(VLOOKUP(C106,'WK 9'!$K$6:$L$41,2,FALSE)=0,\"\",VLOOKUP(C106,'WK 9'!$K$6:$L$41,2,FALSE)))","v":""},{"$f":"IF(ISNA(VLOOKUP(C106,'WK 10'!$K$6:$L$41,2,FALSE)=0),\"\",IF(VLOOKUP(C106,'WK 10'!$K$6:$L$41,2,FALSE)=0,\"\",VLOOKUP(C106,'WK 10'!$K$6:$L$41,2,FALSE)))","v":""},0]
[null,null,{"$f":"IF(ISNA(VLOOKUP('WK 3'!K39,$C$2:$C$73,1,FALSE)),VLOOKUP('WK 3'!K39,'WK 3'!$K$6:$K$450,1,FALSE),\"\")","v":""},null,{"$f":"IF(ISNA(VLOOKUP(C107,'WK 2'!$K$6:$L$41,2,FALSE)=0),\"\",IF(VLOOKUP(C107,'WK 2'!$K$6:$L$41,2,FALSE)=0,\"\",VLOOKUP(C107,'WK 2'!$K$6:$L$41,2,FALSE)))","v":""},{"$f":"IF(ISNA(VLOOKUP(C107,'WK 3'!$K$6:$L$41,2,FALSE)=0),\"\",IF(VLOOKUP(C107,'WK 3'!$K$6:$L$41,2,FALSE)=0,\"\",VLOOKUP(C107,'WK 3'!$K$6:$L$41,2,FALSE)))","v":""},{"$f":"IF(ISNA(VLOOKUP(C107,'WK 4'!$K$6:$L$41,2,FALSE)=0),\"\",IF(VLOOKUP(C107,'WK 4'!$K$6:$L$41,2,FALSE)=0,\"\",VLOOKUP(C107,'WK 4'!$K$6:$L$41,2,FALSE)))","v":""},{"$f":"IF(ISNA(VLOOKUP(C107,'WK 5'!$K$6:$L$41,2,FALSE)=0),\"\",IF(VLOOKUP(C107,'WK 5'!$K$6:$L$41,2,FALSE)=0,\"\",VLOOKUP(C107,'WK 5'!$K$6:$L$41,2,FALSE)))","v":""},{"$f":"IF(ISNA(VLOOKUP(C107,'WK 6'!$K$6:$L$41,2,FALSE)=0),\"\",IF(VLOOKUP(C107,'WK 6'!$K$6:$L$41,2,FALSE)=0,\"\",VLOOKUP(C107,'WK 6'!$K$6:$L$41,2,FALSE)))","v":""},{"$f":"IF(ISNA(VLOOKUP(C107,'WK 7'!$K$6:$L$41,2,FALSE)=0),\"\",IF(VLOOKUP(C107,'WK 7'!$K$6:$L$41,2,FALSE)=0,\"\",VLOOKUP(C107,'WK 7'!$K$6:$L$41,2,FALSE)))","v":""},{"$f":"IF(ISNA(VLOOKUP(C107,'WK 8'!$K$6:$L$41,2,FALSE)=0),\"\",IF(VLOOKUP(C107,'WK 8'!$K$6:$L$41,2,FALSE)=0,\"\",VLOOKUP(C107,'WK 8'!$K$6:$L$41,2,FALSE)))","v":""},{"$f":"IF(ISNA(VLOOKUP(C107,'WK 9'!$K$6:$L$41,2,FALSE)=0),\"\",IF(VLOOKUP(C107,'WK 9'!$K$6:$L$41,2,FALSE)=0,\"\",VLOOKUP(C107,'WK 9'!$K$6:$L$41,2,FALSE)))","v":""},{"$f":"IF(ISNA(VLOOKUP(C107,'WK 10'!$K$6:$L$41,2,FALSE)=0),\"\",IF(VLOOKUP(C107,'WK 10'!$K$6:$L$41,2,FALSE)=0,\"\",VLOOKUP(C107,'WK 10'!$K$6:$L$41,2,FALSE)))","v":""},0]
[null,null,{"$f":"IF(ISNA(VLOOKUP('WK 3'!K40,$C$2:$C$73,1,FALSE)),VLOOKUP('WK 3'!K40,'WK 3'!$K$6:$K$450,1,FALSE),\"\")","v":""},null,{"$f":"IF(ISNA(VLOOKUP(C108,'WK 2'!$K$6:$L$41,2,FALSE)=0),\"\",IF(VLOOKUP(C108,'WK 2'!$K$6:$L$41,2,FALSE)=0,\"\",VLOOKUP(C108,'WK 2'!$K$6:$L$41,2,FALSE)))","v":""},{"$f":"IF(ISNA(VLOOKUP(C108,'WK 3'!$K$6:$L$41,2,FALSE)=0),\"\",IF(VLOOKUP(C108,'WK 3'!$K$6:$L$41,2,FALSE)=0,\"\",VLOOKUP(C108,'WK 3'!$K$6:$L$41,2,FALSE)))","v":""},{"$f":"IF(ISNA(VLOOKUP(C108,'WK 4'!$K$6:$L$41,2,FALSE)=0),\"\",IF(VLOOKUP(C108,'WK 4'!$K$6:$L$41,2,FALSE)=0,\"\",VLOOKUP(C108,'WK 4'!$K$6:$L$41,2,FALSE)))","v":""},{"$f":"IF(ISNA(VLOOKUP(C108,'WK 5'!$K$6:$L$41,2,FALSE)=0),\"\",IF(VLOOKUP(C108,'WK 5'!$K$6:$L$41,2,FALSE)=0,\"\",VLOOKUP(C108,'WK 5'!$K$6:$L$41,2,FALSE)))","v":""},{"$f":"IF(ISNA(VLOOKUP(C108,'WK 6'!$K$6:$L$41,2,FALSE)=0),\"\",IF(VLOOKUP(C108,'WK 6'!$K$6:$L$41,2,FALSE)=0,\"\",VLOOKUP(C108,'WK 6'!$K$6:$L$41,2,FALSE)))","v":""},{"$f":"IF(ISNA(VLOOKUP(C108,'WK 7'!$K$6:$L$41,2,FALSE)=0),\"\",IF(VLOOKUP(C108,'WK 7'!$K$6:$L$41,2,FALSE)=0,\"\",VLOOKUP(C108,'WK 7'!$K$6:$L$41,2,FALSE)))","v":""},{"$f":"IF(ISNA(VLOOKUP(C108,'WK 8'!$K$6:$L$41,2,FALSE)=0),\"\",IF(VLOOKUP(C108,'WK 8'!$K$6:$L$41,2,FALSE)=0,\"\",VLOOKUP(C108,'WK 8'!$K$6:$L$41,2,FALSE)))","v":""},{"$f":"IF(ISNA(VLOOKUP(C108,'WK 9'!$K$6:$L$41,2,FALSE)=0),\"\",IF(VLOOKUP(C108,'WK 9'!$K$6:$L$41,2,FALSE)=0,\"\",VLOOKUP(C108,'WK 9'!$K$6:$L$41,2,FALSE)))","v":""},{"$f":"IF(ISNA(VLOOKUP(C108,'WK 10'!$K$6:$L$41,2,FALSE)=0),\"\",IF(VLOOKUP(C108,'WK 10'!$K$6:$L$41,2,FALSE)=0,\"\",VLOOKUP(C108,'WK 10'!$K$6:$L$41,2,FALSE)))","v":""},0]
[null,null,{"$f":"IF(ISNA(VLOOKUP('WK 3'!K41,$C$2:$C$73,1,FALSE)),VLOOKUP('WK 3'!K41,'WK 3'!$K$6:$K$450,1,FALSE),\"\")","v":""},null,{"$f":"IF(ISNA(VLOOKUP(C109,'WK 2'!$K$6:$L$41,2,FALSE)=0),\"\",IF(VLOOKUP(C109,'WK 2'!$K$6:$L$41,2,FALSE)=0,\"\",VLOOKUP(C109,'WK 2'!$K$6:$L$41,2,FALSE)))","v":""},{"$f":"IF(ISNA(VLOOKUP(C109,'WK 3'!$K$6:$L$41,2,FALSE)=0),\"\",IF(VLOOKUP(C109,'WK 3'!$K$6:$L$41,2,FALSE)=0,\"\",VLOOKUP(C109,'WK 3'!$K$6:$L$41,2,FALSE)))","v":""},{"$f":"IF(ISNA(VLOOKUP(C109,'WK 4'!$K$6:$L$41,2,FALSE)=0),\"\",IF(VLOOKUP(C109,'WK 4'!$K$6:$L$41,2,FALSE)=0,\"\",VLOOKUP(C109,'WK 4'!$K$6:$L$41,2,FALSE)))","v":""},{"$f":"IF(ISNA(VLOOKUP(C109,'WK 5'!$K$6:$L$41,2,FALSE)=0),\"\",IF(VLOOKUP(C109,'WK 5'!$K$6:$L$41,2,FALSE)=0,\"\",VLOOKUP(C109,'WK 5'!$K$6:$L$41,2,FALSE)))","v":""},{"$f":"IF(ISNA(VLOOKUP(C109,'WK 6'!$K$6:$L$41,2,FALSE)=0),\"\",IF(VLOOKUP(C109,'WK 6'!$K$6:$L$41,2,FALSE)=0,\"\",VLOOKUP(C109,'WK 6'!$K$6:$L$41,2,FALSE)))","v":""},{"$f":"IF(ISNA(VLOOKUP(C109,'WK 7'!$K$6:$L$41,2,FALSE)=0),\"\",IF(VLOOKUP(C109,'WK 7'!$K$6:$L$41,2,FALSE)=0,\"\",VLOOKUP(C109,'WK 7'!$K$6:$L$41,2,FALSE)))","v":""},{"$f":"IF(ISNA(VLOOKUP(C109,'WK 8'!$K$6:$L$41,2,FALSE)=0),\"\",IF(VLOOKUP(C109,'WK 8'!$K$6:$L$41,2,FALSE)=0,\"\",VLOOKUP(C109,'WK 8'!$K$6:$L$41,2,FALSE)))","v":""},{"$f":"IF(ISNA(VLOOKUP(C109,'WK 9'!$K$6:$L$41,2,FALSE)=0),\"\",IF(VLOOKUP(C109,'WK 9'!$K$6:$L$41,2,FALSE)=0,\"\",VLOOKUP(C109,'WK 9'!$K$6:$L$41,2,FALSE)))","v":""},{"$f":"IF(ISNA(VLOOKUP(C109,'WK 10'!$K$6:$L$41,2,FALSE)=0),\"\",IF(VLOOKUP(C109,'WK 10'!$K$6:$L$41,2,FALSE)=0,\"\",VLOOKUP(C109,'WK 10'!$K$6:$L$41,2,FALSE)))","v":""},0]
[null,"WK 4 Beginn",{"$f":"IF(ISNA(VLOOKUP('WK 4'!K6,$C$2:$C$109,1,FALSE)),VLOOKUP('WK 4'!K6,'WK 4'!$K$6:$K$450,1,FALSE),\"\")","v":""},null,{"$f":"IF(ISNA(VLOOKUP(C110,'WK 2'!$K$6:$L$41,2,FALSE)=0),\"\",IF(VLOOKUP(C110,'WK 2'!$K$6:$L$41,2,FALSE)=0,\"\",VLOOKUP(C110,'WK 2'!$K$6:$L$41,2,FALSE)))","v":""},{"$f":"IF(ISNA(VLOOKUP(C110,'WK 3'!$K$6:$L$41,2,FALSE)=0),\"\",IF(VLOOKUP(C110,'WK 3'!$K$6:$L$41,2,FALSE)=0,\"\",VLOOKUP(C110,'WK 3'!$K$6:$L$41,2,FALSE)))","v":""},{"$f":"IF(ISNA(VLOOKUP(C110,'WK 4'!$K$6:$L$41,2,FALSE)=0),\"\",IF(VLOOKUP(C110,'WK 4'!$K$6:$L$41,2,FALSE)=0,\"\",VLOOKUP(C110,'WK 4'!$K$6:$L$41,2,FALSE)))","v":""},{"$f":"IF(ISNA(VLOOKUP(C110,'WK 5'!$K$6:$L$41,2,FALSE)=0),\"\",IF(VLOOKUP(C110,'WK 5'!$K$6:$L$41,2,FALSE)=0,\"\",VLOOKUP(C110,'WK 5'!$K$6:$L$41,2,FALSE)))","v":""},{"$f":"IF(ISNA(VLOOKUP(C110,'WK 6'!$K$6:$L$41,2,FALSE)=0),\"\",IF(VLOOKUP(C110,'WK 6'!$K$6:$L$41,2,FALSE)=0,\"\",VLOOKUP(C110,'WK 6'!$K$6:$L$41,2,FALSE)))","v":""},{"$f":"IF(ISNA(VLOOKUP(C110,'WK 7'!$K$6:$L$41,2,FALSE)=0),\"\",IF(VLOOKUP(C110,'WK 7'!$K$6:$L$41,2,FALSE)=0,\"\",VLOOKUP(C110,'WK 7'!$K$6:$L$41,2,FALSE)))","v":""},{"$f":"IF(ISNA(VLOOKUP(C110,'WK 8'!$K$6:$L$41,2,FALSE)=0),\"\",IF(VLOOKUP(C110,'WK 8'!$K$6:$L$41,2,FALSE)=0,\"\",VLOOKUP(C110,'WK 8'!$K$6:$L$41,2,FALSE)))","v":""},{"$f":"IF(ISNA(VLOOKUP(C110,'WK 9'!$K$6:$L$41,2,FALSE)=0),\"\",IF(VLOOKUP(C110,'WK 9'!$K$6:$L$41,2,FALSE)=0,\"\",VLOOKUP(C110,'WK 9'!$K$6:$L$41,2,FALSE)))","v":""},{"$f":"IF(ISNA(VLOOKUP(C110,'WK 10'!$K$6:$L$41,2,FALSE)=0),\"\",IF(VLOOKUP(C110,'WK 10'!$K$6:$L$41,2,FALSE)=0,\"\",VLOOKUP(C110,'WK 10'!$K$6:$L$41,2,FALSE)))","v":""},0]
[null,null,{"$f":"IF(ISNA(VLOOKUP('WK 4'!K7,$C$2:$C$109,1,FALSE)),VLOOKUP('WK 4'!K7,'WK 4'!$K$6:$K$450,1,FALSE),\"\")","v":""},null,{"$f":"IF(ISNA(VLOOKUP(C111,'WK 2'!$K$6:$L$41,2,FALSE)=0),\"\",IF(VLOOKUP(C111,'WK 2'!$K$6:$L$41,2,FALSE)=0,\"\",VLOOKUP(C111,'WK 2'!$K$6:$L$41,2,FALSE)))","v":""},{"$f":"IF(ISNA(VLOOKUP(C111,'WK 3'!$K$6:$L$41,2,FALSE)=0),\"\",IF(VLOOKUP(C111,'WK 3'!$K$6:$L$41,2,FALSE)=0,\"\",VLOOKUP(C111,'WK 3'!$K$6:$L$41,2,FALSE)))","v":""},{"$f":"IF(ISNA(VLOOKUP(C111,'WK 4'!$K$6:$L$41,2,FALSE)=0),\"\",IF(VLOOKUP(C111,'WK 4'!$K$6:$L$41,2,FALSE)=0,\"\",VLOOKUP(C111,'WK 4'!$K$6:$L$41,2,FALSE)))","v":""},{"$f":"IF(ISNA(VLOOKUP(C111,'WK 5'!$K$6:$L$41,2,FALSE)=0),\"\",IF(VLOOKUP(C111,'WK 5'!$K$6:$L$41,2,FALSE)=0,\"\",VLOOKUP(C111,'WK 5'!$K$6:$L$41,2,FALSE)))","v":""},{"$f":"IF(ISNA(VLOOKUP(C111,'WK 6'!$K$6:$L$41,2,FALSE)=0),\"\",IF(VLOOKUP(C111,'WK 6'!$K$6:$L$41,2,FALSE)=0,\"\",VLOOKUP(C111,'WK 6'!$K$6:$L$41,2,FALSE)))","v":""},{"$f":"IF(ISNA(VLOOKUP(C111,'WK 7'!$K$6:$L$41,2,FALSE)=0),\"\",IF(VLOOKUP(C111,'WK 7'!$K$6:$L$41,2,FALSE)=0,\"\",VLOOKUP(C111,'WK 7'!$K$6:$L$41,2,FALSE)))","v":""},{"$f":"IF(ISNA(VLOOKUP(C111,'WK 8'!$K$6:$L$41,2,FALSE)=0),\"\",IF(VLOOKUP(C111,'WK 8'!$K$6:$L$41,2,FALSE)=0,\"\",VLOOKUP(C111,'WK 8'!$K$6:$L$41,2,FALSE)))","v":""},{"$f":"IF(ISNA(VLOOKUP(C111,'WK 9'!$K$6:$L$41,2,FALSE)=0),\"\",IF(VLOOKUP(C111,'WK 9'!$K$6:$L$41,2,FALSE)=0,\"\",VLOOKUP(C111,'WK 9'!$K$6:$L$41,2,FALSE)))","v":""},{"$f":"IF(ISNA(VLOOKUP(C111,'WK 10'!$K$6:$L$41,2,FALSE)=0),\"\",IF(VLOOKUP(C111,'WK 10'!$K$6:$L$41,2,FALSE)=0,\"\",VLOOKUP(C111,'WK 10'!$K$6:$L$41,2,FALSE)))","v":""},0]
[null,null,{"$f":"IF(ISNA(VLOOKUP('WK 4'!K8,$C$2:$C$109,1,FALSE)),VLOOKUP('WK 4'!K8,'WK 4'!$K$6:$K$450,1,FALSE),\"\")","v":""},null,{"$f":"IF(ISNA(VLOOKUP(C112,'WK 2'!$K$6:$L$41,2,FALSE)=0),\"\",IF(VLOOKUP(C112,'WK 2'!$K$6:$L$41,2,FALSE)=0,\"\",VLOOKUP(C112,'WK 2'!$K$6:$L$41,2,FALSE)))","v":""},{"$f":"IF(ISNA(VLOOKUP(C112,'WK 3'!$K$6:$L$41,2,FALSE)=0),\"\",IF(VLOOKUP(C112,'WK 3'!$K$6:$L$41,2,FALSE)=0,\"\",VLOOKUP(C112,'WK 3'!$K$6:$L$41,2,FALSE)))","v":""},{"$f":"IF(ISNA(VLOOKUP(C112,'WK 4'!$K$6:$L$41,2,FALSE)=0),\"\",IF(VLOOKUP(C112,'WK 4'!$K$6:$L$41,2,FALSE)=0,\"\",VLOOKUP(C112,'WK 4'!$K$6:$L$41,2,FALSE)))","v":""},{"$f":"IF(ISNA(VLOOKUP(C112,'WK 5'!$K$6:$L$41,2,FALSE)=0),\"\",IF(VLOOKUP(C112,'WK 5'!$K$6:$L$41,2,FALSE)=0,\"\",VLOOKUP(C112,'WK 5'!$K$6:$L$41,2,FALSE)))","v":""},{"$f":"IF(ISNA(VLOOKUP(C112,'WK 6'!$K$6:$L$41,2,FALSE)=0),\"\",IF(VLOOKUP(C112,'WK 6'!$K$6:$L$41,2,FALSE)=0,\"\",VLOOKUP(C112,'WK 6'!$K$6:$L$41,2,FALSE)))","v":""},{"$f":"IF(ISNA(VLOOKUP(C112,'WK 7'!$K$6:$L$41,2,FALSE)=0),\"\",IF(VLOOKUP(C112,'WK 7'!$K$6:$L$41,2,FALSE)=0,\"\",VLOOKUP(C112,'WK 7'!$K$6:$L$41,2,FALSE)))","v":""},{"$f":"IF(ISNA(VLOOKUP(C112,'WK 8'!$K$6:$L$41,2,FALSE)=0),\"\",IF(VLOOKUP(C112,'WK 8'!$K$6:$L$41,2,FALSE)=0,\"\",VLOOKUP(C112,'WK 8'!$K$6:$L$41,2,FALSE)))","v":""},{"$f":"IF(ISNA(VLOOKUP(C112,'WK 9'!$K$6:$L$41,2,FALSE)=0),\"\",IF(VLOOKUP(C112,'WK 9'!$K$6:$L$41,2,FALSE)=0,\"\",VLOOKUP(C112,'WK 9'!$K$6:$L$41,2,FALSE)))","v":""},{"$f":"IF(ISNA(VLOOKUP(C112,'WK 10'!$K$6:$L$41,2,FALSE)=0),\"\",IF(VLOOKUP(C112,'WK 10'!$K$6:$L$41,2,FALSE)=0,\"\",VLOOKUP(C112,'WK 10'!$K$6:$L$41,2,FALSE)))","v":""},0]
[null,null,{"$f":"IF(ISNA(VLOOKUP('WK 4'!K9,$C$2:$C$109,1,FALSE)),VLOOKUP('WK 4'!K9,'WK 4'!$K$6:$K$450,1,FALSE),\"\")","v":""},null,{"$f":"IF(ISNA(VLOOKUP(C113,'WK 2'!$K$6:$L$41,2,FALSE)=0),\"\",IF(VLOOKUP(C113,'WK 2'!$K$6:$L$41,2,FALSE)=0,\"\",VLOOKUP(C113,'WK 2'!$K$6:$L$41,2,FALSE)))","v":""},{"$f":"IF(ISNA(VLOOKUP(C113,'WK 3'!$K$6:$L$41,2,FALSE)=0),\"\",IF(VLOOKUP(C113,'WK 3'!$K$6:$L$41,2,FALSE)=0,\"\",VLOOKUP(C113,'WK 3'!$K$6:$L$41,2,FALSE)))","v":""},{"$f":"IF(ISNA(VLOOKUP(C113,'WK 4'!$K$6:$L$41,2,FALSE)=0),\"\",IF(VLOOKUP(C113,'WK 4'!$K$6:$L$41,2,FALSE)=0,\"\",VLOOKUP(C113,'WK 4'!$K$6:$L$41,2,FALSE)))","v":""},{"$f":"IF(ISNA(VLOOKUP(C113,'WK 5'!$K$6:$L$41,2,FALSE)=0),\"\",IF(VLOOKUP(C113,'WK 5'!$K$6:$L$41,2,FALSE)=0,\"\",VLOOKUP(C113,'WK 5'!$K$6:$L$41,2,FALSE)))","v":""},{"$f":"IF(ISNA(VLOOKUP(C113,'WK 6'!$K$6:$L$41,2,FALSE)=0),\"\",IF(VLOOKUP(C113,'WK 6'!$K$6:$L$41,2,FALSE)=0,\"\",VLOOKUP(C113,'WK 6'!$K$6:$L$41,2,FALSE)))","v":""},{"$f":"IF(ISNA(VLOOKUP(C113,'WK 7'!$K$6:$L$41,2,FALSE)=0),\"\",IF(VLOOKUP(C113,'WK 7'!$K$6:$L$41,2,FALSE)=0,\"\",VLOOKUP(C113,'WK 7'!$K$6:$L$41,2,FALSE)))","v":""},{"$f":"IF(ISNA(VLOOKUP(C113,'WK 8'!$K$6:$L$41,2,FALSE)=0),\"\",IF(VLOOKUP(C113,'WK 8'!$K$6:$L$41,2,FALSE)=0,\"\",VLOOKUP(C113,'WK 8'!$K$6:$L$41,2,FALSE)))","v":""},{"$f":"IF(ISNA(VLOOKUP(C113,'WK 9'!$K$6:$L$41,2,FALSE)=0),\"\",IF(VLOOKUP(C113,'WK 9'!$K$6:$L$41,2,FALSE)=0,\"\",VLOOKUP(C113,'WK 9'!$K$6:$L$41,2,FALSE)))","v":""},{"$f":"IF(ISNA(VLOOKUP(C113,'WK 10'!$K$6:$L$41,2,FALSE)=0),\"\",IF(VLOOKUP(C113,'WK 10'!$K$6:$L$41,2,FALSE)=0,\"\",VLOOKUP(C113,'WK 10'!$K$6:$L$41,2,FALSE)))","v":""},0]
[null,null,{"$f":"IF(ISNA(VLOOKUP('WK 4'!K10,$C$2:$C$109,1,FALSE)),VLOOKUP('WK 4'!K10,'WK 4'!$K$6:$K$450,1,FALSE),\"\")","v":""},null,{"$f":"IF(ISNA(VLOOKUP(C114,'WK 2'!$K$6:$L$41,2,FALSE)=0),\"\",IF(VLOOKUP(C114,'WK 2'!$K$6:$L$41,2,FALSE)=0,\"\",VLOOKUP(C114,'WK 2'!$K$6:$L$41,2,FALSE)))","v":""},{"$f":"IF(ISNA(VLOOKUP(C114,'WK 3'!$K$6:$L$41,2,FALSE)=0),\"\",IF(VLOOKUP(C114,'WK 3'!$K$6:$L$41,2,FALSE)=0,\"\",VLOOKUP(C114,'WK 3'!$K$6:$L$41,2,FALSE)))","v":""},{"$f":"IF(ISNA(VLOOKUP(C114,'WK 4'!$K$6:$L$41,2,FALSE)=0),\"\",IF(VLOOKUP(C114,'WK 4'!$K$6:$L$41,2,FALSE)=0,\"\",VLOOKUP(C114,'WK 4'!$K$6:$L$41,2,FALSE)))","v":""},{"$f":"IF(ISNA(VLOOKUP(C114,'WK 5'!$K$6:$L$41,2,FALSE)=0),\"\",IF(VLOOKUP(C114,'WK 5'!$K$6:$L$41,2,FALSE)=0,\"\",VLOOKUP(C114,'WK 5'!$K$6:$L$41,2,FALSE)))","v":""},{"$f":"IF(ISNA(VLOOKUP(C114,'WK 6'!$K$6:$L$41,2,FALSE)=0),\"\",IF(VLOOKUP(C114,'WK 6'!$K$6:$L$41,2,FALSE)=0,\"\",VLOOKUP(C114,'WK 6'!$K$6:$L$41,2,FALSE)))","v":""},{"$f":"IF(ISNA(VLOOKUP(C114,'WK 7'!$K$6:$L$41,2,FALSE)=0),\"\",IF(VLOOKUP(C114,'WK 7'!$K$6:$L$41,2,FALSE)=0,\"\",VLOOKUP(C114,'WK 7'!$K$6:$L$41,2,FALSE)))","v":""},{"$f":"IF(ISNA(VLOOKUP(C114,'WK 8'!$K$6:$L$41,2,FALSE)=0),\"\",IF(VLOOKUP(C114,'WK 8'!$K$6:$L$41,2,FALSE)=0,\"\",VLOOKUP(C114,'WK 8'!$K$6:$L$41,2,FALSE)))","v":""},{"$f":"IF(ISNA(VLOOKUP(C114,'WK 9'!$K$6:$L$41,2,FALSE)=0),\"\",IF(VLOOKUP(C114,'WK 9'!$K$6:$L$41,2,FALSE)=0,\"\",VLOOKUP(C114,'WK 9'!$K$6:$L$41,2,FALSE)))","v":""},{"$f":"IF(ISNA(VLOOKUP(C114,'WK 10'!$K$6:$L$41,2,FALSE)=0),\"\",IF(VLOOKUP(C114,'WK 10'!$K$6:$L$41,2,FALSE)=0,\"\",VLOOKUP(C114,'WK 10'!$K$6:$L$41,2,FALSE)))","v":""},0]
[null,null,{"$f":"IF(ISNA(VLOOKUP('WK 4'!K11,$C$2:$C$109,1,FALSE)),VLOOKUP('WK 4'!K11,'WK 4'!$K$6:$K$450,1,FALSE),\"\")","v":""},null,{"$f":"IF(ISNA(VLOOKUP(C115,'WK 2'!$K$6:$L$41,2,FALSE)=0),\"\",IF(VLOOKUP(C115,'WK 2'!$K$6:$L$41,2,FALSE)=0,\"\",VLOOKUP(C115,'WK 2'!$K$6:$L$41,2,FALSE)))","v":""},{"$f":"IF(ISNA(VLOOKUP(C115,'WK 3'!$K$6:$L$41,2,FALSE)=0),\"\",IF(VLOOKUP(C115,'WK 3'!$K$6:$L$41,2,FALSE)=0,\"\",VLOOKUP(C115,'WK 3'!$K$6:$L$41,2,FALSE)))","v":""},{"$f":"IF(ISNA(VLOOKUP(C115,'WK 4'!$K$6:$L$41,2,FALSE)=0),\"\",IF(VLOOKUP(C115,'WK 4'!$K$6:$L$41,2,FALSE)=0,\"\",VLOOKUP(C115,'WK 4'!$K$6:$L$41,2,FALSE)))","v":""},{"$f":"IF(ISNA(VLOOKUP(C115,'WK 5'!$K$6:$L$41,2,FALSE)=0),\"\",IF(VLOOKUP(C115,'WK 5'!$K$6:$L$41,2,FALSE)=0,\"\",VLOOKUP(C115,'WK 5'!$K$6:$L$41,2,FALSE)))","v":""},{"$f":"IF(ISNA(VLOOKUP(C115,'WK 6'!$K$6:$L$41,2,FALSE)=0),\"\",IF(VLOOKUP(C115,'WK 6'!$K$6:$L$41,2,FALSE)=0,\"\",VLOOKUP(C115,'WK 6'!$K$6:$L$41,2,FALSE)))","v":""},{"$f":"IF(ISNA(VLOOKUP(C115,'WK 7'!$K$6:$L$41,2,FALSE)=0),\"\",IF(VLOOKUP(C115,'WK 7'!$K$6:$L$41,2,FALSE)=0,\"\",VLOOKUP(C115,'WK 7'!$K$6:$L$41,2,FALSE)))","v":""},{"$f":"IF(ISNA(VLOOKUP(C115,'WK 8'!$K$6:$L$41,2,FALSE)=0),\"\",IF(VLOOKUP(C115,'WK 8'!$K$6:$L$41,2,FALSE)=0,\"\",VLOOKUP(C115,'WK 8'!$K$6:$L$41,2,FALSE)))","v":""},{"$f":"IF(ISNA(VLOOKUP(C115,'WK 9'!$K$6:$L$41,2,FALSE)=0),\"\",IF(VLOOKUP(C115,'WK 9'!$K$6:$L$41,2,FALSE)=0,\"\",VLOOKUP(C115,'WK 9'!$K$6:$L$41,2,FALSE)))","v":""},{"$f":"IF(ISNA(VLOOKUP(C115,'WK 10'!$K$6:$L$41,2,FALSE)=0),\"\",IF(VLOOKUP(C115,'WK 10'!$K$6:$L$41,2,FALSE)=0,\"\",VLOOKUP(C115,'WK 10'!$K$6:$L$41,2,FALSE)))","v":""},0]
[null,null,{"$f":"IF(ISNA(VLOOKUP('WK 4'!K12,$C$2:$C$109,1,FALSE)),VLOOKUP('WK 4'!K12,'WK 4'!$K$6:$K$450,1,FALSE),\"\")","v":""},null,{"$f":"IF(ISNA(VLOOKUP(C116,'WK 2'!$K$6:$L$41,2,FALSE)=0),\"\",IF(VLOOKUP(C116,'WK 2'!$K$6:$L$41,2,FALSE)=0,\"\",VLOOKUP(C116,'WK 2'!$K$6:$L$41,2,FALSE)))","v":""},{"$f":"IF(ISNA(VLOOKUP(C116,'WK 3'!$K$6:$L$41,2,FALSE)=0),\"\",IF(VLOOKUP(C116,'WK 3'!$K$6:$L$41,2,FALSE)=0,\"\",VLOOKUP(C116,'WK 3'!$K$6:$L$41,2,FALSE)))","v":""},{"$f":"IF(ISNA(VLOOKUP(C116,'WK 4'!$K$6:$L$41,2,FALSE)=0),\"\",IF(VLOOKUP(C116,'WK 4'!$K$6:$L$41,2,FALSE)=0,\"\",VLOOKUP(C116,'WK 4'!$K$6:$L$41,2,FALSE)))","v":""},{"$f":"IF(ISNA(VLOOKUP(C116,'WK 5'!$K$6:$L$41,2,FALSE)=0),\"\",IF(VLOOKUP(C116,'WK 5'!$K$6:$L$41,2,FALSE)=0,\"\",VLOOKUP(C116,'WK 5'!$K$6:$L$41,2,FALSE)))","v":""},{"$f":"IF(ISNA(VLOOKUP(C116,'WK 6'!$K$6:$L$41,2,FALSE)=0),\"\",IF(VLOOKUP(C116,'WK 6'!$K$6:$L$41,2,FALSE)=0,\"\",VLOOKUP(C116,'WK 6'!$K$6:$L$41,2,FALSE)))","v":""},{"$f":"IF(ISNA(VLOOKUP(C116,'WK 7'!$K$6:$L$41,2,FALSE)=0),\"\",IF(VLOOKUP(C116,'WK 7'!$K$6:$L$41,2,FALSE)=0,\"\",VLOOKUP(C116,'WK 7'!$K$6:$L$41,2,FALSE)))","v":""},{"$f":"IF(ISNA(VLOOKUP(C116,'WK 8'!$K$6:$L$41,2,FALSE)=0),\"\",IF(VLOOKUP(C116,'WK 8'!$K$6:$L$41,2,FALSE)=0,\"\",VLOOKUP(C116,'WK 8'!$K$6:$L$41,2,FALSE)))","v":""},{"$f":"IF(ISNA(VLOOKUP(C116,'WK 9'!$K$6:$L$41,2,FALSE)=0),\"\",IF(VLOOKUP(C116,'WK 9'!$K$6:$L$41,2,FALSE)=0,\"\",VLOOKUP(C116,'WK 9'!$K$6:$L$41,2,FALSE)))","v":""},{"$f":"IF(ISNA(VLOOKUP(C116,'WK 10'!$K$6:$L$41,2,FALSE)=0),\"\",IF(VLOOKUP(C116,'WK 10'!$K$6:$L$41,2,FALSE)=0,\"\",VLOOKUP(C116,'WK 10'!$K$6:$L$41,2,FALSE)))","v":""},0]
[null,null,{"$f":"IF(ISNA(VLOOKUP('WK 4'!K13,$C$2:$C$109,1,FALSE)),VLOOKUP('WK 4'!K13,'WK 4'!$K$6:$K$450,1,FALSE),\"\")","v":""},null,{"$f":"IF(ISNA(VLOOKUP(C117,'WK 2'!$K$6:$L$41,2,FALSE)=0),\"\",IF(VLOOKUP(C117,'WK 2'!$K$6:$L$41,2,FALSE)=0,\"\",VLOOKUP(C117,'WK 2'!$K$6:$L$41,2,FALSE)))","v":""},{"$f":"IF(ISNA(VLOOKUP(C117,'WK 3'!$K$6:$L$41,2,FALSE)=0),\"\",IF(VLOOKUP(C117,'WK 3'!$K$6:$L$41,2,FALSE)=0,\"\",VLOOKUP(C117,'WK 3'!$K$6:$L$41,2,FALSE)))","v":""},{"$f":"IF(ISNA(VLOOKUP(C117,'WK 4'!$K$6:$L$41,2,FALSE)=0),\"\",IF(VLOOKUP(C117,'WK 4'!$K$6:$L$41,2,FALSE)=0,\"\",VLOOKUP(C117,'WK 4'!$K$6:$L$41,2,FALSE)))","v":""},{"$f":"IF(ISNA(VLOOKUP(C117,'WK 5'!$K$6:$L$41,2,FALSE)=0),\"\",IF(VLOOKUP(C117,'WK 5'!$K$6:$L$41,2,FALSE)=0,\"\",VLOOKUP(C117,'WK 5'!$K$6:$L$41,2,FALSE)))","v":""},{"$f":"IF(ISNA(VLOOKUP(C117,'WK 6'!$K$6:$L$41,2,FALSE)=0),\"\",IF(VLOOKUP(C117,'WK 6'!$K$6:$L$41,2,FALSE)=0,\"\",VLOOKUP(C117,'WK 6'!$K$6:$L$41,2,FALSE)))","v":""},{"$f":"IF(ISNA(VLOOKUP(C117,'WK 7'!$K$6:$L$41,2,FALSE)=0),\"\",IF(VLOOKUP(C117,'WK 7'!$K$6:$L$41,2,FALSE)=0,\"\",VLOOKUP(C117,'WK 7'!$K$6:$L$41,2,FALSE)))","v":""},{"$f":"IF(ISNA(VLOOKUP(C117,'WK 8'!$K$6:$L$41,2,FALSE)=0),\"\",IF(VLOOKUP(C117,'WK 8'!$K$6:$L$41,2,FALSE)=0,\"\",VLOOKUP(C117,'WK 8'!$K$6:$L$41,2,FALSE)))","v":""},{"$f":"IF(ISNA(VLOOKUP(C117,'WK 9'!$K$6:$L$41,2,FALSE)=0),\"\",IF(VLOOKUP(C117,'WK 9'!$K$6:$L$41,2,FALSE)=0,\"\",VLOOKUP(C117,'WK 9'!$K$6:$L$41,2,FALSE)))","v":""},{"$f":"IF(ISNA(VLOOKUP(C117,'WK 10'!$K$6:$L$41,2,FALSE)=0),\"\",IF(VLOOKUP(C117,'WK 10'!$K$6:$L$41,2,FALSE)=0,\"\",VLOOKUP(C117,'WK 10'!$K$6:$L$41,2,FALSE)))","v":""},0]
[null,null,{"$f":"IF(ISNA(VLOOKUP('WK 4'!K14,$C$2:$C$109,1,FALSE)),VLOOKUP('WK 4'!K14,'WK 4'!$K$6:$K$450,1,FALSE),\"\")","v":""},null,{"$f":"IF(ISNA(VLOOKUP(C118,'WK 2'!$K$6:$L$41,2,FALSE)=0),\"\",IF(VLOOKUP(C118,'WK 2'!$K$6:$L$41,2,FALSE)=0,\"\",VLOOKUP(C118,'WK 2'!$K$6:$L$41,2,FALSE)))","v":""},{"$f":"IF(ISNA(VLOOKUP(C118,'WK 3'!$K$6:$L$41,2,FALSE)=0),\"\",IF(VLOOKUP(C118,'WK 3'!$K$6:$L$41,2,FALSE)=0,\"\",VLOOKUP(C118,'WK 3'!$K$6:$L$41,2,FALSE)))","v":""},{"$f":"IF(ISNA(VLOOKUP(C118,'WK 4'!$K$6:$L$41,2,FALSE)=0),\"\",IF(VLOOKUP(C118,'WK 4'!$K$6:$L$41,2,FALSE)=0,\"\",VLOOKUP(C118,'WK 4'!$K$6:$L$41,2,FALSE)))","v":""},{"$f":"IF(ISNA(VLOOKUP(C118,'WK 5'!$K$6:$L$41,2,FALSE)=0),\"\",IF(VLOOKUP(C118,'WK 5'!$K$6:$L$41,2,FALSE)=0,\"\",VLOOKUP(C118,'WK 5'!$K$6:$L$41,2,FALSE)))","v":""},{"$f":"IF(ISNA(VLOOKUP(C118,'WK 6'!$K$6:$L$41,2,FALSE)=0),\"\",IF(VLOOKUP(C118,'WK 6'!$K$6:$L$41,2,FALSE)=0,\"\",VLOOKUP(C118,'WK 6'!$K$6:$L$41,2,FALSE)))","v":""},{"$f":"IF(ISNA(VLOOKUP(C118,'WK 7'!$K$6:$L$41,2,FALSE)=0),\"\",IF(VLOOKUP(C118,'WK 7'!$K$6:$L$41,2,FALSE)=0,\"\",VLOOKUP(C118,'WK 7'!$K$6:$L$41,2,FALSE)))","v":""},{"$f":"IF(ISNA(VLOOKUP(C118,'WK 8'!$K$6:$L$41,2,FALSE)=0),\"\",IF(VLOOKUP(C118,'WK 8'!$K$6:$L$41,2,FALSE)=0,\"\",VLOOKUP(C118,'WK 8'!$K$6:$L$41,2,FALSE)))","v":""},{"$f":"IF(ISNA(VLOOKUP(C118,'WK 9'!$K$6:$L$41,2,FALSE)=0),\"\",IF(VLOOKUP(C118,'WK 9'!$K$6:$L$41,2,FALSE)=0,\"\",VLOOKUP(C118,'WK 9'!$K$6:$L$41,2,FALSE)))","v":""},{"$f":"IF(ISNA(VLOOKUP(C118,'WK 10'!$K$6:$L$41,2,FALSE)=0),\"\",IF(VLOOKUP(C118,'WK 10'!$K$6:$L$41,2,FALSE)=0,\"\",VLOOKUP(C118,'WK 10'!$K$6:$L$41,2,FALSE)))","v":""},0]
[null,null,{"$f":"IF(ISNA(VLOOKUP('WK 4'!K15,$C$2:$C$109,1,FALSE)),VLOOKUP('WK 4'!K15,'WK 4'!$K$6:$K$450,1,FALSE),\"\")","v":""},null,{"$f":"IF(ISNA(VLOOKUP(C119,'WK 2'!$K$6:$L$41,2,FALSE)=0),\"\",IF(VLOOKUP(C119,'WK 2'!$K$6:$L$41,2,FALSE)=0,\"\",VLOOKUP(C119,'WK 2'!$K$6:$L$41,2,FALSE)))","v":""},{"$f":"IF(ISNA(VLOOKUP(C119,'WK 3'!$K$6:$L$41,2,FALSE)=0),\"\",IF(VLOOKUP(C119,'WK 3'!$K$6:$L$41,2,FALSE)=0,\"\",VLOOKUP(C119,'WK 3'!$K$6:$L$41,2,FALSE)))","v":""},{"$f":"IF(ISNA(VLOOKUP(C119,'WK 4'!$K$6:$L$41,2,FALSE)=0),\"\",IF(VLOOKUP(C119,'WK 4'!$K$6:$L$41,2,FALSE)=0,\"\",VLOOKUP(C119,'WK 4'!$K$6:$L$41,2,FALSE)))","v":""},{"$f":"IF(ISNA(VLOOKUP(C119,'WK 5'!$K$6:$L$41,2,FALSE)=0),\"\",IF(VLOOKUP(C119,'WK 5'!$K$6:$L$41,2,FALSE)=0,\"\",VLOOKUP(C119,'WK 5'!$K$6:$L$41,2,FALSE)))","v":""},{"$f":"IF(ISNA(VLOOKUP(C119,'WK 6'!$K$6:$L$41,2,FALSE)=0),\"\",IF(VLOOKUP(C119,'WK 6'!$K$6:$L$41,2,FALSE)=0,\"\",VLOOKUP(C119,'WK 6'!$K$6:$L$41,2,FALSE)))","v":""},{"$f":"IF(ISNA(VLOOKUP(C119,'WK 7'!$K$6:$L$41,2,FALSE)=0),\"\",IF(VLOOKUP(C119,'WK 7'!$K$6:$L$41,2,FALSE)=0,\"\",VLOOKUP(C119,'WK 7'!$K$6:$L$41,2,FALSE)))","v":""},{"$f":"IF(ISNA(VLOOKUP(C119,'WK 8'!$K$6:$L$41,2,FALSE)=0),\"\",IF(VLOOKUP(C119,'WK 8'!$K$6:$L$41,2,FALSE)=0,\"\",VLOOKUP(C119,'WK 8'!$K$6:$L$41,2,FALSE)))","v":""},{"$f":"IF(ISNA(VLOOKUP(C119,'WK 9'!$K$6:$L$41,2,FALSE)=0),\"\",IF(VLOOKUP(C119,'WK 9'!$K$6:$L$41,2,FALSE)=0,\"\",VLOOKUP(C119,'WK 9'!$K$6:$L$41,2,FALSE)))","v":""},{"$f":"IF(ISNA(VLOOKUP(C119,'WK 10'!$K$6:$L$41,2,FALSE)=0),\"\",IF(VLOOKUP(C119,'WK 10'!$K$6:$L$41,2,FALSE)=0,\"\",VLOOKUP(C119,'WK 10'!$K$6:$L$41,2,FALSE)))","v":""},0]
[null,null,{"$f":"IF(ISNA(VLOOKUP('WK 4'!K16,$C$2:$C$109,1,FALSE)),VLOOKUP('WK 4'!K16,'WK 4'!$K$6:$K$450,1,FALSE),\"\")","v":""},null,{"$f":"IF(ISNA(VLOOKUP(C120,'WK 2'!$K$6:$L$41,2,FALSE)=0),\"\",IF(VLOOKUP(C120,'WK 2'!$K$6:$L$41,2,FALSE)=0,\"\",VLOOKUP(C120,'WK 2'!$K$6:$L$41,2,FALSE)))","v":""},{"$f":"IF(ISNA(VLOOKUP(C120,'WK 3'!$K$6:$L$41,2,FALSE)=0),\"\",IF(VLOOKUP(C120,'WK 3'!$K$6:$L$41,2,FALSE)=0,\"\",VLOOKUP(C120,'WK 3'!$K$6:$L$41,2,FALSE)))","v":""},{"$f":"IF(ISNA(VLOOKUP(C120,'WK 4'!$K$6:$L$41,2,FALSE)=0),\"\",IF(VLOOKUP(C120,'WK 4'!$K$6:$L$41,2,FALSE)=0,\"\",VLOOKUP(C120,'WK 4'!$K$6:$L$41,2,FALSE)))","v":""},{"$f":"IF(ISNA(VLOOKUP(C120,'WK 5'!$K$6:$L$41,2,FALSE)=0),\"\",IF(VLOOKUP(C120,'WK 5'!$K$6:$L$41,2,FALSE)=0,\"\",VLOOKUP(C120,'WK 5'!$K$6:$L$41,2,FALSE)))","v":""},{"$f":"IF(ISNA(VLOOKUP(C120,'WK 6'!$K$6:$L$41,2,FALSE)=0),\"\",IF(VLOOKUP(C120,'WK 6'!$K$6:$L$41,2,FALSE)=0,\"\",VLOOKUP(C120,'WK 6'!$K$6:$L$41,2,FALSE)))","v":""},{"$f":"IF(ISNA(VLOOKUP(C120,'WK 7'!$K$6:$L$41,2,FALSE)=0),\"\",IF(VLOOKUP(C120,'WK 7'!$K$6:$L$41,2,FALSE)=0,\"\",VLOOKUP(C120,'WK 7'!$K$6:$L$41,2,FALSE)))","v":""},{"$f":"IF(ISNA(VLOOKUP(C120,'WK 8'!$K$6:$L$41,2,FALSE)=0),\"\",IF(VLOOKUP(C120,'WK 8'!$K$6:$L$41,2,FALSE)=0,\"\",VLOOKUP(C120,'WK 8'!$K$6:$L$41,2,FALSE)))","v":""},{"$f":"IF(ISNA(VLOOKUP(C120,'WK 9'!$K$6:$L$41,2,FALSE)=0),\"\",IF(VLOOKUP(C120,'WK 9'!$K$6:$L$41,2,FALSE)=0,\"\",VLOOKUP(C120,'WK 9'!$K$6:$L$41,2,FALSE)))","v":""},{"$f":"IF(ISNA(VLOOKUP(C120,'WK 10'!$K$6:$L$41,2,FALSE)=0),\"\",IF(VLOOKUP(C120,'WK 10'!$K$6:$L$41,2,FALSE)=0,\"\",VLOOKUP(C120,'WK 10'!$K$6:$L$41,2,FALSE)))","v":""},0]
[null,null,{"$f":"IF(ISNA(VLOOKUP('WK 4'!K17,$C$2:$C$109,1,FALSE)),VLOOKUP('WK 4'!K17,'WK 4'!$K$6:$K$450,1,FALSE),\"\")","v":""},null,{"$f":"IF(ISNA(VLOOKUP(C121,'WK 2'!$K$6:$L$41,2,FALSE)=0),\"\",IF(VLOOKUP(C121,'WK 2'!$K$6:$L$41,2,FALSE)=0,\"\",VLOOKUP(C121,'WK 2'!$K$6:$L$41,2,FALSE)))","v":""},{"$f":"IF(ISNA(VLOOKUP(C121,'WK 3'!$K$6:$L$41,2,FALSE)=0),\"\",IF(VLOOKUP(C121,'WK 3'!$K$6:$L$41,2,FALSE)=0,\"\",VLOOKUP(C121,'WK 3'!$K$6:$L$41,2,FALSE)))","v":""},{"$f":"IF(ISNA(VLOOKUP(C121,'WK 4'!$K$6:$L$41,2,FALSE)=0),\"\",IF(VLOOKUP(C121,'WK 4'!$K$6:$L$41,2,FALSE)=0,\"\",VLOOKUP(C121,'WK 4'!$K$6:$L$41,2,FALSE)))","v":""},{"$f":"IF(ISNA(VLOOKUP(C121,'WK 5'!$K$6:$L$41,2,FALSE)=0),\"\",IF(VLOOKUP(C121,'WK 5'!$K$6:$L$41,2,FALSE)=0,\"\",VLOOKUP(C121,'WK 5'!$K$6:$L$41,2,FALSE)))","v":""},{"$f":"IF(ISNA(VLOOKUP(C121,'WK 6'!$K$6:$L$41,2,FALSE)=0),\"\",IF(VLOOKUP(C121,'WK 6'!$K$6:$L$41,2,FALSE)=0,\"\",VLOOKUP(C121,'WK 6'!$K$6:$L$41,2,FALSE)))","v":""},{"$f":"IF(ISNA(VLOOKUP(C121,'WK 7'!$K$6:$L$41,2,FALSE)=0),\"\",IF(VLOOKUP(C121,'WK 7'!$K$6:$L$41,2,FALSE)=0,\"\",VLOOKUP(C121,'WK 7'!$K$6:$L$41,2,FALSE)))","v":""},{"$f":"IF(ISNA(VLOOKUP(C121,'WK 8'!$K$6:$L$41,2,FALSE)=0),\"\",IF(VLOOKUP(C121,'WK 8'!$K$6:$L$41,2,FALSE)=0,\"\",VLOOKUP(C121,'WK 8'!$K$6:$L$41,2,FALSE)))","v":""},{"$f":"IF(ISNA(VLOOKUP(C121,'WK 9'!$K$6:$L$41,2,FALSE)=0),\"\",IF(VLOOKUP(C121,'WK 9'!$K$6:$L$41,2,FALSE)=0,\"\",VLOOKUP(C121,'WK 9'!$K$6:$L$41,2,FALSE)))","v":""},{"$f":"IF(ISNA(VLOOKUP(C121,'WK 10'!$K$6:$L$41,2,FALSE)=0),\"\",IF(VLOOKUP(C121,'WK 10'!$K$6:$L$41,2,FALSE)=0,\"\",VLOOKUP(C121,'WK 10'!$K$6:$L$41,2,FALSE)))","v":""},0]
[null,null,{"$f":"IF(ISNA(VLOOKUP('WK 4'!K18,$C$2:$C$109,1,FALSE)),VLOOKUP('WK 4'!K18,'WK 4'!$K$6:$K$450,1,FALSE),\"\")","v":""},null,{"$f":"IF(ISNA(VLOOKUP(C122,'WK 2'!$K$6:$L$41,2,FALSE)=0),\"\",IF(VLOOKUP(C122,'WK 2'!$K$6:$L$41,2,FALSE)=0,\"\",VLOOKUP(C122,'WK 2'!$K$6:$L$41,2,FALSE)))","v":""},{"$f":"IF(ISNA(VLOOKUP(C122,'WK 3'!$K$6:$L$41,2,FALSE)=0),\"\",IF(VLOOKUP(C122,'WK 3'!$K$6:$L$41,2,FALSE)=0,\"\",VLOOKUP(C122,'WK 3'!$K$6:$L$41,2,FALSE)))","v":""},{"$f":"IF(ISNA(VLOOKUP(C122,'WK 4'!$K$6:$L$41,2,FALSE)=0),\"\",IF(VLOOKUP(C122,'WK 4'!$K$6:$L$41,2,FALSE)=0,\"\",VLOOKUP(C122,'WK 4'!$K$6:$L$41,2,FALSE)))","v":""},{"$f":"IF(ISNA(VLOOKUP(C122,'WK 5'!$K$6:$L$41,2,FALSE)=0),\"\",IF(VLOOKUP(C122,'WK 5'!$K$6:$L$41,2,FALSE)=0,\"\",VLOOKUP(C122,'WK 5'!$K$6:$L$41,2,FALSE)))","v":""},{"$f":"IF(ISNA(VLOOKUP(C122,'WK 6'!$K$6:$L$41,2,FALSE)=0),\"\",IF(VLOOKUP(C122,'WK 6'!$K$6:$L$41,2,FALSE)=0,\"\",VLOOKUP(C122,'WK 6'!$K$6:$L$41,2,FALSE)))","v":""},{"$f":"IF(ISNA(VLOOKUP(C122,'WK 7'!$K$6:$L$41,2,FALSE)=0),\"\",IF(VLOOKUP(C122,'WK 7'!$K$6:$L$41,2,FALSE)=0,\"\",VLOOKUP(C122,'WK 7'!$K$6:$L$41,2,FALSE)))","v":""},{"$f":"IF(ISNA(VLOOKUP(C122,'WK 8'!$K$6:$L$41,2,FALSE)=0),\"\",IF(VLOOKUP(C122,'WK 8'!$K$6:$L$41,2,FALSE)=0,\"\",VLOOKUP(C122,'WK 8'!$K$6:$L$41,2,FALSE)))","v":""},{"$f":"IF(ISNA(VLOOKUP(C122,'WK 9'!$K$6:$L$41,2,FALSE)=0),\"\",IF(VLOOKUP(C122,'WK 9'!$K$6:$L$41,2,FALSE)=0,\"\",VLOOKUP(C122,'WK 9'!$K$6:$L$41,2,FALSE)))","v":""},{"$f":"IF(ISNA(VLOOKUP(C122,'WK 10'!$K$6:$L$41,2,FALSE)=0),\"\",IF(VLOOKUP(C122,'WK 10'!$K$6:$L$41,2,FALSE)=0,\"\",VLOOKUP(C122,'WK 10'!$K$6:$L$41,2,FALSE)))","v":""},0]
[null,null,{"$f":"IF(ISNA(VLOOKUP('WK 4'!K19,$C$2:$C$109,1,FALSE)),VLOOKUP('WK 4'!K19,'WK 4'!$K$6:$K$450,1,FALSE),\"\")","v":""},null,{"$f":"IF(ISNA(VLOOKUP(C123,'WK 2'!$K$6:$L$41,2,FALSE)=0),\"\",IF(VLOOKUP(C123,'WK 2'!$K$6:$L$41,2,FALSE)=0,\"\",VLOOKUP(C123,'WK 2'!$K$6:$L$41,2,FALSE)))","v":""},{"$f":"IF(ISNA(VLOOKUP(C123,'WK 3'!$K$6:$L$41,2,FALSE)=0),\"\",IF(VLOOKUP(C123,'WK 3'!$K$6:$L$41,2,FALSE)=0,\"\",VLOOKUP(C123,'WK 3'!$K$6:$L$41,2,FALSE)))","v":""},{"$f":"IF(ISNA(VLOOKUP(C123,'WK 4'!$K$6:$L$41,2,FALSE)=0),\"\",IF(VLOOKUP(C123,'WK 4'!$K$6:$L$41,2,FALSE)=0,\"\",VLOOKUP(C123,'WK 4'!$K$6:$L$41,2,FALSE)))","v":""},{"$f":"IF(ISNA(VLOOKUP(C123,'WK 5'!$K$6:$L$41,2,FALSE)=0),\"\",IF(VLOOKUP(C123,'WK 5'!$K$6:$L$41,2,FALSE)=0,\"\",VLOOKUP(C123,'WK 5'!$K$6:$L$41,2,FALSE)))","v":""},{"$f":"IF(ISNA(VLOOKUP(C123,'WK 6'!$K$6:$L$41,2,FALSE)=0),\"\",IF(VLOOKUP(C123,'WK 6'!$K$6:$L$41,2,FALSE)=0,\"\",VLOOKUP(C123,'WK 6'!$K$6:$L$41,2,FALSE)))","v":""},{"$f":"IF(ISNA(VLOOKUP(C123,'WK 7'!$K$6:$L$41,2,FALSE)=0),\"\",IF(VLOOKUP(C123,'WK 7'!$K$6:$L$41,2,FALSE)=0,\"\",VLOOKUP(C123,'WK 7'!$K$6:$L$41,2,FALSE)))","v":""},{"$f":"IF(ISNA(VLOOKUP(C123,'WK 8'!$K$6:$L$41,2,FALSE)=0),\"\",IF(VLOOKUP(C123,'WK 8'!$K$6:$L$41,2,FALSE)=0,\"\",VLOOKUP(C123,'WK 8'!$K$6:$L$41,2,FALSE)))","v":""},{"$f":"IF(ISNA(VLOOKUP(C123,'WK 9'!$K$6:$L$41,2,FALSE)=0),\"\",IF(VLOOKUP(C123,'WK 9'!$K$6:$L$41,2,FALSE)=0,\"\",VLOOKUP(C123,'WK 9'!$K$6:$L$41,2,FALSE)))","v":""},{"$f":"IF(ISNA(VLOOKUP(C123,'WK 10'!$K$6:$L$41,2,FALSE)=0),\"\",IF(VLOOKUP(C123,'WK 10'!$K$6:$L$41,2,FALSE)=0,\"\",VLOOKUP(C123,'WK 10'!$K$6:$L$41,2,FALSE)))","v":""},0]
[null,null,{"$f":"IF(ISNA(VLOOKUP('WK 4'!K20,$C$2:$C$109,1,FALSE)),VLOOKUP('WK 4'!K20,'WK 4'!$K$6:$K$450,1,FALSE),\"\")","v":""},null,{"$f":"IF(ISNA(VLOOKUP(C124,'WK 2'!$K$6:$L$41,2,FALSE)=0),\"\",IF(VLOOKUP(C124,'WK 2'!$K$6:$L$41,2,FALSE)=0,\"\",VLOOKUP(C124,'WK 2'!$K$6:$L$41,2,FALSE)))","v":""},{"$f":"IF(ISNA(VLOOKUP(C124,'WK 3'!$K$6:$L$41,2,FALSE)=0),\"\",IF(VLOOKUP(C124,'WK 3'!$K$6:$L$41,2,FALSE)=0,\"\",VLOOKUP(C124,'WK 3'!$K$6:$L$41,2,FALSE)))","v":""},{"$f":"IF(ISNA(VLOOKUP(C124,'WK 4'!$K$6:$L$41,2,FALSE)=0),\"\",IF(VLOOKUP(C124,'WK 4'!$K$6:$L$41,2,FALSE)=0,\"\",VLOOKUP(C124,'WK 4'!$K$6:$L$41,2,FALSE)))","v":""},{"$f":"IF(ISNA(VLOOKUP(C124,'WK 5'!$K$6:$L$41,2,FALSE)=0),\"\",IF(VLOOKUP(C124,'WK 5'!$K$6:$L$41,2,FALSE)=0,\"\",VLOOKUP(C124,'WK 5'!$K$6:$L$41,2,FALSE)))","v":""},{"$f":"IF(ISNA(VLOOKUP(C124,'WK 6'!$K$6:$L$41,2,FALSE)=0),\"\",IF(VLOOKUP(C124,'WK 6'!$K$6:$L$41,2,FALSE)=0,\"\",VLOOKUP(C124,'WK 6'!$K$6:$L$41,2,FALSE)))","v":""},{"$f":"IF(ISNA(VLOOKUP(C124,'WK 7'!$K$6:$L$41,2,FALSE)=0),\"\",IF(VLOOKUP(C124,'WK 7'!$K$6:$L$41,2,FALSE)=0,\"\",VLOOKUP(C124,'WK 7'!$K$6:$L$41,2,FALSE)))","v":""},{"$f":"IF(ISNA(VLOOKUP(C124,'WK 8'!$K$6:$L$41,2,FALSE)=0),\"\",IF(VLOOKUP(C124,'WK 8'!$K$6:$L$41,2,FALSE)=0,\"\",VLOOKUP(C124,'WK 8'!$K$6:$L$41,2,FALSE)))","v":""},{"$f":"IF(ISNA(VLOOKUP(C124,'WK 9'!$K$6:$L$41,2,FALSE)=0),\"\",IF(VLOOKUP(C124,'WK 9'!$K$6:$L$41,2,FALSE)=0,\"\",VLOOKUP(C124,'WK 9'!$K$6:$L$41,2,FALSE)))","v":""},{"$f":"IF(ISNA(VLOOKUP(C124,'WK 10'!$K$6:$L$41,2,FALSE)=0),\"\",IF(VLOOKUP(C124,'WK 10'!$K$6:$L$41,2,FALSE)=0,\"\",VLOOKUP(C124,'WK 10'!$K$6:$L$41,2,FALSE)))","v":""},0]
[null,null,{"$f":"IF(ISNA(VLOOKUP('WK 4'!K21,$C$2:$C$109,1,FALSE)),VLOOKUP('WK 4'!K21,'WK 4'!$K$6:$K$450,1,FALSE),\"\")","v":""},null,{"$f":"IF(ISNA(VLOOKUP(C125,'WK 2'!$K$6:$L$41,2,FALSE)=0),\"\",IF(VLOOKUP(C125,'WK 2'!$K$6:$L$41,2,FALSE)=0,\"\",VLOOKUP(C125,'WK 2'!$K$6:$L$41,2,FALSE)))","v":""},{"$f":"IF(ISNA(VLOOKUP(C125,'WK 3'!$K$6:$L$41,2,FALSE)=0),\"\",IF(VLOOKUP(C125,'WK 3'!$K$6:$L$41,2,FALSE)=0,\"\",VLOOKUP(C125,'WK 3'!$K$6:$L$41,2,FALSE)))","v":""},{"$f":"IF(ISNA(VLOOKUP(C125,'WK 4'!$K$6:$L$41,2,FALSE)=0),\"\",IF(VLOOKUP(C125,'WK 4'!$K$6:$L$41,2,FALSE)=0,\"\",VLOOKUP(C125,'WK 4'!$K$6:$L$41,2,FALSE)))","v":""},{"$f":"IF(ISNA(VLOOKUP(C125,'WK 5'!$K$6:$L$41,2,FALSE)=0),\"\",IF(VLOOKUP(C125,'WK 5'!$K$6:$L$41,2,FALSE)=0,\"\",VLOOKUP(C125,'WK 5'!$K$6:$L$41,2,FALSE)))","v":""},{"$f":"IF(ISNA(VLOOKUP(C125,'WK 6'!$K$6:$L$41,2,FALSE)=0),\"\",IF(VLOOKUP(C125,'WK 6'!$K$6:$L$41,2,FALSE)=0,\"\",VLOOKUP(C125,'WK 6'!$K$6:$L$41,2,FALSE)))","v":""},{"$f":"IF(ISNA(VLOOKUP(C125,'WK 7'!$K$6:$L$41,2,FALSE)=0),\"\",IF(VLOOKUP(C125,'WK 7'!$K$6:$L$41,2,FALSE)=0,\"\",VLOOKUP(C125,'WK 7'!$K$6:$L$41,2,FALSE)))","v":""},{"$f":"IF(ISNA(VLOOKUP(C125,'WK 8'!$K$6:$L$41,2,FALSE)=0),\"\",IF(VLOOKUP(C125,'WK 8'!$K$6:$L$41,2,FALSE)=0,\"\",VLOOKUP(C125,'WK 8'!$K$6:$L$41,2,FALSE)))","v":""},{"$f":"IF(ISNA(VLOOKUP(C125,'WK 9'!$K$6:$L$41,2,FALSE)=0),\"\",IF(VLOOKUP(C125,'WK 9'!$K$6:$L$41,2,FALSE)=0,\"\",VLOOKUP(C125,'WK 9'!$K$6:$L$41,2,FALSE)))","v":""},{"$f":"IF(ISNA(VLOOKUP(C125,'WK 10'!$K$6:$L$41,2,FALSE)=0),\"\",IF(VLOOKUP(C125,'WK 10'!$K$6:$L$41,2,FALSE)=0,\"\",VLOOKUP(C125,'WK 10'!$K$6:$L$41,2,FALSE)))","v":""},0]
[null,null,{"$f":"IF(ISNA(VLOOKUP('WK 4'!K22,$C$2:$C$109,1,FALSE)),VLOOKUP('WK 4'!K22,'WK 4'!$K$6:$K$450,1,FALSE),\"\")","v":""},null,{"$f":"IF(ISNA(VLOOKUP(C126,'WK 2'!$K$6:$L$41,2,FALSE)=0),\"\",IF(VLOOKUP(C126,'WK 2'!$K$6:$L$41,2,FALSE)=0,\"\",VLOOKUP(C126,'WK 2'!$K$6:$L$41,2,FALSE)))","v":""},{"$f":"IF(ISNA(VLOOKUP(C126,'WK 3'!$K$6:$L$41,2,FALSE)=0),\"\",IF(VLOOKUP(C126,'WK 3'!$K$6:$L$41,2,FALSE)=0,\"\",VLOOKUP(C126,'WK 3'!$K$6:$L$41,2,FALSE)))","v":""},{"$f":"IF(ISNA(VLOOKUP(C126,'WK 4'!$K$6:$L$41,2,FALSE)=0),\"\",IF(VLOOKUP(C126,'WK 4'!$K$6:$L$41,2,FALSE)=0,\"\",VLOOKUP(C126,'WK 4'!$K$6:$L$41,2,FALSE)))","v":""},{"$f":"IF(ISNA(VLOOKUP(C126,'WK 5'!$K$6:$L$41,2,FALSE)=0),\"\",IF(VLOOKUP(C126,'WK 5'!$K$6:$L$41,2,FALSE)=0,\"\",VLOOKUP(C126,'WK 5'!$K$6:$L$41,2,FALSE)))","v":""},{"$f":"IF(ISNA(VLOOKUP(C126,'WK 6'!$K$6:$L$41,2,FALSE)=0),\"\",IF(VLOOKUP(C126,'WK 6'!$K$6:$L$41,2,FALSE)=0,\"\",VLOOKUP(C126,'WK 6'!$K$6:$L$41,2,FALSE)))","v":""},{"$f":"IF(ISNA(VLOOKUP(C126,'WK 7'!$K$6:$L$41,2,FALSE)=0),\"\",IF(VLOOKUP(C126,'WK 7'!$K$6:$L$41,2,FALSE)=0,\"\",VLOOKUP(C126,'WK 7'!$K$6:$L$41,2,FALSE)))","v":""},{"$f":"IF(ISNA(VLOOKUP(C126,'WK 8'!$K$6:$L$41,2,FALSE)=0),\"\",IF(VLOOKUP(C126,'WK 8'!$K$6:$L$41,2,FALSE)=0,\"\",VLOOKUP(C126,'WK 8'!$K$6:$L$41,2,FALSE)))","v":""},{"$f":"IF(ISNA(VLOOKUP(C126,'WK 9'!$K$6:$L$41,2,FALSE)=0),\"\",IF(VLOOKUP(C126,'WK 9'!$K$6:$L$41,2,FALSE)=0,\"\",VLOOKUP(C126,'WK 9'!$K$6:$L$41,2,FALSE)))","v":""},{"$f":"IF(ISNA(VLOOKUP(C126,'WK 10'!$K$6:$L$41,2,FALSE)=0),\"\",IF(VLOOKUP(C126,'WK 10'!$K$6:$L$41,2,FALSE)=0,\"\",VLOOKUP(C126,'WK 10'!$K$6:$L$41,2,FALSE)))","v":""},0]
[null,null,{"$f":"IF(ISNA(VLOOKUP('WK 4'!K23,$C$2:$C$109,1,FALSE)),VLOOKUP('WK 4'!K23,'WK 4'!$K$6:$K$450,1,FALSE),\"\")","v":""},null,{"$f":"IF(ISNA(VLOOKUP(C127,'WK 2'!$K$6:$L$41,2,FALSE)=0),\"\",IF(VLOOKUP(C127,'WK 2'!$K$6:$L$41,2,FALSE)=0,\"\",VLOOKUP(C127,'WK 2'!$K$6:$L$41,2,FALSE)))","v":""},{"$f":"IF(ISNA(VLOOKUP(C127,'WK 3'!$K$6:$L$41,2,FALSE)=0),\"\",IF(VLOOKUP(C127,'WK 3'!$K$6:$L$41,2,FALSE)=0,\"\",VLOOKUP(C127,'WK 3'!$K$6:$L$41,2,FALSE)))","v":""},{"$f":"IF(ISNA(VLOOKUP(C127,'WK 4'!$K$6:$L$41,2,FALSE)=0),\"\",IF(VLOOKUP(C127,'WK 4'!$K$6:$L$41,2,FALSE)=0,\"\",VLOOKUP(C127,'WK 4'!$K$6:$L$41,2,FALSE)))","v":""},{"$f":"IF(ISNA(VLOOKUP(C127,'WK 5'!$K$6:$L$41,2,FALSE)=0),\"\",IF(VLOOKUP(C127,'WK 5'!$K$6:$L$41,2,FALSE)=0,\"\",VLOOKUP(C127,'WK 5'!$K$6:$L$41,2,FALSE)))","v":""},{"$f":"IF(ISNA(VLOOKUP(C127,'WK 6'!$K$6:$L$41,2,FALSE)=0),\"\",IF(VLOOKUP(C127,'WK 6'!$K$6:$L$41,2,FALSE)=0,\"\",VLOOKUP(C127,'WK 6'!$K$6:$L$41,2,FALSE)))","v":""},{"$f":"IF(ISNA(VLOOKUP(C127,'WK 7'!$K$6:$L$41,2,FALSE)=0),\"\",IF(VLOOKUP(C127,'WK 7'!$K$6:$L$41,2,FALSE)=0,\"\",VLOOKUP(C127,'WK 7'!$K$6:$L$41,2,FALSE)))","v":""},{"$f":"IF(ISNA(VLOOKUP(C127,'WK 8'!$K$6:$L$41,2,FALSE)=0),\"\",IF(VLOOKUP(C127,'WK 8'!$K$6:$L$41,2,FALSE)=0,\"\",VLOOKUP(C127,'WK 8'!$K$6:$L$41,2,FALSE)))","v":""},{"$f":"IF(ISNA(VLOOKUP(C127,'WK 9'!$K$6:$L$41,2,FALSE)=0),\"\",IF(VLOOKUP(C127,'WK 9'!$K$6:$L$41,2,FALSE)=0,\"\",VLOOKUP(C127,'WK 9'!$K$6:$L$41,2,FALSE)))","v":""},{"$f":"IF(ISNA(VLOOKUP(C127,'WK 10'!$K$6:$L$41,2,FALSE)=0),\"\",IF(VLOOKUP(C127,'WK 10'!$K$6:$L$41,2,FALSE)=0,\"\",VLOOKUP(C127,'WK 10'!$K$6:$L$41,2,FALSE)))","v":""},0]
[null,null,{"$f":"IF(ISNA(VLOOKUP('WK 4'!K24,$C$2:$C$109,1,FALSE)),VLOOKUP('WK 4'!K24,'WK 4'!$K$6:$K$450,1,FALSE),\"\")","v":""},null,{"$f":"IF(ISNA(VLOOKUP(C128,'WK 2'!$K$6:$L$41,2,FALSE)=0),\"\",IF(VLOOKUP(C128,'WK 2'!$K$6:$L$41,2,FALSE)=0,\"\",VLOOKUP(C128,'WK 2'!$K$6:$L$41,2,FALSE)))","v":""},{"$f":"IF(ISNA(VLOOKUP(C128,'WK 3'!$K$6:$L$41,2,FALSE)=0),\"\",IF(VLOOKUP(C128,'WK 3'!$K$6:$L$41,2,FALSE)=0,\"\",VLOOKUP(C128,'WK 3'!$K$6:$L$41,2,FALSE)))","v":""},{"$f":"IF(ISNA(VLOOKUP(C128,'WK 4'!$K$6:$L$41,2,FALSE)=0),\"\",IF(VLOOKUP(C128,'WK 4'!$K$6:$L$41,2,FALSE)=0,\"\",VLOOKUP(C128,'WK 4'!$K$6:$L$41,2,FALSE)))","v":""},{"$f":"IF(ISNA(VLOOKUP(C128,'WK 5'!$K$6:$L$41,2,FALSE)=0),\"\",IF(VLOOKUP(C128,'WK 5'!$K$6:$L$41,2,FALSE)=0,\"\",VLOOKUP(C128,'WK 5'!$K$6:$L$41,2,FALSE)))","v":""},{"$f":"IF(ISNA(VLOOKUP(C128,'WK 6'!$K$6:$L$41,2,FALSE)=0),\"\",IF(VLOOKUP(C128,'WK 6'!$K$6:$L$41,2,FALSE)=0,\"\",VLOOKUP(C128,'WK 6'!$K$6:$L$41,2,FALSE)))","v":""},{"$f":"IF(ISNA(VLOOKUP(C128,'WK 7'!$K$6:$L$41,2,FALSE)=0),\"\",IF(VLOOKUP(C128,'WK 7'!$K$6:$L$41,2,FALSE)=0,\"\",VLOOKUP(C128,'WK 7'!$K$6:$L$41,2,FALSE)))","v":""},{"$f":"IF(ISNA(VLOOKUP(C128,'WK 8'!$K$6:$L$41,2,FALSE)=0),\"\",IF(VLOOKUP(C128,'WK 8'!$K$6:$L$41,2,FALSE)=0,\"\",VLOOKUP(C128,'WK 8'!$K$6:$L$41,2,FALSE)))","v":""},{"$f":"IF(ISNA(VLOOKUP(C128,'WK 9'!$K$6:$L$41,2,FALSE)=0),\"\",IF(VLOOKUP(C128,'WK 9'!$K$6:$L$41,2,FALSE)=0,\"\",VLOOKUP(C128,'WK 9'!$K$6:$L$41,2,FALSE)))","v":""},{"$f":"IF(ISNA(VLOOKUP(C128,'WK 10'!$K$6:$L$41,2,FALSE)=0),\"\",IF(VLOOKUP(C128,'WK 10'!$K$6:$L$41,2,FALSE)=0,\"\",VLOOKUP(C128,'WK 10'!$K$6:$L$41,2,FALSE)))","v":""},0]
[null,null,{"$f":"IF(ISNA(VLOOKUP('WK 4'!K25,$C$2:$C$109,1,FALSE)),VLOOKUP('WK 4'!K25,'WK 4'!$K$6:$K$450,1,FALSE),\"\")","v":""},null,{"$f":"IF(ISNA(VLOOKUP(C129,'WK 2'!$K$6:$L$41,2,FALSE)=0),\"\",IF(VLOOKUP(C129,'WK 2'!$K$6:$L$41,2,FALSE)=0,\"\",VLOOKUP(C129,'WK 2'!$K$6:$L$41,2,FALSE)))","v":""},{"$f":"IF(ISNA(VLOOKUP(C129,'WK 3'!$K$6:$L$41,2,FALSE)=0),\"\",IF(VLOOKUP(C129,'WK 3'!$K$6:$L$41,2,FALSE)=0,\"\",VLOOKUP(C129,'WK 3'!$K$6:$L$41,2,FALSE)))","v":""},{"$f":"IF(ISNA(VLOOKUP(C129,'WK 4'!$K$6:$L$41,2,FALSE)=0),\"\",IF(VLOOKUP(C129,'WK 4'!$K$6:$L$41,2,FALSE)=0,\"\",VLOOKUP(C129,'WK 4'!$K$6:$L$41,2,FALSE)))","v":""},{"$f":"IF(ISNA(VLOOKUP(C129,'WK 5'!$K$6:$L$41,2,FALSE)=0),\"\",IF(VLOOKUP(C129,'WK 5'!$K$6:$L$41,2,FALSE)=0,\"\",VLOOKUP(C129,'WK 5'!$K$6:$L$41,2,FALSE)))","v":""},{"$f":"IF(ISNA(VLOOKUP(C129,'WK 6'!$K$6:$L$41,2,FALSE)=0),\"\",IF(VLOOKUP(C129,'WK 6'!$K$6:$L$41,2,FALSE)=0,\"\",VLOOKUP(C129,'WK 6'!$K$6:$L$41,2,FALSE)))","v":""},{"$f":"IF(ISNA(VLOOKUP(C129,'WK 7'!$K$6:$L$41,2,FALSE)=0),\"\",IF(VLOOKUP(C129,'WK 7'!$K$6:$L$41,2,FALSE)=0,\"\",VLOOKUP(C129,'WK 7'!$K$6:$L$41,2,FALSE)))","v":""},{"$f":"IF(ISNA(VLOOKUP(C129,'WK 8'!$K$6:$L$41,2,FALSE)=0),\"\",IF(VLOOKUP(C129,'WK 8'!$K$6:$L$41,2,FALSE)=0,\"\",VLOOKUP(C129,'WK 8'!$K$6:$L$41,2,FALSE)))","v":""},{"$f":"IF(ISNA(VLOOKUP(C129,'WK 9'!$K$6:$L$41,2,FALSE)=0),\"\",IF(VLOOKUP(C129,'WK 9'!$K$6:$L$41,2,FALSE)=0,\"\",VLOOKUP(C129,'WK 9'!$K$6:$L$41,2,FALSE)))","v":""},{"$f":"IF(ISNA(VLOOKUP(C129,'WK 10'!$K$6:$L$41,2,FALSE)=0),\"\",IF(VLOOKUP(C129,'WK 10'!$K$6:$L$41,2,FALSE)=0,\"\",VLOOKUP(C129,'WK 10'!$K$6:$L$41,2,FALSE)))","v":""},0]
[null,null,{"$f":"IF(ISNA(VLOOKUP('WK 4'!K26,$C$2:$C$109,1,FALSE)),VLOOKUP('WK 4'!K26,'WK 4'!$K$6:$K$450,1,FALSE),\"\")","v":""},null,{"$f":"IF(ISNA(VLOOKUP(C130,'WK 2'!$K$6:$L$41,2,FALSE)=0),\"\",IF(VLOOKUP(C130,'WK 2'!$K$6:$L$41,2,FALSE)=0,\"\",VLOOKUP(C130,'WK 2'!$K$6:$L$41,2,FALSE)))","v":""},{"$f":"IF(ISNA(VLOOKUP(C130,'WK 3'!$K$6:$L$41,2,FALSE)=0),\"\",IF(VLOOKUP(C130,'WK 3'!$K$6:$L$41,2,FALSE)=0,\"\",VLOOKUP(C130,'WK 3'!$K$6:$L$41,2,FALSE)))","v":""},{"$f":"IF(ISNA(VLOOKUP(C130,'WK 4'!$K$6:$L$41,2,FALSE)=0),\"\",IF(VLOOKUP(C130,'WK 4'!$K$6:$L$41,2,FALSE)=0,\"\",VLOOKUP(C130,'WK 4'!$K$6:$L$41,2,FALSE)))","v":""},{"$f":"IF(ISNA(VLOOKUP(C130,'WK 5'!$K$6:$L$41,2,FALSE)=0),\"\",IF(VLOOKUP(C130,'WK 5'!$K$6:$L$41,2,FALSE)=0,\"\",VLOOKUP(C130,'WK 5'!$K$6:$L$41,2,FALSE)))","v":""},{"$f":"IF(ISNA(VLOOKUP(C130,'WK 6'!$K$6:$L$41,2,FALSE)=0),\"\",IF(VLOOKUP(C130,'WK 6'!$K$6:$L$41,2,FALSE)=0,\"\",VLOOKUP(C130,'WK 6'!$K$6:$L$41,2,FALSE)))","v":""},{"$f":"IF(ISNA(VLOOKUP(C130,'WK 7'!$K$6:$L$41,2,FALSE)=0),\"\",IF(VLOOKUP(C130,'WK 7'!$K$6:$L$41,2,FALSE)=0,\"\",VLOOKUP(C130,'WK 7'!$K$6:$L$41,2,FALSE)))","v":""},{"$f":"IF(ISNA(VLOOKUP(C130,'WK 8'!$K$6:$L$41,2,FALSE)=0),\"\",IF(VLOOKUP(C130,'WK 8'!$K$6:$L$41,2,FALSE)=0,\"\",VLOOKUP(C130,'WK 8'!$K$6:$L$41,2,FALSE)))","v":""},{"$f":"IF(ISNA(VLOOKUP(C130,'WK 9'!$K$6:$L$41,2,FALSE)=0),\"\",IF(VLOOKUP(C130,'WK 9'!$K$6:$L$41,2,FALSE)=0,\"\",VLOOKUP(C130,'WK 9'!$K$6:$L$41,2,FALSE)))","v":""},{"$f":"IF(ISNA(VLOOKUP(C130,'WK 10'!$K$6:$L$41,2,FALSE)=0),\"\",IF(VLOOKUP(C130,'WK 10'!$K$6:$L$41,2,FALSE)=0,\"\",VLOOKUP(C130,'WK 10'!$K$6:$L$41,2,FALSE)))","v":""},0]
[null,null,{"$f":"IF(ISNA(VLOOKUP('WK 4'!K27,$C$2:$C$109,1,FALSE)),VLOOKUP('WK 4'!K27,'WK 4'!$K$6:$K$450,1,FALSE),\"\")","v":""},null,{"$f":"IF(ISNA(VLOOKUP(C131,'WK 2'!$K$6:$L$41,2,FALSE)=0),\"\",IF(VLOOKUP(C131,'WK 2'!$K$6:$L$41,2,FALSE)=0,\"\",VLOOKUP(C131,'WK 2'!$K$6:$L$41,2,FALSE)))","v":""},{"$f":"IF(ISNA(VLOOKUP(C131,'WK 3'!$K$6:$L$41,2,FALSE)=0),\"\",IF(VLOOKUP(C131,'WK 3'!$K$6:$L$41,2,FALSE)=0,\"\",VLOOKUP(C131,'WK 3'!$K$6:$L$41,2,FALSE)))","v":""},{"$f":"IF(ISNA(VLOOKUP(C131,'WK 4'!$K$6:$L$41,2,FALSE)=0),\"\",IF(VLOOKUP(C131,'WK 4'!$K$6:$L$41,2,FALSE)=0,\"\",VLOOKUP(C131,'WK 4'!$K$6:$L$41,2,FALSE)))","v":""},{"$f":"IF(ISNA(VLOOKUP(C131,'WK 5'!$K$6:$L$41,2,FALSE)=0),\"\",IF(VLOOKUP(C131,'WK 5'!$K$6:$L$41,2,FALSE)=0,\"\",VLOOKUP(C131,'WK 5'!$K$6:$L$41,2,FALSE)))","v":""},{"$f":"IF(ISNA(VLOOKUP(C131,'WK 6'!$K$6:$L$41,2,FALSE)=0),\"\",IF(VLOOKUP(C131,'WK 6'!$K$6:$L$41,2,FALSE)=0,\"\",VLOOKUP(C131,'WK 6'!$K$6:$L$41,2,FALSE)))","v":""},{"$f":"IF(ISNA(VLOOKUP(C131,'WK 7'!$K$6:$L$41,2,FALSE)=0),\"\",IF(VLOOKUP(C131,'WK 7'!$K$6:$L$41,2,FALSE)=0,\"\",VLOOKUP(C131,'WK 7'!$K$6:$L$41,2,FALSE)))","v":""},{"$f":"IF(ISNA(VLOOKUP(C131,'WK 8'!$K$6:$L$41,2,FALSE)=0),\"\",IF(VLOOKUP(C131,'WK 8'!$K$6:$L$41,2,FALSE)=0,\"\",VLOOKUP(C131,'WK 8'!$K$6:$L$41,2,FALSE)))","v":""},{"$f":"IF(ISNA(VLOOKUP(C131,'WK 9'!$K$6:$L$41,2,FALSE)=0),\"\",IF(VLOOKUP(C131,'WK 9'!$K$6:$L$41,2,FALSE)=0,\"\",VLOOKUP(C131,'WK 9'!$K$6:$L$41,2,FALSE)))","v":""},{"$f":"IF(ISNA(VLOOKUP(C131,'WK 10'!$K$6:$L$41,2,FALSE)=0),\"\",IF(VLOOKUP(C131,'WK 10'!$K$6:$L$41,2,FALSE)=0,\"\",VLOOKUP(C131,'WK 10'!$K$6:$L$41,2,FALSE)))","v":""},{"$f":"IF(COUNT(D131:M131)=0,0,AVERAGE(D131:M131))","v":0}]
[null,null,{"$f":"IF(ISNA(VLOOKUP('WK 4'!K28,$C$2:$C$109,1,FALSE)),VLOOKUP('WK 4'!K28,'WK 4'!$K$6:$K$450,1,FALSE),\"\")","v":""},null,{"$f":"IF(ISNA(VLOOKUP(C132,'WK 2'!$K$6:$L$41,2,FALSE)=0),\"\",IF(VLOOKUP(C132,'WK 2'!$K$6:$L$41,2,FALSE)=0,\"\",VLOOKUP(C132,'WK 2'!$K$6:$L$41,2,FALSE)))","v":""},{"$f":"IF(ISNA(VLOOKUP(C132,'WK 3'!$K$6:$L$41,2,FALSE)=0),\"\",IF(VLOOKUP(C132,'WK 3'!$K$6:$L$41,2,FALSE)=0,\"\",VLOOKUP(C132,'WK 3'!$K$6:$L$41,2,FALSE)))","v":""},{"$f":"IF(ISNA(VLOOKUP(C132,'WK 4'!$K$6:$L$41,2,FALSE)=0),\"\",IF(VLOOKUP(C132,'WK 4'!$K$6:$L$41,2,FALSE)=0,\"\",VLOOKUP(C132,'WK 4'!$K$6:$L$41,2,FALSE)))","v":""},{"$f":"IF(ISNA(VLOOKUP(C132,'WK 5'!$K$6:$L$41,2,FALSE)=0),\"\",IF(VLOOKUP(C132,'WK 5'!$K$6:$L$41,2,FALSE)=0,\"\",VLOOKUP(C132,'WK 5'!$K$6:$L$41,2,FALSE)))","v":""},{"$f":"IF(ISNA(VLOOKUP(C132,'WK 6'!$K$6:$L$41,2,FALSE)=0),\"\",IF(VLOOKUP(C132,'WK 6'!$K$6:$L$41,2,FALSE)=0,\"\",VLOOKUP(C132,'WK 6'!$K$6:$L$41,2,FALSE)))","v":""},{"$f":"IF(ISNA(VLOOKUP(C132,'WK 7'!$K$6:$L$41,2,FALSE)=0),\"\",IF(VLOOKUP(C132,'WK 7'!$K$6:$L$41,2,FALSE)=0,\"\",VLOOKUP(C132,'WK 7'!$K$6:$L$41,2,FALSE)))","v":""},{"$f":"IF(ISNA(VLOOKUP(C132,'WK 8'!$K$6:$L$41,2,FALSE)=0),\"\",IF(VLOOKUP(C132,'WK 8'!$K$6:$L$41,2,FALSE)=0,\"\",VLOOKUP(C132,'WK 8'!$K$6:$L$41,2,FALSE)))","v":""},{"$f":"IF(ISNA(VLOOKUP(C132,'WK 9'!$K$6:$L$41,2,FALSE)=0),\"\",IF(VLOOKUP(C132,'WK 9'!$K$6:$L$41,2,FALSE)=0,\"\",VLOOKUP(C132,'WK 9'!$K$6:$L$41,2,FALSE)))","v":""},{"$f":"IF(ISNA(VLOOKUP(C132,'WK 10'!$K$6:$L$41,2,FALSE)=0),\"\",IF(VLOOKUP(C132,'WK 10'!$K$6:$L$41,2,FALSE)=0,\"\",VLOOKUP(C132,'WK 10'!$K$6:$L$41,2,FALSE)))","v":""},0]
[null,null,{"$f":"IF(ISNA(VLOOKUP('WK 4'!K29,$C$2:$C$109,1,FALSE)),VLOOKUP('WK 4'!K29,'WK 4'!$K$6:$K$450,1,FALSE),\"\")","v":""},null,{"$f":"IF(ISNA(VLOOKUP(C133,'WK 2'!$K$6:$L$41,2,FALSE)=0),\"\",IF(VLOOKUP(C133,'WK 2'!$K$6:$L$41,2,FALSE)=0,\"\",VLOOKUP(C133,'WK 2'!$K$6:$L$41,2,FALSE)))","v":""},{"$f":"IF(ISNA(VLOOKUP(C133,'WK 3'!$K$6:$L$41,2,FALSE)=0),\"\",IF(VLOOKUP(C133,'WK 3'!$K$6:$L$41,2,FALSE)=0,\"\",VLOOKUP(C133,'WK 3'!$K$6:$L$41,2,FALSE)))","v":""},{"$f":"IF(ISNA(VLOOKUP(C133,'WK 4'!$K$6:$L$41,2,FALSE)=0),\"\",IF(VLOOKUP(C133,'WK 4'!$K$6:$L$41,2,FALSE)=0,\"\",VLOOKUP(C133,'WK 4'!$K$6:$L$41,2,FALSE)))","v":""},{"$f":"IF(ISNA(VLOOKUP(C133,'WK 5'!$K$6:$L$41,2,FALSE)=0),\"\",IF(VLOOKUP(C133,'WK 5'!$K$6:$L$41,2,FALSE)=0,\"\",VLOOKUP(C133,'WK 5'!$K$6:$L$41,2,FALSE)))","v":""},{"$f":"IF(ISNA(VLOOKUP(C133,'WK 6'!$K$6:$L$41,2,FALSE)=0),\"\",IF(VLOOKUP(C133,'WK 6'!$K$6:$L$41,2,FALSE)=0,\"\",VLOOKUP(C133,'WK 6'!$K$6:$L$41,2,FALSE)))","v":""},{"$f":"IF(ISNA(VLOOKUP(C133,'WK 7'!$K$6:$L$41,2,FALSE)=0),\"\",IF(VLOOKUP(C133,'WK 7'!$K$6:$L$41,2,FALSE)=0,\"\",VLOOKUP(C133,'WK 7'!$K$6:$L$41,2,FALSE)))","v":""},{"$f":"IF(ISNA(VLOOKUP(C133,'WK 8'!$K$6:$L$41,2,FALSE)=0),\"\",IF(VLOOKUP(C133,'WK 8'!$K$6:$L$41,2,FALSE)=0,\"\",VLOOKUP(C133,'WK 8'!$K$6:$L$41,2,FALSE)))","v":""},{"$f":"IF(ISNA(VLOOKUP(C133,'WK 9'!$K$6:$L$41,2,FALSE)=0),\"\",IF(VLOOKUP(C133,'WK 9'!$K$6:$L$41,2,FALSE)=0,\"\",VLOOKUP(C133,'WK 9'!$K$6:$L$41,2,FALSE)))","v":""},{"$f":"IF(ISNA(VLOOKUP(C133,'WK 10'!$K$6:$L$41,2,FALSE)=0),\"\",IF(VLOOKUP(C133,'WK 10'!$K$6:$L$41,2,FALSE)=0,\"\",VLOOKUP(C133,'WK 10'!$K$6:$L$41,2,FALSE)))","v":""},0]
[null,null,{"$f":"IF(ISNA(VLOOKUP('WK 4'!K30,$C$2:$C$109,1,FALSE)),VLOOKUP('WK 4'!K30,'WK 4'!$K$6:$K$450,1,FALSE),\"\")","v":""},null,{"$f":"IF(ISNA(VLOOKUP(C134,'WK 2'!$K$6:$L$41,2,FALSE)=0),\"\",IF(VLOOKUP(C134,'WK 2'!$K$6:$L$41,2,FALSE)=0,\"\",VLOOKUP(C134,'WK 2'!$K$6:$L$41,2,FALSE)))","v":""},{"$f":"IF(ISNA(VLOOKUP(C134,'WK 3'!$K$6:$L$41,2,FALSE)=0),\"\",IF(VLOOKUP(C134,'WK 3'!$K$6:$L$41,2,FALSE)=0,\"\",VLOOKUP(C134,'WK 3'!$K$6:$L$41,2,FALSE)))","v":""},{"$f":"IF(ISNA(VLOOKUP(C134,'WK 4'!$K$6:$L$41,2,FALSE)=0),\"\",IF(VLOOKUP(C134,'WK 4'!$K$6:$L$41,2,FALSE)=0,\"\",VLOOKUP(C134,'WK 4'!$K$6:$L$41,2,FALSE)))","v":""},{"$f":"IF(ISNA(VLOOKUP(C134,'WK 5'!$K$6:$L$41,2,FALSE)=0),\"\",IF(VLOOKUP(C134,'WK 5'!$K$6:$L$41,2,FALSE)=0,\"\",VLOOKUP(C134,'WK 5'!$K$6:$L$41,2,FALSE)))","v":""},{"$f":"IF(ISNA(VLOOKUP(C134,'WK 6'!$K$6:$L$41,2,FALSE)=0),\"\",IF(VLOOKUP(C134,'WK 6'!$K$6:$L$41,2,FALSE)=0,\"\",VLOOKUP(C134,'WK 6'!$K$6:$L$41,2,FALSE)))","v":""},{"$f":"IF(ISNA(VLOOKUP(C134,'WK 7'!$K$6:$L$41,2,FALSE)=0),\"\",IF(VLOOKUP(C134,'WK 7'!$K$6:$L$41,2,FALSE)=0,\"\",VLOOKUP(C134,'WK 7'!$K$6:$L$41,2,FALSE)))","v":""},{"$f":"IF(ISNA(VLOOKUP(C134,'WK 8'!$K$6:$L$41,2,FALSE)=0),\"\",IF(VLOOKUP(C134,'WK 8'!$K$6:$L$41,2,FALSE)=0,\"\",VLOOKUP(C134,'WK 8'!$K$6:$L$41,2,FALSE)))","v":""},{"$f":"IF(ISNA(VLOOKUP(C134,'WK 9'!$K$6:$L$41,2,FALSE)=0),\"\",IF(VLOOKUP(C134,'WK 9'!$K$6:$L$41,2,FALSE)=0,\"\",VLOOKUP(C134,'WK 9'!$K$6:$L$41,2,FALSE)))","v":""},{"$f":"IF(ISNA(VLOOKUP(C134,'WK 10'!$K$6:$L$41,2,FALSE)=0),\"\",IF(VLOOKUP(C134,'WK 10'!$K$6:$L$41,2,FALSE)=0,\"\",VLOOKUP(C134,'WK 10'!$K$6:$L$41,2,FALSE)))","v":""},0]
[null,null,{"$f":"IF(ISNA(VLOOKUP('WK 4'!K31,$C$2:$C$109,1,FALSE)),VLOOKUP('WK 4'!K31,'WK 4'!$K$6:$K$450,1,FALSE),\"\")","v":""},null,{"$f":"IF(ISNA(VLOOKUP(C135,'WK 2'!$K$6:$L$41,2,FALSE)=0),\"\",IF(VLOOKUP(C135,'WK 2'!$K$6:$L$41,2,FALSE)=0,\"\",VLOOKUP(C135,'WK 2'!$K$6:$L$41,2,FALSE)))","v":""},{"$f":"IF(ISNA(VLOOKUP(C135,'WK 3'!$K$6:$L$41,2,FALSE)=0),\"\",IF(VLOOKUP(C135,'WK 3'!$K$6:$L$41,2,FALSE)=0,\"\",VLOOKUP(C135,'WK 3'!$K$6:$L$41,2,FALSE)))","v":""},{"$f":"IF(ISNA(VLOOKUP(C135,'WK 4'!$K$6:$L$41,2,FALSE)=0),\"\",IF(VLOOKUP(C135,'WK 4'!$K$6:$L$41,2,FALSE)=0,\"\",VLOOKUP(C135,'WK 4'!$K$6:$L$41,2,FALSE)))","v":""},{"$f":"IF(ISNA(VLOOKUP(C135,'WK 5'!$K$6:$L$41,2,FALSE)=0),\"\",IF(VLOOKUP(C135,'WK 5'!$K$6:$L$41,2,FALSE)=0,\"\",VLOOKUP(C135,'WK 5'!$K$6:$L$41,2,FALSE)))","v":""},{"$f":"IF(ISNA(VLOOKUP(C135,'WK 6'!$K$6:$L$41,2,FALSE)=0),\"\",IF(VLOOKUP(C135,'WK 6'!$K$6:$L$41,2,FALSE)=0,\"\",VLOOKUP(C135,'WK 6'!$K$6:$L$41,2,FALSE)))","v":""},{"$f":"IF(ISNA(VLOOKUP(C135,'WK 7'!$K$6:$L$41,2,FALSE)=0),\"\",IF(VLOOKUP(C135,'WK 7'!$K$6:$L$41,2,FALSE)=0,\"\",VLOOKUP(C135,'WK 7'!$K$6:$L$41,2,FALSE)))","v":""},{"$f":"IF(ISNA(VLOOKUP(C135,'WK 8'!$K$6:$L$41,2,FALSE)=0),\"\",IF(VLOOKUP(C135,'WK 8'!$K$6:$L$41,2,FALSE)=0,\"\",VLOOKUP(C135,'WK 8'!$K$6:$L$41,2,FALSE)))","v":""},{"$f":"IF(ISNA(VLOOKUP(C135,'WK 9'!$K$6:$L$41,2,FALSE)=0),\"\",IF(VLOOKUP(C135,'WK 9'!$K$6:$L$41,2,FALSE)=0,\"\",VLOOKUP(C135,'WK 9'!$K$6:$L$41,2,FALSE)))","v":""},{"$f":"IF(ISNA(VLOOKUP(C135,'WK 10'!$K$6:$L$41,2,FALSE)=0),\"\",IF(VLOOKUP(C135,'WK 10'!$K$6:$L$41,2,FALSE)=0,\"\",VLOOKUP(C135,'WK 10'!$K$6:$L$41,2,FALSE)))","v":""},0]
[null,null,{"$f":"IF(ISNA(VLOOKUP('WK 4'!K32,$C$2:$C$109,1,FALSE)),VLOOKUP('WK 4'!K32,'WK 4'!$K$6:$K$450,1,FALSE),\"\")","v":""},null,{"$f":"IF(ISNA(VLOOKUP(C136,'WK 2'!$K$6:$L$41,2,FALSE)=0),\"\",IF(VLOOKUP(C136,'WK 2'!$K$6:$L$41,2,FALSE)=0,\"\",VLOOKUP(C136,'WK 2'!$K$6:$L$41,2,FALSE)))","v":""},{"$f":"IF(ISNA(VLOOKUP(C136,'WK 3'!$K$6:$L$41,2,FALSE)=0),\"\",IF(VLOOKUP(C136,'WK 3'!$K$6:$L$41,2,FALSE)=0,\"\",VLOOKUP(C136,'WK 3'!$K$6:$L$41,2,FALSE)))","v":""},{"$f":"IF(ISNA(VLOOKUP(C136,'WK 4'!$K$6:$L$41,2,FALSE)=0),\"\",IF(VLOOKUP(C136,'WK 4'!$K$6:$L$41,2,FALSE)=0,\"\",VLOOKUP(C136,'WK 4'!$K$6:$L$41,2,FALSE)))","v":""},{"$f":"IF(ISNA(VLOOKUP(C136,'WK 5'!$K$6:$L$41,2,FALSE)=0),\"\",IF(VLOOKUP(C136,'WK 5'!$K$6:$L$41,2,FALSE)=0,\"\",VLOOKUP(C136,'WK 5'!$K$6:$L$41,2,FALSE)))","v":""},{"$f":"IF(ISNA(VLOOKUP(C136,'WK 6'!$K$6:$L$41,2,FALSE)=0),\"\",IF(VLOOKUP(C136,'WK 6'!$K$6:$L$41,2,FALSE)=0,\"\",VLOOKUP(C136,'WK 6'!$K$6:$L$41,2,FALSE)))","v":""},{"$f":"IF(ISNA(VLOOKUP(C136,'WK 7'!$K$6:$L$41,2,FALSE)=0),\"\",IF(VLOOKUP(C136,'WK 7'!$K$6:$L$41,2,FALSE)=0,\"\",VLOOKUP(C136,'WK 7'!$K$6:$L$41,2,FALSE)))","v":""},{"$f":"IF(ISNA(VLOOKUP(C136,'WK 8'!$K$6:$L$41,2,FALSE)=0),\"\",IF(VLOOKUP(C136,'WK 8'!$K$6:$L$41,2,FALSE)=0,\"\",VLOOKUP(C136,'WK 8'!$K$6:$L$41,2,FALSE)))","v":""},{"$f":"IF(ISNA(VLOOKUP(C136,'WK 9'!$K$6:$L$41,2,FALSE)=0),\"\",IF(VLOOKUP(C136,'WK 9'!$K$6:$L$41,2,FALSE)=0,\"\",VLOOKUP(C136,'WK 9'!$K$6:$L$41,2,FALSE)))","v":""},{"$f":"IF(ISNA(VLOOKUP(C136,'WK 10'!$K$6:$L$41,2,FALSE)=0),\"\",IF(VLOOKUP(C136,'WK 10'!$K$6:$L$41,2,FALSE)=0,\"\",VLOOKUP(C136,'WK 10'!$K$6:$L$41,2,FALSE)))","v":""},0]
[null,null,{"$f":"IF(ISNA(VLOOKUP('WK 4'!K33,$C$2:$C$109,1,FALSE)),VLOOKUP('WK 4'!K33,'WK 4'!$K$6:$K$450,1,FALSE),\"\")","v":""},null,{"$f":"IF(ISNA(VLOOKUP(C137,'WK 2'!$K$6:$L$41,2,FALSE)=0),\"\",IF(VLOOKUP(C137,'WK 2'!$K$6:$L$41,2,FALSE)=0,\"\",VLOOKUP(C137,'WK 2'!$K$6:$L$41,2,FALSE)))","v":""},{"$f":"IF(ISNA(VLOOKUP(C137,'WK 3'!$K$6:$L$41,2,FALSE)=0),\"\",IF(VLOOKUP(C137,'WK 3'!$K$6:$L$41,2,FALSE)=0,\"\",VLOOKUP(C137,'WK 3'!$K$6:$L$41,2,FALSE)))","v":""},{"$f":"IF(ISNA(VLOOKUP(C137,'WK 4'!$K$6:$L$41,2,FALSE)=0),\"\",IF(VLOOKUP(C137,'WK 4'!$K$6:$L$41,2,FALSE)=0,\"\",VLOOKUP(C137,'WK 4'!$K$6:$L$41,2,FALSE)))","v":""},{"$f":"IF(ISNA(VLOOKUP(C137,'WK 5'!$K$6:$L$41,2,FALSE)=0),\"\",IF(VLOOKUP(C137,'WK 5'!$K$6:$L$41,2,FALSE)=0,\"\",VLOOKUP(C137,'WK 5'!$K$6:$L$41,2,FALSE)))","v":""},{"$f":"IF(ISNA(VLOOKUP(C137,'WK 6'!$K$6:$L$41,2,FALSE)=0),\"\",IF(VLOOKUP(C137,'WK 6'!$K$6:$L$41,2,FALSE)=0,\"\",VLOOKUP(C137,'WK 6'!$K$6:$L$41,2,FALSE)))","v":""},{"$f":"IF(ISNA(VLOOKUP(C137,'WK 7'!$K$6:$L$41,2,FALSE)=0),\"\",IF(VLOOKUP(C137,'WK 7'!$K$6:$L$41,2,FALSE)=0,\"\",VLOOKUP(C137,'WK 7'!$K$6:$L$41,2,FALSE)))","v":""},{"$f":"IF(ISNA(VLOOKUP(C137,'WK 8'!$K$6:$L$41,2,FALSE)=0),\"\",IF(VLOOKUP(C137,'WK 8'!$K$6:$L$41,2,FALSE)=0,\"\",VLOOKUP(C137,'WK 8'!$K$6:$L$41,2,FALSE)))","v":""},{"$f":"IF(ISNA(VLOOKUP(C137,'WK 9'!$K$6:$L$41,2,FALSE)=0),\"\",IF(VLOOKUP(C137,'WK 9'!$K$6:$L$41,2,FALSE)=0,\"\",VLOOKUP(C137,'WK 9'!$K$6:$L$41,2,FALSE)))","v":""},{"$f":"IF(ISNA(VLOOKUP(C137,'WK 10'!$K$6:$L$41,2,FALSE)=0),\"\",IF(VLOOKUP(C137,'WK 10'!$K$6:$L$41,2,FALSE)=0,\"\",VLOOKUP(C137,'WK 10'!$K$6:$L$41,2,FALSE)))","v":""},0]
[null,null,{"$f":"IF(ISNA(VLOOKUP('WK 4'!K34,$C$2:$C$109,1,FALSE)),VLOOKUP('WK 4'!K34,'WK 4'!$K$6:$K$450,1,FALSE),\"\")","v":""},null,{"$f":"IF(ISNA(VLOOKUP(C138,'WK 2'!$K$6:$L$41,2,FALSE)=0),\"\",IF(VLOOKUP(C138,'WK 2'!$K$6:$L$41,2,FALSE)=0,\"\",VLOOKUP(C138,'WK 2'!$K$6:$L$41,2,FALSE)))","v":""},{"$f":"IF(ISNA(VLOOKUP(C138,'WK 3'!$K$6:$L$41,2,FALSE)=0),\"\",IF(VLOOKUP(C138,'WK 3'!$K$6:$L$41,2,FALSE)=0,\"\",VLOOKUP(C138,'WK 3'!$K$6:$L$41,2,FALSE)))","v":""},{"$f":"IF(ISNA(VLOOKUP(C138,'WK 4'!$K$6:$L$41,2,FALSE)=0),\"\",IF(VLOOKUP(C138,'WK 4'!$K$6:$L$41,2,FALSE)=0,\"\",VLOOKUP(C138,'WK 4'!$K$6:$L$41,2,FALSE)))","v":""},{"$f":"IF(ISNA(VLOOKUP(C138,'WK 5'!$K$6:$L$41,2,FALSE)=0),\"\",IF(VLOOKUP(C138,'WK 5'!$K$6:$L$41,2,FALSE)=0,\"\",VLOOKUP(C138,'WK 5'!$K$6:$L$41,2,FALSE)))","v":""},{"$f":"IF(ISNA(VLOOKUP(C138,'WK 6'!$K$6:$L$41,2,FALSE)=0),\"\",IF(VLOOKUP(C138,'WK 6'!$K$6:$L$41,2,FALSE)=0,\"\",VLOOKUP(C138,'WK 6'!$K$6:$L$41,2,FALSE)))","v":""},{"$f":"IF(ISNA(VLOOKUP(C138,'WK 7'!$K$6:$L$41,2,FALSE)=0),\"\",IF(VLOOKUP(C138,'WK 7'!$K$6:$L$41,2,FALSE)=0,\"\",VLOOKUP(C138,'WK 7'!$K$6:$L$41,2,FALSE)))","v":""},{"$f":"IF(ISNA(VLOOKUP(C138,'WK 8'!$K$6:$L$41,2,FALSE)=0),\"\",IF(VLOOKUP(C138,'WK 8'!$K$6:$L$41,2,FALSE)=0,\"\",VLOOKUP(C138,'WK 8'!$K$6:$L$41,2,FALSE)))","v":""},{"$f":"IF(ISNA(VLOOKUP(C138,'WK 9'!$K$6:$L$41,2,FALSE)=0),\"\",IF(VLOOKUP(C138,'WK 9'!$K$6:$L$41,2,FALSE)=0,\"\",VLOOKUP(C138,'WK 9'!$K$6:$L$41,2,FALSE)))","v":""},{"$f":"IF(ISNA(VLOOKUP(C138,'WK 10'!$K$6:$L$41,2,FALSE)=0),\"\",IF(VLOOKUP(C138,'WK 10'!$K$6:$L$41,2,FALSE)=0,\"\",VLOOKUP(C138,'WK 10'!$K$6:$L$41,2,FALSE)))","v":""},0]
[null,null,{"$f":"IF(ISNA(VLOOKUP('WK 4'!K35,$C$2:$C$109,1,FALSE)),VLOOKUP('WK 4'!K35,'WK 4'!$K$6:$K$450,1,FALSE),\"\")","v":""},null,{"$f":"IF(ISNA(VLOOKUP(C139,'WK 2'!$K$6:$L$41,2,FALSE)=0),\"\",IF(VLOOKUP(C139,'WK 2'!$K$6:$L$41,2,FALSE)=0,\"\",VLOOKUP(C139,'WK 2'!$K$6:$L$41,2,FALSE)))","v":""},{"$f":"IF(ISNA(VLOOKUP(C139,'WK 3'!$K$6:$L$41,2,FALSE)=0),\"\",IF(VLOOKUP(C139,'WK 3'!$K$6:$L$41,2,FALSE)=0,\"\",VLOOKUP(C139,'WK 3'!$K$6:$L$41,2,FALSE)))","v":""},{"$f":"IF(ISNA(VLOOKUP(C139,'WK 4'!$K$6:$L$41,2,FALSE)=0),\"\",IF(VLOOKUP(C139,'WK 4'!$K$6:$L$41,2,FALSE)=0,\"\",VLOOKUP(C139,'WK 4'!$K$6:$L$41,2,FALSE)))","v":""},{"$f":"IF(ISNA(VLOOKUP(C139,'WK 5'!$K$6:$L$41,2,FALSE)=0),\"\",IF(VLOOKUP(C139,'WK 5'!$K$6:$L$41,2,FALSE)=0,\"\",VLOOKUP(C139,'WK 5'!$K$6:$L$41,2,FALSE)))","v":""},{"$f":"IF(ISNA(VLOOKUP(C139,'WK 6'!$K$6:$L$41,2,FALSE)=0),\"\",IF(VLOOKUP(C139,'WK 6'!$K$6:$L$41,2,FALSE)=0,\"\",VLOOKUP(C139,'WK 6'!$K$6:$L$41,2,FALSE)))","v":""},{"$f":"IF(ISNA(VLOOKUP(C139,'WK 7'!$K$6:$L$41,2,FALSE)=0),\"\",IF(VLOOKUP(C139,'WK 7'!$K$6:$L$41,2,FALSE)=0,\"\",VLOOKUP(C139,'WK 7'!$K$6:$L$41,2,FALSE)))","v":""},{"$f":"IF(ISNA(VLOOKUP(C139,'WK 8'!$K$6:$L$41,2,FALSE)=0),\"\",IF(VLOOKUP(C139,'WK 8'!$K$6:$L$41,2,FALSE)=0,\"\",VLOOKUP(C139,'WK 8'!$K$6:$L$41,2,FALSE)))","v":""},{"$f":"IF(ISNA(VLOOKUP(C139,'WK 9'!$K$6:$L$41,2,FALSE)=0),\"\",IF(VLOOKUP(C139,'WK 9'!$K$6:$L$41,2,FALSE)=0,\"\",VLOOKUP(C139,'WK 9'!$K$6:$L$41,2,FALSE)))","v":""},{"$f":"IF(ISNA(VLOOKUP(C139,'WK 10'!$K$6:$L$41,2,FALSE)=0),\"\",IF(VLOOKUP(C139,'WK 10'!$K$6:$L$41,2,FALSE)=0,\"\",VLOOKUP(C139,'WK 10'!$K$6:$L$41,2,FALSE)))","v":""},0]
[null,null,{"$f":"IF(ISNA(VLOOKUP('WK 4'!K36,$C$2:$C$109,1,FALSE)),VLOOKUP('WK 4'!K36,'WK 4'!$K$6:$K$450,1,FALSE),\"\")","v":""},null,{"$f":"IF(ISNA(VLOOKUP(C140,'WK 2'!$K$6:$L$41,2,FALSE)=0),\"\",IF(VLOOKUP(C140,'WK 2'!$K$6:$L$41,2,FALSE)=0,\"\",VLOOKUP(C140,'WK 2'!$K$6:$L$41,2,FALSE)))","v":""},{"$f":"IF(ISNA(VLOOKUP(C140,'WK 3'!$K$6:$L$41,2,FALSE)=0),\"\",IF(VLOOKUP(C140,'WK 3'!$K$6:$L$41,2,FALSE)=0,\"\",VLOOKUP(C140,'WK 3'!$K$6:$L$41,2,FALSE)))","v":""},{"$f":"IF(ISNA(VLOOKUP(C140,'WK 4'!$K$6:$L$41,2,FALSE)=0),\"\",IF(VLOOKUP(C140,'WK 4'!$K$6:$L$41,2,FALSE)=0,\"\",VLOOKUP(C140,'WK 4'!$K$6:$L$41,2,FALSE)))","v":""},{"$f":"IF(ISNA(VLOOKUP(C140,'WK 5'!$K$6:$L$41,2,FALSE)=0),\"\",IF(VLOOKUP(C140,'WK 5'!$K$6:$L$41,2,FALSE)=0,\"\",VLOOKUP(C140,'WK 5'!$K$6:$L$41,2,FALSE)))","v":""},{"$f":"IF(ISNA(VLOOKUP(C140,'WK 6'!$K$6:$L$41,2,FALSE)=0),\"\",IF(VLOOKUP(C140,'WK 6'!$K$6:$L$41,2,FALSE)=0,\"\",VLOOKUP(C140,'WK 6'!$K$6:$L$41,2,FALSE)))","v":""},{"$f":"IF(ISNA(VLOOKUP(C140,'WK 7'!$K$6:$L$41,2,FALSE)=0),\"\",IF(VLOOKUP(C140,'WK 7'!$K$6:$L$41,2,FALSE)=0,\"\",VLOOKUP(C140,'WK 7'!$K$6:$L$41,2,FALSE)))","v":""},{"$f":"IF(ISNA(VLOOKUP(C140,'WK 8'!$K$6:$L$41,2,FALSE)=0),\"\",IF(VLOOKUP(C140,'WK 8'!$K$6:$L$41,2,FALSE)=0,\"\",VLOOKUP(C140,'WK 8'!$K$6:$L$41,2,FALSE)))","v":""},{"$f":"IF(ISNA(VLOOKUP(C140,'WK 9'!$K$6:$L$41,2,FALSE)=0),\"\",IF(VLOOKUP(C140,'WK 9'!$K$6:$L$41,2,FALSE)=0,\"\",VLOOKUP(C140,'WK 9'!$K$6:$L$41,2,FALSE)))","v":""},{"$f":"IF(ISNA(VLOOKUP(C140,'WK 10'!$K$6:$L$41,2,FALSE)=0),\"\",IF(VLOOKUP(C140,'WK 10'!$K$6:$L$41,2,FALSE)=0,\"\",VLOOKUP(C140,'WK 10'!$K$6:$L$41,2,FALSE)))","v":""},0]
[null,null,{"$f":"IF(ISNA(VLOOKUP('WK 4'!K37,$C$2:$C$109,1,FALSE)),VLOOKUP('WK 4'!K37,'WK 4'!$K$6:$K$450,1,FALSE),\"\")","v":""},null,{"$f":"IF(ISNA(VLOOKUP(C141,'WK 2'!$K$6:$L$41,2,FALSE)=0),\"\",IF(VLOOKUP(C141,'WK 2'!$K$6:$L$41,2,FALSE)=0,\"\",VLOOKUP(C141,'WK 2'!$K$6:$L$41,2,FALSE)))","v":""},{"$f":"IF(ISNA(VLOOKUP(C141,'WK 3'!$K$6:$L$41,2,FALSE)=0),\"\",IF(VLOOKUP(C141,'WK 3'!$K$6:$L$41,2,FALSE)=0,\"\",VLOOKUP(C141,'WK 3'!$K$6:$L$41,2,FALSE)))","v":""},{"$f":"IF(ISNA(VLOOKUP(C141,'WK 4'!$K$6:$L$41,2,FALSE)=0),\"\",IF(VLOOKUP(C141,'WK 4'!$K$6:$L$41,2,FALSE)=0,\"\",VLOOKUP(C141,'WK 4'!$K$6:$L$41,2,FALSE)))","v":""},{"$f":"IF(ISNA(VLOOKUP(C141,'WK 5'!$K$6:$L$41,2,FALSE)=0),\"\",IF(VLOOKUP(C141,'WK 5'!$K$6:$L$41,2,FALSE)=0,\"\",VLOOKUP(C141,'WK 5'!$K$6:$L$41,2,FALSE)))","v":""},{"$f":"IF(ISNA(VLOOKUP(C141,'WK 6'!$K$6:$L$41,2,FALSE)=0),\"\",IF(VLOOKUP(C141,'WK 6'!$K$6:$L$41,2,FALSE)=0,\"\",VLOOKUP(C141,'WK 6'!$K$6:$L$41,2,FALSE)))","v":""},{"$f":"IF(ISNA(VLOOKUP(C141,'WK 7'!$K$6:$L$41,2,FALSE)=0),\"\",IF(VLOOKUP(C141,'WK 7'!$K$6:$L$41,2,FALSE)=0,\"\",VLOOKUP(C141,'WK 7'!$K$6:$L$41,2,FALSE)))","v":""},{"$f":"IF(ISNA(VLOOKUP(C141,'WK 8'!$K$6:$L$41,2,FALSE)=0),\"\",IF(VLOOKUP(C141,'WK 8'!$K$6:$L$41,2,FALSE)=0,\"\",VLOOKUP(C141,'WK 8'!$K$6:$L$41,2,FALSE)))","v":""},{"$f":"IF(ISNA(VLOOKUP(C141,'WK 9'!$K$6:$L$41,2,FALSE)=0),\"\",IF(VLOOKUP(C141,'WK 9'!$K$6:$L$41,2,FALSE)=0,\"\",VLOOKUP(C141,'WK 9'!$K$6:$L$41,2,FALSE)))","v":""},{"$f":"IF(ISNA(VLOOKUP(C141,'WK 10'!$K$6:$L$41,2,FALSE)=0),\"\",IF(VLOOKUP(C141,'WK 10'!$K$6:$L$41,2,FALSE)=0,\"\",VLOOKUP(C141,'WK 10'!$K$6:$L$41,2,FALSE)))","v":""},0]
[null,null,{"$f":"IF(ISNA(VLOOKUP('WK 4'!K38,$C$2:$C$109,1,FALSE)),VLOOKUP('WK 4'!K38,'WK 4'!$K$6:$K$450,1,FALSE),\"\")","v":""},null,{"$f":"IF(ISNA(VLOOKUP(C142,'WK 2'!$K$6:$L$41,2,FALSE)=0),\"\",IF(VLOOKUP(C142,'WK 2'!$K$6:$L$41,2,FALSE)=0,\"\",VLOOKUP(C142,'WK 2'!$K$6:$L$41,2,FALSE)))","v":""},{"$f":"IF(ISNA(VLOOKUP(C142,'WK 3'!$K$6:$L$41,2,FALSE)=0),\"\",IF(VLOOKUP(C142,'WK 3'!$K$6:$L$41,2,FALSE)=0,\"\",VLOOKUP(C142,'WK 3'!$K$6:$L$41,2,FALSE)))","v":""},{"$f":"IF(ISNA(VLOOKUP(C142,'WK 4'!$K$6:$L$41,2,FALSE)=0),\"\",IF(VLOOKUP(C142,'WK 4'!$K$6:$L$41,2,FALSE)=0,\"\",VLOOKUP(C142,'WK 4'!$K$6:$L$41,2,FALSE)))","v":""},{"$f":"IF(ISNA(VLOOKUP(C142,'WK 5'!$K$6:$L$41,2,FALSE)=0),\"\",IF(VLOOKUP(C142,'WK 5'!$K$6:$L$41,2,FALSE)=0,\"\",VLOOKUP(C142,'WK 5'!$K$6:$L$41,2,FALSE)))","v":""},{"$f":"IF(ISNA(VLOOKUP(C142,'WK 6'!$K$6:$L$41,2,FALSE)=0),\"\",IF(VLOOKUP(C142,'WK 6'!$K$6:$L$41,2,FALSE)=0,\"\",VLOOKUP(C142,'WK 6'!$K$6:$L$41,2,FALSE)))","v":""},{"$f":"IF(ISNA(VLOOKUP(C142,'WK 7'!$K$6:$L$41,2,FALSE)=0),\"\",IF(VLOOKUP(C142,'WK 7'!$K$6:$L$41,2,FALSE)=0,\"\",VLOOKUP(C142,'WK 7'!$K$6:$L$41,2,FALSE)))","v":""},{"$f":"IF(ISNA(VLOOKUP(C142,'WK 8'!$K$6:$L$41,2,FALSE)=0),\"\",IF(VLOOKUP(C142,'WK 8'!$K$6:$L$41,2,FALSE)=0,\"\",VLOOKUP(C142,'WK 8'!$K$6:$L$41,2,FALSE)))","v":""},{"$f":"IF(ISNA(VLOOKUP(C142,'WK 9'!$K$6:$L$41,2,FALSE)=0),\"\",IF(VLOOKUP(C142,'WK 9'!$K$6:$L$41,2,FALSE)=0,\"\",VLOOKUP(C142,'WK 9'!$K$6:$L$41,2,FALSE)))","v":""},{"$f":"IF(ISNA(VLOOKUP(C142,'WK 10'!$K$6:$L$41,2,FALSE)=0),\"\",IF(VLOOKUP(C142,'WK 10'!$K$6:$L$41,2,FALSE)=0,\"\",VLOOKUP(C142,'WK 10'!$K$6:$L$41,2,FALSE)))","v":""},0]
[null,null,{"$f":"IF(ISNA(VLOOKUP('WK 4'!K39,$C$2:$C$109,1,FALSE)),VLOOKUP('WK 4'!K39,'WK 4'!$K$6:$K$450,1,FALSE),\"\")","v":""},null,{"$f":"IF(ISNA(VLOOKUP(C143,'WK 2'!$K$6:$L$41,2,FALSE)=0),\"\",IF(VLOOKUP(C143,'WK 2'!$K$6:$L$41,2,FALSE)=0,\"\",VLOOKUP(C143,'WK 2'!$K$6:$L$41,2,FALSE)))","v":""},{"$f":"IF(ISNA(VLOOKUP(C143,'WK 3'!$K$6:$L$41,2,FALSE)=0),\"\",IF(VLOOKUP(C143,'WK 3'!$K$6:$L$41,2,FALSE)=0,\"\",VLOOKUP(C143,'WK 3'!$K$6:$L$41,2,FALSE)))","v":""},{"$f":"IF(ISNA(VLOOKUP(C143,'WK 4'!$K$6:$L$41,2,FALSE)=0),\"\",IF(VLOOKUP(C143,'WK 4'!$K$6:$L$41,2,FALSE)=0,\"\",VLOOKUP(C143,'WK 4'!$K$6:$L$41,2,FALSE)))","v":""},{"$f":"IF(ISNA(VLOOKUP(C143,'WK 5'!$K$6:$L$41,2,FALSE)=0),\"\",IF(VLOOKUP(C143,'WK 5'!$K$6:$L$41,2,FALSE)=0,\"\",VLOOKUP(C143,'WK 5'!$K$6:$L$41,2,FALSE)))","v":""},{"$f":"IF(ISNA(VLOOKUP(C143,'WK 6'!$K$6:$L$41,2,FALSE)=0),\"\",IF(VLOOKUP(C143,'WK 6'!$K$6:$L$41,2,FALSE)=0,\"\",VLOOKUP(C143,'WK 6'!$K$6:$L$41,2,FALSE)))","v":""},{"$f":"IF(ISNA(VLOOKUP(C143,'WK 7'!$K$6:$L$41,2,FALSE)=0),\"\",IF(VLOOKUP(C143,'WK 7'!$K$6:$L$41,2,FALSE)=0,\"\",VLOOKUP(C143,'WK 7'!$K$6:$L$41,2,FALSE)))","v":""},{"$f":"IF(ISNA(VLOOKUP(C143,'WK 8'!$K$6:$L$41,2,FALSE)=0),\"\",IF(VLOOKUP(C143,'WK 8'!$K$6:$L$41,2,FALSE)=0,\"\",VLOOKUP(C143,'WK 8'!$K$6:$L$41,2,FALSE)))","v":""},{"$f":"IF(ISNA(VLOOKUP(C143,'WK 9'!$K$6:$L$41,2,FALSE)=0),\"\",IF(VLOOKUP(C143,'WK 9'!$K$6:$L$41,2,FALSE)=0,\"\",VLOOKUP(C143,'WK 9'!$K$6:$L$41,2,FALSE)))","v":""},{"$f":"IF(ISNA(VLOOKUP(C143,'WK 10'!$K$6:$L$41,2,FALSE)=0),\"\",IF(VLOOKUP(C143,'WK 10'!$K$6:$L$41,2,FALSE)=0,\"\",VLOOKUP(C143,'WK 10'!$K$6:$L$41,2,FALSE)))","v":""},0]
[null,null,{"$f":"IF(ISNA(VLOOKUP('WK 4'!K40,$C$2:$C$109,1,FALSE)),VLOOKUP('WK 4'!K40,'WK 4'!$K$6:$K$450,1,FALSE),\"\")","v":""},null,{"$f":"IF(ISNA(VLOOKUP(C144,'WK 2'!$K$6:$L$41,2,FALSE)=0),\"\",IF(VLOOKUP(C144,'WK 2'!$K$6:$L$41,2,FALSE)=0,\"\",VLOOKUP(C144,'WK 2'!$K$6:$L$41,2,FALSE)))","v":""},{"$f":"IF(ISNA(VLOOKUP(C144,'WK 3'!$K$6:$L$41,2,FALSE)=0),\"\",IF(VLOOKUP(C144,'WK 3'!$K$6:$L$41,2,FALSE)=0,\"\",VLOOKUP(C144,'WK 3'!$K$6:$L$41,2,FALSE)))","v":""},{"$f":"IF(ISNA(VLOOKUP(C144,'WK 4'!$K$6:$L$41,2,FALSE)=0),\"\",IF(VLOOKUP(C144,'WK 4'!$K$6:$L$41,2,FALSE)=0,\"\",VLOOKUP(C144,'WK 4'!$K$6:$L$41,2,FALSE)))","v":""},{"$f":"IF(ISNA(VLOOKUP(C144,'WK 5'!$K$6:$L$41,2,FALSE)=0),\"\",IF(VLOOKUP(C144,'WK 5'!$K$6:$L$41,2,FALSE)=0,\"\",VLOOKUP(C144,'WK 5'!$K$6:$L$41,2,FALSE)))","v":""},{"$f":"IF(ISNA(VLOOKUP(C144,'WK 6'!$K$6:$L$41,2,FALSE)=0),\"\",IF(VLOOKUP(C144,'WK 6'!$K$6:$L$41,2,FALSE)=0,\"\",VLOOKUP(C144,'WK 6'!$K$6:$L$41,2,FALSE)))","v":""},{"$f":"IF(ISNA(VLOOKUP(C144,'WK 7'!$K$6:$L$41,2,FALSE)=0),\"\",IF(VLOOKUP(C144,'WK 7'!$K$6:$L$41,2,FALSE)=0,\"\",VLOOKUP(C144,'WK 7'!$K$6:$L$41,2,FALSE)))","v":""},{"$f":"IF(ISNA(VLOOKUP(C144,'WK 8'!$K$6:$L$41,2,FALSE)=0),\"\",IF(VLOOKUP(C144,'WK 8'!$K$6:$L$41,2,FALSE)=0,\"\",VLOOKUP(C144,'WK 8'!$K$6:$L$41,2,FALSE)))","v":""},{"$f":"IF(ISNA(VLOOKUP(C144,'WK 9'!$K$6:$L$41,2,FALSE)=0),\"\",IF(VLOOKUP(C144,'WK 9'!$K$6:$L$41,2,FALSE)=0,\"\",VLOOKUP(C144,'WK 9'!$K$6:$L$41,2,FALSE)))","v":""},{"$f":"IF(ISNA(VLOOKUP(C144,'WK 10'!$K$6:$L$41,2,FALSE)=0),\"\",IF(VLOOKUP(C144,'WK 10'!$K$6:$L$41,2,FALSE)=0,\"\",VLOOKUP(C144,'WK 10'!$K$6:$L$41,2,FALSE)))","v":""},0]
[null,null,{"$f":"IF(ISNA(VLOOKUP('WK 4'!K41,$C$2:$C$109,1,FALSE)),VLOOKUP('WK 4'!K41,'WK 4'!$K$6:$K$450,1,FALSE),\"\")","v":""},null,{"$f":"IF(ISNA(VLOOKUP(C145,'WK 2'!$K$6:$L$41,2,FALSE)=0),\"\",IF(VLOOKUP(C145,'WK 2'!$K$6:$L$41,2,FALSE)=0,\"\",VLOOKUP(C145,'WK 2'!$K$6:$L$41,2,FALSE)))","v":""},{"$f":"IF(ISNA(VLOOKUP(C145,'WK 3'!$K$6:$L$41,2,FALSE)=0),\"\",IF(VLOOKUP(C145,'WK 3'!$K$6:$L$41,2,FALSE)=0,\"\",VLOOKUP(C145,'WK 3'!$K$6:$L$41,2,FALSE)))","v":""},{"$f":"IF(ISNA(VLOOKUP(C145,'WK 4'!$K$6:$L$41,2,FALSE)=0),\"\",IF(VLOOKUP(C145,'WK 4'!$K$6:$L$41,2,FALSE)=0,\"\",VLOOKUP(C145,'WK 4'!$K$6:$L$41,2,FALSE)))","v":""},{"$f":"IF(ISNA(VLOOKUP(C145,'WK 5'!$K$6:$L$41,2,FALSE)=0),\"\",IF(VLOOKUP(C145,'WK 5'!$K$6:$L$41,2,FALSE)=0,\"\",VLOOKUP(C145,'WK 5'!$K$6:$L$41,2,FALSE)))","v":""},{"$f":"IF(ISNA(VLOOKUP(C145,'WK 6'!$K$6:$L$41,2,FALSE)=0),\"\",IF(VLOOKUP(C145,'WK 6'!$K$6:$L$41,2,FALSE)=0,\"\",VLOOKUP(C145,'WK 6'!$K$6:$L$41,2,FALSE)))","v":""},{"$f":"IF(ISNA(VLOOKUP(C145,'WK 7'!$K$6:$L$41,2,FALSE)=0),\"\",IF(VLOOKUP(C145,'WK 7'!$K$6:$L$41,2,FALSE)=0,\"\",VLOOKUP(C145,'WK 7'!$K$6:$L$41,2,FALSE)))","v":""},{"$f":"IF(ISNA(VLOOKUP(C145,'WK 8'!$K$6:$L$41,2,FALSE)=0),\"\",IF(VLOOKUP(C145,'WK 8'!$K$6:$L$41,2,FALSE)=0,\"\",VLOOKUP(C145,'WK 8'!$K$6:$L$41,2,FALSE)))","v":""},{"$f":"IF(ISNA(VLOOKUP(C145,'WK 9'!$K$6:$L$41,2,FALSE)=0),\"\",IF(VLOOKUP(C145,'WK 9'!$K$6:$L$41,2,FALSE)=0,\"\",VLOOKUP(C145,'WK 9'!$K$6:$L$41,2,FALSE)))","v":""},{"$f":"IF(ISNA(VLOOKUP(C145,'WK 10'!$K$6:$L$41,2,FALSE)=0),\"\",IF(VLOOKUP(C145,'WK 10'!$K$6:$L$41,2,FALSE)=0,\"\",VLOOKUP(C145,'WK 10'!$K$6:$L$41,2,FALSE)))","v":""},0]
[null,"WK5 Beginn",{"$f":"IF(ISNA(VLOOKUP('WK 5'!K6,$C$2:$C$145,1,FALSE)),VLOOKUP('WK 5'!K6,'WK 5'!$K$6:$K$450,1,FALSE),\"\")","v":""},null,{"$f":"IF(ISNA(VLOOKUP(C146,'WK 2'!$K$6:$L$41,2,FALSE)=0),\"\",IF(VLOOKUP(C146,'WK 2'!$K$6:$L$41,2,FALSE)=0,\"\",VLOOKUP(C146,'WK 2'!$K$6:$L$41,2,FALSE)))","v":""},{"$f":"IF(ISNA(VLOOKUP(C146,'WK 3'!$K$6:$L$41,2,FALSE)=0),\"\",IF(VLOOKUP(C146,'WK 3'!$K$6:$L$41,2,FALSE)=0,\"\",VLOOKUP(C146,'WK 3'!$K$6:$L$41,2,FALSE)))","v":""},{"$f":"IF(ISNA(VLOOKUP(C146,'WK 4'!$K$6:$L$41,2,FALSE)=0),\"\",IF(VLOOKUP(C146,'WK 4'!$K$6:$L$41,2,FALSE)=0,\"\",VLOOKUP(C146,'WK 4'!$K$6:$L$41,2,FALSE)))","v":""},{"$f":"IF(ISNA(VLOOKUP(C146,'WK 5'!$K$6:$L$41,2,FALSE)=0),\"\",IF(VLOOKUP(C146,'WK 5'!$K$6:$L$41,2,FALSE)=0,\"\",VLOOKUP(C146,'WK 5'!$K$6:$L$41,2,FALSE)))","v":""},{"$f":"IF(ISNA(VLOOKUP(C146,'WK 6'!$K$6:$L$41,2,FALSE)=0),\"\",IF(VLOOKUP(C146,'WK 6'!$K$6:$L$41,2,FALSE)=0,\"\",VLOOKUP(C146,'WK 6'!$K$6:$L$41,2,FALSE)))","v":""},{"$f":"IF(ISNA(VLOOKUP(C146,'WK 7'!$K$6:$L$41,2,FALSE)=0),\"\",IF(VLOOKUP(C146,'WK 7'!$K$6:$L$41,2,FALSE)=0,\"\",VLOOKUP(C146,'WK 7'!$K$6:$L$41,2,FALSE)))","v":""},{"$f":"IF(ISNA(VLOOKUP(C146,'WK 8'!$K$6:$L$41,2,FALSE)=0),\"\",IF(VLOOKUP(C146,'WK 8'!$K$6:$L$41,2,FALSE)=0,\"\",VLOOKUP(C146,'WK 8'!$K$6:$L$41,2,FALSE)))","v":""},{"$f":"IF(ISNA(VLOOKUP(C146,'WK 9'!$K$6:$L$41,2,FALSE)=0),\"\",IF(VLOOKUP(C146,'WK 9'!$K$6:$L$41,2,FALSE)=0,\"\",VLOOKUP(C146,'WK 9'!$K$6:$L$41,2,FALSE)))","v":""},{"$f":"IF(ISNA(VLOOKUP(C146,'WK 10'!$K$6:$L$41,2,FALSE)=0),\"\",IF(VLOOKUP(C146,'WK 10'!$K$6:$L$41,2,FALSE)=0,\"\",VLOOKUP(C146,'WK 10'!$K$6:$L$41,2,FALSE)))","v":""},0]
[null,null,{"$f":"IF(ISNA(VLOOKUP('WK 5'!K7,$C$2:$C$145,1,FALSE)),VLOOKUP('WK 5'!K7,'WK 5'!$K$6:$K$450,1,FALSE),\"\")","v":""},null,{"$f":"IF(ISNA(VLOOKUP(C147,'WK 2'!$K$6:$L$41,2,FALSE)=0),\"\",IF(VLOOKUP(C147,'WK 2'!$K$6:$L$41,2,FALSE)=0,\"\",VLOOKUP(C147,'WK 2'!$K$6:$L$41,2,FALSE)))","v":""},{"$f":"IF(ISNA(VLOOKUP(C147,'WK 3'!$K$6:$L$41,2,FALSE)=0),\"\",IF(VLOOKUP(C147,'WK 3'!$K$6:$L$41,2,FALSE)=0,\"\",VLOOKUP(C147,'WK 3'!$K$6:$L$41,2,FALSE)))","v":""},{"$f":"IF(ISNA(VLOOKUP(C147,'WK 4'!$K$6:$L$41,2,FALSE)=0),\"\",IF(VLOOKUP(C147,'WK 4'!$K$6:$L$41,2,FALSE)=0,\"\",VLOOKUP(C147,'WK 4'!$K$6:$L$41,2,FALSE)))","v":""},{"$f":"IF(ISNA(VLOOKUP(C147,'WK 5'!$K$6:$L$41,2,FALSE)=0),\"\",IF(VLOOKUP(C147,'WK 5'!$K$6:$L$41,2,FALSE)=0,\"\",VLOOKUP(C147,'WK 5'!$K$6:$L$41,2,FALSE)))","v":""},{"$f":"IF(ISNA(VLOOKUP(C147,'WK 6'!$K$6:$L$41,2,FALSE)=0),\"\",IF(VLOOKUP(C147,'WK 6'!$K$6:$L$41,2,FALSE)=0,\"\",VLOOKUP(C147,'WK 6'!$K$6:$L$41,2,FALSE)))","v":""},{"$f":"IF(ISNA(VLOOKUP(C147,'WK 7'!$K$6:$L$41,2,FALSE)=0),\"\",IF(VLOOKUP(C147,'WK 7'!$K$6:$L$41,2,FALSE)=0,\"\",VLOOKUP(C147,'WK 7'!$K$6:$L$41,2,FALSE)))","v":""},{"$f":"IF(ISNA(VLOOKUP(C147,'WK 8'!$K$6:$L$41,2,FALSE)=0),\"\",IF(VLOOKUP(C147,'WK 8'!$K$6:$L$41,2,FALSE)=0,\"\",VLOOKUP(C147,'WK 8'!$K$6:$L$41,2,FALSE)))","v":""},{"$f":"IF(ISNA(VLOOKUP(C147,'WK 9'!$K$6:$L$41,2,FALSE)=0),\"\",IF(VLOOKUP(C147,'WK 9'!$K$6:$L$41,2,FALSE)=0,\"\",VLOOKUP(C147,'WK 9'!$K$6:$L$41,2,FALSE)))","v":""},{"$f":"IF(ISNA(VLOOKUP(C147,'WK 10'!$K$6:$L$41,2,FALSE)=0),\"\",IF(VLOOKUP(C147,'WK 10'!$K$6:$L$41,2,FALSE)=0,\"\",VLOOKUP(C147,'WK 10'!$K$6:$L$41,2,FALSE)))","v":""},0]
[null,null,{"$f":"IF(ISNA(VLOOKUP('WK 5'!K8,$C$2:$C$145,1,FALSE)),VLOOKUP('WK 5'!K8,'WK 5'!$K$6:$K$450,1,FALSE),\"\")","v":""},null,{"$f":"IF(ISNA(VLOOKUP(C148,'WK 2'!$K$6:$L$41,2,FALSE)=0),\"\",IF(VLOOKUP(C148,'WK 2'!$K$6:$L$41,2,FALSE)=0,\"\",VLOOKUP(C148,'WK 2'!$K$6:$L$41,2,FALSE)))","v":""},{"$f":"IF(ISNA(VLOOKUP(C148,'WK 3'!$K$6:$L$41,2,FALSE)=0),\"\",IF(VLOOKUP(C148,'WK 3'!$K$6:$L$41,2,FALSE)=0,\"\",VLOOKUP(C148,'WK 3'!$K$6:$L$41,2,FALSE)))","v":""},{"$f":"IF(ISNA(VLOOKUP(C148,'WK 4'!$K$6:$L$41,2,FALSE)=0),\"\",IF(VLOOKUP(C148,'WK 4'!$K$6:$L$41,2,FALSE)=0,\"\",VLOOKUP(C148,'WK 4'!$K$6:$L$41,2,FALSE)))","v":""},{"$f":"IF(ISNA(VLOOKUP(C148,'WK 5'!$K$6:$L$41,2,FALSE)=0),\"\",IF(VLOOKUP(C148,'WK 5'!$K$6:$L$41,2,FALSE)=0,\"\",VLOOKUP(C148,'WK 5'!$K$6:$L$41,2,FALSE)))","v":""},{"$f":"IF(ISNA(VLOOKUP(C148,'WK 6'!$K$6:$L$41,2,FALSE)=0),\"\",IF(VLOOKUP(C148,'WK 6'!$K$6:$L$41,2,FALSE)=0,\"\",VLOOKUP(C148,'WK 6'!$K$6:$L$41,2,FALSE)))","v":""},{"$f":"IF(ISNA(VLOOKUP(C148,'WK 7'!$K$6:$L$41,2,FALSE)=0),\"\",IF(VLOOKUP(C148,'WK 7'!$K$6:$L$41,2,FALSE)=0,\"\",VLOOKUP(C148,'WK 7'!$K$6:$L$41,2,FALSE)))","v":""},{"$f":"IF(ISNA(VLOOKUP(C148,'WK 8'!$K$6:$L$41,2,FALSE)=0),\"\",IF(VLOOKUP(C148,'WK 8'!$K$6:$L$41,2,FALSE)=0,\"\",VLOOKUP(C148,'WK 8'!$K$6:$L$41,2,FALSE)))","v":""},{"$f":"IF(ISNA(VLOOKUP(C148,'WK 9'!$K$6:$L$41,2,FALSE)=0),\"\",IF(VLOOKUP(C148,'WK 9'!$K$6:$L$41,2,FALSE)=0,\"\",VLOOKUP(C148,'WK 9'!$K$6:$L$41,2,FALSE)))","v":""},{"$f":"IF(ISNA(VLOOKUP(C148,'WK 10'!$K$6:$L$41,2,FALSE)=0),\"\",IF(VLOOKUP(C148,'WK 10'!$K$6:$L$41,2,FALSE)=0,\"\",VLOOKUP(C148,'WK 10'!$K$6:$L$41,2,FALSE)))","v":""},0]
[null,null,{"$f":"IF(ISNA(VLOOKUP('WK 5'!K9,$C$2:$C$145,1,FALSE)),VLOOKUP('WK 5'!K9,'WK 5'!$K$6:$K$450,1,FALSE),\"\")","v":""},null,{"$f":"IF(ISNA(VLOOKUP(C149,'WK 2'!$K$6:$L$41,2,FALSE)=0),\"\",IF(VLOOKUP(C149,'WK 2'!$K$6:$L$41,2,FALSE)=0,\"\",VLOOKUP(C149,'WK 2'!$K$6:$L$41,2,FALSE)))","v":""},{"$f":"IF(ISNA(VLOOKUP(C149,'WK 3'!$K$6:$L$41,2,FALSE)=0),\"\",IF(VLOOKUP(C149,'WK 3'!$K$6:$L$41,2,FALSE)=0,\"\",VLOOKUP(C149,'WK 3'!$K$6:$L$41,2,FALSE)))","v":""},{"$f":"IF(ISNA(VLOOKUP(C149,'WK 4'!$K$6:$L$41,2,FALSE)=0),\"\",IF(VLOOKUP(C149,'WK 4'!$K$6:$L$41,2,FALSE)=0,\"\",VLOOKUP(C149,'WK 4'!$K$6:$L$41,2,FALSE)))","v":""},{"$f":"IF(ISNA(VLOOKUP(C149,'WK 5'!$K$6:$L$41,2,FALSE)=0),\"\",IF(VLOOKUP(C149,'WK 5'!$K$6:$L$41,2,FALSE)=0,\"\",VLOOKUP(C149,'WK 5'!$K$6:$L$41,2,FALSE)))","v":""},{"$f":"IF(ISNA(VLOOKUP(C149,'WK 6'!$K$6:$L$41,2,FALSE)=0),\"\",IF(VLOOKUP(C149,'WK 6'!$K$6:$L$41,2,FALSE)=0,\"\",VLOOKUP(C149,'WK 6'!$K$6:$L$41,2,FALSE)))","v":""},{"$f":"IF(ISNA(VLOOKUP(C149,'WK 7'!$K$6:$L$41,2,FALSE)=0),\"\",IF(VLOOKUP(C149,'WK 7'!$K$6:$L$41,2,FALSE)=0,\"\",VLOOKUP(C149,'WK 7'!$K$6:$L$41,2,FALSE)))","v":""},{"$f":"IF(ISNA(VLOOKUP(C149,'WK 8'!$K$6:$L$41,2,FALSE)=0),\"\",IF(VLOOKUP(C149,'WK 8'!$K$6:$L$41,2,FALSE)=0,\"\",VLOOKUP(C149,'WK 8'!$K$6:$L$41,2,FALSE)))","v":""},{"$f":"IF(ISNA(VLOOKUP(C149,'WK 9'!$K$6:$L$41,2,FALSE)=0),\"\",IF(VLOOKUP(C149,'WK 9'!$K$6:$L$41,2,FALSE)=0,\"\",VLOOKUP(C149,'WK 9'!$K$6:$L$41,2,FALSE)))","v":""},{"$f":"IF(ISNA(VLOOKUP(C149,'WK 10'!$K$6:$L$41,2,FALSE)=0),\"\",IF(VLOOKUP(C149,'WK 10'!$K$6:$L$41,2,FALSE)=0,\"\",VLOOKUP(C149,'WK 10'!$K$6:$L$41,2,FALSE)))","v":""},0]
[null,null,{"$f":"IF(ISNA(VLOOKUP('WK 5'!K10,$C$2:$C$145,1,FALSE)),VLOOKUP('WK 5'!K10,'WK 5'!$K$6:$K$450,1,FALSE),\"\")","v":""},null,{"$f":"IF(ISNA(VLOOKUP(C150,'WK 2'!$K$6:$L$41,2,FALSE)=0),\"\",IF(VLOOKUP(C150,'WK 2'!$K$6:$L$41,2,FALSE)=0,\"\",VLOOKUP(C150,'WK 2'!$K$6:$L$41,2,FALSE)))","v":""},{"$f":"IF(ISNA(VLOOKUP(C150,'WK 3'!$K$6:$L$41,2,FALSE)=0),\"\",IF(VLOOKUP(C150,'WK 3'!$K$6:$L$41,2,FALSE)=0,\"\",VLOOKUP(C150,'WK 3'!$K$6:$L$41,2,FALSE)))","v":""},{"$f":"IF(ISNA(VLOOKUP(C150,'WK 4'!$K$6:$L$41,2,FALSE)=0),\"\",IF(VLOOKUP(C150,'WK 4'!$K$6:$L$41,2,FALSE)=0,\"\",VLOOKUP(C150,'WK 4'!$K$6:$L$41,2,FALSE)))","v":""},{"$f":"IF(ISNA(VLOOKUP(C150,'WK 5'!$K$6:$L$41,2,FALSE)=0),\"\",IF(VLOOKUP(C150,'WK 5'!$K$6:$L$41,2,FALSE)=0,\"\",VLOOKUP(C150,'WK 5'!$K$6:$L$41,2,FALSE)))","v":""},{"$f":"IF(ISNA(VLOOKUP(C150,'WK 6'!$K$6:$L$41,2,FALSE)=0),\"\",IF(VLOOKUP(C150,'WK 6'!$K$6:$L$41,2,FALSE)=0,\"\",VLOOKUP(C150,'WK 6'!$K$6:$L$41,2,FALSE)))","v":""},{"$f":"IF(ISNA(VLOOKUP(C150,'WK 7'!$K$6:$L$41,2,FALSE)=0),\"\",IF(VLOOKUP(C150,'WK 7'!$K$6:$L$41,2,FALSE)=0,\"\",VLOOKUP(C150,'WK 7'!$K$6:$L$41,2,FALSE)))","v":""},{"$f":"IF(ISNA(VLOOKUP(C150,'WK 8'!$K$6:$L$41,2,FALSE)=0),\"\",IF(VLOOKUP(C150,'WK 8'!$K$6:$L$41,2,FALSE)=0,\"\",VLOOKUP(C150,'WK 8'!$K$6:$L$41,2,FALSE)))","v":""},{"$f":"IF(ISNA(VLOOKUP(C150,'WK 9'!$K$6:$L$41,2,FALSE)=0),\"\",IF(VLOOKUP(C150,'WK 9'!$K$6:$L$41,2,FALSE)=0,\"\",VLOOKUP(C150,'WK 9'!$K$6:$L$41,2,FALSE)))","v":""},{"$f":"IF(ISNA(VLOOKUP(C150,'WK 10'!$K$6:$L$41,2,FALSE)=0),\"\",IF(VLOOKUP(C150,'WK 10'!$K$6:$L$41,2,FALSE)=0,\"\",VLOOKUP(C150,'WK 10'!$K$6:$L$41,2,FALSE)))","v":""},0]
[null,null,{"$f":"IF(ISNA(VLOOKUP('WK 5'!K11,$C$2:$C$145,1,FALSE)),VLOOKUP('WK 5'!K11,'WK 5'!$K$6:$K$450,1,FALSE),\"\")","v":""},null,{"$f":"IF(ISNA(VLOOKUP(C151,'WK 2'!$K$6:$L$41,2,FALSE)=0),\"\",IF(VLOOKUP(C151,'WK 2'!$K$6:$L$41,2,FALSE)=0,\"\",VLOOKUP(C151,'WK 2'!$K$6:$L$41,2,FALSE)))","v":""},{"$f":"IF(ISNA(VLOOKUP(C151,'WK 3'!$K$6:$L$41,2,FALSE)=0),\"\",IF(VLOOKUP(C151,'WK 3'!$K$6:$L$41,2,FALSE)=0,\"\",VLOOKUP(C151,'WK 3'!$K$6:$L$41,2,FALSE)))","v":""},{"$f":"IF(ISNA(VLOOKUP(C151,'WK 4'!$K$6:$L$41,2,FALSE)=0),\"\",IF(VLOOKUP(C151,'WK 4'!$K$6:$L$41,2,FALSE)=0,\"\",VLOOKUP(C151,'WK 4'!$K$6:$L$41,2,FALSE)))","v":""},{"$f":"IF(ISNA(VLOOKUP(C151,'WK 5'!$K$6:$L$41,2,FALSE)=0),\"\",IF(VLOOKUP(C151,'WK 5'!$K$6:$L$41,2,FALSE)=0,\"\",VLOOKUP(C151,'WK 5'!$K$6:$L$41,2,FALSE)))","v":""},{"$f":"IF(ISNA(VLOOKUP(C151,'WK 6'!$K$6:$L$41,2,FALSE)=0),\"\",IF(VLOOKUP(C151,'WK 6'!$K$6:$L$41,2,FALSE)=0,\"\",VLOOKUP(C151,'WK 6'!$K$6:$L$41,2,FALSE)))","v":""},{"$f":"IF(ISNA(VLOOKUP(C151,'WK 7'!$K$6:$L$41,2,FALSE)=0),\"\",IF(VLOOKUP(C151,'WK 7'!$K$6:$L$41,2,FALSE)=0,\"\",VLOOKUP(C151,'WK 7'!$K$6:$L$41,2,FALSE)))","v":""},{"$f":"IF(ISNA(VLOOKUP(C151,'WK 8'!$K$6:$L$41,2,FALSE)=0),\"\",IF(VLOOKUP(C151,'WK 8'!$K$6:$L$41,2,FALSE)=0,\"\",VLOOKUP(C151,'WK 8'!$K$6:$L$41,2,FALSE)))","v":""},{"$f":"IF(ISNA(VLOOKUP(C151,'WK 9'!$K$6:$L$41,2,FALSE)=0),\"\",IF(VLOOKUP(C151,'WK 9'!$K$6:$L$41,2,FALSE)=0,\"\",VLOOKUP(C151,'WK 9'!$K$6:$L$41,2,FALSE)))","v":""},{"$f":"IF(ISNA(VLOOKUP(C151,'WK 10'!$K$6:$L$41,2,FALSE)=0),\"\",IF(VLOOKUP(C151,'WK 10'!$K$6:$L$41,2,FALSE)=0,\"\",VLOOKUP(C151,'WK 10'!$K$6:$L$41,2,FALSE)))","v":""},0]
[null,null,{"$f":"IF(ISNA(VLOOKUP('WK 5'!K12,$C$2:$C$145,1,FALSE)),VLOOKUP('WK 5'!K12,'WK 5'!$K$6:$K$450,1,FALSE),\"\")","v":""},null,{"$f":"IF(ISNA(VLOOKUP(C152,'WK 2'!$K$6:$L$41,2,FALSE)=0),\"\",IF(VLOOKUP(C152,'WK 2'!$K$6:$L$41,2,FALSE)=0,\"\",VLOOKUP(C152,'WK 2'!$K$6:$L$41,2,FALSE)))","v":""},{"$f":"IF(ISNA(VLOOKUP(C152,'WK 3'!$K$6:$L$41,2,FALSE)=0),\"\",IF(VLOOKUP(C152,'WK 3'!$K$6:$L$41,2,FALSE)=0,\"\",VLOOKUP(C152,'WK 3'!$K$6:$L$41,2,FALSE)))","v":""},{"$f":"IF(ISNA(VLOOKUP(C152,'WK 4'!$K$6:$L$41,2,FALSE)=0),\"\",IF(VLOOKUP(C152,'WK 4'!$K$6:$L$41,2,FALSE)=0,\"\",VLOOKUP(C152,'WK 4'!$K$6:$L$41,2,FALSE)))","v":""},{"$f":"IF(ISNA(VLOOKUP(C152,'WK 5'!$K$6:$L$41,2,FALSE)=0),\"\",IF(VLOOKUP(C152,'WK 5'!$K$6:$L$41,2,FALSE)=0,\"\",VLOOKUP(C152,'WK 5'!$K$6:$L$41,2,FALSE)))","v":""},{"$f":"IF(ISNA(VLOOKUP(C152,'WK 6'!$K$6:$L$41,2,FALSE)=0),\"\",IF(VLOOKUP(C152,'WK 6'!$K$6:$L$41,2,FALSE)=0,\"\",VLOOKUP(C152,'WK 6'!$K$6:$L$41,2,FALSE)))","v":""},{"$f":"IF(ISNA(VLOOKUP(C152,'WK 7'!$K$6:$L$41,2,FALSE)=0),\"\",IF(VLOOKUP(C152,'WK 7'!$K$6:$L$41,2,FALSE)=0,\"\",VLOOKUP(C152,'WK 7'!$K$6:$L$41,2,FALSE)))","v":""},{"$f":"IF(ISNA(VLOOKUP(C152,'WK 8'!$K$6:$L$41,2,FALSE)=0),\"\",IF(VLOOKUP(C152,'WK 8'!$K$6:$L$41,2,FALSE)=0,\"\",VLOOKUP(C152,'WK 8'!$K$6:$L$41,2,FALSE)))","v":""},{"$f":"IF(ISNA(VLOOKUP(C152,'WK 9'!$K$6:$L$41,2,FALSE)=0),\"\",IF(VLOOKUP(C152,'WK 9'!$K$6:$L$41,2,FALSE)=0,\"\",VLOOKUP(C152,'WK 9'!$K$6:$L$41,2,FALSE)))","v":""},{"$f":"IF(ISNA(VLOOKUP(C152,'WK 10'!$K$6:$L$41,2,FALSE)=0),\"\",IF(VLOOKUP(C152,'WK 10'!$K$6:$L$41,2,FALSE)=0,\"\",VLOOKUP(C152,'WK 10'!$K$6:$L$41,2,FALSE)))","v":""},0]
[null,null,{"$f":"IF(ISNA(VLOOKUP('WK 5'!K13,$C$2:$C$145,1,FALSE)),VLOOKUP('WK 5'!K13,'WK 5'!$K$6:$K$450,1,FALSE),\"\")","v":""},null,{"$f":"IF(ISNA(VLOOKUP(C153,'WK 2'!$K$6:$L$41,2,FALSE)=0),\"\",IF(VLOOKUP(C153,'WK 2'!$K$6:$L$41,2,FALSE)=0,\"\",VLOOKUP(C153,'WK 2'!$K$6:$L$41,2,FALSE)))","v":""},{"$f":"IF(ISNA(VLOOKUP(C153,'WK 3'!$K$6:$L$41,2,FALSE)=0),\"\",IF(VLOOKUP(C153,'WK 3'!$K$6:$L$41,2,FALSE)=0,\"\",VLOOKUP(C153,'WK 3'!$K$6:$L$41,2,FALSE)))","v":""},{"$f":"IF(ISNA(VLOOKUP(C153,'WK 4'!$K$6:$L$41,2,FALSE)=0),\"\",IF(VLOOKUP(C153,'WK 4'!$K$6:$L$41,2,FALSE)=0,\"\",VLOOKUP(C153,'WK 4'!$K$6:$L$41,2,FALSE)))","v":""},{"$f":"IF(ISNA(VLOOKUP(C153,'WK 5'!$K$6:$L$41,2,FALSE)=0),\"\",IF(VLOOKUP(C153,'WK 5'!$K$6:$L$41,2,FALSE)=0,\"\",VLOOKUP(C153,'WK 5'!$K$6:$L$41,2,FALSE)))","v":""},{"$f":"IF(ISNA(VLOOKUP(C153,'WK 6'!$K$6:$L$41,2,FALSE)=0),\"\",IF(VLOOKUP(C153,'WK 6'!$K$6:$L$41,2,FALSE)=0,\"\",VLOOKUP(C153,'WK 6'!$K$6:$L$41,2,FALSE)))","v":""},{"$f":"IF(ISNA(VLOOKUP(C153,'WK 7'!$K$6:$L$41,2,FALSE)=0),\"\",IF(VLOOKUP(C153,'WK 7'!$K$6:$L$41,2,FALSE)=0,\"\",VLOOKUP(C153,'WK 7'!$K$6:$L$41,2,FALSE)))","v":""},{"$f":"IF(ISNA(VLOOKUP(C153,'WK 8'!$K$6:$L$41,2,FALSE)=0),\"\",IF(VLOOKUP(C153,'WK 8'!$K$6:$L$41,2,FALSE)=0,\"\",VLOOKUP(C153,'WK 8'!$K$6:$L$41,2,FALSE)))","v":""},{"$f":"IF(ISNA(VLOOKUP(C153,'WK 9'!$K$6:$L$41,2,FALSE)=0),\"\",IF(VLOOKUP(C153,'WK 9'!$K$6:$L$41,2,FALSE)=0,\"\",VLOOKUP(C153,'WK 9'!$K$6:$L$41,2,FALSE)))","v":""},{"$f":"IF(ISNA(VLOOKUP(C153,'WK 10'!$K$6:$L$41,2,FALSE)=0),\"\",IF(VLOOKUP(C153,'WK 10'!$K$6:$L$41,2,FALSE)=0,\"\",VLOOKUP(C153,'WK 10'!$K$6:$L$41,2,FALSE)))","v":""},0]
[null,null,{"$f":"IF(ISNA(VLOOKUP('WK 5'!K14,$C$2:$C$145,1,FALSE)),VLOOKUP('WK 5'!K14,'WK 5'!$K$6:$K$450,1,FALSE),\"\")","v":""},null,{"$f":"IF(ISNA(VLOOKUP(C154,'WK 2'!$K$6:$L$41,2,FALSE)=0),\"\",IF(VLOOKUP(C154,'WK 2'!$K$6:$L$41,2,FALSE)=0,\"\",VLOOKUP(C154,'WK 2'!$K$6:$L$41,2,FALSE)))","v":""},{"$f":"IF(ISNA(VLOOKUP(C154,'WK 3'!$K$6:$L$41,2,FALSE)=0),\"\",IF(VLOOKUP(C154,'WK 3'!$K$6:$L$41,2,FALSE)=0,\"\",VLOOKUP(C154,'WK 3'!$K$6:$L$41,2,FALSE)))","v":""},{"$f":"IF(ISNA(VLOOKUP(C154,'WK 4'!$K$6:$L$41,2,FALSE)=0),\"\",IF(VLOOKUP(C154,'WK 4'!$K$6:$L$41,2,FALSE)=0,\"\",VLOOKUP(C154,'WK 4'!$K$6:$L$41,2,FALSE)))","v":""},{"$f":"IF(ISNA(VLOOKUP(C154,'WK 5'!$K$6:$L$41,2,FALSE)=0),\"\",IF(VLOOKUP(C154,'WK 5'!$K$6:$L$41,2,FALSE)=0,\"\",VLOOKUP(C154,'WK 5'!$K$6:$L$41,2,FALSE)))","v":""},{"$f":"IF(ISNA(VLOOKUP(C154,'WK 6'!$K$6:$L$41,2,FALSE)=0),\"\",IF(VLOOKUP(C154,'WK 6'!$K$6:$L$41,2,FALSE)=0,\"\",VLOOKUP(C154,'WK 6'!$K$6:$L$41,2,FALSE)))","v":""},{"$f":"IF(ISNA(VLOOKUP(C154,'WK 7'!$K$6:$L$41,2,FALSE)=0),\"\",IF(VLOOKUP(C154,'WK 7'!$K$6:$L$41,2,FALSE)=0,\"\",VLOOKUP(C154,'WK 7'!$K$6:$L$41,2,FALSE)))","v":""},{"$f":"IF(ISNA(VLOOKUP(C154,'WK 8'!$K$6:$L$41,2,FALSE)=0),\"\",IF(VLOOKUP(C154,'WK 8'!$K$6:$L$41,2,FALSE)=0,\"\",VLOOKUP(C154,'WK 8'!$K$6:$L$41,2,FALSE)))","v":""},{"$f":"IF(ISNA(VLOOKUP(C154,'WK 9'!$K$6:$L$41,2,FALSE)=0),\"\",IF(VLOOKUP(C154,'WK 9'!$K$6:$L$41,2,FALSE)=0,\"\",VLOOKUP(C154,'WK 9'!$K$6:$L$41,2,FALSE)))","v":""},{"$f":"IF(ISNA(VLOOKUP(C154,'WK 10'!$K$6:$L$41,2,FALSE)=0),\"\",IF(VLOOKUP(C154,'WK 10'!$K$6:$L$41,2,FALSE)=0,\"\",VLOOKUP(C154,'WK 10'!$K$6:$L$41,2,FALSE)))","v":""},0]
[null,null,{"$f":"IF(ISNA(VLOOKUP('WK 5'!K15,$C$2:$C$145,1,FALSE)),VLOOKUP('WK 5'!K15,'WK 5'!$K$6:$K$450,1,FALSE),\"\")","v":""},null,{"$f":"IF(ISNA(VLOOKUP(C155,'WK 2'!$K$6:$L$41,2,FALSE)=0),\"\",IF(VLOOKUP(C155,'WK 2'!$K$6:$L$41,2,FALSE)=0,\"\",VLOOKUP(C155,'WK 2'!$K$6:$L$41,2,FALSE)))","v":""},{"$f":"IF(ISNA(VLOOKUP(C155,'WK 3'!$K$6:$L$41,2,FALSE)=0),\"\",IF(VLOOKUP(C155,'WK 3'!$K$6:$L$41,2,FALSE)=0,\"\",VLOOKUP(C155,'WK 3'!$K$6:$L$41,2,FALSE)))","v":""},{"$f":"IF(ISNA(VLOOKUP(C155,'WK 4'!$K$6:$L$41,2,FALSE)=0),\"\",IF(VLOOKUP(C155,'WK 4'!$K$6:$L$41,2,FALSE)=0,\"\",VLOOKUP(C155,'WK 4'!$K$6:$L$41,2,FALSE)))","v":""},{"$f":"IF(ISNA(VLOOKUP(C155,'WK 5'!$K$6:$L$41,2,FALSE)=0),\"\",IF(VLOOKUP(C155,'WK 5'!$K$6:$L$41,2,FALSE)=0,\"\",VLOOKUP(C155,'WK 5'!$K$6:$L$41,2,FALSE)))","v":""},{"$f":"IF(ISNA(VLOOKUP(C155,'WK 6'!$K$6:$L$41,2,FALSE)=0),\"\",IF(VLOOKUP(C155,'WK 6'!$K$6:$L$41,2,FALSE)=0,\"\",VLOOKUP(C155,'WK 6'!$K$6:$L$41,2,FALSE)))","v":""},{"$f":"IF(ISNA(VLOOKUP(C155,'WK 7'!$K$6:$L$41,2,FALSE)=0),\"\",IF(VLOOKUP(C155,'WK 7'!$K$6:$L$41,2,FALSE)=0,\"\",VLOOKUP(C155,'WK 7'!$K$6:$L$41,2,FALSE)))","v":""},{"$f":"IF(ISNA(VLOOKUP(C155,'WK 8'!$K$6:$L$41,2,FALSE)=0),\"\",IF(VLOOKUP(C155,'WK 8'!$K$6:$L$41,2,FALSE)=0,\"\",VLOOKUP(C155,'WK 8'!$K$6:$L$41,2,FALSE)))","v":""},{"$f":"IF(ISNA(VLOOKUP(C155,'WK 9'!$K$6:$L$41,2,FALSE)=0),\"\",IF(VLOOKUP(C155,'WK 9'!$K$6:$L$41,2,FALSE)=0,\"\",VLOOKUP(C155,'WK 9'!$K$6:$L$41,2,FALSE)))","v":""},{"$f":"IF(ISNA(VLOOKUP(C155,'WK 10'!$K$6:$L$41,2,FALSE)=0),\"\",IF(VLOOKUP(C155,'WK 10'!$K$6:$L$41,2,FALSE)=0,\"\",VLOOKUP(C155,'WK 10'!$K$6:$L$41,2,FALSE)))","v":""},0]
[null,null,{"$f":"IF(ISNA(VLOOKUP('WK 5'!K16,$C$2:$C$145,1,FALSE)),VLOOKUP('WK 5'!K16,'WK 5'!$K$6:$K$450,1,FALSE),\"\")","v":""},null,{"$f":"IF(ISNA(VLOOKUP(C156,'WK 2'!$K$6:$L$41,2,FALSE)=0),\"\",IF(VLOOKUP(C156,'WK 2'!$K$6:$L$41,2,FALSE)=0,\"\",VLOOKUP(C156,'WK 2'!$K$6:$L$41,2,FALSE)))","v":""},{"$f":"IF(ISNA(VLOOKUP(C156,'WK 3'!$K$6:$L$41,2,FALSE)=0),\"\",IF(VLOOKUP(C156,'WK 3'!$K$6:$L$41,2,FALSE)=0,\"\",VLOOKUP(C156,'WK 3'!$K$6:$L$41,2,FALSE)))","v":""},{"$f":"IF(ISNA(VLOOKUP(C156,'WK 4'!$K$6:$L$41,2,FALSE)=0),\"\",IF(VLOOKUP(C156,'WK 4'!$K$6:$L$41,2,FALSE)=0,\"\",VLOOKUP(C156,'WK 4'!$K$6:$L$41,2,FALSE)))","v":""},{"$f":"IF(ISNA(VLOOKUP(C156,'WK 5'!$K$6:$L$41,2,FALSE)=0),\"\",IF(VLOOKUP(C156,'WK 5'!$K$6:$L$41,2,FALSE)=0,\"\",VLOOKUP(C156,'WK 5'!$K$6:$L$41,2,FALSE)))","v":""},{"$f":"IF(ISNA(VLOOKUP(C156,'WK 6'!$K$6:$L$41,2,FALSE)=0),\"\",IF(VLOOKUP(C156,'WK 6'!$K$6:$L$41,2,FALSE)=0,\"\",VLOOKUP(C156,'WK 6'!$K$6:$L$41,2,FALSE)))","v":""},{"$f":"IF(ISNA(VLOOKUP(C156,'WK 7'!$K$6:$L$41,2,FALSE)=0),\"\",IF(VLOOKUP(C156,'WK 7'!$K$6:$L$41,2,FALSE)=0,\"\",VLOOKUP(C156,'WK 7'!$K$6:$L$41,2,FALSE)))","v":""},{"$f":"IF(ISNA(VLOOKUP(C156,'WK 8'!$K$6:$L$41,2,FALSE)=0),\"\",IF(VLOOKUP(C156,'WK 8'!$K$6:$L$41,2,FALSE)=0,\"\",VLOOKUP(C156,'WK 8'!$K$6:$L$41,2,FALSE)))","v":""},{"$f":"IF(ISNA(VLOOKUP(C156,'WK 9'!$K$6:$L$41,2,FALSE)=0),\"\",IF(VLOOKUP(C156,'WK 9'!$K$6:$L$41,2,FALSE)=0,\"\",VLOOKUP(C156,'WK 9'!$K$6:$L$41,2,FALSE)))","v":""},{"$f":"IF(ISNA(VLOOKUP(C156,'WK 10'!$K$6:$L$41,2,FALSE)=0),\"\",IF(VLOOKUP(C156,'WK 10'!$K$6:$L$41,2,FALSE)=0,\"\",VLOOKUP(C156,'WK 10'!$K$6:$L$41,2,FALSE)))","v":""},0]
[null,null,{"$f":"IF(ISNA(VLOOKUP('WK 5'!K17,$C$2:$C$145,1,FALSE)),VLOOKUP('WK 5'!K17,'WK 5'!$K$6:$K$450,1,FALSE),\"\")","v":""},null,{"$f":"IF(ISNA(VLOOKUP(C157,'WK 2'!$K$6:$L$41,2,FALSE)=0),\"\",IF(VLOOKUP(C157,'WK 2'!$K$6:$L$41,2,FALSE)=0,\"\",VLOOKUP(C157,'WK 2'!$K$6:$L$41,2,FALSE)))","v":""},{"$f":"IF(ISNA(VLOOKUP(C157,'WK 3'!$K$6:$L$41,2,FALSE)=0),\"\",IF(VLOOKUP(C157,'WK 3'!$K$6:$L$41,2,FALSE)=0,\"\",VLOOKUP(C157,'WK 3'!$K$6:$L$41,2,FALSE)))","v":""},{"$f":"IF(ISNA(VLOOKUP(C157,'WK 4'!$K$6:$L$41,2,FALSE)=0),\"\",IF(VLOOKUP(C157,'WK 4'!$K$6:$L$41,2,FALSE)=0,\"\",VLOOKUP(C157,'WK 4'!$K$6:$L$41,2,FALSE)))","v":""},{"$f":"IF(ISNA(VLOOKUP(C157,'WK 5'!$K$6:$L$41,2,FALSE)=0),\"\",IF(VLOOKUP(C157,'WK 5'!$K$6:$L$41,2,FALSE)=0,\"\",VLOOKUP(C157,'WK 5'!$K$6:$L$41,2,FALSE)))","v":""},{"$f":"IF(ISNA(VLOOKUP(C157,'WK 6'!$K$6:$L$41,2,FALSE)=0),\"\",IF(VLOOKUP(C157,'WK 6'!$K$6:$L$41,2,FALSE)=0,\"\",VLOOKUP(C157,'WK 6'!$K$6:$L$41,2,FALSE)))","v":""},{"$f":"IF(ISNA(VLOOKUP(C157,'WK 7'!$K$6:$L$41,2,FALSE)=0),\"\",IF(VLOOKUP(C157,'WK 7'!$K$6:$L$41,2,FALSE)=0,\"\",VLOOKUP(C157,'WK 7'!$K$6:$L$41,2,FALSE)))","v":""},{"$f":"IF(ISNA(VLOOKUP(C157,'WK 8'!$K$6:$L$41,2,FALSE)=0),\"\",IF(VLOOKUP(C157,'WK 8'!$K$6:$L$41,2,FALSE)=0,\"\",VLOOKUP(C157,'WK 8'!$K$6:$L$41,2,FALSE)))","v":""},{"$f":"IF(ISNA(VLOOKUP(C157,'WK 9'!$K$6:$L$41,2,FALSE)=0),\"\",IF(VLOOKUP(C157,'WK 9'!$K$6:$L$41,2,FALSE)=0,\"\",VLOOKUP(C157,'WK 9'!$K$6:$L$41,2,FALSE)))","v":""},{"$f":"IF(ISNA(VLOOKUP(C157,'WK 10'!$K$6:$L$41,2,FALSE)=0),\"\",IF(VLOOKUP(C157,'WK 10'!$K$6:$L$41,2,FALSE)=0,\"\",VLOOKUP(C157,'WK 10'!$K$6:$L$41,2,FALSE)))","v":""},0]
[null,null,{"$f":"IF(ISNA(VLOOKUP('WK 5'!K18,$C$2:$C$145,1,FALSE)),VLOOKUP('WK 5'!K18,'WK 5'!$K$6:$K$450,1,FALSE),\"\")","v":""},null,{"$f":"IF(ISNA(VLOOKUP(C158,'WK 2'!$K$6:$L$41,2,FALSE)=0),\"\",IF(VLOOKUP(C158,'WK 2'!$K$6:$L$41,2,FALSE)=0,\"\",VLOOKUP(C158,'WK 2'!$K$6:$L$41,2,FALSE)))","v":""},{"$f":"IF(ISNA(VLOOKUP(C158,'WK 3'!$K$6:$L$41,2,FALSE)=0),\"\",IF(VLOOKUP(C158,'WK 3'!$K$6:$L$41,2,FALSE)=0,\"\",VLOOKUP(C158,'WK 3'!$K$6:$L$41,2,FALSE)))","v":""},{"$f":"IF(ISNA(VLOOKUP(C158,'WK 4'!$K$6:$L$41,2,FALSE)=0),\"\",IF(VLOOKUP(C158,'WK 4'!$K$6:$L$41,2,FALSE)=0,\"\",VLOOKUP(C158,'WK 4'!$K$6:$L$41,2,FALSE)))","v":""},{"$f":"IF(ISNA(VLOOKUP(C158,'WK 5'!$K$6:$L$41,2,FALSE)=0),\"\",IF(VLOOKUP(C158,'WK 5'!$K$6:$L$41,2,FALSE)=0,\"\",VLOOKUP(C158,'WK 5'!$K$6:$L$41,2,FALSE)))","v":""},{"$f":"IF(ISNA(VLOOKUP(C158,'WK 6'!$K$6:$L$41,2,FALSE)=0),\"\",IF(VLOOKUP(C158,'WK 6'!$K$6:$L$41,2,FALSE)=0,\"\",VLOOKUP(C158,'WK 6'!$K$6:$L$41,2,FALSE)))","v":""},{"$f":"IF(ISNA(VLOOKUP(C158,'WK 7'!$K$6:$L$41,2,FALSE)=0),\"\",IF(VLOOKUP(C158,'WK 7'!$K$6:$L$41,2,FALSE)=0,\"\",VLOOKUP(C158,'WK 7'!$K$6:$L$41,2,FALSE)))","v":""},{"$f":"IF(ISNA(VLOOKUP(C158,'WK 8'!$K$6:$L$41,2,FALSE)=0),\"\",IF(VLOOKUP(C158,'WK 8'!$K$6:$L$41,2,FALSE)=0,\"\",VLOOKUP(C158,'WK 8'!$K$6:$L$41,2,FALSE)))","v":""},{"$f":"IF(ISNA(VLOOKUP(C158,'WK 9'!$K$6:$L$41,2,FALSE)=0),\"\",IF(VLOOKUP(C158,'WK 9'!$K$6:$L$41,2,FALSE)=0,\"\",VLOOKUP(C158,'WK 9'!$K$6:$L$41,2,FALSE)))","v":""},{"$f":"IF(ISNA(VLOOKUP(C158,'WK 10'!$K$6:$L$41,2,FALSE)=0),\"\",IF(VLOOKUP(C158,'WK 10'!$K$6:$L$41,2,FALSE)=0,\"\",VLOOKUP(C158,'WK 10'!$K$6:$L$41,2,FALSE)))","v":""},0]
[null,null,{"$f":"IF(ISNA(VLOOKUP('WK 5'!K19,$C$2:$C$145,1,FALSE)),VLOOKUP('WK 5'!K19,'WK 5'!$K$6:$K$450,1,FALSE),\"\")","v":""},null,{"$f":"IF(ISNA(VLOOKUP(C159,'WK 2'!$K$6:$L$41,2,FALSE)=0),\"\",IF(VLOOKUP(C159,'WK 2'!$K$6:$L$41,2,FALSE)=0,\"\",VLOOKUP(C159,'WK 2'!$K$6:$L$41,2,FALSE)))","v":""},{"$f":"IF(ISNA(VLOOKUP(C159,'WK 3'!$K$6:$L$41,2,FALSE)=0),\"\",IF(VLOOKUP(C159,'WK 3'!$K$6:$L$41,2,FALSE)=0,\"\",VLOOKUP(C159,'WK 3'!$K$6:$L$41,2,FALSE)))","v":""},{"$f":"IF(ISNA(VLOOKUP(C159,'WK 4'!$K$6:$L$41,2,FALSE)=0),\"\",IF(VLOOKUP(C159,'WK 4'!$K$6:$L$41,2,FALSE)=0,\"\",VLOOKUP(C159,'WK 4'!$K$6:$L$41,2,FALSE)))","v":""},{"$f":"IF(ISNA(VLOOKUP(C159,'WK 5'!$K$6:$L$41,2,FALSE)=0),\"\",IF(VLOOKUP(C159,'WK 5'!$K$6:$L$41,2,FALSE)=0,\"\",VLOOKUP(C159,'WK 5'!$K$6:$L$41,2,FALSE)))","v":""},{"$f":"IF(ISNA(VLOOKUP(C159,'WK 6'!$K$6:$L$41,2,FALSE)=0),\"\",IF(VLOOKUP(C159,'WK 6'!$K$6:$L$41,2,FALSE)=0,\"\",VLOOKUP(C159,'WK 6'!$K$6:$L$41,2,FALSE)))","v":""},{"$f":"IF(ISNA(VLOOKUP(C159,'WK 7'!$K$6:$L$41,2,FALSE)=0),\"\",IF(VLOOKUP(C159,'WK 7'!$K$6:$L$41,2,FALSE)=0,\"\",VLOOKUP(C159,'WK 7'!$K$6:$L$41,2,FALSE)))","v":""},{"$f":"IF(ISNA(VLOOKUP(C159,'WK 8'!$K$6:$L$41,2,FALSE)=0),\"\",IF(VLOOKUP(C159,'WK 8'!$K$6:$L$41,2,FALSE)=0,\"\",VLOOKUP(C159,'WK 8'!$K$6:$L$41,2,FALSE)))","v":""},{"$f":"IF(ISNA(VLOOKUP(C159,'WK 9'!$K$6:$L$41,2,FALSE)=0),\"\",IF(VLOOKUP(C159,'WK 9'!$K$6:$L$41,2,FALSE)=0,\"\",VLOOKUP(C159,'WK 9'!$K$6:$L$41,2,FALSE)))","v":""},{"$f":"IF(ISNA(VLOOKUP(C159,'WK 10'!$K$6:$L$41,2,FALSE)=0),\"\",IF(VLOOKUP(C159,'WK 10'!$K$6:$L$41,2,FALSE)=0,\"\",VLOOKUP(C159,'WK 10'!$K$6:$L$41,2,FALSE)))","v":""},0]
[null,null,{"$f":"IF(ISNA(VLOOKUP('WK 5'!K20,$C$2:$C$145,1,FALSE)),VLOOKUP('WK 5'!K20,'WK 5'!$K$6:$K$450,1,FALSE),\"\")","v":""},null,{"$f":"IF(ISNA(VLOOKUP(C160,'WK 2'!$K$6:$L$41,2,FALSE)=0),\"\",IF(VLOOKUP(C160,'WK 2'!$K$6:$L$41,2,FALSE)=0,\"\",VLOOKUP(C160,'WK 2'!$K$6:$L$41,2,FALSE)))","v":""},{"$f":"IF(ISNA(VLOOKUP(C160,'WK 3'!$K$6:$L$41,2,FALSE)=0),\"\",IF(VLOOKUP(C160,'WK 3'!$K$6:$L$41,2,FALSE)=0,\"\",VLOOKUP(C160,'WK 3'!$K$6:$L$41,2,FALSE)))","v":""},{"$f":"IF(ISNA(VLOOKUP(C160,'WK 4'!$K$6:$L$41,2,FALSE)=0),\"\",IF(VLOOKUP(C160,'WK 4'!$K$6:$L$41,2,FALSE)=0,\"\",VLOOKUP(C160,'WK 4'!$K$6:$L$41,2,FALSE)))","v":""},{"$f":"IF(ISNA(VLOOKUP(C160,'WK 5'!$K$6:$L$41,2,FALSE)=0),\"\",IF(VLOOKUP(C160,'WK 5'!$K$6:$L$41,2,FALSE)=0,\"\",VLOOKUP(C160,'WK 5'!$K$6:$L$41,2,FALSE)))","v":""},{"$f":"IF(ISNA(VLOOKUP(C160,'WK 6'!$K$6:$L$41,2,FALSE)=0),\"\",IF(VLOOKUP(C160,'WK 6'!$K$6:$L$41,2,FALSE)=0,\"\",VLOOKUP(C160,'WK 6'!$K$6:$L$41,2,FALSE)))","v":""},{"$f":"IF(ISNA(VLOOKUP(C160,'WK 7'!$K$6:$L$41,2,FALSE)=0),\"\",IF(VLOOKUP(C160,'WK 7'!$K$6:$L$41,2,FALSE)=0,\"\",VLOOKUP(C160,'WK 7'!$K$6:$L$41,2,FALSE)))","v":""},{"$f":"IF(ISNA(VLOOKUP(C160,'WK 8'!$K$6:$L$41,2,FALSE)=0),\"\",IF(VLOOKUP(C160,'WK 8'!$K$6:$L$41,2,FALSE)=0,\"\",VLOOKUP(C160,'WK 8'!$K$6:$L$41,2,FALSE)))","v":""},{"$f":"IF(ISNA(VLOOKUP(C160,'WK 9'!$K$6:$L$41,2,FALSE)=0),\"\",IF(VLOOKUP(C160,'WK 9'!$K$6:$L$41,2,FALSE)=0,\"\",VLOOKUP(C160,'WK 9'!$K$6:$L$41,2,FALSE)))","v":""},{"$f":"IF(ISNA(VLOOKUP(C160,'WK 10'!$K$6:$L$41,2,FALSE)=0),\"\",IF(VLOOKUP(C160,'WK 10'!$K$6:$L$41,2,FALSE)=0,\"\",VLOOKUP(C160,'WK 10'!$K$6:$L$41,2,FALSE)))","v":""},0]
[null,null,{"$f":"IF(ISNA(VLOOKUP('WK 5'!K21,$C$2:$C$145,1,FALSE)),VLOOKUP('WK 5'!K21,'WK 5'!$K$6:$K$450,1,FALSE),\"\")","v":""},null,{"$f":"IF(ISNA(VLOOKUP(C161,'WK 2'!$K$6:$L$41,2,FALSE)=0),\"\",IF(VLOOKUP(C161,'WK 2'!$K$6:$L$41,2,FALSE)=0,\"\",VLOOKUP(C161,'WK 2'!$K$6:$L$41,2,FALSE)))","v":""},{"$f":"IF(ISNA(VLOOKUP(C161,'WK 3'!$K$6:$L$41,2,FALSE)=0),\"\",IF(VLOOKUP(C161,'WK 3'!$K$6:$L$41,2,FALSE)=0,\"\",VLOOKUP(C161,'WK 3'!$K$6:$L$41,2,FALSE)))","v":""},{"$f":"IF(ISNA(VLOOKUP(C161,'WK 4'!$K$6:$L$41,2,FALSE)=0),\"\",IF(VLOOKUP(C161,'WK 4'!$K$6:$L$41,2,FALSE)=0,\"\",VLOOKUP(C161,'WK 4'!$K$6:$L$41,2,FALSE)))","v":""},{"$f":"IF(ISNA(VLOOKUP(C161,'WK 5'!$K$6:$L$41,2,FALSE)=0),\"\",IF(VLOOKUP(C161,'WK 5'!$K$6:$L$41,2,FALSE)=0,\"\",VLOOKUP(C161,'WK 5'!$K$6:$L$41,2,FALSE)))","v":""},{"$f":"IF(ISNA(VLOOKUP(C161,'WK 6'!$K$6:$L$41,2,FALSE)=0),\"\",IF(VLOOKUP(C161,'WK 6'!$K$6:$L$41,2,FALSE)=0,\"\",VLOOKUP(C161,'WK 6'!$K$6:$L$41,2,FALSE)))","v":""},{"$f":"IF(ISNA(VLOOKUP(C161,'WK 7'!$K$6:$L$41,2,FALSE)=0),\"\",IF(VLOOKUP(C161,'WK 7'!$K$6:$L$41,2,FALSE)=0,\"\",VLOOKUP(C161,'WK 7'!$K$6:$L$41,2,FALSE)))","v":""},{"$f":"IF(ISNA(VLOOKUP(C161,'WK 8'!$K$6:$L$41,2,FALSE)=0),\"\",IF(VLOOKUP(C161,'WK 8'!$K$6:$L$41,2,FALSE)=0,\"\",VLOOKUP(C161,'WK 8'!$K$6:$L$41,2,FALSE)))","v":""},{"$f":"IF(ISNA(VLOOKUP(C161,'WK 9'!$K$6:$L$41,2,FALSE)=0),\"\",IF(VLOOKUP(C161,'WK 9'!$K$6:$L$41,2,FALSE)=0,\"\",VLOOKUP(C161,'WK 9'!$K$6:$L$41,2,FALSE)))","v":""},{"$f":"IF(ISNA(VLOOKUP(C161,'WK 10'!$K$6:$L$41,2,FALSE)=0),\"\",IF(VLOOKUP(C161,'WK 10'!$K$6:$L$41,2,FALSE)=0,\"\",VLOOKUP(C161,'WK 10'!$K$6:$L$41,2,FALSE)))","v":""},0]
[null,null,{"$f":"IF(ISNA(VLOOKUP('WK 5'!K22,$C$2:$C$145,1,FALSE)),VLOOKUP('WK 5'!K22,'WK 5'!$K$6:$K$450,1,FALSE),\"\")","v":""},null,{"$f":"IF(ISNA(VLOOKUP(C162,'WK 2'!$K$6:$L$41,2,FALSE)=0),\"\",IF(VLOOKUP(C162,'WK 2'!$K$6:$L$41,2,FALSE)=0,\"\",VLOOKUP(C162,'WK 2'!$K$6:$L$41,2,FALSE)))","v":""},{"$f":"IF(ISNA(VLOOKUP(C162,'WK 3'!$K$6:$L$41,2,FALSE)=0),\"\",IF(VLOOKUP(C162,'WK 3'!$K$6:$L$41,2,FALSE)=0,\"\",VLOOKUP(C162,'WK 3'!$K$6:$L$41,2,FALSE)))","v":""},{"$f":"IF(ISNA(VLOOKUP(C162,'WK 4'!$K$6:$L$41,2,FALSE)=0),\"\",IF(VLOOKUP(C162,'WK 4'!$K$6:$L$41,2,FALSE)=0,\"\",VLOOKUP(C162,'WK 4'!$K$6:$L$41,2,FALSE)))","v":""},{"$f":"IF(ISNA(VLOOKUP(C162,'WK 5'!$K$6:$L$41,2,FALSE)=0),\"\",IF(VLOOKUP(C162,'WK 5'!$K$6:$L$41,2,FALSE)=0,\"\",VLOOKUP(C162,'WK 5'!$K$6:$L$41,2,FALSE)))","v":""},{"$f":"IF(ISNA(VLOOKUP(C162,'WK 6'!$K$6:$L$41,2,FALSE)=0),\"\",IF(VLOOKUP(C162,'WK 6'!$K$6:$L$41,2,FALSE)=0,\"\",VLOOKUP(C162,'WK 6'!$K$6:$L$41,2,FALSE)))","v":""},{"$f":"IF(ISNA(VLOOKUP(C162,'WK 7'!$K$6:$L$41,2,FALSE)=0),\"\",IF(VLOOKUP(C162,'WK 7'!$K$6:$L$41,2,FALSE)=0,\"\",VLOOKUP(C162,'WK 7'!$K$6:$L$41,2,FALSE)))","v":""},{"$f":"IF(ISNA(VLOOKUP(C162,'WK 8'!$K$6:$L$41,2,FALSE)=0),\"\",IF(VLOOKUP(C162,'WK 8'!$K$6:$L$41,2,FALSE)=0,\"\",VLOOKUP(C162,'WK 8'!$K$6:$L$41,2,FALSE)))","v":""},{"$f":"IF(ISNA(VLOOKUP(C162,'WK 9'!$K$6:$L$41,2,FALSE)=0),\"\",IF(VLOOKUP(C162,'WK 9'!$K$6:$L$41,2,FALSE)=0,\"\",VLOOKUP(C162,'WK 9'!$K$6:$L$41,2,FALSE)))","v":""},{"$f":"IF(ISNA(VLOOKUP(C162,'WK 10'!$K$6:$L$41,2,FALSE)=0),\"\",IF(VLOOKUP(C162,'WK 10'!$K$6:$L$41,2,FALSE)=0,\"\",VLOOKUP(C162,'WK 10'!$K$6:$L$41,2,FALSE)))","v":""},0]
[null,null,{"$f":"IF(ISNA(VLOOKUP('WK 5'!K23,$C$2:$C$145,1,FALSE)),VLOOKUP('WK 5'!K23,'WK 5'!$K$6:$K$450,1,FALSE),\"\")","v":""},null,{"$f":"IF(ISNA(VLOOKUP(C163,'WK 2'!$K$6:$L$41,2,FALSE)=0),\"\",IF(VLOOKUP(C163,'WK 2'!$K$6:$L$41,2,FALSE)=0,\"\",VLOOKUP(C163,'WK 2'!$K$6:$L$41,2,FALSE)))","v":""},{"$f":"IF(ISNA(VLOOKUP(C163,'WK 3'!$K$6:$L$41,2,FALSE)=0),\"\",IF(VLOOKUP(C163,'WK 3'!$K$6:$L$41,2,FALSE)=0,\"\",VLOOKUP(C163,'WK 3'!$K$6:$L$41,2,FALSE)))","v":""},{"$f":"IF(ISNA(VLOOKUP(C163,'WK 4'!$K$6:$L$41,2,FALSE)=0),\"\",IF(VLOOKUP(C163,'WK 4'!$K$6:$L$41,2,FALSE)=0,\"\",VLOOKUP(C163,'WK 4'!$K$6:$L$41,2,FALSE)))","v":""},{"$f":"IF(ISNA(VLOOKUP(C163,'WK 5'!$K$6:$L$41,2,FALSE)=0),\"\",IF(VLOOKUP(C163,'WK 5'!$K$6:$L$41,2,FALSE)=0,\"\",VLOOKUP(C163,'WK 5'!$K$6:$L$41,2,FALSE)))","v":""},{"$f":"IF(ISNA(VLOOKUP(C163,'WK 6'!$K$6:$L$41,2,FALSE)=0),\"\",IF(VLOOKUP(C163,'WK 6'!$K$6:$L$41,2,FALSE)=0,\"\",VLOOKUP(C163,'WK 6'!$K$6:$L$41,2,FALSE)))","v":""},{"$f":"IF(ISNA(VLOOKUP(C163,'WK 7'!$K$6:$L$41,2,FALSE)=0),\"\",IF(VLOOKUP(C163,'WK 7'!$K$6:$L$41,2,FALSE)=0,\"\",VLOOKUP(C163,'WK 7'!$K$6:$L$41,2,FALSE)))","v":""},{"$f":"IF(ISNA(VLOOKUP(C163,'WK 8'!$K$6:$L$41,2,FALSE)=0),\"\",IF(VLOOKUP(C163,'WK 8'!$K$6:$L$41,2,FALSE)=0,\"\",VLOOKUP(C163,'WK 8'!$K$6:$L$41,2,FALSE)))","v":""},{"$f":"IF(ISNA(VLOOKUP(C163,'WK 9'!$K$6:$L$41,2,FALSE)=0),\"\",IF(VLOOKUP(C163,'WK 9'!$K$6:$L$41,2,FALSE)=0,\"\",VLOOKUP(C163,'WK 9'!$K$6:$L$41,2,FALSE)))","v":""},{"$f":"IF(ISNA(VLOOKUP(C163,'WK 10'!$K$6:$L$41,2,FALSE)=0),\"\",IF(VLOOKUP(C163,'WK 10'!$K$6:$L$41,2,FALSE)=0,\"\",VLOOKUP(C163,'WK 10'!$K$6:$L$41,2,FALSE)))","v":""},0]
[null,null,{"$f":"IF(ISNA(VLOOKUP('WK 5'!K24,$C$2:$C$145,1,FALSE)),VLOOKUP('WK 5'!K24,'WK 5'!$K$6:$K$450,1,FALSE),\"\")","v":""},null,{"$f":"IF(ISNA(VLOOKUP(C164,'WK 2'!$K$6:$L$41,2,FALSE)=0),\"\",IF(VLOOKUP(C164,'WK 2'!$K$6:$L$41,2,FALSE)=0,\"\",VLOOKUP(C164,'WK 2'!$K$6:$L$41,2,FALSE)))","v":""},{"$f":"IF(ISNA(VLOOKUP(C164,'WK 3'!$K$6:$L$41,2,FALSE)=0),\"\",IF(VLOOKUP(C164,'WK 3'!$K$6:$L$41,2,FALSE)=0,\"\",VLOOKUP(C164,'WK 3'!$K$6:$L$41,2,FALSE)))","v":""},{"$f":"IF(ISNA(VLOOKUP(C164,'WK 4'!$K$6:$L$41,2,FALSE)=0),\"\",IF(VLOOKUP(C164,'WK 4'!$K$6:$L$41,2,FALSE)=0,\"\",VLOOKUP(C164,'WK 4'!$K$6:$L$41,2,FALSE)))","v":""},{"$f":"IF(ISNA(VLOOKUP(C164,'WK 5'!$K$6:$L$41,2,FALSE)=0),\"\",IF(VLOOKUP(C164,'WK 5'!$K$6:$L$41,2,FALSE)=0,\"\",VLOOKUP(C164,'WK 5'!$K$6:$L$41,2,FALSE)))","v":""},{"$f":"IF(ISNA(VLOOKUP(C164,'WK 6'!$K$6:$L$41,2,FALSE)=0),\"\",IF(VLOOKUP(C164,'WK 6'!$K$6:$L$41,2,FALSE)=0,\"\",VLOOKUP(C164,'WK 6'!$K$6:$L$41,2,FALSE)))","v":""},{"$f":"IF(ISNA(VLOOKUP(C164,'WK 7'!$K$6:$L$41,2,FALSE)=0),\"\",IF(VLOOKUP(C164,'WK 7'!$K$6:$L$41,2,FALSE)=0,\"\",VLOOKUP(C164,'WK 7'!$K$6:$L$41,2,FALSE)))","v":""},{"$f":"IF(ISNA(VLOOKUP(C164,'WK 8'!$K$6:$L$41,2,FALSE)=0),\"\",IF(VLOOKUP(C164,'WK 8'!$K$6:$L$41,2,FALSE)=0,\"\",VLOOKUP(C164,'WK 8'!$K$6:$L$41,2,FALSE)))","v":""},{"$f":"IF(ISNA(VLOOKUP(C164,'WK 9'!$K$6:$L$41,2,FALSE)=0),\"\",IF(VLOOKUP(C164,'WK 9'!$K$6:$L$41,2,FALSE)=0,\"\",VLOOKUP(C164,'WK 9'!$K$6:$L$41,2,FALSE)))","v":""},{"$f":"IF(ISNA(VLOOKUP(C164,'WK 10'!$K$6:$L$41,2,FALSE)=0),\"\",IF(VLOOKUP(C164,'WK 10'!$K$6:$L$41,2,FALSE)=0,\"\",VLOOKUP(C164,'WK 10'!$K$6:$L$41,2,FALSE)))","v":""},0]
[null,null,{"$f":"IF(ISNA(VLOOKUP('WK 5'!K25,$C$2:$C$145,1,FALSE)),VLOOKUP('WK 5'!K25,'WK 5'!$K$6:$K$450,1,FALSE),\"\")","v":""},null,{"$f":"IF(ISNA(VLOOKUP(C165,'WK 2'!$K$6:$L$41,2,FALSE)=0),\"\",IF(VLOOKUP(C165,'WK 2'!$K$6:$L$41,2,FALSE)=0,\"\",VLOOKUP(C165,'WK 2'!$K$6:$L$41,2,FALSE)))","v":""},{"$f":"IF(ISNA(VLOOKUP(C165,'WK 3'!$K$6:$L$41,2,FALSE)=0),\"\",IF(VLOOKUP(C165,'WK 3'!$K$6:$L$41,2,FALSE)=0,\"\",VLOOKUP(C165,'WK 3'!$K$6:$L$41,2,FALSE)))","v":""},{"$f":"IF(ISNA(VLOOKUP(C165,'WK 4'!$K$6:$L$41,2,FALSE)=0),\"\",IF(VLOOKUP(C165,'WK 4'!$K$6:$L$41,2,FALSE)=0,\"\",VLOOKUP(C165,'WK 4'!$K$6:$L$41,2,FALSE)))","v":""},{"$f":"IF(ISNA(VLOOKUP(C165,'WK 5'!$K$6:$L$41,2,FALSE)=0),\"\",IF(VLOOKUP(C165,'WK 5'!$K$6:$L$41,2,FALSE)=0,\"\",VLOOKUP(C165,'WK 5'!$K$6:$L$41,2,FALSE)))","v":""},{"$f":"IF(ISNA(VLOOKUP(C165,'WK 6'!$K$6:$L$41,2,FALSE)=0),\"\",IF(VLOOKUP(C165,'WK 6'!$K$6:$L$41,2,FALSE)=0,\"\",VLOOKUP(C165,'WK 6'!$K$6:$L$41,2,FALSE)))","v":""},{"$f":"IF(ISNA(VLOOKUP(C165,'WK 7'!$K$6:$L$41,2,FALSE)=0),\"\",IF(VLOOKUP(C165,'WK 7'!$K$6:$L$41,2,FALSE)=0,\"\",VLOOKUP(C165,'WK 7'!$K$6:$L$41,2,FALSE)))","v":""},{"$f":"IF(ISNA(VLOOKUP(C165,'WK 8'!$K$6:$L$41,2,FALSE)=0),\"\",IF(VLOOKUP(C165,'WK 8'!$K$6:$L$41,2,FALSE)=0,\"\",VLOOKUP(C165,'WK 8'!$K$6:$L$41,2,FALSE)))","v":""},{"$f":"IF(ISNA(VLOOKUP(C165,'WK 9'!$K$6:$L$41,2,FALSE)=0),\"\",IF(VLOOKUP(C165,'WK 9'!$K$6:$L$41,2,FALSE)=0,\"\",VLOOKUP(C165,'WK 9'!$K$6:$L$41,2,FALSE)))","v":""},{"$f":"IF(ISNA(VLOOKUP(C165,'WK 10'!$K$6:$L$41,2,FALSE)=0),\"\",IF(VLOOKUP(C165,'WK 10'!$K$6:$L$41,2,FALSE)=0,\"\",VLOOKUP(C165,'WK 10'!$K$6:$L$41,2,FALSE)))","v":""},0]
[null,null,{"$f":"IF(ISNA(VLOOKUP('WK 5'!K26,$C$2:$C$145,1,FALSE)),VLOOKUP('WK 5'!K26,'WK 5'!$K$6:$K$450,1,FALSE),\"\")","v":""},null,{"$f":"IF(ISNA(VLOOKUP(C166,'WK 2'!$K$6:$L$41,2,FALSE)=0),\"\",IF(VLOOKUP(C166,'WK 2'!$K$6:$L$41,2,FALSE)=0,\"\",VLOOKUP(C166,'WK 2'!$K$6:$L$41,2,FALSE)))","v":""},{"$f":"IF(ISNA(VLOOKUP(C166,'WK 3'!$K$6:$L$41,2,FALSE)=0),\"\",IF(VLOOKUP(C166,'WK 3'!$K$6:$L$41,2,FALSE)=0,\"\",VLOOKUP(C166,'WK 3'!$K$6:$L$41,2,FALSE)))","v":""},{"$f":"IF(ISNA(VLOOKUP(C166,'WK 4'!$K$6:$L$41,2,FALSE)=0),\"\",IF(VLOOKUP(C166,'WK 4'!$K$6:$L$41,2,FALSE)=0,\"\",VLOOKUP(C166,'WK 4'!$K$6:$L$41,2,FALSE)))","v":""},{"$f":"IF(ISNA(VLOOKUP(C166,'WK 5'!$K$6:$L$41,2,FALSE)=0),\"\",IF(VLOOKUP(C166,'WK 5'!$K$6:$L$41,2,FALSE)=0,\"\",VLOOKUP(C166,'WK 5'!$K$6:$L$41,2,FALSE)))","v":""},{"$f":"IF(ISNA(VLOOKUP(C166,'WK 6'!$K$6:$L$41,2,FALSE)=0),\"\",IF(VLOOKUP(C166,'WK 6'!$K$6:$L$41,2,FALSE)=0,\"\",VLOOKUP(C166,'WK 6'!$K$6:$L$41,2,FALSE)))","v":""},{"$f":"IF(ISNA(VLOOKUP(C166,'WK 7'!$K$6:$L$41,2,FALSE)=0),\"\",IF(VLOOKUP(C166,'WK 7'!$K$6:$L$41,2,FALSE)=0,\"\",VLOOKUP(C166,'WK 7'!$K$6:$L$41,2,FALSE)))","v":""},{"$f":"IF(ISNA(VLOOKUP(C166,'WK 8'!$K$6:$L$41,2,FALSE)=0),\"\",IF(VLOOKUP(C166,'WK 8'!$K$6:$L$41,2,FALSE)=0,\"\",VLOOKUP(C166,'WK 8'!$K$6:$L$41,2,FALSE)))","v":""},{"$f":"IF(ISNA(VLOOKUP(C166,'WK 9'!$K$6:$L$41,2,FALSE)=0),\"\",IF(VLOOKUP(C166,'WK 9'!$K$6:$L$41,2,FALSE)=0,\"\",VLOOKUP(C166,'WK 9'!$K$6:$L$41,2,FALSE)))","v":""},{"$f":"IF(ISNA(VLOOKUP(C166,'WK 10'!$K$6:$L$41,2,FALSE)=0),\"\",IF(VLOOKUP(C166,'WK 10'!$K$6:$L$41,2,FALSE)=0,\"\",VLOOKUP(C166,'WK 10'!$K$6:$L$41,2,FALSE)))","v":""},0]
[null,null,{"$f":"IF(ISNA(VLOOKUP('WK 5'!K27,$C$2:$C$145,1,FALSE)),VLOOKUP('WK 5'!K27,'WK 5'!$K$6:$K$450,1,FALSE),\"\")","v":""},null,{"$f":"IF(ISNA(VLOOKUP(C167,'WK 2'!$K$6:$L$41,2,FALSE)=0),\"\",IF(VLOOKUP(C167,'WK 2'!$K$6:$L$41,2,FALSE)=0,\"\",VLOOKUP(C167,'WK 2'!$K$6:$L$41,2,FALSE)))","v":""},{"$f":"IF(ISNA(VLOOKUP(C167,'WK 3'!$K$6:$L$41,2,FALSE)=0),\"\",IF(VLOOKUP(C167,'WK 3'!$K$6:$L$41,2,FALSE)=0,\"\",VLOOKUP(C167,'WK 3'!$K$6:$L$41,2,FALSE)))","v":""},{"$f":"IF(ISNA(VLOOKUP(C167,'WK 4'!$K$6:$L$41,2,FALSE)=0),\"\",IF(VLOOKUP(C167,'WK 4'!$K$6:$L$41,2,FALSE)=0,\"\",VLOOKUP(C167,'WK 4'!$K$6:$L$41,2,FALSE)))","v":""},{"$f":"IF(ISNA(VLOOKUP(C167,'WK 5'!$K$6:$L$41,2,FALSE)=0),\"\",IF(VLOOKUP(C167,'WK 5'!$K$6:$L$41,2,FALSE)=0,\"\",VLOOKUP(C167,'WK 5'!$K$6:$L$41,2,FALSE)))","v":""},{"$f":"IF(ISNA(VLOOKUP(C167,'WK 6'!$K$6:$L$41,2,FALSE)=0),\"\",IF(VLOOKUP(C167,'WK 6'!$K$6:$L$41,2,FALSE)=0,\"\",VLOOKUP(C167,'WK 6'!$K$6:$L$41,2,FALSE)))","v":""},{"$f":"IF(ISNA(VLOOKUP(C167,'WK 7'!$K$6:$L$41,2,FALSE)=0),\"\",IF(VLOOKUP(C167,'WK 7'!$K$6:$L$41,2,FALSE)=0,\"\",VLOOKUP(C167,'WK 7'!$K$6:$L$41,2,FALSE)))","v":""},{"$f":"IF(ISNA(VLOOKUP(C167,'WK 8'!$K$6:$L$41,2,FALSE)=0),\"\",IF(VLOOKUP(C167,'WK 8'!$K$6:$L$41,2,FALSE)=0,\"\",VLOOKUP(C167,'WK 8'!$K$6:$L$41,2,FALSE)))","v":""},{"$f":"IF(ISNA(VLOOKUP(C167,'WK 9'!$K$6:$L$41,2,FALSE)=0),\"\",IF(VLOOKUP(C167,'WK 9'!$K$6:$L$41,2,FALSE)=0,\"\",VLOOKUP(C167,'WK 9'!$K$6:$L$41,2,FALSE)))","v":""},{"$f":"IF(ISNA(VLOOKUP(C167,'WK 10'!$K$6:$L$41,2,FALSE)=0),\"\",IF(VLOOKUP(C167,'WK 10'!$K$6:$L$41,2,FALSE)=0,\"\",VLOOKUP(C167,'WK 10'!$K$6:$L$41,2,FALSE)))","v":""},0]
[null,null,{"$f":"IF(ISNA(VLOOKUP('WK 5'!K28,$C$2:$C$145,1,FALSE)),VLOOKUP('WK 5'!K28,'WK 5'!$K$6:$K$450,1,FALSE),\"\")","v":""},null,{"$f":"IF(ISNA(VLOOKUP(C168,'WK 2'!$K$6:$L$41,2,FALSE)=0),\"\",IF(VLOOKUP(C168,'WK 2'!$K$6:$L$41,2,FALSE)=0,\"\",VLOOKUP(C168,'WK 2'!$K$6:$L$41,2,FALSE)))","v":""},{"$f":"IF(ISNA(VLOOKUP(C168,'WK 3'!$K$6:$L$41,2,FALSE)=0),\"\",IF(VLOOKUP(C168,'WK 3'!$K$6:$L$41,2,FALSE)=0,\"\",VLOOKUP(C168,'WK 3'!$K$6:$L$41,2,FALSE)))","v":""},{"$f":"IF(ISNA(VLOOKUP(C168,'WK 4'!$K$6:$L$41,2,FALSE)=0),\"\",IF(VLOOKUP(C168,'WK 4'!$K$6:$L$41,2,FALSE)=0,\"\",VLOOKUP(C168,'WK 4'!$K$6:$L$41,2,FALSE)))","v":""},{"$f":"IF(ISNA(VLOOKUP(C168,'WK 5'!$K$6:$L$41,2,FALSE)=0),\"\",IF(VLOOKUP(C168,'WK 5'!$K$6:$L$41,2,FALSE)=0,\"\",VLOOKUP(C168,'WK 5'!$K$6:$L$41,2,FALSE)))","v":""},{"$f":"IF(ISNA(VLOOKUP(C168,'WK 6'!$K$6:$L$41,2,FALSE)=0),\"\",IF(VLOOKUP(C168,'WK 6'!$K$6:$L$41,2,FALSE)=0,\"\",VLOOKUP(C168,'WK 6'!$K$6:$L$41,2,FALSE)))","v":""},{"$f":"IF(ISNA(VLOOKUP(C168,'WK 7'!$K$6:$L$41,2,FALSE)=0),\"\",IF(VLOOKUP(C168,'WK 7'!$K$6:$L$41,2,FALSE)=0,\"\",VLOOKUP(C168,'WK 7'!$K$6:$L$41,2,FALSE)))","v":""},{"$f":"IF(ISNA(VLOOKUP(C168,'WK 8'!$K$6:$L$41,2,FALSE)=0),\"\",IF(VLOOKUP(C168,'WK 8'!$K$6:$L$41,2,FALSE)=0,\"\",VLOOKUP(C168,'WK 8'!$K$6:$L$41,2,FALSE)))","v":""},{"$f":"IF(ISNA(VLOOKUP(C168,'WK 9'!$K$6:$L$41,2,FALSE)=0),\"\",IF(VLOOKUP(C168,'WK 9'!$K$6:$L$41,2,FALSE)=0,\"\",VLOOKUP(C168,'WK 9'!$K$6:$L$41,2,FALSE)))","v":""},{"$f":"IF(ISNA(VLOOKUP(C168,'WK 10'!$K$6:$L$41,2,FALSE)=0),\"\",IF(VLOOKUP(C168,'WK 10'!$K$6:$L$41,2,FALSE)=0,\"\",VLOOKUP(C168,'WK 10'!$K$6:$L$41,2,FALSE)))","v":""},0]
[null,null,{"$f":"IF(ISNA(VLOOKUP('WK 5'!K29,$C$2:$C$145,1,FALSE)),VLOOKUP('WK 5'!K29,'WK 5'!$K$6:$K$450,1,FALSE),\"\")","v":""},null,{"$f":"IF(ISNA(VLOOKUP(C169,'WK 2'!$K$6:$L$41,2,FALSE)=0),\"\",IF(VLOOKUP(C169,'WK 2'!$K$6:$L$41,2,FALSE)=0,\"\",VLOOKUP(C169,'WK 2'!$K$6:$L$41,2,FALSE)))","v":""},{"$f":"IF(ISNA(VLOOKUP(C169,'WK 3'!$K$6:$L$41,2,FALSE)=0),\"\",IF(VLOOKUP(C169,'WK 3'!$K$6:$L$41,2,FALSE)=0,\"\",VLOOKUP(C169,'WK 3'!$K$6:$L$41,2,FALSE)))","v":""},{"$f":"IF(ISNA(VLOOKUP(C169,'WK 4'!$K$6:$L$41,2,FALSE)=0),\"\",IF(VLOOKUP(C169,'WK 4'!$K$6:$L$41,2,FALSE)=0,\"\",VLOOKUP(C169,'WK 4'!$K$6:$L$41,2,FALSE)))","v":""},{"$f":"IF(ISNA(VLOOKUP(C169,'WK 5'!$K$6:$L$41,2,FALSE)=0),\"\",IF(VLOOKUP(C169,'WK 5'!$K$6:$L$41,2,FALSE)=0,\"\",VLOOKUP(C169,'WK 5'!$K$6:$L$41,2,FALSE)))","v":""},{"$f":"IF(ISNA(VLOOKUP(C169,'WK 6'!$K$6:$L$41,2,FALSE)=0),\"\",IF(VLOOKUP(C169,'WK 6'!$K$6:$L$41,2,FALSE)=0,\"\",VLOOKUP(C169,'WK 6'!$K$6:$L$41,2,FALSE)))","v":""},{"$f":"IF(ISNA(VLOOKUP(C169,'WK 7'!$K$6:$L$41,2,FALSE)=0),\"\",IF(VLOOKUP(C169,'WK 7'!$K$6:$L$41,2,FALSE)=0,\"\",VLOOKUP(C169,'WK 7'!$K$6:$L$41,2,FALSE)))","v":""},{"$f":"IF(ISNA(VLOOKUP(C169,'WK 8'!$K$6:$L$41,2,FALSE)=0),\"\",IF(VLOOKUP(C169,'WK 8'!$K$6:$L$41,2,FALSE)=0,\"\",VLOOKUP(C169,'WK 8'!$K$6:$L$41,2,FALSE)))","v":""},{"$f":"IF(ISNA(VLOOKUP(C169,'WK 9'!$K$6:$L$41,2,FALSE)=0),\"\",IF(VLOOKUP(C169,'WK 9'!$K$6:$L$41,2,FALSE)=0,\"\",VLOOKUP(C169,'WK 9'!$K$6:$L$41,2,FALSE)))","v":""},{"$f":"IF(ISNA(VLOOKUP(C169,'WK 10'!$K$6:$L$41,2,FALSE)=0),\"\",IF(VLOOKUP(C169,'WK 10'!$K$6:$L$41,2,FALSE)=0,\"\",VLOOKUP(C169,'WK 10'!$K$6:$L$41,2,FALSE)))","v":""},0]
[null,null,{"$f":"IF(ISNA(VLOOKUP('WK 5'!K30,$C$2:$C$145,1,FALSE)),VLOOKUP('WK 5'!K30,'WK 5'!$K$6:$K$450,1,FALSE),\"\")","v":""},null,{"$f":"IF(ISNA(VLOOKUP(C170,'WK 2'!$K$6:$L$41,2,FALSE)=0),\"\",IF(VLOOKUP(C170,'WK 2'!$K$6:$L$41,2,FALSE)=0,\"\",VLOOKUP(C170,'WK 2'!$K$6:$L$41,2,FALSE)))","v":""},{"$f":"IF(ISNA(VLOOKUP(C170,'WK 3'!$K$6:$L$41,2,FALSE)=0),\"\",IF(VLOOKUP(C170,'WK 3'!$K$6:$L$41,2,FALSE)=0,\"\",VLOOKUP(C170,'WK 3'!$K$6:$L$41,2,FALSE)))","v":""},{"$f":"IF(ISNA(VLOOKUP(C170,'WK 4'!$K$6:$L$41,2,FALSE)=0),\"\",IF(VLOOKUP(C170,'WK 4'!$K$6:$L$41,2,FALSE)=0,\"\",VLOOKUP(C170,'WK 4'!$K$6:$L$41,2,FALSE)))","v":""},{"$f":"IF(ISNA(VLOOKUP(C170,'WK 5'!$K$6:$L$41,2,FALSE)=0),\"\",IF(VLOOKUP(C170,'WK 5'!$K$6:$L$41,2,FALSE)=0,\"\",VLOOKUP(C170,'WK 5'!$K$6:$L$41,2,FALSE)))","v":""},{"$f":"IF(ISNA(VLOOKUP(C170,'WK 6'!$K$6:$L$41,2,FALSE)=0),\"\",IF(VLOOKUP(C170,'WK 6'!$K$6:$L$41,2,FALSE)=0,\"\",VLOOKUP(C170,'WK 6'!$K$6:$L$41,2,FALSE)))","v":""},{"$f":"IF(ISNA(VLOOKUP(C170,'WK 7'!$K$6:$L$41,2,FALSE)=0),\"\",IF(VLOOKUP(C170,'WK 7'!$K$6:$L$41,2,FALSE)=0,\"\",VLOOKUP(C170,'WK 7'!$K$6:$L$41,2,FALSE)))","v":""},{"$f":"IF(ISNA(VLOOKUP(C170,'WK 8'!$K$6:$L$41,2,FALSE)=0),\"\",IF(VLOOKUP(C170,'WK 8'!$K$6:$L$41,2,FALSE)=0,\"\",VLOOKUP(C170,'WK 8'!$K$6:$L$41,2,FALSE)))","v":""},{"$f":"IF(ISNA(VLOOKUP(C170,'WK 9'!$K$6:$L$41,2,FALSE)=0),\"\",IF(VLOOKUP(C170,'WK 9'!$K$6:$L$41,2,FALSE)=0,\"\",VLOOKUP(C170,'WK 9'!$K$6:$L$41,2,FALSE)))","v":""},{"$f":"IF(ISNA(VLOOKUP(C170,'WK 10'!$K$6:$L$41,2,FALSE)=0),\"\",IF(VLOOKUP(C170,'WK 10'!$K$6:$L$41,2,FALSE)=0,\"\",VLOOKUP(C170,'WK 10'!$K$6:$L$41,2,FALSE)))","v":""},0]
[null,null,{"$f":"IF(ISNA(VLOOKUP('WK 5'!K31,$C$2:$C$145,1,FALSE)),VLOOKUP('WK 5'!K31,'WK 5'!$K$6:$K$450,1,FALSE),\"\")","v":""},null,{"$f":"IF(ISNA(VLOOKUP(C171,'WK 2'!$K$6:$L$41,2,FALSE)=0),\"\",IF(VLOOKUP(C171,'WK 2'!$K$6:$L$41,2,FALSE)=0,\"\",VLOOKUP(C171,'WK 2'!$K$6:$L$41,2,FALSE)))","v":""},{"$f":"IF(ISNA(VLOOKUP(C171,'WK 3'!$K$6:$L$41,2,FALSE)=0),\"\",IF(VLOOKUP(C171,'WK 3'!$K$6:$L$41,2,FALSE)=0,\"\",VLOOKUP(C171,'WK 3'!$K$6:$L$41,2,FALSE)))","v":""},{"$f":"IF(ISNA(VLOOKUP(C171,'WK 4'!$K$6:$L$41,2,FALSE)=0),\"\",IF(VLOOKUP(C171,'WK 4'!$K$6:$L$41,2,FALSE)=0,\"\",VLOOKUP(C171,'WK 4'!$K$6:$L$41,2,FALSE)))","v":""},{"$f":"IF(ISNA(VLOOKUP(C171,'WK 5'!$K$6:$L$41,2,FALSE)=0),\"\",IF(VLOOKUP(C171,'WK 5'!$K$6:$L$41,2,FALSE)=0,\"\",VLOOKUP(C171,'WK 5'!$K$6:$L$41,2,FALSE)))","v":""},{"$f":"IF(ISNA(VLOOKUP(C171,'WK 6'!$K$6:$L$41,2,FALSE)=0),\"\",IF(VLOOKUP(C171,'WK 6'!$K$6:$L$41,2,FALSE)=0,\"\",VLOOKUP(C171,'WK 6'!$K$6:$L$41,2,FALSE)))","v":""},{"$f":"IF(ISNA(VLOOKUP(C171,'WK 7'!$K$6:$L$41,2,FALSE)=0),\"\",IF(VLOOKUP(C171,'WK 7'!$K$6:$L$41,2,FALSE)=0,\"\",VLOOKUP(C171,'WK 7'!$K$6:$L$41,2,FALSE)))","v":""},{"$f":"IF(ISNA(VLOOKUP(C171,'WK 8'!$K$6:$L$41,2,FALSE)=0),\"\",IF(VLOOKUP(C171,'WK 8'!$K$6:$L$41,2,FALSE)=0,\"\",VLOOKUP(C171,'WK 8'!$K$6:$L$41,2,FALSE)))","v":""},{"$f":"IF(ISNA(VLOOKUP(C171,'WK 9'!$K$6:$L$41,2,FALSE)=0),\"\",IF(VLOOKUP(C171,'WK 9'!$K$6:$L$41,2,FALSE)=0,\"\",VLOOKUP(C171,'WK 9'!$K$6:$L$41,2,FALSE)))","v":""},{"$f":"IF(ISNA(VLOOKUP(C171,'WK 10'!$K$6:$L$41,2,FALSE)=0),\"\",IF(VLOOKUP(C171,'WK 10'!$K$6:$L$41,2,FALSE)=0,\"\",VLOOKUP(C171,'WK 10'!$K$6:$L$41,2,FALSE)))","v":""},0]
[null,null,{"$f":"IF(ISNA(VLOOKUP('WK 5'!K32,$C$2:$C$145,1,FALSE)),VLOOKUP('WK 5'!K32,'WK 5'!$K$6:$K$450,1,FALSE),\"\")","v":""},null,{"$f":"IF(ISNA(VLOOKUP(C172,'WK 2'!$K$6:$L$41,2,FALSE)=0),\"\",IF(VLOOKUP(C172,'WK 2'!$K$6:$L$41,2,FALSE)=0,\"\",VLOOKUP(C172,'WK 2'!$K$6:$L$41,2,FALSE)))","v":""},{"$f":"IF(ISNA(VLOOKUP(C172,'WK 3'!$K$6:$L$41,2,FALSE)=0),\"\",IF(VLOOKUP(C172,'WK 3'!$K$6:$L$41,2,FALSE)=0,\"\",VLOOKUP(C172,'WK 3'!$K$6:$L$41,2,FALSE)))","v":""},{"$f":"IF(ISNA(VLOOKUP(C172,'WK 4'!$K$6:$L$41,2,FALSE)=0),\"\",IF(VLOOKUP(C172,'WK 4'!$K$6:$L$41,2,FALSE)=0,\"\",VLOOKUP(C172,'WK 4'!$K$6:$L$41,2,FALSE)))","v":""},{"$f":"IF(ISNA(VLOOKUP(C172,'WK 5'!$K$6:$L$41,2,FALSE)=0),\"\",IF(VLOOKUP(C172,'WK 5'!$K$6:$L$41,2,FALSE)=0,\"\",VLOOKUP(C172,'WK 5'!$K$6:$L$41,2,FALSE)))","v":""},{"$f":"IF(ISNA(VLOOKUP(C172,'WK 6'!$K$6:$L$41,2,FALSE)=0),\"\",IF(VLOOKUP(C172,'WK 6'!$K$6:$L$41,2,FALSE)=0,\"\",VLOOKUP(C172,'WK 6'!$K$6:$L$41,2,FALSE)))","v":""},{"$f":"IF(ISNA(VLOOKUP(C172,'WK 7'!$K$6:$L$41,2,FALSE)=0),\"\",IF(VLOOKUP(C172,'WK 7'!$K$6:$L$41,2,FALSE)=0,\"\",VLOOKUP(C172,'WK 7'!$K$6:$L$41,2,FALSE)))","v":""},{"$f":"IF(ISNA(VLOOKUP(C172,'WK 8'!$K$6:$L$41,2,FALSE)=0),\"\",IF(VLOOKUP(C172,'WK 8'!$K$6:$L$41,2,FALSE)=0,\"\",VLOOKUP(C172,'WK 8'!$K$6:$L$41,2,FALSE)))","v":""},{"$f":"IF(ISNA(VLOOKUP(C172,'WK 9'!$K$6:$L$41,2,FALSE)=0),\"\",IF(VLOOKUP(C172,'WK 9'!$K$6:$L$41,2,FALSE)=0,\"\",VLOOKUP(C172,'WK 9'!$K$6:$L$41,2,FALSE)))","v":""},{"$f":"IF(ISNA(VLOOKUP(C172,'WK 10'!$K$6:$L$41,2,FALSE)=0),\"\",IF(VLOOKUP(C172,'WK 10'!$K$6:$L$41,2,FALSE)=0,\"\",VLOOKUP(C172,'WK 10'!$K$6:$L$41,2,FALSE)))","v":""},0]
[null,null,{"$f":"IF(ISNA(VLOOKUP('WK 5'!K33,$C$2:$C$145,1,FALSE)),VLOOKUP('WK 5'!K33,'WK 5'!$K$6:$K$450,1,FALSE),\"\")","v":""},null,{"$f":"IF(ISNA(VLOOKUP(C173,'WK 2'!$K$6:$L$41,2,FALSE)=0),\"\",IF(VLOOKUP(C173,'WK 2'!$K$6:$L$41,2,FALSE)=0,\"\",VLOOKUP(C173,'WK 2'!$K$6:$L$41,2,FALSE)))","v":""},{"$f":"IF(ISNA(VLOOKUP(C173,'WK 3'!$K$6:$L$41,2,FALSE)=0),\"\",IF(VLOOKUP(C173,'WK 3'!$K$6:$L$41,2,FALSE)=0,\"\",VLOOKUP(C173,'WK 3'!$K$6:$L$41,2,FALSE)))","v":""},{"$f":"IF(ISNA(VLOOKUP(C173,'WK 4'!$K$6:$L$41,2,FALSE)=0),\"\",IF(VLOOKUP(C173,'WK 4'!$K$6:$L$41,2,FALSE)=0,\"\",VLOOKUP(C173,'WK 4'!$K$6:$L$41,2,FALSE)))","v":""},{"$f":"IF(ISNA(VLOOKUP(C173,'WK 5'!$K$6:$L$41,2,FALSE)=0),\"\",IF(VLOOKUP(C173,'WK 5'!$K$6:$L$41,2,FALSE)=0,\"\",VLOOKUP(C173,'WK 5'!$K$6:$L$41,2,FALSE)))","v":""},{"$f":"IF(ISNA(VLOOKUP(C173,'WK 6'!$K$6:$L$41,2,FALSE)=0),\"\",IF(VLOOKUP(C173,'WK 6'!$K$6:$L$41,2,FALSE)=0,\"\",VLOOKUP(C173,'WK 6'!$K$6:$L$41,2,FALSE)))","v":""},{"$f":"IF(ISNA(VLOOKUP(C173,'WK 7'!$K$6:$L$41,2,FALSE)=0),\"\",IF(VLOOKUP(C173,'WK 7'!$K$6:$L$41,2,FALSE)=0,\"\",VLOOKUP(C173,'WK 7'!$K$6:$L$41,2,FALSE)))","v":""},{"$f":"IF(ISNA(VLOOKUP(C173,'WK 8'!$K$6:$L$41,2,FALSE)=0),\"\",IF(VLOOKUP(C173,'WK 8'!$K$6:$L$41,2,FALSE)=0,\"\",VLOOKUP(C173,'WK 8'!$K$6:$L$41,2,FALSE)))","v":""},{"$f":"IF(ISNA(VLOOKUP(C173,'WK 9'!$K$6:$L$41,2,FALSE)=0),\"\",IF(VLOOKUP(C173,'WK 9'!$K$6:$L$41,2,FALSE)=0,\"\",VLOOKUP(C173,'WK 9'!$K$6:$L$41,2,FALSE)))","v":""},{"$f":"IF(ISNA(VLOOKUP(C173,'WK 10'!$K$6:$L$41,2,FALSE)=0),\"\",IF(VLOOKUP(C173,'WK 10'!$K$6:$L$41,2,FALSE)=0,\"\",VLOOKUP(C173,'WK 10'!$K$6:$L$41,2,FALSE)))","v":""},0]
[null,null,{"$f":"IF(ISNA(VLOOKUP('WK 5'!K34,$C$2:$C$145,1,FALSE)),VLOOKUP('WK 5'!K34,'WK 5'!$K$6:$K$450,1,FALSE),\"\")","v":""},null,{"$f":"IF(ISNA(VLOOKUP(C174,'WK 2'!$K$6:$L$41,2,FALSE)=0),\"\",IF(VLOOKUP(C174,'WK 2'!$K$6:$L$41,2,FALSE)=0,\"\",VLOOKUP(C174,'WK 2'!$K$6:$L$41,2,FALSE)))","v":""},{"$f":"IF(ISNA(VLOOKUP(C174,'WK 3'!$K$6:$L$41,2,FALSE)=0),\"\",IF(VLOOKUP(C174,'WK 3'!$K$6:$L$41,2,FALSE)=0,\"\",VLOOKUP(C174,'WK 3'!$K$6:$L$41,2,FALSE)))","v":""},{"$f":"IF(ISNA(VLOOKUP(C174,'WK 4'!$K$6:$L$41,2,FALSE)=0),\"\",IF(VLOOKUP(C174,'WK 4'!$K$6:$L$41,2,FALSE)=0,\"\",VLOOKUP(C174,'WK 4'!$K$6:$L$41,2,FALSE)))","v":""},{"$f":"IF(ISNA(VLOOKUP(C174,'WK 5'!$K$6:$L$41,2,FALSE)=0),\"\",IF(VLOOKUP(C174,'WK 5'!$K$6:$L$41,2,FALSE)=0,\"\",VLOOKUP(C174,'WK 5'!$K$6:$L$41,2,FALSE)))","v":""},{"$f":"IF(ISNA(VLOOKUP(C174,'WK 6'!$K$6:$L$41,2,FALSE)=0),\"\",IF(VLOOKUP(C174,'WK 6'!$K$6:$L$41,2,FALSE)=0,\"\",VLOOKUP(C174,'WK 6'!$K$6:$L$41,2,FALSE)))","v":""},{"$f":"IF(ISNA(VLOOKUP(C174,'WK 7'!$K$6:$L$41,2,FALSE)=0),\"\",IF(VLOOKUP(C174,'WK 7'!$K$6:$L$41,2,FALSE)=0,\"\",VLOOKUP(C174,'WK 7'!$K$6:$L$41,2,FALSE)))","v":""},{"$f":"IF(ISNA(VLOOKUP(C174,'WK 8'!$K$6:$L$41,2,FALSE)=0),\"\",IF(VLOOKUP(C174,'WK 8'!$K$6:$L$41,2,FALSE)=0,\"\",VLOOKUP(C174,'WK 8'!$K$6:$L$41,2,FALSE)))","v":""},{"$f":"IF(ISNA(VLOOKUP(C174,'WK 9'!$K$6:$L$41,2,FALSE)=0),\"\",IF(VLOOKUP(C174,'WK 9'!$K$6:$L$41,2,FALSE)=0,\"\",VLOOKUP(C174,'WK 9'!$K$6:$L$41,2,FALSE)))","v":""},{"$f":"IF(ISNA(VLOOKUP(C174,'WK 10'!$K$6:$L$41,2,FALSE)=0),\"\",IF(VLOOKUP(C174,'WK 10'!$K$6:$L$41,2,FALSE)=0,\"\",VLOOKUP(C174,'WK 10'!$K$6:$L$41,2,FALSE)))","v":""},0]
[null,null,{"$f":"IF(ISNA(VLOOKUP('WK 5'!K35,$C$2:$C$145,1,FALSE)),VLOOKUP('WK 5'!K35,'WK 5'!$K$6:$K$450,1,FALSE),\"\")","v":""},null,{"$f":"IF(ISNA(VLOOKUP(C175,'WK 2'!$K$6:$L$41,2,FALSE)=0),\"\",IF(VLOOKUP(C175,'WK 2'!$K$6:$L$41,2,FALSE)=0,\"\",VLOOKUP(C175,'WK 2'!$K$6:$L$41,2,FALSE)))","v":""},{"$f":"IF(ISNA(VLOOKUP(C175,'WK 3'!$K$6:$L$41,2,FALSE)=0),\"\",IF(VLOOKUP(C175,'WK 3'!$K$6:$L$41,2,FALSE)=0,\"\",VLOOKUP(C175,'WK 3'!$K$6:$L$41,2,FALSE)))","v":""},{"$f":"IF(ISNA(VLOOKUP(C175,'WK 4'!$K$6:$L$41,2,FALSE)=0),\"\",IF(VLOOKUP(C175,'WK 4'!$K$6:$L$41,2,FALSE)=0,\"\",VLOOKUP(C175,'WK 4'!$K$6:$L$41,2,FALSE)))","v":""},{"$f":"IF(ISNA(VLOOKUP(C175,'WK 5'!$K$6:$L$41,2,FALSE)=0),\"\",IF(VLOOKUP(C175,'WK 5'!$K$6:$L$41,2,FALSE)=0,\"\",VLOOKUP(C175,'WK 5'!$K$6:$L$41,2,FALSE)))","v":""},{"$f":"IF(ISNA(VLOOKUP(C175,'WK 6'!$K$6:$L$41,2,FALSE)=0),\"\",IF(VLOOKUP(C175,'WK 6'!$K$6:$L$41,2,FALSE)=0,\"\",VLOOKUP(C175,'WK 6'!$K$6:$L$41,2,FALSE)))","v":""},{"$f":"IF(ISNA(VLOOKUP(C175,'WK 7'!$K$6:$L$41,2,FALSE)=0),\"\",IF(VLOOKUP(C175,'WK 7'!$K$6:$L$41,2,FALSE)=0,\"\",VLOOKUP(C175,'WK 7'!$K$6:$L$41,2,FALSE)))","v":""},{"$f":"IF(ISNA(VLOOKUP(C175,'WK 8'!$K$6:$L$41,2,FALSE)=0),\"\",IF(VLOOKUP(C175,'WK 8'!$K$6:$L$41,2,FALSE)=0,\"\",VLOOKUP(C175,'WK 8'!$K$6:$L$41,2,FALSE)))","v":""},{"$f":"IF(ISNA(VLOOKUP(C175,'WK 9'!$K$6:$L$41,2,FALSE)=0),\"\",IF(VLOOKUP(C175,'WK 9'!$K$6:$L$41,2,FALSE)=0,\"\",VLOOKUP(C175,'WK 9'!$K$6:$L$41,2,FALSE)))","v":""},{"$f":"IF(ISNA(VLOOKUP(C175,'WK 10'!$K$6:$L$41,2,FALSE)=0),\"\",IF(VLOOKUP(C175,'WK 10'!$K$6:$L$41,2,FALSE)=0,\"\",VLOOKUP(C175,'WK 10'!$K$6:$L$41,2,FALSE)))","v":""},0]
[null,null,{"$f":"IF(ISNA(VLOOKUP('WK 5'!K36,$C$2:$C$145,1,FALSE)),VLOOKUP('WK 5'!K36,'WK 5'!$K$6:$K$450,1,FALSE),\"\")","v":""},null,{"$f":"IF(ISNA(VLOOKUP(C176,'WK 2'!$K$6:$L$41,2,FALSE)=0),\"\",IF(VLOOKUP(C176,'WK 2'!$K$6:$L$41,2,FALSE)=0,\"\",VLOOKUP(C176,'WK 2'!$K$6:$L$41,2,FALSE)))","v":""},{"$f":"IF(ISNA(VLOOKUP(C176,'WK 3'!$K$6:$L$41,2,FALSE)=0),\"\",IF(VLOOKUP(C176,'WK 3'!$K$6:$L$41,2,FALSE)=0,\"\",VLOOKUP(C176,'WK 3'!$K$6:$L$41,2,FALSE)))","v":""},{"$f":"IF(ISNA(VLOOKUP(C176,'WK 4'!$K$6:$L$41,2,FALSE)=0),\"\",IF(VLOOKUP(C176,'WK 4'!$K$6:$L$41,2,FALSE)=0,\"\",VLOOKUP(C176,'WK 4'!$K$6:$L$41,2,FALSE)))","v":""},{"$f":"IF(ISNA(VLOOKUP(C176,'WK 5'!$K$6:$L$41,2,FALSE)=0),\"\",IF(VLOOKUP(C176,'WK 5'!$K$6:$L$41,2,FALSE)=0,\"\",VLOOKUP(C176,'WK 5'!$K$6:$L$41,2,FALSE)))","v":""},{"$f":"IF(ISNA(VLOOKUP(C176,'WK 6'!$K$6:$L$41,2,FALSE)=0),\"\",IF(VLOOKUP(C176,'WK 6'!$K$6:$L$41,2,FALSE)=0,\"\",VLOOKUP(C176,'WK 6'!$K$6:$L$41,2,FALSE)))","v":""},{"$f":"IF(ISNA(VLOOKUP(C176,'WK 7'!$K$6:$L$41,2,FALSE)=0),\"\",IF(VLOOKUP(C176,'WK 7'!$K$6:$L$41,2,FALSE)=0,\"\",VLOOKUP(C176,'WK 7'!$K$6:$L$41,2,FALSE)))","v":""},{"$f":"IF(ISNA(VLOOKUP(C176,'WK 8'!$K$6:$L$41,2,FALSE)=0),\"\",IF(VLOOKUP(C176,'WK 8'!$K$6:$L$41,2,FALSE)=0,\"\",VLOOKUP(C176,'WK 8'!$K$6:$L$41,2,FALSE)))","v":""},{"$f":"IF(ISNA(VLOOKUP(C176,'WK 9'!$K$6:$L$41,2,FALSE)=0),\"\",IF(VLOOKUP(C176,'WK 9'!$K$6:$L$41,2,FALSE)=0,\"\",VLOOKUP(C176,'WK 9'!$K$6:$L$41,2,FALSE)))","v":""},{"$f":"IF(ISNA(VLOOKUP(C176,'WK 10'!$K$6:$L$41,2,FALSE)=0),\"\",IF(VLOOKUP(C176,'WK 10'!$K$6:$L$41,2,FALSE)=0,\"\",VLOOKUP(C176,'WK 10'!$K$6:$L$41,2,FALSE)))","v":""},0]
[null,null,{"$f":"IF(ISNA(VLOOKUP('WK 5'!K37,$C$2:$C$145,1,FALSE)),VLOOKUP('WK 5'!K37,'WK 5'!$K$6:$K$450,1,FALSE),\"\")","v":""},null,{"$f":"IF(ISNA(VLOOKUP(C177,'WK 2'!$K$6:$L$41,2,FALSE)=0),\"\",IF(VLOOKUP(C177,'WK 2'!$K$6:$L$41,2,FALSE)=0,\"\",VLOOKUP(C177,'WK 2'!$K$6:$L$41,2,FALSE)))","v":""},{"$f":"IF(ISNA(VLOOKUP(C177,'WK 3'!$K$6:$L$41,2,FALSE)=0),\"\",IF(VLOOKUP(C177,'WK 3'!$K$6:$L$41,2,FALSE)=0,\"\",VLOOKUP(C177,'WK 3'!$K$6:$L$41,2,FALSE)))","v":""},{"$f":"IF(ISNA(VLOOKUP(C177,'WK 4'!$K$6:$L$41,2,FALSE)=0),\"\",IF(VLOOKUP(C177,'WK 4'!$K$6:$L$41,2,FALSE)=0,\"\",VLOOKUP(C177,'WK 4'!$K$6:$L$41,2,FALSE)))","v":""},{"$f":"IF(ISNA(VLOOKUP(C177,'WK 5'!$K$6:$L$41,2,FALSE)=0),\"\",IF(VLOOKUP(C177,'WK 5'!$K$6:$L$41,2,FALSE)=0,\"\",VLOOKUP(C177,'WK 5'!$K$6:$L$41,2,FALSE)))","v":""},{"$f":"IF(ISNA(VLOOKUP(C177,'WK 6'!$K$6:$L$41,2,FALSE)=0),\"\",IF(VLOOKUP(C177,'WK 6'!$K$6:$L$41,2,FALSE)=0,\"\",VLOOKUP(C177,'WK 6'!$K$6:$L$41,2,FALSE)))","v":""},{"$f":"IF(ISNA(VLOOKUP(C177,'WK 7'!$K$6:$L$41,2,FALSE)=0),\"\",IF(VLOOKUP(C177,'WK 7'!$K$6:$L$41,2,FALSE)=0,\"\",VLOOKUP(C177,'WK 7'!$K$6:$L$41,2,FALSE)))","v":""},{"$f":"IF(ISNA(VLOOKUP(C177,'WK 8'!$K$6:$L$41,2,FALSE)=0),\"\",IF(VLOOKUP(C177,'WK 8'!$K$6:$L$41,2,FALSE)=0,\"\",VLOOKUP(C177,'WK 8'!$K$6:$L$41,2,FALSE)))","v":""},{"$f":"IF(ISNA(VLOOKUP(C177,'WK 9'!$K$6:$L$41,2,FALSE)=0),\"\",IF(VLOOKUP(C177,'WK 9'!$K$6:$L$41,2,FALSE)=0,\"\",VLOOKUP(C177,'WK 9'!$K$6:$L$41,2,FALSE)))","v":""},{"$f":"IF(ISNA(VLOOKUP(C177,'WK 10'!$K$6:$L$41,2,FALSE)=0),\"\",IF(VLOOKUP(C177,'WK 10'!$K$6:$L$41,2,FALSE)=0,\"\",VLOOKUP(C177,'WK 10'!$K$6:$L$41,2,FALSE)))","v":""},0]
[null,null,{"$f":"IF(ISNA(VLOOKUP('WK 5'!K38,$C$2:$C$145,1,FALSE)),VLOOKUP('WK 5'!K38,'WK 5'!$K$6:$K$450,1,FALSE),\"\")","v":""},null,{"$f":"IF(ISNA(VLOOKUP(C178,'WK 2'!$K$6:$L$41,2,FALSE)=0),\"\",IF(VLOOKUP(C178,'WK 2'!$K$6:$L$41,2,FALSE)=0,\"\",VLOOKUP(C178,'WK 2'!$K$6:$L$41,2,FALSE)))","v":""},{"$f":"IF(ISNA(VLOOKUP(C178,'WK 3'!$K$6:$L$41,2,FALSE)=0),\"\",IF(VLOOKUP(C178,'WK 3'!$K$6:$L$41,2,FALSE)=0,\"\",VLOOKUP(C178,'WK 3'!$K$6:$L$41,2,FALSE)))","v":""},{"$f":"IF(ISNA(VLOOKUP(C178,'WK 4'!$K$6:$L$41,2,FALSE)=0),\"\",IF(VLOOKUP(C178,'WK 4'!$K$6:$L$41,2,FALSE)=0,\"\",VLOOKUP(C178,'WK 4'!$K$6:$L$41,2,FALSE)))","v":""},{"$f":"IF(ISNA(VLOOKUP(C178,'WK 5'!$K$6:$L$41,2,FALSE)=0),\"\",IF(VLOOKUP(C178,'WK 5'!$K$6:$L$41,2,FALSE)=0,\"\",VLOOKUP(C178,'WK 5'!$K$6:$L$41,2,FALSE)))","v":""},{"$f":"IF(ISNA(VLOOKUP(C178,'WK 6'!$K$6:$L$41,2,FALSE)=0),\"\",IF(VLOOKUP(C178,'WK 6'!$K$6:$L$41,2,FALSE)=0,\"\",VLOOKUP(C178,'WK 6'!$K$6:$L$41,2,FALSE)))","v":""},{"$f":"IF(ISNA(VLOOKUP(C178,'WK 7'!$K$6:$L$41,2,FALSE)=0),\"\",IF(VLOOKUP(C178,'WK 7'!$K$6:$L$41,2,FALSE)=0,\"\",VLOOKUP(C178,'WK 7'!$K$6:$L$41,2,FALSE)))","v":""},{"$f":"IF(ISNA(VLOOKUP(C178,'WK 8'!$K$6:$L$41,2,FALSE)=0),\"\",IF(VLOOKUP(C178,'WK 8'!$K$6:$L$41,2,FALSE)=0,\"\",VLOOKUP(C178,'WK 8'!$K$6:$L$41,2,FALSE)))","v":""},{"$f":"IF(ISNA(VLOOKUP(C178,'WK 9'!$K$6:$L$41,2,FALSE)=0),\"\",IF(VLOOKUP(C178,'WK 9'!$K$6:$L$41,2,FALSE)=0,\"\",VLOOKUP(C178,'WK 9'!$K$6:$L$41,2,FALSE)))","v":""},{"$f":"IF(ISNA(VLOOKUP(C178,'WK 10'!$K$6:$L$41,2,FALSE)=0),\"\",IF(VLOOKUP(C178,'WK 10'!$K$6:$L$41,2,FALSE)=0,\"\",VLOOKUP(C178,'WK 10'!$K$6:$L$41,2,FALSE)))","v":""},0]
[null,null,{"$f":"IF(ISNA(VLOOKUP('WK 5'!K39,$C$2:$C$145,1,FALSE)),VLOOKUP('WK 5'!K39,'WK 5'!$K$6:$K$450,1,FALSE),\"\")","v":""},null,{"$f":"IF(ISNA(VLOOKUP(C179,'WK 2'!$K$6:$L$41,2,FALSE)=0),\"\",IF(VLOOKUP(C179,'WK 2'!$K$6:$L$41,2,FALSE)=0,\"\",VLOOKUP(C179,'WK 2'!$K$6:$L$41,2,FALSE)))","v":""},{"$f":"IF(ISNA(VLOOKUP(C179,'WK 3'!$K$6:$L$41,2,FALSE)=0),\"\",IF(VLOOKUP(C179,'WK 3'!$K$6:$L$41,2,FALSE)=0,\"\",VLOOKUP(C179,'WK 3'!$K$6:$L$41,2,FALSE)))","v":""},{"$f":"IF(ISNA(VLOOKUP(C179,'WK 4'!$K$6:$L$41,2,FALSE)=0),\"\",IF(VLOOKUP(C179,'WK 4'!$K$6:$L$41,2,FALSE)=0,\"\",VLOOKUP(C179,'WK 4'!$K$6:$L$41,2,FALSE)))","v":""},{"$f":"IF(ISNA(VLOOKUP(C179,'WK 5'!$K$6:$L$41,2,FALSE)=0),\"\",IF(VLOOKUP(C179,'WK 5'!$K$6:$L$41,2,FALSE)=0,\"\",VLOOKUP(C179,'WK 5'!$K$6:$L$41,2,FALSE)))","v":""},{"$f":"IF(ISNA(VLOOKUP(C179,'WK 6'!$K$6:$L$41,2,FALSE)=0),\"\",IF(VLOOKUP(C179,'WK 6'!$K$6:$L$41,2,FALSE)=0,\"\",VLOOKUP(C179,'WK 6'!$K$6:$L$41,2,FALSE)))","v":""},{"$f":"IF(ISNA(VLOOKUP(C179,'WK 7'!$K$6:$L$41,2,FALSE)=0),\"\",IF(VLOOKUP(C179,'WK 7'!$K$6:$L$41,2,FALSE)=0,\"\",VLOOKUP(C179,'WK 7'!$K$6:$L$41,2,FALSE)))","v":""},{"$f":"IF(ISNA(VLOOKUP(C179,'WK 8'!$K$6:$L$41,2,FALSE)=0),\"\",IF(VLOOKUP(C179,'WK 8'!$K$6:$L$41,2,FALSE)=0,\"\",VLOOKUP(C179,'WK 8'!$K$6:$L$41,2,FALSE)))","v":""},{"$f":"IF(ISNA(VLOOKUP(C179,'WK 9'!$K$6:$L$41,2,FALSE)=0),\"\",IF(VLOOKUP(C179,'WK 9'!$K$6:$L$41,2,FALSE)=0,\"\",VLOOKUP(C179,'WK 9'!$K$6:$L$41,2,FALSE)))","v":""},{"$f":"IF(ISNA(VLOOKUP(C179,'WK 10'!$K$6:$L$41,2,FALSE)=0),\"\",IF(VLOOKUP(C179,'WK 10'!$K$6:$L$41,2,FALSE)=0,\"\",VLOOKUP(C179,'WK 10'!$K$6:$L$41,2,FALSE)))","v":""},0]
[null,null,{"$f":"IF(ISNA(VLOOKUP('WK 5'!K40,$C$2:$C$145,1,FALSE)),VLOOKUP('WK 5'!K40,'WK 5'!$K$6:$K$450,1,FALSE),\"\")","v":""},null,{"$f":"IF(ISNA(VLOOKUP(C180,'WK 2'!$K$6:$L$41,2,FALSE)=0),\"\",IF(VLOOKUP(C180,'WK 2'!$K$6:$L$41,2,FALSE)=0,\"\",VLOOKUP(C180,'WK 2'!$K$6:$L$41,2,FALSE)))","v":""},{"$f":"IF(ISNA(VLOOKUP(C180,'WK 3'!$K$6:$L$41,2,FALSE)=0),\"\",IF(VLOOKUP(C180,'WK 3'!$K$6:$L$41,2,FALSE)=0,\"\",VLOOKUP(C180,'WK 3'!$K$6:$L$41,2,FALSE)))","v":""},{"$f":"IF(ISNA(VLOOKUP(C180,'WK 4'!$K$6:$L$41,2,FALSE)=0),\"\",IF(VLOOKUP(C180,'WK 4'!$K$6:$L$41,2,FALSE)=0,\"\",VLOOKUP(C180,'WK 4'!$K$6:$L$41,2,FALSE)))","v":""},{"$f":"IF(ISNA(VLOOKUP(C180,'WK 5'!$K$6:$L$41,2,FALSE)=0),\"\",IF(VLOOKUP(C180,'WK 5'!$K$6:$L$41,2,FALSE)=0,\"\",VLOOKUP(C180,'WK 5'!$K$6:$L$41,2,FALSE)))","v":""},{"$f":"IF(ISNA(VLOOKUP(C180,'WK 6'!$K$6:$L$41,2,FALSE)=0),\"\",IF(VLOOKUP(C180,'WK 6'!$K$6:$L$41,2,FALSE)=0,\"\",VLOOKUP(C180,'WK 6'!$K$6:$L$41,2,FALSE)))","v":""},{"$f":"IF(ISNA(VLOOKUP(C180,'WK 7'!$K$6:$L$41,2,FALSE)=0),\"\",IF(VLOOKUP(C180,'WK 7'!$K$6:$L$41,2,FALSE)=0,\"\",VLOOKUP(C180,'WK 7'!$K$6:$L$41,2,FALSE)))","v":""},{"$f":"IF(ISNA(VLOOKUP(C180,'WK 8'!$K$6:$L$41,2,FALSE)=0),\"\",IF(VLOOKUP(C180,'WK 8'!$K$6:$L$41,2,FALSE)=0,\"\",VLOOKUP(C180,'WK 8'!$K$6:$L$41,2,FALSE)))","v":""},{"$f":"IF(ISNA(VLOOKUP(C180,'WK 9'!$K$6:$L$41,2,FALSE)=0),\"\",IF(VLOOKUP(C180,'WK 9'!$K$6:$L$41,2,FALSE)=0,\"\",VLOOKUP(C180,'WK 9'!$K$6:$L$41,2,FALSE)))","v":""},{"$f":"IF(ISNA(VLOOKUP(C180,'WK 10'!$K$6:$L$41,2,FALSE)=0),\"\",IF(VLOOKUP(C180,'WK 10'!$K$6:$L$41,2,FALSE)=0,\"\",VLOOKUP(C180,'WK 10'!$K$6:$L$41,2,FALSE)))","v":""},0]
[null,null,{"$f":"IF(ISNA(VLOOKUP('WK 5'!K41,$C$2:$C$145,1,FALSE)),VLOOKUP('WK 5'!K41,'WK 5'!$K$6:$K$450,1,FALSE),\"\")","v":""},null,{"$f":"IF(ISNA(VLOOKUP(C181,'WK 2'!$K$6:$L$41,2,FALSE)=0),\"\",IF(VLOOKUP(C181,'WK 2'!$K$6:$L$41,2,FALSE)=0,\"\",VLOOKUP(C181,'WK 2'!$K$6:$L$41,2,FALSE)))","v":""},{"$f":"IF(ISNA(VLOOKUP(C181,'WK 3'!$K$6:$L$41,2,FALSE)=0),\"\",IF(VLOOKUP(C181,'WK 3'!$K$6:$L$41,2,FALSE)=0,\"\",VLOOKUP(C181,'WK 3'!$K$6:$L$41,2,FALSE)))","v":""},{"$f":"IF(ISNA(VLOOKUP(C181,'WK 4'!$K$6:$L$41,2,FALSE)=0),\"\",IF(VLOOKUP(C181,'WK 4'!$K$6:$L$41,2,FALSE)=0,\"\",VLOOKUP(C181,'WK 4'!$K$6:$L$41,2,FALSE)))","v":""},{"$f":"IF(ISNA(VLOOKUP(C181,'WK 5'!$K$6:$L$41,2,FALSE)=0),\"\",IF(VLOOKUP(C181,'WK 5'!$K$6:$L$41,2,FALSE)=0,\"\",VLOOKUP(C181,'WK 5'!$K$6:$L$41,2,FALSE)))","v":""},{"$f":"IF(ISNA(VLOOKUP(C181,'WK 6'!$K$6:$L$41,2,FALSE)=0),\"\",IF(VLOOKUP(C181,'WK 6'!$K$6:$L$41,2,FALSE)=0,\"\",VLOOKUP(C181,'WK 6'!$K$6:$L$41,2,FALSE)))","v":""},{"$f":"IF(ISNA(VLOOKUP(C181,'WK 7'!$K$6:$L$41,2,FALSE)=0),\"\",IF(VLOOKUP(C181,'WK 7'!$K$6:$L$41,2,FALSE)=0,\"\",VLOOKUP(C181,'WK 7'!$K$6:$L$41,2,FALSE)))","v":""},{"$f":"IF(ISNA(VLOOKUP(C181,'WK 8'!$K$6:$L$41,2,FALSE)=0),\"\",IF(VLOOKUP(C181,'WK 8'!$K$6:$L$41,2,FALSE)=0,\"\",VLOOKUP(C181,'WK 8'!$K$6:$L$41,2,FALSE)))","v":""},{"$f":"IF(ISNA(VLOOKUP(C181,'WK 9'!$K$6:$L$41,2,FALSE)=0),\"\",IF(VLOOKUP(C181,'WK 9'!$K$6:$L$41,2,FALSE)=0,\"\",VLOOKUP(C181,'WK 9'!$K$6:$L$41,2,FALSE)))","v":""},{"$f":"IF(ISNA(VLOOKUP(C181,'WK 10'!$K$6:$L$41,2,FALSE)=0),\"\",IF(VLOOKUP(C181,'WK 10'!$K$6:$L$41,2,FALSE)=0,\"\",VLOOKUP(C181,'WK 10'!$K$6:$L$41,2,FALSE)))","v":""},0]
[null,"WK 6 Beginn",{"$f":"IF(ISNA(VLOOKUP('WK 6'!K6,$C$2:$C$181,1,FALSE)),VLOOKUP('WK 6'!K6,'WK 6'!$K$6:$K$450,1,FALSE),\"\")","v":""},null,{"$f":"IF(ISNA(VLOOKUP(C182,'WK 2'!$K$6:$L$41,2,FALSE)=0),\"\",IF(VLOOKUP(C182,'WK 2'!$K$6:$L$41,2,FALSE)=0,\"\",VLOOKUP(C182,'WK 2'!$K$6:$L$41,2,FALSE)))","v":""},{"$f":"IF(ISNA(VLOOKUP(C182,'WK 3'!$K$6:$L$41,2,FALSE)=0),\"\",IF(VLOOKUP(C182,'WK 3'!$K$6:$L$41,2,FALSE)=0,\"\",VLOOKUP(C182,'WK 3'!$K$6:$L$41,2,FALSE)))","v":""},{"$f":"IF(ISNA(VLOOKUP(C182,'WK 4'!$K$6:$L$41,2,FALSE)=0),\"\",IF(VLOOKUP(C182,'WK 4'!$K$6:$L$41,2,FALSE)=0,\"\",VLOOKUP(C182,'WK 4'!$K$6:$L$41,2,FALSE)))","v":""},{"$f":"IF(ISNA(VLOOKUP(C182,'WK 5'!$K$6:$L$41,2,FALSE)=0),\"\",IF(VLOOKUP(C182,'WK 5'!$K$6:$L$41,2,FALSE)=0,\"\",VLOOKUP(C182,'WK 5'!$K$6:$L$41,2,FALSE)))","v":""},{"$f":"IF(ISNA(VLOOKUP(C182,'WK 6'!$K$6:$L$41,2,FALSE)=0),\"\",IF(VLOOKUP(C182,'WK 6'!$K$6:$L$41,2,FALSE)=0,\"\",VLOOKUP(C182,'WK 6'!$K$6:$L$41,2,FALSE)))","v":""},{"$f":"IF(ISNA(VLOOKUP(C182,'WK 7'!$K$6:$L$41,2,FALSE)=0),\"\",IF(VLOOKUP(C182,'WK 7'!$K$6:$L$41,2,FALSE)=0,\"\",VLOOKUP(C182,'WK 7'!$K$6:$L$41,2,FALSE)))","v":""},{"$f":"IF(ISNA(VLOOKUP(C182,'WK 8'!$K$6:$L$41,2,FALSE)=0),\"\",IF(VLOOKUP(C182,'WK 8'!$K$6:$L$41,2,FALSE)=0,\"\",VLOOKUP(C182,'WK 8'!$K$6:$L$41,2,FALSE)))","v":""},{"$f":"IF(ISNA(VLOOKUP(C182,'WK 9'!$K$6:$L$41,2,FALSE)=0),\"\",IF(VLOOKUP(C182,'WK 9'!$K$6:$L$41,2,FALSE)=0,\"\",VLOOKUP(C182,'WK 9'!$K$6:$L$41,2,FALSE)))","v":""},{"$f":"IF(ISNA(VLOOKUP(C182,'WK 10'!$K$6:$L$41,2,FALSE)=0),\"\",IF(VLOOKUP(C182,'WK 10'!$K$6:$L$41,2,FALSE)=0,\"\",VLOOKUP(C182,'WK 10'!$K$6:$L$41,2,FALSE)))","v":""},0]
[null,null,{"$f":"IF(ISNA(VLOOKUP('WK 6'!K7,$C$2:$C$181,1,FALSE)),VLOOKUP('WK 6'!K7,'WK 6'!$K$6:$K$450,1,FALSE),\"\")","v":""},null,{"$f":"IF(ISNA(VLOOKUP(C183,'WK 2'!$K$6:$L$41,2,FALSE)=0),\"\",IF(VLOOKUP(C183,'WK 2'!$K$6:$L$41,2,FALSE)=0,\"\",VLOOKUP(C183,'WK 2'!$K$6:$L$41,2,FALSE)))","v":""},{"$f":"IF(ISNA(VLOOKUP(C183,'WK 3'!$K$6:$L$41,2,FALSE)=0),\"\",IF(VLOOKUP(C183,'WK 3'!$K$6:$L$41,2,FALSE)=0,\"\",VLOOKUP(C183,'WK 3'!$K$6:$L$41,2,FALSE)))","v":""},{"$f":"IF(ISNA(VLOOKUP(C183,'WK 4'!$K$6:$L$41,2,FALSE)=0),\"\",IF(VLOOKUP(C183,'WK 4'!$K$6:$L$41,2,FALSE)=0,\"\",VLOOKUP(C183,'WK 4'!$K$6:$L$41,2,FALSE)))","v":""},{"$f":"IF(ISNA(VLOOKUP(C183,'WK 5'!$K$6:$L$41,2,FALSE)=0),\"\",IF(VLOOKUP(C183,'WK 5'!$K$6:$L$41,2,FALSE)=0,\"\",VLOOKUP(C183,'WK 5'!$K$6:$L$41,2,FALSE)))","v":""},{"$f":"IF(ISNA(VLOOKUP(C183,'WK 6'!$K$6:$L$41,2,FALSE)=0),\"\",IF(VLOOKUP(C183,'WK 6'!$K$6:$L$41,2,FALSE)=0,\"\",VLOOKUP(C183,'WK 6'!$K$6:$L$41,2,FALSE)))","v":""},{"$f":"IF(ISNA(VLOOKUP(C183,'WK 7'!$K$6:$L$41,2,FALSE)=0),\"\",IF(VLOOKUP(C183,'WK 7'!$K$6:$L$41,2,FALSE)=0,\"\",VLOOKUP(C183,'WK 7'!$K$6:$L$41,2,FALSE)))","v":""},{"$f":"IF(ISNA(VLOOKUP(C183,'WK 8'!$K$6:$L$41,2,FALSE)=0),\"\",IF(VLOOKUP(C183,'WK 8'!$K$6:$L$41,2,FALSE)=0,\"\",VLOOKUP(C183,'WK 8'!$K$6:$L$41,2,FALSE)))","v":""},{"$f":"IF(ISNA(VLOOKUP(C183,'WK 9'!$K$6:$L$41,2,FALSE)=0),\"\",IF(VLOOKUP(C183,'WK 9'!$K$6:$L$41,2,FALSE)=0,\"\",VLOOKUP(C183,'WK 9'!$K$6:$L$41,2,FALSE)))","v":""},{"$f":"IF(ISNA(VLOOKUP(C183,'WK 10'!$K$6:$L$41,2,FALSE)=0),\"\",IF(VLOOKUP(C183,'WK 10'!$K$6:$L$41,2,FALSE)=0,\"\",VLOOKUP(C183,'WK 10'!$K$6:$L$41,2,FALSE)))","v":""},0]
[null,null,{"$f":"IF(ISNA(VLOOKUP('WK 6'!K8,$C$2:$C$181,1,FALSE)),VLOOKUP('WK 6'!K8,'WK 6'!$K$6:$K$450,1,FALSE),\"\")","v":""},null,{"$f":"IF(ISNA(VLOOKUP(C184,'WK 2'!$K$6:$L$41,2,FALSE)=0),\"\",IF(VLOOKUP(C184,'WK 2'!$K$6:$L$41,2,FALSE)=0,\"\",VLOOKUP(C184,'WK 2'!$K$6:$L$41,2,FALSE)))","v":""},{"$f":"IF(ISNA(VLOOKUP(C184,'WK 3'!$K$6:$L$41,2,FALSE)=0),\"\",IF(VLOOKUP(C184,'WK 3'!$K$6:$L$41,2,FALSE)=0,\"\",VLOOKUP(C184,'WK 3'!$K$6:$L$41,2,FALSE)))","v":""},{"$f":"IF(ISNA(VLOOKUP(C184,'WK 4'!$K$6:$L$41,2,FALSE)=0),\"\",IF(VLOOKUP(C184,'WK 4'!$K$6:$L$41,2,FALSE)=0,\"\",VLOOKUP(C184,'WK 4'!$K$6:$L$41,2,FALSE)))","v":""},{"$f":"IF(ISNA(VLOOKUP(C184,'WK 5'!$K$6:$L$41,2,FALSE)=0),\"\",IF(VLOOKUP(C184,'WK 5'!$K$6:$L$41,2,FALSE)=0,\"\",VLOOKUP(C184,'WK 5'!$K$6:$L$41,2,FALSE)))","v":""},{"$f":"IF(ISNA(VLOOKUP(C184,'WK 6'!$K$6:$L$41,2,FALSE)=0),\"\",IF(VLOOKUP(C184,'WK 6'!$K$6:$L$41,2,FALSE)=0,\"\",VLOOKUP(C184,'WK 6'!$K$6:$L$41,2,FALSE)))","v":""},{"$f":"IF(ISNA(VLOOKUP(C184,'WK 7'!$K$6:$L$41,2,FALSE)=0),\"\",IF(VLOOKUP(C184,'WK 7'!$K$6:$L$41,2,FALSE)=0,\"\",VLOOKUP(C184,'WK 7'!$K$6:$L$41,2,FALSE)))","v":""},{"$f":"IF(ISNA(VLOOKUP(C184,'WK 8'!$K$6:$L$41,2,FALSE)=0),\"\",IF(VLOOKUP(C184,'WK 8'!$K$6:$L$41,2,FALSE)=0,\"\",VLOOKUP(C184,'WK 8'!$K$6:$L$41,2,FALSE)))","v":""},{"$f":"IF(ISNA(VLOOKUP(C184,'WK 9'!$K$6:$L$41,2,FALSE)=0),\"\",IF(VLOOKUP(C184,'WK 9'!$K$6:$L$41,2,FALSE)=0,\"\",VLOOKUP(C184,'WK 9'!$K$6:$L$41,2,FALSE)))","v":""},{"$f":"IF(ISNA(VLOOKUP(C184,'WK 10'!$K$6:$L$41,2,FALSE)=0),\"\",IF(VLOOKUP(C184,'WK 10'!$K$6:$L$41,2,FALSE)=0,\"\",VLOOKUP(C184,'WK 10'!$K$6:$L$41,2,FALSE)))","v":""},0]
[null,null,{"$f":"IF(ISNA(VLOOKUP('WK 6'!K9,$C$2:$C$181,1,FALSE)),VLOOKUP('WK 6'!K9,'WK 6'!$K$6:$K$450,1,FALSE),\"\")","v":""},null,{"$f":"IF(ISNA(VLOOKUP(C185,'WK 2'!$K$6:$L$41,2,FALSE)=0),\"\",IF(VLOOKUP(C185,'WK 2'!$K$6:$L$41,2,FALSE)=0,\"\",VLOOKUP(C185,'WK 2'!$K$6:$L$41,2,FALSE)))","v":""},{"$f":"IF(ISNA(VLOOKUP(C185,'WK 3'!$K$6:$L$41,2,FALSE)=0),\"\",IF(VLOOKUP(C185,'WK 3'!$K$6:$L$41,2,FALSE)=0,\"\",VLOOKUP(C185,'WK 3'!$K$6:$L$41,2,FALSE)))","v":""},{"$f":"IF(ISNA(VLOOKUP(C185,'WK 4'!$K$6:$L$41,2,FALSE)=0),\"\",IF(VLOOKUP(C185,'WK 4'!$K$6:$L$41,2,FALSE)=0,\"\",VLOOKUP(C185,'WK 4'!$K$6:$L$41,2,FALSE)))","v":""},{"$f":"IF(ISNA(VLOOKUP(C185,'WK 5'!$K$6:$L$41,2,FALSE)=0),\"\",IF(VLOOKUP(C185,'WK 5'!$K$6:$L$41,2,FALSE)=0,\"\",VLOOKUP(C185,'WK 5'!$K$6:$L$41,2,FALSE)))","v":""},{"$f":"IF(ISNA(VLOOKUP(C185,'WK 6'!$K$6:$L$41,2,FALSE)=0),\"\",IF(VLOOKUP(C185,'WK 6'!$K$6:$L$41,2,FALSE)=0,\"\",VLOOKUP(C185,'WK 6'!$K$6:$L$41,2,FALSE)))","v":""},{"$f":"IF(ISNA(VLOOKUP(C185,'WK 7'!$K$6:$L$41,2,FALSE)=0),\"\",IF(VLOOKUP(C185,'WK 7'!$K$6:$L$41,2,FALSE)=0,\"\",VLOOKUP(C185,'WK 7'!$K$6:$L$41,2,FALSE)))","v":""},{"$f":"IF(ISNA(VLOOKUP(C185,'WK 8'!$K$6:$L$41,2,FALSE)=0),\"\",IF(VLOOKUP(C185,'WK 8'!$K$6:$L$41,2,FALSE)=0,\"\",VLOOKUP(C185,'WK 8'!$K$6:$L$41,2,FALSE)))","v":""},{"$f":"IF(ISNA(VLOOKUP(C185,'WK 9'!$K$6:$L$41,2,FALSE)=0),\"\",IF(VLOOKUP(C185,'WK 9'!$K$6:$L$41,2,FALSE)=0,\"\",VLOOKUP(C185,'WK 9'!$K$6:$L$41,2,FALSE)))","v":""},{"$f":"IF(ISNA(VLOOKUP(C185,'WK 10'!$K$6:$L$41,2,FALSE)=0),\"\",IF(VLOOKUP(C185,'WK 10'!$K$6:$L$41,2,FALSE)=0,\"\",VLOOKUP(C185,'WK 10'!$K$6:$L$41,2,FALSE)))","v":""},0]
[null,null,{"$f":"IF(ISNA(VLOOKUP('WK 6'!K10,$C$2:$C$181,1,FALSE)),VLOOKUP('WK 6'!K10,'WK 6'!$K$6:$K$450,1,FALSE),\"\")","v":""},null,{"$f":"IF(ISNA(VLOOKUP(C186,'WK 2'!$K$6:$L$41,2,FALSE)=0),\"\",IF(VLOOKUP(C186,'WK 2'!$K$6:$L$41,2,FALSE)=0,\"\",VLOOKUP(C186,'WK 2'!$K$6:$L$41,2,FALSE)))","v":""},{"$f":"IF(ISNA(VLOOKUP(C186,'WK 3'!$K$6:$L$41,2,FALSE)=0),\"\",IF(VLOOKUP(C186,'WK 3'!$K$6:$L$41,2,FALSE)=0,\"\",VLOOKUP(C186,'WK 3'!$K$6:$L$41,2,FALSE)))","v":""},{"$f":"IF(ISNA(VLOOKUP(C186,'WK 4'!$K$6:$L$41,2,FALSE)=0),\"\",IF(VLOOKUP(C186,'WK 4'!$K$6:$L$41,2,FALSE)=0,\"\",VLOOKUP(C186,'WK 4'!$K$6:$L$41,2,FALSE)))","v":""},{"$f":"IF(ISNA(VLOOKUP(C186,'WK 5'!$K$6:$L$41,2,FALSE)=0),\"\",IF(VLOOKUP(C186,'WK 5'!$K$6:$L$41,2,FALSE)=0,\"\",VLOOKUP(C186,'WK 5'!$K$6:$L$41,2,FALSE)))","v":""},{"$f":"IF(ISNA(VLOOKUP(C186,'WK 6'!$K$6:$L$41,2,FALSE)=0),\"\",IF(VLOOKUP(C186,'WK 6'!$K$6:$L$41,2,FALSE)=0,\"\",VLOOKUP(C186,'WK 6'!$K$6:$L$41,2,FALSE)))","v":""},{"$f":"IF(ISNA(VLOOKUP(C186,'WK 7'!$K$6:$L$41,2,FALSE)=0),\"\",IF(VLOOKUP(C186,'WK 7'!$K$6:$L$41,2,FALSE)=0,\"\",VLOOKUP(C186,'WK 7'!$K$6:$L$41,2,FALSE)))","v":""},{"$f":"IF(ISNA(VLOOKUP(C186,'WK 8'!$K$6:$L$41,2,FALSE)=0),\"\",IF(VLOOKUP(C186,'WK 8'!$K$6:$L$41,2,FALSE)=0,\"\",VLOOKUP(C186,'WK 8'!$K$6:$L$41,2,FALSE)))","v":""},{"$f":"IF(ISNA(VLOOKUP(C186,'WK 9'!$K$6:$L$41,2,FALSE)=0),\"\",IF(VLOOKUP(C186,'WK 9'!$K$6:$L$41,2,FALSE)=0,\"\",VLOOKUP(C186,'WK 9'!$K$6:$L$41,2,FALSE)))","v":""},{"$f":"IF(ISNA(VLOOKUP(C186,'WK 10'!$K$6:$L$41,2,FALSE)=0),\"\",IF(VLOOKUP(C186,'WK 10'!$K$6:$L$41,2,FALSE)=0,\"\",VLOOKUP(C186,'WK 10'!$K$6:$L$41,2,FALSE)))","v":""},0]
[null,null,{"$f":"IF(ISNA(VLOOKUP('WK 6'!K11,$C$2:$C$181,1,FALSE)),VLOOKUP('WK 6'!K11,'WK 6'!$K$6:$K$450,1,FALSE),\"\")","v":""},null,{"$f":"IF(ISNA(VLOOKUP(C187,'WK 2'!$K$6:$L$41,2,FALSE)=0),\"\",IF(VLOOKUP(C187,'WK 2'!$K$6:$L$41,2,FALSE)=0,\"\",VLOOKUP(C187,'WK 2'!$K$6:$L$41,2,FALSE)))","v":""},{"$f":"IF(ISNA(VLOOKUP(C187,'WK 3'!$K$6:$L$41,2,FALSE)=0),\"\",IF(VLOOKUP(C187,'WK 3'!$K$6:$L$41,2,FALSE)=0,\"\",VLOOKUP(C187,'WK 3'!$K$6:$L$41,2,FALSE)))","v":""},{"$f":"IF(ISNA(VLOOKUP(C187,'WK 4'!$K$6:$L$41,2,FALSE)=0),\"\",IF(VLOOKUP(C187,'WK 4'!$K$6:$L$41,2,FALSE)=0,\"\",VLOOKUP(C187,'WK 4'!$K$6:$L$41,2,FALSE)))","v":""},{"$f":"IF(ISNA(VLOOKUP(C187,'WK 5'!$K$6:$L$41,2,FALSE)=0),\"\",IF(VLOOKUP(C187,'WK 5'!$K$6:$L$41,2,FALSE)=0,\"\",VLOOKUP(C187,'WK 5'!$K$6:$L$41,2,FALSE)))","v":""},{"$f":"IF(ISNA(VLOOKUP(C187,'WK 6'!$K$6:$L$41,2,FALSE)=0),\"\",IF(VLOOKUP(C187,'WK 6'!$K$6:$L$41,2,FALSE)=0,\"\",VLOOKUP(C187,'WK 6'!$K$6:$L$41,2,FALSE)))","v":""},{"$f":"IF(ISNA(VLOOKUP(C187,'WK 7'!$K$6:$L$41,2,FALSE)=0),\"\",IF(VLOOKUP(C187,'WK 7'!$K$6:$L$41,2,FALSE)=0,\"\",VLOOKUP(C187,'WK 7'!$K$6:$L$41,2,FALSE)))","v":""},{"$f":"IF(ISNA(VLOOKUP(C187,'WK 8'!$K$6:$L$41,2,FALSE)=0),\"\",IF(VLOOKUP(C187,'WK 8'!$K$6:$L$41,2,FALSE)=0,\"\",VLOOKUP(C187,'WK 8'!$K$6:$L$41,2,FALSE)))","v":""},{"$f":"IF(ISNA(VLOOKUP(C187,'WK 9'!$K$6:$L$41,2,FALSE)=0),\"\",IF(VLOOKUP(C187,'WK 9'!$K$6:$L$41,2,FALSE)=0,\"\",VLOOKUP(C187,'WK 9'!$K$6:$L$41,2,FALSE)))","v":""},{"$f":"IF(ISNA(VLOOKUP(C187,'WK 10'!$K$6:$L$41,2,FALSE)=0),\"\",IF(VLOOKUP(C187,'WK 10'!$K$6:$L$41,2,FALSE)=0,\"\",VLOOKUP(C187,'WK 10'!$K$6:$L$41,2,FALSE)))","v":""},0]
[null,null,{"$f":"IF(ISNA(VLOOKUP('WK 6'!K12,$C$2:$C$181,1,FALSE)),VLOOKUP('WK 6'!K12,'WK 6'!$K$6:$K$450,1,FALSE),\"\")","v":""},null,{"$f":"IF(ISNA(VLOOKUP(C188,'WK 2'!$K$6:$L$41,2,FALSE)=0),\"\",IF(VLOOKUP(C188,'WK 2'!$K$6:$L$41,2,FALSE)=0,\"\",VLOOKUP(C188,'WK 2'!$K$6:$L$41,2,FALSE)))","v":""},{"$f":"IF(ISNA(VLOOKUP(C188,'WK 3'!$K$6:$L$41,2,FALSE)=0),\"\",IF(VLOOKUP(C188,'WK 3'!$K$6:$L$41,2,FALSE)=0,\"\",VLOOKUP(C188,'WK 3'!$K$6:$L$41,2,FALSE)))","v":""},{"$f":"IF(ISNA(VLOOKUP(C188,'WK 4'!$K$6:$L$41,2,FALSE)=0),\"\",IF(VLOOKUP(C188,'WK 4'!$K$6:$L$41,2,FALSE)=0,\"\",VLOOKUP(C188,'WK 4'!$K$6:$L$41,2,FALSE)))","v":""},{"$f":"IF(ISNA(VLOOKUP(C188,'WK 5'!$K$6:$L$41,2,FALSE)=0),\"\",IF(VLOOKUP(C188,'WK 5'!$K$6:$L$41,2,FALSE)=0,\"\",VLOOKUP(C188,'WK 5'!$K$6:$L$41,2,FALSE)))","v":""},{"$f":"IF(ISNA(VLOOKUP(C188,'WK 6'!$K$6:$L$41,2,FALSE)=0),\"\",IF(VLOOKUP(C188,'WK 6'!$K$6:$L$41,2,FALSE)=0,\"\",VLOOKUP(C188,'WK 6'!$K$6:$L$41,2,FALSE)))","v":""},{"$f":"IF(ISNA(VLOOKUP(C188,'WK 7'!$K$6:$L$41,2,FALSE)=0),\"\",IF(VLOOKUP(C188,'WK 7'!$K$6:$L$41,2,FALSE)=0,\"\",VLOOKUP(C188,'WK 7'!$K$6:$L$41,2,FALSE)))","v":""},{"$f":"IF(ISNA(VLOOKUP(C188,'WK 8'!$K$6:$L$41,2,FALSE)=0),\"\",IF(VLOOKUP(C188,'WK 8'!$K$6:$L$41,2,FALSE)=0,\"\",VLOOKUP(C188,'WK 8'!$K$6:$L$41,2,FALSE)))","v":""},{"$f":"IF(ISNA(VLOOKUP(C188,'WK 9'!$K$6:$L$41,2,FALSE)=0),\"\",IF(VLOOKUP(C188,'WK 9'!$K$6:$L$41,2,FALSE)=0,\"\",VLOOKUP(C188,'WK 9'!$K$6:$L$41,2,FALSE)))","v":""},{"$f":"IF(ISNA(VLOOKUP(C188,'WK 10'!$K$6:$L$41,2,FALSE)=0),\"\",IF(VLOOKUP(C188,'WK 10'!$K$6:$L$41,2,FALSE)=0,\"\",VLOOKUP(C188,'WK 10'!$K$6:$L$41,2,FALSE)))","v":""},0]
[null,null,{"$f":"IF(ISNA(VLOOKUP('WK 6'!K13,$C$2:$C$181,1,FALSE)),VLOOKUP('WK 6'!K13,'WK 6'!$K$6:$K$450,1,FALSE),\"\")","v":""},null,{"$f":"IF(ISNA(VLOOKUP(C189,'WK 2'!$K$6:$L$41,2,FALSE)=0),\"\",IF(VLOOKUP(C189,'WK 2'!$K$6:$L$41,2,FALSE)=0,\"\",VLOOKUP(C189,'WK 2'!$K$6:$L$41,2,FALSE)))","v":""},{"$f":"IF(ISNA(VLOOKUP(C189,'WK 3'!$K$6:$L$41,2,FALSE)=0),\"\",IF(VLOOKUP(C189,'WK 3'!$K$6:$L$41,2,FALSE)=0,\"\",VLOOKUP(C189,'WK 3'!$K$6:$L$41,2,FALSE)))","v":""},{"$f":"IF(ISNA(VLOOKUP(C189,'WK 4'!$K$6:$L$41,2,FALSE)=0),\"\",IF(VLOOKUP(C189,'WK 4'!$K$6:$L$41,2,FALSE)=0,\"\",VLOOKUP(C189,'WK 4'!$K$6:$L$41,2,FALSE)))","v":""},{"$f":"IF(ISNA(VLOOKUP(C189,'WK 5'!$K$6:$L$41,2,FALSE)=0),\"\",IF(VLOOKUP(C189,'WK 5'!$K$6:$L$41,2,FALSE)=0,\"\",VLOOKUP(C189,'WK 5'!$K$6:$L$41,2,FALSE)))","v":""},{"$f":"IF(ISNA(VLOOKUP(C189,'WK 6'!$K$6:$L$41,2,FALSE)=0),\"\",IF(VLOOKUP(C189,'WK 6'!$K$6:$L$41,2,FALSE)=0,\"\",VLOOKUP(C189,'WK 6'!$K$6:$L$41,2,FALSE)))","v":""},{"$f":"IF(ISNA(VLOOKUP(C189,'WK 7'!$K$6:$L$41,2,FALSE)=0),\"\",IF(VLOOKUP(C189,'WK 7'!$K$6:$L$41,2,FALSE)=0,\"\",VLOOKUP(C189,'WK 7'!$K$6:$L$41,2,FALSE)))","v":""},{"$f":"IF(ISNA(VLOOKUP(C189,'WK 8'!$K$6:$L$41,2,FALSE)=0),\"\",IF(VLOOKUP(C189,'WK 8'!$K$6:$L$41,2,FALSE)=0,\"\",VLOOKUP(C189,'WK 8'!$K$6:$L$41,2,FALSE)))","v":""},{"$f":"IF(ISNA(VLOOKUP(C189,'WK 9'!$K$6:$L$41,2,FALSE)=0),\"\",IF(VLOOKUP(C189,'WK 9'!$K$6:$L$41,2,FALSE)=0,\"\",VLOOKUP(C189,'WK 9'!$K$6:$L$41,2,FALSE)))","v":""},{"$f":"IF(ISNA(VLOOKUP(C189,'WK 10'!$K$6:$L$41,2,FALSE)=0),\"\",IF(VLOOKUP(C189,'WK 10'!$K$6:$L$41,2,FALSE)=0,\"\",VLOOKUP(C189,'WK 10'!$K$6:$L$41,2,FALSE)))","v":""},0]
[null,null,{"$f":"IF(ISNA(VLOOKUP('WK 6'!K14,$C$2:$C$181,1,FALSE)),VLOOKUP('WK 6'!K14,'WK 6'!$K$6:$K$450,1,FALSE),\"\")","v":""},null,{"$f":"IF(ISNA(VLOOKUP(C190,'WK 2'!$K$6:$L$41,2,FALSE)=0),\"\",IF(VLOOKUP(C190,'WK 2'!$K$6:$L$41,2,FALSE)=0,\"\",VLOOKUP(C190,'WK 2'!$K$6:$L$41,2,FALSE)))","v":""},{"$f":"IF(ISNA(VLOOKUP(C190,'WK 3'!$K$6:$L$41,2,FALSE)=0),\"\",IF(VLOOKUP(C190,'WK 3'!$K$6:$L$41,2,FALSE)=0,\"\",VLOOKUP(C190,'WK 3'!$K$6:$L$41,2,FALSE)))","v":""},{"$f":"IF(ISNA(VLOOKUP(C190,'WK 4'!$K$6:$L$41,2,FALSE)=0),\"\",IF(VLOOKUP(C190,'WK 4'!$K$6:$L$41,2,FALSE)=0,\"\",VLOOKUP(C190,'WK 4'!$K$6:$L$41,2,FALSE)))","v":""},{"$f":"IF(ISNA(VLOOKUP(C190,'WK 5'!$K$6:$L$41,2,FALSE)=0),\"\",IF(VLOOKUP(C190,'WK 5'!$K$6:$L$41,2,FALSE)=0,\"\",VLOOKUP(C190,'WK 5'!$K$6:$L$41,2,FALSE)))","v":""},{"$f":"IF(ISNA(VLOOKUP(C190,'WK 6'!$K$6:$L$41,2,FALSE)=0),\"\",IF(VLOOKUP(C190,'WK 6'!$K$6:$L$41,2,FALSE)=0,\"\",VLOOKUP(C190,'WK 6'!$K$6:$L$41,2,FALSE)))","v":""},{"$f":"IF(ISNA(VLOOKUP(C190,'WK 7'!$K$6:$L$41,2,FALSE)=0),\"\",IF(VLOOKUP(C190,'WK 7'!$K$6:$L$41,2,FALSE)=0,\"\",VLOOKUP(C190,'WK 7'!$K$6:$L$41,2,FALSE)))","v":""},{"$f":"IF(ISNA(VLOOKUP(C190,'WK 8'!$K$6:$L$41,2,FALSE)=0),\"\",IF(VLOOKUP(C190,'WK 8'!$K$6:$L$41,2,FALSE)=0,\"\",VLOOKUP(C190,'WK 8'!$K$6:$L$41,2,FALSE)))","v":""},{"$f":"IF(ISNA(VLOOKUP(C190,'WK 9'!$K$6:$L$41,2,FALSE)=0),\"\",IF(VLOOKUP(C190,'WK 9'!$K$6:$L$41,2,FALSE)=0,\"\",VLOOKUP(C190,'WK 9'!$K$6:$L$41,2,FALSE)))","v":""},{"$f":"IF(ISNA(VLOOKUP(C190,'WK 10'!$K$6:$L$41,2,FALSE)=0),\"\",IF(VLOOKUP(C190,'WK 10'!$K$6:$L$41,2,FALSE)=0,\"\",VLOOKUP(C190,'WK 10'!$K$6:$L$41,2,FALSE)))","v":""},0]
[null,null,{"$f":"IF(ISNA(VLOOKUP('WK 6'!K15,$C$2:$C$181,1,FALSE)),VLOOKUP('WK 6'!K15,'WK 6'!$K$6:$K$450,1,FALSE),\"\")","v":""},null,{"$f":"IF(ISNA(VLOOKUP(C191,'WK 2'!$K$6:$L$41,2,FALSE)=0),\"\",IF(VLOOKUP(C191,'WK 2'!$K$6:$L$41,2,FALSE)=0,\"\",VLOOKUP(C191,'WK 2'!$K$6:$L$41,2,FALSE)))","v":""},{"$f":"IF(ISNA(VLOOKUP(C191,'WK 3'!$K$6:$L$41,2,FALSE)=0),\"\",IF(VLOOKUP(C191,'WK 3'!$K$6:$L$41,2,FALSE)=0,\"\",VLOOKUP(C191,'WK 3'!$K$6:$L$41,2,FALSE)))","v":""},{"$f":"IF(ISNA(VLOOKUP(C191,'WK 4'!$K$6:$L$41,2,FALSE)=0),\"\",IF(VLOOKUP(C191,'WK 4'!$K$6:$L$41,2,FALSE)=0,\"\",VLOOKUP(C191,'WK 4'!$K$6:$L$41,2,FALSE)))","v":""},{"$f":"IF(ISNA(VLOOKUP(C191,'WK 5'!$K$6:$L$41,2,FALSE)=0),\"\",IF(VLOOKUP(C191,'WK 5'!$K$6:$L$41,2,FALSE)=0,\"\",VLOOKUP(C191,'WK 5'!$K$6:$L$41,2,FALSE)))","v":""},{"$f":"IF(ISNA(VLOOKUP(C191,'WK 6'!$K$6:$L$41,2,FALSE)=0),\"\",IF(VLOOKUP(C191,'WK 6'!$K$6:$L$41,2,FALSE)=0,\"\",VLOOKUP(C191,'WK 6'!$K$6:$L$41,2,FALSE)))","v":""},{"$f":"IF(ISNA(VLOOKUP(C191,'WK 7'!$K$6:$L$41,2,FALSE)=0),\"\",IF(VLOOKUP(C191,'WK 7'!$K$6:$L$41,2,FALSE)=0,\"\",VLOOKUP(C191,'WK 7'!$K$6:$L$41,2,FALSE)))","v":""},{"$f":"IF(ISNA(VLOOKUP(C191,'WK 8'!$K$6:$L$41,2,FALSE)=0),\"\",IF(VLOOKUP(C191,'WK 8'!$K$6:$L$41,2,FALSE)=0,\"\",VLOOKUP(C191,'WK 8'!$K$6:$L$41,2,FALSE)))","v":""},{"$f":"IF(ISNA(VLOOKUP(C191,'WK 9'!$K$6:$L$41,2,FALSE)=0),\"\",IF(VLOOKUP(C191,'WK 9'!$K$6:$L$41,2,FALSE)=0,\"\",VLOOKUP(C191,'WK 9'!$K$6:$L$41,2,FALSE)))","v":""},{"$f":"IF(ISNA(VLOOKUP(C191,'WK 10'!$K$6:$L$41,2,FALSE)=0),\"\",IF(VLOOKUP(C191,'WK 10'!$K$6:$L$41,2,FALSE)=0,\"\",VLOOKUP(C191,'WK 10'!$K$6:$L$41,2,FALSE)))","v":""},0]
[null,null,{"$f":"IF(ISNA(VLOOKUP('WK 6'!K16,$C$2:$C$181,1,FALSE)),VLOOKUP('WK 6'!K16,'WK 6'!$K$6:$K$450,1,FALSE),\"\")","v":""},null,{"$f":"IF(ISNA(VLOOKUP(C192,'WK 2'!$K$6:$L$41,2,FALSE)=0),\"\",IF(VLOOKUP(C192,'WK 2'!$K$6:$L$41,2,FALSE)=0,\"\",VLOOKUP(C192,'WK 2'!$K$6:$L$41,2,FALSE)))","v":""},{"$f":"IF(ISNA(VLOOKUP(C192,'WK 3'!$K$6:$L$41,2,FALSE)=0),\"\",IF(VLOOKUP(C192,'WK 3'!$K$6:$L$41,2,FALSE)=0,\"\",VLOOKUP(C192,'WK 3'!$K$6:$L$41,2,FALSE)))","v":""},{"$f":"IF(ISNA(VLOOKUP(C192,'WK 4'!$K$6:$L$41,2,FALSE)=0),\"\",IF(VLOOKUP(C192,'WK 4'!$K$6:$L$41,2,FALSE)=0,\"\",VLOOKUP(C192,'WK 4'!$K$6:$L$41,2,FALSE)))","v":""},{"$f":"IF(ISNA(VLOOKUP(C192,'WK 5'!$K$6:$L$41,2,FALSE)=0),\"\",IF(VLOOKUP(C192,'WK 5'!$K$6:$L$41,2,FALSE)=0,\"\",VLOOKUP(C192,'WK 5'!$K$6:$L$41,2,FALSE)))","v":""},{"$f":"IF(ISNA(VLOOKUP(C192,'WK 6'!$K$6:$L$41,2,FALSE)=0),\"\",IF(VLOOKUP(C192,'WK 6'!$K$6:$L$41,2,FALSE)=0,\"\",VLOOKUP(C192,'WK 6'!$K$6:$L$41,2,FALSE)))","v":""},{"$f":"IF(ISNA(VLOOKUP(C192,'WK 7'!$K$6:$L$41,2,FALSE)=0),\"\",IF(VLOOKUP(C192,'WK 7'!$K$6:$L$41,2,FALSE)=0,\"\",VLOOKUP(C192,'WK 7'!$K$6:$L$41,2,FALSE)))","v":""},{"$f":"IF(ISNA(VLOOKUP(C192,'WK 8'!$K$6:$L$41,2,FALSE)=0),\"\",IF(VLOOKUP(C192,'WK 8'!$K$6:$L$41,2,FALSE)=0,\"\",VLOOKUP(C192,'WK 8'!$K$6:$L$41,2,FALSE)))","v":""},{"$f":"IF(ISNA(VLOOKUP(C192,'WK 9'!$K$6:$L$41,2,FALSE)=0),\"\",IF(VLOOKUP(C192,'WK 9'!$K$6:$L$41,2,FALSE)=0,\"\",VLOOKUP(C192,'WK 9'!$K$6:$L$41,2,FALSE)))","v":""},{"$f":"IF(ISNA(VLOOKUP(C192,'WK 10'!$K$6:$L$41,2,FALSE)=0),\"\",IF(VLOOKUP(C192,'WK 10'!$K$6:$L$41,2,FALSE)=0,\"\",VLOOKUP(C192,'WK 10'!$K$6:$L$41,2,FALSE)))","v":""},0]
[null,null,{"$f":"IF(ISNA(VLOOKUP('WK 6'!K17,$C$2:$C$181,1,FALSE)),VLOOKUP('WK 6'!K17,'WK 6'!$K$6:$K$450,1,FALSE),\"\")","v":""},null,{"$f":"IF(ISNA(VLOOKUP(C193,'WK 2'!$K$6:$L$41,2,FALSE)=0),\"\",IF(VLOOKUP(C193,'WK 2'!$K$6:$L$41,2,FALSE)=0,\"\",VLOOKUP(C193,'WK 2'!$K$6:$L$41,2,FALSE)))","v":""},{"$f":"IF(ISNA(VLOOKUP(C193,'WK 3'!$K$6:$L$41,2,FALSE)=0),\"\",IF(VLOOKUP(C193,'WK 3'!$K$6:$L$41,2,FALSE)=0,\"\",VLOOKUP(C193,'WK 3'!$K$6:$L$41,2,FALSE)))","v":""},{"$f":"IF(ISNA(VLOOKUP(C193,'WK 4'!$K$6:$L$41,2,FALSE)=0),\"\",IF(VLOOKUP(C193,'WK 4'!$K$6:$L$41,2,FALSE)=0,\"\",VLOOKUP(C193,'WK 4'!$K$6:$L$41,2,FALSE)))","v":""},{"$f":"IF(ISNA(VLOOKUP(C193,'WK 5'!$K$6:$L$41,2,FALSE)=0),\"\",IF(VLOOKUP(C193,'WK 5'!$K$6:$L$41,2,FALSE)=0,\"\",VLOOKUP(C193,'WK 5'!$K$6:$L$41,2,FALSE)))","v":""},{"$f":"IF(ISNA(VLOOKUP(C193,'WK 6'!$K$6:$L$41,2,FALSE)=0),\"\",IF(VLOOKUP(C193,'WK 6'!$K$6:$L$41,2,FALSE)=0,\"\",VLOOKUP(C193,'WK 6'!$K$6:$L$41,2,FALSE)))","v":""},{"$f":"IF(ISNA(VLOOKUP(C193,'WK 7'!$K$6:$L$41,2,FALSE)=0),\"\",IF(VLOOKUP(C193,'WK 7'!$K$6:$L$41,2,FALSE)=0,\"\",VLOOKUP(C193,'WK 7'!$K$6:$L$41,2,FALSE)))","v":""},{"$f":"IF(ISNA(VLOOKUP(C193,'WK 8'!$K$6:$L$41,2,FALSE)=0),\"\",IF(VLOOKUP(C193,'WK 8'!$K$6:$L$41,2,FALSE)=0,\"\",VLOOKUP(C193,'WK 8'!$K$6:$L$41,2,FALSE)))","v":""},{"$f":"IF(ISNA(VLOOKUP(C193,'WK 9'!$K$6:$L$41,2,FALSE)=0),\"\",IF(VLOOKUP(C193,'WK 9'!$K$6:$L$41,2,FALSE)=0,\"\",VLOOKUP(C193,'WK 9'!$K$6:$L$41,2,FALSE)))","v":""},{"$f":"IF(ISNA(VLOOKUP(C193,'WK 10'!$K$6:$L$41,2,FALSE)=0),\"\",IF(VLOOKUP(C193,'WK 10'!$K$6:$L$41,2,FALSE)=0,\"\",VLOOKUP(C193,'WK 10'!$K$6:$L$41,2,FALSE)))","v":""},0]
[null,null,{"$f":"IF(ISNA(VLOOKUP('WK 6'!K18,$C$2:$C$181,1,FALSE)),VLOOKUP('WK 6'!K18,'WK 6'!$K$6:$K$450,1,FALSE),\"\")","v":""},null,{"$f":"IF(ISNA(VLOOKUP(C194,'WK 2'!$K$6:$L$41,2,FALSE)=0),\"\",IF(VLOOKUP(C194,'WK 2'!$K$6:$L$41,2,FALSE)=0,\"\",VLOOKUP(C194,'WK 2'!$K$6:$L$41,2,FALSE)))","v":""},{"$f":"IF(ISNA(VLOOKUP(C194,'WK 3'!$K$6:$L$41,2,FALSE)=0),\"\",IF(VLOOKUP(C194,'WK 3'!$K$6:$L$41,2,FALSE)=0,\"\",VLOOKUP(C194,'WK 3'!$K$6:$L$41,2,FALSE)))","v":""},{"$f":"IF(ISNA(VLOOKUP(C194,'WK 4'!$K$6:$L$41,2,FALSE)=0),\"\",IF(VLOOKUP(C194,'WK 4'!$K$6:$L$41,2,FALSE)=0,\"\",VLOOKUP(C194,'WK 4'!$K$6:$L$41,2,FALSE)))","v":""},{"$f":"IF(ISNA(VLOOKUP(C194,'WK 5'!$K$6:$L$41,2,FALSE)=0),\"\",IF(VLOOKUP(C194,'WK 5'!$K$6:$L$41,2,FALSE)=0,\"\",VLOOKUP(C194,'WK 5'!$K$6:$L$41,2,FALSE)))","v":""},{"$f":"IF(ISNA(VLOOKUP(C194,'WK 6'!$K$6:$L$41,2,FALSE)=0),\"\",IF(VLOOKUP(C194,'WK 6'!$K$6:$L$41,2,FALSE)=0,\"\",VLOOKUP(C194,'WK 6'!$K$6:$L$41,2,FALSE)))","v":""},{"$f":"IF(ISNA(VLOOKUP(C194,'WK 7'!$K$6:$L$41,2,FALSE)=0),\"\",IF(VLOOKUP(C194,'WK 7'!$K$6:$L$41,2,FALSE)=0,\"\",VLOOKUP(C194,'WK 7'!$K$6:$L$41,2,FALSE)))","v":""},{"$f":"IF(ISNA(VLOOKUP(C194,'WK 8'!$K$6:$L$41,2,FALSE)=0),\"\",IF(VLOOKUP(C194,'WK 8'!$K$6:$L$41,2,FALSE)=0,\"\",VLOOKUP(C194,'WK 8'!$K$6:$L$41,2,FALSE)))","v":""},{"$f":"IF(ISNA(VLOOKUP(C194,'WK 9'!$K$6:$L$41,2,FALSE)=0),\"\",IF(VLOOKUP(C194,'WK 9'!$K$6:$L$41,2,FALSE)=0,\"\",VLOOKUP(C194,'WK 9'!$K$6:$L$41,2,FALSE)))","v":""},{"$f":"IF(ISNA(VLOOKUP(C194,'WK 10'!$K$6:$L$41,2,FALSE)=0),\"\",IF(VLOOKUP(C194,'WK 10'!$K$6:$L$41,2,FALSE)=0,\"\",VLOOKUP(C194,'WK 10'!$K$6:$L$41,2,FALSE)))","v":""},0]
[null,null,{"$f":"IF(ISNA(VLOOKUP('WK 6'!K19,$C$2:$C$181,1,FALSE)),VLOOKUP('WK 6'!K19,'WK 6'!$K$6:$K$450,1,FALSE),\"\")","v":""},null,{"$f":"IF(ISNA(VLOOKUP(C195,'WK 2'!$K$6:$L$41,2,FALSE)=0),\"\",IF(VLOOKUP(C195,'WK 2'!$K$6:$L$41,2,FALSE)=0,\"\",VLOOKUP(C195,'WK 2'!$K$6:$L$41,2,FALSE)))","v":""},{"$f":"IF(ISNA(VLOOKUP(C195,'WK 3'!$K$6:$L$41,2,FALSE)=0),\"\",IF(VLOOKUP(C195,'WK 3'!$K$6:$L$41,2,FALSE)=0,\"\",VLOOKUP(C195,'WK 3'!$K$6:$L$41,2,FALSE)))","v":""},{"$f":"IF(ISNA(VLOOKUP(C195,'WK 4'!$K$6:$L$41,2,FALSE)=0),\"\",IF(VLOOKUP(C195,'WK 4'!$K$6:$L$41,2,FALSE)=0,\"\",VLOOKUP(C195,'WK 4'!$K$6:$L$41,2,FALSE)))","v":""},{"$f":"IF(ISNA(VLOOKUP(C195,'WK 5'!$K$6:$L$41,2,FALSE)=0),\"\",IF(VLOOKUP(C195,'WK 5'!$K$6:$L$41,2,FALSE)=0,\"\",VLOOKUP(C195,'WK 5'!$K$6:$L$41,2,FALSE)))","v":""},{"$f":"IF(ISNA(VLOOKUP(C195,'WK 6'!$K$6:$L$41,2,FALSE)=0),\"\",IF(VLOOKUP(C195,'WK 6'!$K$6:$L$41,2,FALSE)=0,\"\",VLOOKUP(C195,'WK 6'!$K$6:$L$41,2,FALSE)))","v":""},{"$f":"IF(ISNA(VLOOKUP(C195,'WK 7'!$K$6:$L$41,2,FALSE)=0),\"\",IF(VLOOKUP(C195,'WK 7'!$K$6:$L$41,2,FALSE)=0,\"\",VLOOKUP(C195,'WK 7'!$K$6:$L$41,2,FALSE)))","v":""},{"$f":"IF(ISNA(VLOOKUP(C195,'WK 8'!$K$6:$L$41,2,FALSE)=0),\"\",IF(VLOOKUP(C195,'WK 8'!$K$6:$L$41,2,FALSE)=0,\"\",VLOOKUP(C195,'WK 8'!$K$6:$L$41,2,FALSE)))","v":""},{"$f":"IF(ISNA(VLOOKUP(C195,'WK 9'!$K$6:$L$41,2,FALSE)=0),\"\",IF(VLOOKUP(C195,'WK 9'!$K$6:$L$41,2,FALSE)=0,\"\",VLOOKUP(C195,'WK 9'!$K$6:$L$41,2,FALSE)))","v":""},{"$f":"IF(ISNA(VLOOKUP(C195,'WK 10'!$K$6:$L$41,2,FALSE)=0),\"\",IF(VLOOKUP(C195,'WK 10'!$K$6:$L$41,2,FALSE)=0,\"\",VLOOKUP(C195,'WK 10'!$K$6:$L$41,2,FALSE)))","v":""},{"$f":"IF(COUNT(D195:M195)=0,0,AVERAGE(D195:M195))","v":0}]
[null,null,{"$f":"IF(ISNA(VLOOKUP('WK 6'!K20,$C$2:$C$181,1,FALSE)),VLOOKUP('WK 6'!K20,'WK 6'!$K$6:$K$450,1,FALSE),\"\")","v":""},null,{"$f":"IF(ISNA(VLOOKUP(C196,'WK 2'!$K$6:$L$41,2,FALSE)=0),\"\",IF(VLOOKUP(C196,'WK 2'!$K$6:$L$41,2,FALSE)=0,\"\",VLOOKUP(C196,'WK 2'!$K$6:$L$41,2,FALSE)))","v":""},{"$f":"IF(ISNA(VLOOKUP(C196,'WK 3'!$K$6:$L$41,2,FALSE)=0),\"\",IF(VLOOKUP(C196,'WK 3'!$K$6:$L$41,2,FALSE)=0,\"\",VLOOKUP(C196,'WK 3'!$K$6:$L$41,2,FALSE)))","v":""},{"$f":"IF(ISNA(VLOOKUP(C196,'WK 4'!$K$6:$L$41,2,FALSE)=0),\"\",IF(VLOOKUP(C196,'WK 4'!$K$6:$L$41,2,FALSE)=0,\"\",VLOOKUP(C196,'WK 4'!$K$6:$L$41,2,FALSE)))","v":""},{"$f":"IF(ISNA(VLOOKUP(C196,'WK 5'!$K$6:$L$41,2,FALSE)=0),\"\",IF(VLOOKUP(C196,'WK 5'!$K$6:$L$41,2,FALSE)=0,\"\",VLOOKUP(C196,'WK 5'!$K$6:$L$41,2,FALSE)))","v":""},{"$f":"IF(ISNA(VLOOKUP(C196,'WK 6'!$K$6:$L$41,2,FALSE)=0),\"\",IF(VLOOKUP(C196,'WK 6'!$K$6:$L$41,2,FALSE)=0,\"\",VLOOKUP(C196,'WK 6'!$K$6:$L$41,2,FALSE)))","v":""},{"$f":"IF(ISNA(VLOOKUP(C196,'WK 7'!$K$6:$L$41,2,FALSE)=0),\"\",IF(VLOOKUP(C196,'WK 7'!$K$6:$L$41,2,FALSE)=0,\"\",VLOOKUP(C196,'WK 7'!$K$6:$L$41,2,FALSE)))","v":""},{"$f":"IF(ISNA(VLOOKUP(C196,'WK 8'!$K$6:$L$41,2,FALSE)=0),\"\",IF(VLOOKUP(C196,'WK 8'!$K$6:$L$41,2,FALSE)=0,\"\",VLOOKUP(C196,'WK 8'!$K$6:$L$41,2,FALSE)))","v":""},{"$f":"IF(ISNA(VLOOKUP(C196,'WK 9'!$K$6:$L$41,2,FALSE)=0),\"\",IF(VLOOKUP(C196,'WK 9'!$K$6:$L$41,2,FALSE)=0,\"\",VLOOKUP(C196,'WK 9'!$K$6:$L$41,2,FALSE)))","v":""},{"$f":"IF(ISNA(VLOOKUP(C196,'WK 10'!$K$6:$L$41,2,FALSE)=0),\"\",IF(VLOOKUP(C196,'WK 10'!$K$6:$L$41,2,FALSE)=0,\"\",VLOOKUP(C196,'WK 10'!$K$6:$L$41,2,FALSE)))","v":""},0]
[null,null,{"$f":"IF(ISNA(VLOOKUP('WK 6'!K21,$C$2:$C$181,1,FALSE)),VLOOKUP('WK 6'!K21,'WK 6'!$K$6:$K$450,1,FALSE),\"\")","v":""},null,{"$f":"IF(ISNA(VLOOKUP(C197,'WK 2'!$K$6:$L$41,2,FALSE)=0),\"\",IF(VLOOKUP(C197,'WK 2'!$K$6:$L$41,2,FALSE)=0,\"\",VLOOKUP(C197,'WK 2'!$K$6:$L$41,2,FALSE)))","v":""},{"$f":"IF(ISNA(VLOOKUP(C197,'WK 3'!$K$6:$L$41,2,FALSE)=0),\"\",IF(VLOOKUP(C197,'WK 3'!$K$6:$L$41,2,FALSE)=0,\"\",VLOOKUP(C197,'WK 3'!$K$6:$L$41,2,FALSE)))","v":""},{"$f":"IF(ISNA(VLOOKUP(C197,'WK 4'!$K$6:$L$41,2,FALSE)=0),\"\",IF(VLOOKUP(C197,'WK 4'!$K$6:$L$41,2,FALSE)=0,\"\",VLOOKUP(C197,'WK 4'!$K$6:$L$41,2,FALSE)))","v":""},{"$f":"IF(ISNA(VLOOKUP(C197,'WK 5'!$K$6:$L$41,2,FALSE)=0),\"\",IF(VLOOKUP(C197,'WK 5'!$K$6:$L$41,2,FALSE)=0,\"\",VLOOKUP(C197,'WK 5'!$K$6:$L$41,2,FALSE)))","v":""},{"$f":"IF(ISNA(VLOOKUP(C197,'WK 6'!$K$6:$L$41,2,FALSE)=0),\"\",IF(VLOOKUP(C197,'WK 6'!$K$6:$L$41,2,FALSE)=0,\"\",VLOOKUP(C197,'WK 6'!$K$6:$L$41,2,FALSE)))","v":""},{"$f":"IF(ISNA(VLOOKUP(C197,'WK 7'!$K$6:$L$41,2,FALSE)=0),\"\",IF(VLOOKUP(C197,'WK 7'!$K$6:$L$41,2,FALSE)=0,\"\",VLOOKUP(C197,'WK 7'!$K$6:$L$41,2,FALSE)))","v":""},{"$f":"IF(ISNA(VLOOKUP(C197,'WK 8'!$K$6:$L$41,2,FALSE)=0),\"\",IF(VLOOKUP(C197,'WK 8'!$K$6:$L$41,2,FALSE)=0,\"\",VLOOKUP(C197,'WK 8'!$K$6:$L$41,2,FALSE)))","v":""},{"$f":"IF(ISNA(VLOOKUP(C197,'WK 9'!$K$6:$L$41,2,FALSE)=0),\"\",IF(VLOOKUP(C197,'WK 9'!$K$6:$L$41,2,FALSE)=0,\"\",VLOOKUP(C197,'WK 9'!$K$6:$L$41,2,FALSE)))","v":""},{"$f":"IF(ISNA(VLOOKUP(C197,'WK 10'!$K$6:$L$41,2,FALSE)=0),\"\",IF(VLOOKUP(C197,'WK 10'!$K$6:$L$41,2,FALSE)=0,\"\",VLOOKUP(C197,'WK 10'!$K$6:$L$41,2,FALSE)))","v":""},0]
[null,null,{"$f":"IF(ISNA(VLOOKUP('WK 6'!K22,$C$2:$C$181,1,FALSE)),VLOOKUP('WK 6'!K22,'WK 6'!$K$6:$K$450,1,FALSE),\"\")","v":""},null,{"$f":"IF(ISNA(VLOOKUP(C198,'WK 2'!$K$6:$L$41,2,FALSE)=0),\"\",IF(VLOOKUP(C198,'WK 2'!$K$6:$L$41,2,FALSE)=0,\"\",VLOOKUP(C198,'WK 2'!$K$6:$L$41,2,FALSE)))","v":""},{"$f":"IF(ISNA(VLOOKUP(C198,'WK 3'!$K$6:$L$41,2,FALSE)=0),\"\",IF(VLOOKUP(C198,'WK 3'!$K$6:$L$41,2,FALSE)=0,\"\",VLOOKUP(C198,'WK 3'!$K$6:$L$41,2,FALSE)))","v":""},{"$f":"IF(ISNA(VLOOKUP(C198,'WK 4'!$K$6:$L$41,2,FALSE)=0),\"\",IF(VLOOKUP(C198,'WK 4'!$K$6:$L$41,2,FALSE)=0,\"\",VLOOKUP(C198,'WK 4'!$K$6:$L$41,2,FALSE)))","v":""},{"$f":"IF(ISNA(VLOOKUP(C198,'WK 5'!$K$6:$L$41,2,FALSE)=0),\"\",IF(VLOOKUP(C198,'WK 5'!$K$6:$L$41,2,FALSE)=0,\"\",VLOOKUP(C198,'WK 5'!$K$6:$L$41,2,FALSE)))","v":""},{"$f":"IF(ISNA(VLOOKUP(C198,'WK 6'!$K$6:$L$41,2,FALSE)=0),\"\",IF(VLOOKUP(C198,'WK 6'!$K$6:$L$41,2,FALSE)=0,\"\",VLOOKUP(C198,'WK 6'!$K$6:$L$41,2,FALSE)))","v":""},{"$f":"IF(ISNA(VLOOKUP(C198,'WK 7'!$K$6:$L$41,2,FALSE)=0),\"\",IF(VLOOKUP(C198,'WK 7'!$K$6:$L$41,2,FALSE)=0,\"\",VLOOKUP(C198,'WK 7'!$K$6:$L$41,2,FALSE)))","v":""},{"$f":"IF(ISNA(VLOOKUP(C198,'WK 8'!$K$6:$L$41,2,FALSE)=0),\"\",IF(VLOOKUP(C198,'WK 8'!$K$6:$L$41,2,FALSE)=0,\"\",VLOOKUP(C198,'WK 8'!$K$6:$L$41,2,FALSE)))","v":""},{"$f":"IF(ISNA(VLOOKUP(C198,'WK 9'!$K$6:$L$41,2,FALSE)=0),\"\",IF(VLOOKUP(C198,'WK 9'!$K$6:$L$41,2,FALSE)=0,\"\",VLOOKUP(C198,'WK 9'!$K$6:$L$41,2,FALSE)))","v":""},{"$f":"IF(ISNA(VLOOKUP(C198,'WK 10'!$K$6:$L$41,2,FALSE)=0),\"\",IF(VLOOKUP(C198,'WK 10'!$K$6:$L$41,2,FALSE)=0,\"\",VLOOKUP(C198,'WK 10'!$K$6:$L$41,2,FALSE)))","v":""},0]
[null,null,{"$f":"IF(ISNA(VLOOKUP('WK 6'!K23,$C$2:$C$181,1,FALSE)),VLOOKUP('WK 6'!K23,'WK 6'!$K$6:$K$450,1,FALSE),\"\")","v":""},null,{"$f":"IF(ISNA(VLOOKUP(C199,'WK 2'!$K$6:$L$41,2,FALSE)=0),\"\",IF(VLOOKUP(C199,'WK 2'!$K$6:$L$41,2,FALSE)=0,\"\",VLOOKUP(C199,'WK 2'!$K$6:$L$41,2,FALSE)))","v":""},{"$f":"IF(ISNA(VLOOKUP(C199,'WK 3'!$K$6:$L$41,2,FALSE)=0),\"\",IF(VLOOKUP(C199,'WK 3'!$K$6:$L$41,2,FALSE)=0,\"\",VLOOKUP(C199,'WK 3'!$K$6:$L$41,2,FALSE)))","v":""},{"$f":"IF(ISNA(VLOOKUP(C199,'WK 4'!$K$6:$L$41,2,FALSE)=0),\"\",IF(VLOOKUP(C199,'WK 4'!$K$6:$L$41,2,FALSE)=0,\"\",VLOOKUP(C199,'WK 4'!$K$6:$L$41,2,FALSE)))","v":""},{"$f":"IF(ISNA(VLOOKUP(C199,'WK 5'!$K$6:$L$41,2,FALSE)=0),\"\",IF(VLOOKUP(C199,'WK 5'!$K$6:$L$41,2,FALSE)=0,\"\",VLOOKUP(C199,'WK 5'!$K$6:$L$41,2,FALSE)))","v":""},{"$f":"IF(ISNA(VLOOKUP(C199,'WK 6'!$K$6:$L$41,2,FALSE)=0),\"\",IF(VLOOKUP(C199,'WK 6'!$K$6:$L$41,2,FALSE)=0,\"\",VLOOKUP(C199,'WK 6'!$K$6:$L$41,2,FALSE)))","v":""},{"$f":"IF(ISNA(VLOOKUP(C199,'WK 7'!$K$6:$L$41,2,FALSE)=0),\"\",IF(VLOOKUP(C199,'WK 7'!$K$6:$L$41,2,FALSE)=0,\"\",VLOOKUP(C199,'WK 7'!$K$6:$L$41,2,FALSE)))","v":""},{"$f":"IF(ISNA(VLOOKUP(C199,'WK 8'!$K$6:$L$41,2,FALSE)=0),\"\",IF(VLOOKUP(C199,'WK 8'!$K$6:$L$41,2,FALSE)=0,\"\",VLOOKUP(C199,'WK 8'!$K$6:$L$41,2,FALSE)))","v":""},{"$f":"IF(ISNA(VLOOKUP(C199,'WK 9'!$K$6:$L$41,2,FALSE)=0),\"\",IF(VLOOKUP(C199,'WK 9'!$K$6:$L$41,2,FALSE)=0,\"\",VLOOKUP(C199,'WK 9'!$K$6:$L$41,2,FALSE)))","v":""},{"$f":"IF(ISNA(VLOOKUP(C199,'WK 10'!$K$6:$L$41,2,FALSE)=0),\"\",IF(VLOOKUP(C199,'WK 10'!$K$6:$L$41,2,FALSE)=0,\"\",VLOOKUP(C199,'WK 10'!$K$6:$L$41,2,FALSE)))","v":""},0]
[null,null,{"$f":"IF(ISNA(VLOOKUP('WK 6'!K24,$C$2:$C$181,1,FALSE)),VLOOKUP('WK 6'!K24,'WK 6'!$K$6:$K$450,1,FALSE),\"\")","v":""},null,{"$f":"IF(ISNA(VLOOKUP(C200,'WK 2'!$K$6:$L$41,2,FALSE)=0),\"\",IF(VLOOKUP(C200,'WK 2'!$K$6:$L$41,2,FALSE)=0,\"\",VLOOKUP(C200,'WK 2'!$K$6:$L$41,2,FALSE)))","v":""},{"$f":"IF(ISNA(VLOOKUP(C200,'WK 3'!$K$6:$L$41,2,FALSE)=0),\"\",IF(VLOOKUP(C200,'WK 3'!$K$6:$L$41,2,FALSE)=0,\"\",VLOOKUP(C200,'WK 3'!$K$6:$L$41,2,FALSE)))","v":""},{"$f":"IF(ISNA(VLOOKUP(C200,'WK 4'!$K$6:$L$41,2,FALSE)=0),\"\",IF(VLOOKUP(C200,'WK 4'!$K$6:$L$41,2,FALSE)=0,\"\",VLOOKUP(C200,'WK 4'!$K$6:$L$41,2,FALSE)))","v":""},{"$f":"IF(ISNA(VLOOKUP(C200,'WK 5'!$K$6:$L$41,2,FALSE)=0),\"\",IF(VLOOKUP(C200,'WK 5'!$K$6:$L$41,2,FALSE)=0,\"\",VLOOKUP(C200,'WK 5'!$K$6:$L$41,2,FALSE)))","v":""},{"$f":"IF(ISNA(VLOOKUP(C200,'WK 6'!$K$6:$L$41,2,FALSE)=0),\"\",IF(VLOOKUP(C200,'WK 6'!$K$6:$L$41,2,FALSE)=0,\"\",VLOOKUP(C200,'WK 6'!$K$6:$L$41,2,FALSE)))","v":""},{"$f":"IF(ISNA(VLOOKUP(C200,'WK 7'!$K$6:$L$41,2,FALSE)=0),\"\",IF(VLOOKUP(C200,'WK 7'!$K$6:$L$41,2,FALSE)=0,\"\",VLOOKUP(C200,'WK 7'!$K$6:$L$41,2,FALSE)))","v":""},{"$f":"IF(ISNA(VLOOKUP(C200,'WK 8'!$K$6:$L$41,2,FALSE)=0),\"\",IF(VLOOKUP(C200,'WK 8'!$K$6:$L$41,2,FALSE)=0,\"\",VLOOKUP(C200,'WK 8'!$K$6:$L$41,2,FALSE)))","v":""},{"$f":"IF(ISNA(VLOOKUP(C200,'WK 9'!$K$6:$L$41,2,FALSE)=0),\"\",IF(VLOOKUP(C200,'WK 9'!$K$6:$L$41,2,FALSE)=0,\"\",VLOOKUP(C200,'WK 9'!$K$6:$L$41,2,FALSE)))","v":""},{"$f":"IF(ISNA(VLOOKUP(C200,'WK 10'!$K$6:$L$41,2,FALSE)=0),\"\",IF(VLOOKUP(C200,'WK 10'!$K$6:$L$41,2,FALSE)=0,\"\",VLOOKUP(C200,'WK 10'!$K$6:$L$41,2,FALSE)))","v":""},0]
[null,null,{"$f":"IF(ISNA(VLOOKUP('WK 6'!K25,$C$2:$C$181,1,FALSE)),VLOOKUP('WK 6'!K25,'WK 6'!$K$6:$K$450,1,FALSE),\"\")","v":""},null,{"$f":"IF(ISNA(VLOOKUP(C201,'WK 2'!$K$6:$L$41,2,FALSE)=0),\"\",IF(VLOOKUP(C201,'WK 2'!$K$6:$L$41,2,FALSE)=0,\"\",VLOOKUP(C201,'WK 2'!$K$6:$L$41,2,FALSE)))","v":""},{"$f":"IF(ISNA(VLOOKUP(C201,'WK 3'!$K$6:$L$41,2,FALSE)=0),\"\",IF(VLOOKUP(C201,'WK 3'!$K$6:$L$41,2,FALSE)=0,\"\",VLOOKUP(C201,'WK 3'!$K$6:$L$41,2,FALSE)))","v":""},{"$f":"IF(ISNA(VLOOKUP(C201,'WK 4'!$K$6:$L$41,2,FALSE)=0),\"\",IF(VLOOKUP(C201,'WK 4'!$K$6:$L$41,2,FALSE)=0,\"\",VLOOKUP(C201,'WK 4'!$K$6:$L$41,2,FALSE)))","v":""},{"$f":"IF(ISNA(VLOOKUP(C201,'WK 5'!$K$6:$L$41,2,FALSE)=0),\"\",IF(VLOOKUP(C201,'WK 5'!$K$6:$L$41,2,FALSE)=0,\"\",VLOOKUP(C201,'WK 5'!$K$6:$L$41,2,FALSE)))","v":""},{"$f":"IF(ISNA(VLOOKUP(C201,'WK 6'!$K$6:$L$41,2,FALSE)=0),\"\",IF(VLOOKUP(C201,'WK 6'!$K$6:$L$41,2,FALSE)=0,\"\",VLOOKUP(C201,'WK 6'!$K$6:$L$41,2,FALSE)))","v":""},{"$f":"IF(ISNA(VLOOKUP(C201,'WK 7'!$K$6:$L$41,2,FALSE)=0),\"\",IF(VLOOKUP(C201,'WK 7'!$K$6:$L$41,2,FALSE)=0,\"\",VLOOKUP(C201,'WK 7'!$K$6:$L$41,2,FALSE)))","v":""},{"$f":"IF(ISNA(VLOOKUP(C201,'WK 8'!$K$6:$L$41,2,FALSE)=0),\"\",IF(VLOOKUP(C201,'WK 8'!$K$6:$L$41,2,FALSE)=0,\"\",VLOOKUP(C201,'WK 8'!$K$6:$L$41,2,FALSE)))","v":""},{"$f":"IF(ISNA(VLOOKUP(C201,'WK 9'!$K$6:$L$41,2,FALSE)=0),\"\",IF(VLOOKUP(C201,'WK 9'!$K$6:$L$41,2,FALSE)=0,\"\",VLOOKUP(C201,'WK 9'!$K$6:$L$41,2,FALSE)))","v":""},{"$f":"IF(ISNA(VLOOKUP(C201,'WK 10'!$K$6:$L$41,2,FALSE)=0),\"\",IF(VLOOKUP(C201,'WK 10'!$K$6:$L$41,2,FALSE)=0,\"\",VLOOKUP(C201,'WK 10'!$K$6:$L$41,2,FALSE)))","v":""},0]
[null,null,{"$f":"IF(ISNA(VLOOKUP('WK 6'!K26,$C$2:$C$181,1,FALSE)),VLOOKUP('WK 6'!K26,'WK 6'!$K$6:$K$450,1,FALSE),\"\")","v":""},null,{"$f":"IF(ISNA(VLOOKUP(C202,'WK 2'!$K$6:$L$41,2,FALSE)=0),\"\",IF(VLOOKUP(C202,'WK 2'!$K$6:$L$41,2,FALSE)=0,\"\",VLOOKUP(C202,'WK 2'!$K$6:$L$41,2,FALSE)))","v":""},{"$f":"IF(ISNA(VLOOKUP(C202,'WK 3'!$K$6:$L$41,2,FALSE)=0),\"\",IF(VLOOKUP(C202,'WK 3'!$K$6:$L$41,2,FALSE)=0,\"\",VLOOKUP(C202,'WK 3'!$K$6:$L$41,2,FALSE)))","v":""},{"$f":"IF(ISNA(VLOOKUP(C202,'WK 4'!$K$6:$L$41,2,FALSE)=0),\"\",IF(VLOOKUP(C202,'WK 4'!$K$6:$L$41,2,FALSE)=0,\"\",VLOOKUP(C202,'WK 4'!$K$6:$L$41,2,FALSE)))","v":""},{"$f":"IF(ISNA(VLOOKUP(C202,'WK 5'!$K$6:$L$41,2,FALSE)=0),\"\",IF(VLOOKUP(C202,'WK 5'!$K$6:$L$41,2,FALSE)=0,\"\",VLOOKUP(C202,'WK 5'!$K$6:$L$41,2,FALSE)))","v":""},{"$f":"IF(ISNA(VLOOKUP(C202,'WK 6'!$K$6:$L$41,2,FALSE)=0),\"\",IF(VLOOKUP(C202,'WK 6'!$K$6:$L$41,2,FALSE)=0,\"\",VLOOKUP(C202,'WK 6'!$K$6:$L$41,2,FALSE)))","v":""},{"$f":"IF(ISNA(VLOOKUP(C202,'WK 7'!$K$6:$L$41,2,FALSE)=0),\"\",IF(VLOOKUP(C202,'WK 7'!$K$6:$L$41,2,FALSE)=0,\"\",VLOOKUP(C202,'WK 7'!$K$6:$L$41,2,FALSE)))","v":""},{"$f":"IF(ISNA(VLOOKUP(C202,'WK 8'!$K$6:$L$41,2,FALSE)=0),\"\",IF(VLOOKUP(C202,'WK 8'!$K$6:$L$41,2,FALSE)=0,\"\",VLOOKUP(C202,'WK 8'!$K$6:$L$41,2,FALSE)))","v":""},{"$f":"IF(ISNA(VLOOKUP(C202,'WK 9'!$K$6:$L$41,2,FALSE)=0),\"\",IF(VLOOKUP(C202,'WK 9'!$K$6:$L$41,2,FALSE)=0,\"\",VLOOKUP(C202,'WK 9'!$K$6:$L$41,2,FALSE)))","v":""},{"$f":"IF(ISNA(VLOOKUP(C202,'WK 10'!$K$6:$L$41,2,FALSE)=0),\"\",IF(VLOOKUP(C202,'WK 10'!$K$6:$L$41,2,FALSE)=0,\"\",VLOOKUP(C202,'WK 10'!$K$6:$L$41,2,FALSE)))","v":""},0]
[null,null,{"$f":"IF(ISNA(VLOOKUP('WK 6'!K27,$C$2:$C$181,1,FALSE)),VLOOKUP('WK 6'!K27,'WK 6'!$K$6:$K$450,1,FALSE),\"\")","v":""},null,{"$f":"IF(ISNA(VLOOKUP(C203,'WK 2'!$K$6:$L$41,2,FALSE)=0),\"\",IF(VLOOKUP(C203,'WK 2'!$K$6:$L$41,2,FALSE)=0,\"\",VLOOKUP(C203,'WK 2'!$K$6:$L$41,2,FALSE)))","v":""},{"$f":"IF(ISNA(VLOOKUP(C203,'WK 3'!$K$6:$L$41,2,FALSE)=0),\"\",IF(VLOOKUP(C203,'WK 3'!$K$6:$L$41,2,FALSE)=0,\"\",VLOOKUP(C203,'WK 3'!$K$6:$L$41,2,FALSE)))","v":""},{"$f":"IF(ISNA(VLOOKUP(C203,'WK 4'!$K$6:$L$41,2,FALSE)=0),\"\",IF(VLOOKUP(C203,'WK 4'!$K$6:$L$41,2,FALSE)=0,\"\",VLOOKUP(C203,'WK 4'!$K$6:$L$41,2,FALSE)))","v":""},{"$f":"IF(ISNA(VLOOKUP(C203,'WK 5'!$K$6:$L$41,2,FALSE)=0),\"\",IF(VLOOKUP(C203,'WK 5'!$K$6:$L$41,2,FALSE)=0,\"\",VLOOKUP(C203,'WK 5'!$K$6:$L$41,2,FALSE)))","v":""},{"$f":"IF(ISNA(VLOOKUP(C203,'WK 6'!$K$6:$L$41,2,FALSE)=0),\"\",IF(VLOOKUP(C203,'WK 6'!$K$6:$L$41,2,FALSE)=0,\"\",VLOOKUP(C203,'WK 6'!$K$6:$L$41,2,FALSE)))","v":""},{"$f":"IF(ISNA(VLOOKUP(C203,'WK 7'!$K$6:$L$41,2,FALSE)=0),\"\",IF(VLOOKUP(C203,'WK 7'!$K$6:$L$41,2,FALSE)=0,\"\",VLOOKUP(C203,'WK 7'!$K$6:$L$41,2,FALSE)))","v":""},{"$f":"IF(ISNA(VLOOKUP(C203,'WK 8'!$K$6:$L$41,2,FALSE)=0),\"\",IF(VLOOKUP(C203,'WK 8'!$K$6:$L$41,2,FALSE)=0,\"\",VLOOKUP(C203,'WK 8'!$K$6:$L$41,2,FALSE)))","v":""},{"$f":"IF(ISNA(VLOOKUP(C203,'WK 9'!$K$6:$L$41,2,FALSE)=0),\"\",IF(VLOOKUP(C203,'WK 9'!$K$6:$L$41,2,FALSE)=0,\"\",VLOOKUP(C203,'WK 9'!$K$6:$L$41,2,FALSE)))","v":""},{"$f":"IF(ISNA(VLOOKUP(C203,'WK 10'!$K$6:$L$41,2,FALSE)=0),\"\",IF(VLOOKUP(C203,'WK 10'!$K$6:$L$41,2,FALSE)=0,\"\",VLOOKUP(C203,'WK 10'!$K$6:$L$41,2,FALSE)))","v":""},0]
[null,null,{"$f":"IF(ISNA(VLOOKUP('WK 6'!K28,$C$2:$C$181,1,FALSE)),VLOOKUP('WK 6'!K28,'WK 6'!$K$6:$K$450,1,FALSE),\"\")","v":""},null,{"$f":"IF(ISNA(VLOOKUP(C204,'WK 2'!$K$6:$L$41,2,FALSE)=0),\"\",IF(VLOOKUP(C204,'WK 2'!$K$6:$L$41,2,FALSE)=0,\"\",VLOOKUP(C204,'WK 2'!$K$6:$L$41,2,FALSE)))","v":""},{"$f":"IF(ISNA(VLOOKUP(C204,'WK 3'!$K$6:$L$41,2,FALSE)=0),\"\",IF(VLOOKUP(C204,'WK 3'!$K$6:$L$41,2,FALSE)=0,\"\",VLOOKUP(C204,'WK 3'!$K$6:$L$41,2,FALSE)))","v":""},{"$f":"IF(ISNA(VLOOKUP(C204,'WK 4'!$K$6:$L$41,2,FALSE)=0),\"\",IF(VLOOKUP(C204,'WK 4'!$K$6:$L$41,2,FALSE)=0,\"\",VLOOKUP(C204,'WK 4'!$K$6:$L$41,2,FALSE)))","v":""},{"$f":"IF(ISNA(VLOOKUP(C204,'WK 5'!$K$6:$L$41,2,FALSE)=0),\"\",IF(VLOOKUP(C204,'WK 5'!$K$6:$L$41,2,FALSE)=0,\"\",VLOOKUP(C204,'WK 5'!$K$6:$L$41,2,FALSE)))","v":""},{"$f":"IF(ISNA(VLOOKUP(C204,'WK 6'!$K$6:$L$41,2,FALSE)=0),\"\",IF(VLOOKUP(C204,'WK 6'!$K$6:$L$41,2,FALSE)=0,\"\",VLOOKUP(C204,'WK 6'!$K$6:$L$41,2,FALSE)))","v":""},{"$f":"IF(ISNA(VLOOKUP(C204,'WK 7'!$K$6:$L$41,2,FALSE)=0),\"\",IF(VLOOKUP(C204,'WK 7'!$K$6:$L$41,2,FALSE)=0,\"\",VLOOKUP(C204,'WK 7'!$K$6:$L$41,2,FALSE)))","v":""},{"$f":"IF(ISNA(VLOOKUP(C204,'WK 8'!$K$6:$L$41,2,FALSE)=0),\"\",IF(VLOOKUP(C204,'WK 8'!$K$6:$L$41,2,FALSE)=0,\"\",VLOOKUP(C204,'WK 8'!$K$6:$L$41,2,FALSE)))","v":""},{"$f":"IF(ISNA(VLOOKUP(C204,'WK 9'!$K$6:$L$41,2,FALSE)=0),\"\",IF(VLOOKUP(C204,'WK 9'!$K$6:$L$41,2,FALSE)=0,\"\",VLOOKUP(C204,'WK 9'!$K$6:$L$41,2,FALSE)))","v":""},{"$f":"IF(ISNA(VLOOKUP(C204,'WK 10'!$K$6:$L$41,2,FALSE)=0),\"\",IF(VLOOKUP(C204,'WK 10'!$K$6:$L$41,2,FALSE)=0,\"\",VLOOKUP(C204,'WK 10'!$K$6:$L$41,2,FALSE)))","v":""},0]
[null,null,{"$f":"IF(ISNA(VLOOKUP('WK 6'!K29,$C$2:$C$181,1,FALSE)),VLOOKUP('WK 6'!K29,'WK 6'!$K$6:$K$450,1,FALSE),\"\")","v":""},null,{"$f":"IF(ISNA(VLOOKUP(C205,'WK 2'!$K$6:$L$41,2,FALSE)=0),\"\",IF(VLOOKUP(C205,'WK 2'!$K$6:$L$41,2,FALSE)=0,\"\",VLOOKUP(C205,'WK 2'!$K$6:$L$41,2,FALSE)))","v":""},{"$f":"IF(ISNA(VLOOKUP(C205,'WK 3'!$K$6:$L$41,2,FALSE)=0),\"\",IF(VLOOKUP(C205,'WK 3'!$K$6:$L$41,2,FALSE)=0,\"\",VLOOKUP(C205,'WK 3'!$K$6:$L$41,2,FALSE)))","v":""},{"$f":"IF(ISNA(VLOOKUP(C205,'WK 4'!$K$6:$L$41,2,FALSE)=0),\"\",IF(VLOOKUP(C205,'WK 4'!$K$6:$L$41,2,FALSE)=0,\"\",VLOOKUP(C205,'WK 4'!$K$6:$L$41,2,FALSE)))","v":""},{"$f":"IF(ISNA(VLOOKUP(C205,'WK 5'!$K$6:$L$41,2,FALSE)=0),\"\",IF(VLOOKUP(C205,'WK 5'!$K$6:$L$41,2,FALSE)=0,\"\",VLOOKUP(C205,'WK 5'!$K$6:$L$41,2,FALSE)))","v":""},{"$f":"IF(ISNA(VLOOKUP(C205,'WK 6'!$K$6:$L$41,2,FALSE)=0),\"\",IF(VLOOKUP(C205,'WK 6'!$K$6:$L$41,2,FALSE)=0,\"\",VLOOKUP(C205,'WK 6'!$K$6:$L$41,2,FALSE)))","v":""},{"$f":"IF(ISNA(VLOOKUP(C205,'WK 7'!$K$6:$L$41,2,FALSE)=0),\"\",IF(VLOOKUP(C205,'WK 7'!$K$6:$L$41,2,FALSE)=0,\"\",VLOOKUP(C205,'WK 7'!$K$6:$L$41,2,FALSE)))","v":""},{"$f":"IF(ISNA(VLOOKUP(C205,'WK 8'!$K$6:$L$41,2,FALSE)=0),\"\",IF(VLOOKUP(C205,'WK 8'!$K$6:$L$41,2,FALSE)=0,\"\",VLOOKUP(C205,'WK 8'!$K$6:$L$41,2,FALSE)))","v":""},{"$f":"IF(ISNA(VLOOKUP(C205,'WK 9'!$K$6:$L$41,2,FALSE)=0),\"\",IF(VLOOKUP(C205,'WK 9'!$K$6:$L$41,2,FALSE)=0,\"\",VLOOKUP(C205,'WK 9'!$K$6:$L$41,2,FALSE)))","v":""},{"$f":"IF(ISNA(VLOOKUP(C205,'WK 10'!$K$6:$L$41,2,FALSE)=0),\"\",IF(VLOOKUP(C205,'WK 10'!$K$6:$L$41,2,FALSE)=0,\"\",VLOOKUP(C205,'WK 10'!$K$6:$L$41,2,FALSE)))","v":""},0]
[null,null,{"$f":"IF(ISNA(VLOOKUP('WK 6'!K30,$C$2:$C$181,1,FALSE)),VLOOKUP('WK 6'!K30,'WK 6'!$K$6:$K$450,1,FALSE),\"\")","v":""},null,{"$f":"IF(ISNA(VLOOKUP(C206,'WK 2'!$K$6:$L$41,2,FALSE)=0),\"\",IF(VLOOKUP(C206,'WK 2'!$K$6:$L$41,2,FALSE)=0,\"\",VLOOKUP(C206,'WK 2'!$K$6:$L$41,2,FALSE)))","v":""},{"$f":"IF(ISNA(VLOOKUP(C206,'WK 3'!$K$6:$L$41,2,FALSE)=0),\"\",IF(VLOOKUP(C206,'WK 3'!$K$6:$L$41,2,FALSE)=0,\"\",VLOOKUP(C206,'WK 3'!$K$6:$L$41,2,FALSE)))","v":""},{"$f":"IF(ISNA(VLOOKUP(C206,'WK 4'!$K$6:$L$41,2,FALSE)=0),\"\",IF(VLOOKUP(C206,'WK 4'!$K$6:$L$41,2,FALSE)=0,\"\",VLOOKUP(C206,'WK 4'!$K$6:$L$41,2,FALSE)))","v":""},{"$f":"IF(ISNA(VLOOKUP(C206,'WK 5'!$K$6:$L$41,2,FALSE)=0),\"\",IF(VLOOKUP(C206,'WK 5'!$K$6:$L$41,2,FALSE)=0,\"\",VLOOKUP(C206,'WK 5'!$K$6:$L$41,2,FALSE)))","v":""},{"$f":"IF(ISNA(VLOOKUP(C206,'WK 6'!$K$6:$L$41,2,FALSE)=0),\"\",IF(VLOOKUP(C206,'WK 6'!$K$6:$L$41,2,FALSE)=0,\"\",VLOOKUP(C206,'WK 6'!$K$6:$L$41,2,FALSE)))","v":""},{"$f":"IF(ISNA(VLOOKUP(C206,'WK 7'!$K$6:$L$41,2,FALSE)=0),\"\",IF(VLOOKUP(C206,'WK 7'!$K$6:$L$41,2,FALSE)=0,\"\",VLOOKUP(C206,'WK 7'!$K$6:$L$41,2,FALSE)))","v":""},{"$f":"IF(ISNA(VLOOKUP(C206,'WK 8'!$K$6:$L$41,2,FALSE)=0),\"\",IF(VLOOKUP(C206,'WK 8'!$K$6:$L$41,2,FALSE)=0,\"\",VLOOKUP(C206,'WK 8'!$K$6:$L$41,2,FALSE)))","v":""},{"$f":"IF(ISNA(VLOOKUP(C206,'WK 9'!$K$6:$L$41,2,FALSE)=0),\"\",IF(VLOOKUP(C206,'WK 9'!$K$6:$L$41,2,FALSE)=0,\"\",VLOOKUP(C206,'WK 9'!$K$6:$L$41,2,FALSE)))","v":""},{"$f":"IF(ISNA(VLOOKUP(C206,'WK 10'!$K$6:$L$41,2,FALSE)=0),\"\",IF(VLOOKUP(C206,'WK 10'!$K$6:$L$41,2,FALSE)=0,\"\",VLOOKUP(C206,'WK 10'!$K$6:$L$41,2,FALSE)))","v":""},0]
[null,null,{"$f":"IF(ISNA(VLOOKUP('WK 6'!K31,$C$2:$C$181,1,FALSE)),VLOOKUP('WK 6'!K31,'WK 6'!$K$6:$K$450,1,FALSE),\"\")","v":""},null,{"$f":"IF(ISNA(VLOOKUP(C207,'WK 2'!$K$6:$L$41,2,FALSE)=0),\"\",IF(VLOOKUP(C207,'WK 2'!$K$6:$L$41,2,FALSE)=0,\"\",VLOOKUP(C207,'WK 2'!$K$6:$L$41,2,FALSE)))","v":""},{"$f":"IF(ISNA(VLOOKUP(C207,'WK 3'!$K$6:$L$41,2,FALSE)=0),\"\",IF(VLOOKUP(C207,'WK 3'!$K$6:$L$41,2,FALSE)=0,\"\",VLOOKUP(C207,'WK 3'!$K$6:$L$41,2,FALSE)))","v":""},{"$f":"IF(ISNA(VLOOKUP(C207,'WK 4'!$K$6:$L$41,2,FALSE)=0),\"\",IF(VLOOKUP(C207,'WK 4'!$K$6:$L$41,2,FALSE)=0,\"\",VLOOKUP(C207,'WK 4'!$K$6:$L$41,2,FALSE)))","v":""},{"$f":"IF(ISNA(VLOOKUP(C207,'WK 5'!$K$6:$L$41,2,FALSE)=0),\"\",IF(VLOOKUP(C207,'WK 5'!$K$6:$L$41,2,FALSE)=0,\"\",VLOOKUP(C207,'WK 5'!$K$6:$L$41,2,FALSE)))","v":""},{"$f":"IF(ISNA(VLOOKUP(C207,'WK 6'!$K$6:$L$41,2,FALSE)=0),\"\",IF(VLOOKUP(C207,'WK 6'!$K$6:$L$41,2,FALSE)=0,\"\",VLOOKUP(C207,'WK 6'!$K$6:$L$41,2,FALSE)))","v":""},{"$f":"IF(ISNA(VLOOKUP(C207,'WK 7'!$K$6:$L$41,2,FALSE)=0),\"\",IF(VLOOKUP(C207,'WK 7'!$K$6:$L$41,2,FALSE)=0,\"\",VLOOKUP(C207,'WK 7'!$K$6:$L$41,2,FALSE)))","v":""},{"$f":"IF(ISNA(VLOOKUP(C207,'WK 8'!$K$6:$L$41,2,FALSE)=0),\"\",IF(VLOOKUP(C207,'WK 8'!$K$6:$L$41,2,FALSE)=0,\"\",VLOOKUP(C207,'WK 8'!$K$6:$L$41,2,FALSE)))","v":""},{"$f":"IF(ISNA(VLOOKUP(C207,'WK 9'!$K$6:$L$41,2,FALSE)=0),\"\",IF(VLOOKUP(C207,'WK 9'!$K$6:$L$41,2,FALSE)=0,\"\",VLOOKUP(C207,'WK 9'!$K$6:$L$41,2,FALSE)))","v":""},{"$f":"IF(ISNA(VLOOKUP(C207,'WK 10'!$K$6:$L$41,2,FALSE)=0),\"\",IF(VLOOKUP(C207,'WK 10'!$K$6:$L$41,2,FALSE)=0,\"\",VLOOKUP(C207,'WK 10'!$K$6:$L$41,2,FALSE)))","v":""},0]
[null,null,{"$f":"IF(ISNA(VLOOKUP('WK 6'!K32,$C$2:$C$181,1,FALSE)),VLOOKUP('WK 6'!K32,'WK 6'!$K$6:$K$450,1,FALSE),\"\")","v":""},null,{"$f":"IF(ISNA(VLOOKUP(C208,'WK 2'!$K$6:$L$41,2,FALSE)=0),\"\",IF(VLOOKUP(C208,'WK 2'!$K$6:$L$41,2,FALSE)=0,\"\",VLOOKUP(C208,'WK 2'!$K$6:$L$41,2,FALSE)))","v":""},{"$f":"IF(ISNA(VLOOKUP(C208,'WK 3'!$K$6:$L$41,2,FALSE)=0),\"\",IF(VLOOKUP(C208,'WK 3'!$K$6:$L$41,2,FALSE)=0,\"\",VLOOKUP(C208,'WK 3'!$K$6:$L$41,2,FALSE)))","v":""},{"$f":"IF(ISNA(VLOOKUP(C208,'WK 4'!$K$6:$L$41,2,FALSE)=0),\"\",IF(VLOOKUP(C208,'WK 4'!$K$6:$L$41,2,FALSE)=0,\"\",VLOOKUP(C208,'WK 4'!$K$6:$L$41,2,FALSE)))","v":""},{"$f":"IF(ISNA(VLOOKUP(C208,'WK 5'!$K$6:$L$41,2,FALSE)=0),\"\",IF(VLOOKUP(C208,'WK 5'!$K$6:$L$41,2,FALSE)=0,\"\",VLOOKUP(C208,'WK 5'!$K$6:$L$41,2,FALSE)))","v":""},{"$f":"IF(ISNA(VLOOKUP(C208,'WK 6'!$K$6:$L$41,2,FALSE)=0),\"\",IF(VLOOKUP(C208,'WK 6'!$K$6:$L$41,2,FALSE)=0,\"\",VLOOKUP(C208,'WK 6'!$K$6:$L$41,2,FALSE)))","v":""},{"$f":"IF(ISNA(VLOOKUP(C208,'WK 7'!$K$6:$L$41,2,FALSE)=0),\"\",IF(VLOOKUP(C208,'WK 7'!$K$6:$L$41,2,FALSE)=0,\"\",VLOOKUP(C208,'WK 7'!$K$6:$L$41,2,FALSE)))","v":""},{"$f":"IF(ISNA(VLOOKUP(C208,'WK 8'!$K$6:$L$41,2,FALSE)=0),\"\",IF(VLOOKUP(C208,'WK 8'!$K$6:$L$41,2,FALSE)=0,\"\",VLOOKUP(C208,'WK 8'!$K$6:$L$41,2,FALSE)))","v":""},{"$f":"IF(ISNA(VLOOKUP(C208,'WK 9'!$K$6:$L$41,2,FALSE)=0),\"\",IF(VLOOKUP(C208,'WK 9'!$K$6:$L$41,2,FALSE)=0,\"\",VLOOKUP(C208,'WK 9'!$K$6:$L$41,2,FALSE)))","v":""},{"$f":"IF(ISNA(VLOOKUP(C208,'WK 10'!$K$6:$L$41,2,FALSE)=0),\"\",IF(VLOOKUP(C208,'WK 10'!$K$6:$L$41,2,FALSE)=0,\"\",VLOOKUP(C208,'WK 10'!$K$6:$L$41,2,FALSE)))","v":""},0]
[null,null,{"$f":"IF(ISNA(VLOOKUP('WK 6'!K33,$C$2:$C$181,1,FALSE)),VLOOKUP('WK 6'!K33,'WK 6'!$K$6:$K$450,1,FALSE),\"\")","v":""},null,{"$f":"IF(ISNA(VLOOKUP(C209,'WK 2'!$K$6:$L$41,2,FALSE)=0),\"\",IF(VLOOKUP(C209,'WK 2'!$K$6:$L$41,2,FALSE)=0,\"\",VLOOKUP(C209,'WK 2'!$K$6:$L$41,2,FALSE)))","v":""},{"$f":"IF(ISNA(VLOOKUP(C209,'WK 3'!$K$6:$L$41,2,FALSE)=0),\"\",IF(VLOOKUP(C209,'WK 3'!$K$6:$L$41,2,FALSE)=0,\"\",VLOOKUP(C209,'WK 3'!$K$6:$L$41,2,FALSE)))","v":""},{"$f":"IF(ISNA(VLOOKUP(C209,'WK 4'!$K$6:$L$41,2,FALSE)=0),\"\",IF(VLOOKUP(C209,'WK 4'!$K$6:$L$41,2,FALSE)=0,\"\",VLOOKUP(C209,'WK 4'!$K$6:$L$41,2,FALSE)))","v":""},{"$f":"IF(ISNA(VLOOKUP(C209,'WK 5'!$K$6:$L$41,2,FALSE)=0),\"\",IF(VLOOKUP(C209,'WK 5'!$K$6:$L$41,2,FALSE)=0,\"\",VLOOKUP(C209,'WK 5'!$K$6:$L$41,2,FALSE)))","v":""},{"$f":"IF(ISNA(VLOOKUP(C209,'WK 6'!$K$6:$L$41,2,FALSE)=0),\"\",IF(VLOOKUP(C209,'WK 6'!$K$6:$L$41,2,FALSE)=0,\"\",VLOOKUP(C209,'WK 6'!$K$6:$L$41,2,FALSE)))","v":""},{"$f":"IF(ISNA(VLOOKUP(C209,'WK 7'!$K$6:$L$41,2,FALSE)=0),\"\",IF(VLOOKUP(C209,'WK 7'!$K$6:$L$41,2,FALSE)=0,\"\",VLOOKUP(C209,'WK 7'!$K$6:$L$41,2,FALSE)))","v":""},{"$f":"IF(ISNA(VLOOKUP(C209,'WK 8'!$K$6:$L$41,2,FALSE)=0),\"\",IF(VLOOKUP(C209,'WK 8'!$K$6:$L$41,2,FALSE)=0,\"\",VLOOKUP(C209,'WK 8'!$K$6:$L$41,2,FALSE)))","v":""},{"$f":"IF(ISNA(VLOOKUP(C209,'WK 9'!$K$6:$L$41,2,FALSE)=0),\"\",IF(VLOOKUP(C209,'WK 9'!$K$6:$L$41,2,FALSE)=0,\"\",VLOOKUP(C209,'WK 9'!$K$6:$L$41,2,FALSE)))","v":""},{"$f":"IF(ISNA(VLOOKUP(C209,'WK 10'!$K$6:$L$41,2,FALSE)=0),\"\",IF(VLOOKUP(C209,'WK 10'!$K$6:$L$41,2,FALSE)=0,\"\",VLOOKUP(C209,'WK 10'!$K$6:$L$41,2,FALSE)))","v":""},0]
[null,null,{"$f":"IF(ISNA(VLOOKUP('WK 6'!K34,$C$2:$C$181,1,FALSE)),VLOOKUP('WK 6'!K34,'WK 6'!$K$6:$K$450,1,FALSE),\"\")","v":""},null,{"$f":"IF(ISNA(VLOOKUP(C210,'WK 2'!$K$6:$L$41,2,FALSE)=0),\"\",IF(VLOOKUP(C210,'WK 2'!$K$6:$L$41,2,FALSE)=0,\"\",VLOOKUP(C210,'WK 2'!$K$6:$L$41,2,FALSE)))","v":""},{"$f":"IF(ISNA(VLOOKUP(C210,'WK 3'!$K$6:$L$41,2,FALSE)=0),\"\",IF(VLOOKUP(C210,'WK 3'!$K$6:$L$41,2,FALSE)=0,\"\",VLOOKUP(C210,'WK 3'!$K$6:$L$41,2,FALSE)))","v":""},{"$f":"IF(ISNA(VLOOKUP(C210,'WK 4'!$K$6:$L$41,2,FALSE)=0),\"\",IF(VLOOKUP(C210,'WK 4'!$K$6:$L$41,2,FALSE)=0,\"\",VLOOKUP(C210,'WK 4'!$K$6:$L$41,2,FALSE)))","v":""},{"$f":"IF(ISNA(VLOOKUP(C210,'WK 5'!$K$6:$L$41,2,FALSE)=0),\"\",IF(VLOOKUP(C210,'WK 5'!$K$6:$L$41,2,FALSE)=0,\"\",VLOOKUP(C210,'WK 5'!$K$6:$L$41,2,FALSE)))","v":""},{"$f":"IF(ISNA(VLOOKUP(C210,'WK 6'!$K$6:$L$41,2,FALSE)=0),\"\",IF(VLOOKUP(C210,'WK 6'!$K$6:$L$41,2,FALSE)=0,\"\",VLOOKUP(C210,'WK 6'!$K$6:$L$41,2,FALSE)))","v":""},{"$f":"IF(ISNA(VLOOKUP(C210,'WK 7'!$K$6:$L$41,2,FALSE)=0),\"\",IF(VLOOKUP(C210,'WK 7'!$K$6:$L$41,2,FALSE)=0,\"\",VLOOKUP(C210,'WK 7'!$K$6:$L$41,2,FALSE)))","v":""},{"$f":"IF(ISNA(VLOOKUP(C210,'WK 8'!$K$6:$L$41,2,FALSE)=0),\"\",IF(VLOOKUP(C210,'WK 8'!$K$6:$L$41,2,FALSE)=0,\"\",VLOOKUP(C210,'WK 8'!$K$6:$L$41,2,FALSE)))","v":""},{"$f":"IF(ISNA(VLOOKUP(C210,'WK 9'!$K$6:$L$41,2,FALSE)=0),\"\",IF(VLOOKUP(C210,'WK 9'!$K$6:$L$41,2,FALSE)=0,\"\",VLOOKUP(C210,'WK 9'!$K$6:$L$41,2,FALSE)))","v":""},{"$f":"IF(ISNA(VLOOKUP(C210,'WK 10'!$K$6:$L$41,2,FALSE)=0),\"\",IF(VLOOKUP(C210,'WK 10'!$K$6:$L$41,2,FALSE)=0,\"\",VLOOKUP(C210,'WK 10'!$K$6:$L$41,2,FALSE)))","v":""},0]
[null,null,{"$f":"IF(ISNA(VLOOKUP('WK 6'!K35,$C$2:$C$181,1,FALSE)),VLOOKUP('WK 6'!K35,'WK 6'!$K$6:$K$450,1,FALSE),\"\")","v":""},null,{"$f":"IF(ISNA(VLOOKUP(C211,'WK 2'!$K$6:$L$41,2,FALSE)=0),\"\",IF(VLOOKUP(C211,'WK 2'!$K$6:$L$41,2,FALSE)=0,\"\",VLOOKUP(C211,'WK 2'!$K$6:$L$41,2,FALSE)))","v":""},{"$f":"IF(ISNA(VLOOKUP(C211,'WK 3'!$K$6:$L$41,2,FALSE)=0),\"\",IF(VLOOKUP(C211,'WK 3'!$K$6:$L$41,2,FALSE)=0,\"\",VLOOKUP(C211,'WK 3'!$K$6:$L$41,2,FALSE)))","v":""},{"$f":"IF(ISNA(VLOOKUP(C211,'WK 4'!$K$6:$L$41,2,FALSE)=0),\"\",IF(VLOOKUP(C211,'WK 4'!$K$6:$L$41,2,FALSE)=0,\"\",VLOOKUP(C211,'WK 4'!$K$6:$L$41,2,FALSE)))","v":""},{"$f":"IF(ISNA(VLOOKUP(C211,'WK 5'!$K$6:$L$41,2,FALSE)=0),\"\",IF(VLOOKUP(C211,'WK 5'!$K$6:$L$41,2,FALSE)=0,\"\",VLOOKUP(C211,'WK 5'!$K$6:$L$41,2,FALSE)))","v":""},{"$f":"IF(ISNA(VLOOKUP(C211,'WK 6'!$K$6:$L$41,2,FALSE)=0),\"\",IF(VLOOKUP(C211,'WK 6'!$K$6:$L$41,2,FALSE)=0,\"\",VLOOKUP(C211,'WK 6'!$K$6:$L$41,2,FALSE)))","v":""},{"$f":"IF(ISNA(VLOOKUP(C211,'WK 7'!$K$6:$L$41,2,FALSE)=0),\"\",IF(VLOOKUP(C211,'WK 7'!$K$6:$L$41,2,FALSE)=0,\"\",VLOOKUP(C211,'WK 7'!$K$6:$L$41,2,FALSE)))","v":""},{"$f":"IF(ISNA(VLOOKUP(C211,'WK 8'!$K$6:$L$41,2,FALSE)=0),\"\",IF(VLOOKUP(C211,'WK 8'!$K$6:$L$41,2,FALSE)=0,\"\",VLOOKUP(C211,'WK 8'!$K$6:$L$41,2,FALSE)))","v":""},{"$f":"IF(ISNA(VLOOKUP(C211,'WK 9'!$K$6:$L$41,2,FALSE)=0),\"\",IF(VLOOKUP(C211,'WK 9'!$K$6:$L$41,2,FALSE)=0,\"\",VLOOKUP(C211,'WK 9'!$K$6:$L$41,2,FALSE)))","v":""},{"$f":"IF(ISNA(VLOOKUP(C211,'WK 10'!$K$6:$L$41,2,FALSE)=0),\"\",IF(VLOOKUP(C211,'WK 10'!$K$6:$L$41,2,FALSE)=0,\"\",VLOOKUP(C211,'WK 10'!$K$6:$L$41,2,FALSE)))","v":""},0]
[null,null,{"$f":"IF(ISNA(VLOOKUP('WK 6'!K36,$C$2:$C$181,1,FALSE)),VLOOKUP('WK 6'!K36,'WK 6'!$K$6:$K$450,1,FALSE),\"\")","v":""},null,{"$f":"IF(ISNA(VLOOKUP(C212,'WK 2'!$K$6:$L$41,2,FALSE)=0),\"\",IF(VLOOKUP(C212,'WK 2'!$K$6:$L$41,2,FALSE)=0,\"\",VLOOKUP(C212,'WK 2'!$K$6:$L$41,2,FALSE)))","v":""},{"$f":"IF(ISNA(VLOOKUP(C212,'WK 3'!$K$6:$L$41,2,FALSE)=0),\"\",IF(VLOOKUP(C212,'WK 3'!$K$6:$L$41,2,FALSE)=0,\"\",VLOOKUP(C212,'WK 3'!$K$6:$L$41,2,FALSE)))","v":""},{"$f":"IF(ISNA(VLOOKUP(C212,'WK 4'!$K$6:$L$41,2,FALSE)=0),\"\",IF(VLOOKUP(C212,'WK 4'!$K$6:$L$41,2,FALSE)=0,\"\",VLOOKUP(C212,'WK 4'!$K$6:$L$41,2,FALSE)))","v":""},{"$f":"IF(ISNA(VLOOKUP(C212,'WK 5'!$K$6:$L$41,2,FALSE)=0),\"\",IF(VLOOKUP(C212,'WK 5'!$K$6:$L$41,2,FALSE)=0,\"\",VLOOKUP(C212,'WK 5'!$K$6:$L$41,2,FALSE)))","v":""},{"$f":"IF(ISNA(VLOOKUP(C212,'WK 6'!$K$6:$L$41,2,FALSE)=0),\"\",IF(VLOOKUP(C212,'WK 6'!$K$6:$L$41,2,FALSE)=0,\"\",VLOOKUP(C212,'WK 6'!$K$6:$L$41,2,FALSE)))","v":""},{"$f":"IF(ISNA(VLOOKUP(C212,'WK 7'!$K$6:$L$41,2,FALSE)=0),\"\",IF(VLOOKUP(C212,'WK 7'!$K$6:$L$41,2,FALSE)=0,\"\",VLOOKUP(C212,'WK 7'!$K$6:$L$41,2,FALSE)))","v":""},{"$f":"IF(ISNA(VLOOKUP(C212,'WK 8'!$K$6:$L$41,2,FALSE)=0),\"\",IF(VLOOKUP(C212,'WK 8'!$K$6:$L$41,2,FALSE)=0,\"\",VLOOKUP(C212,'WK 8'!$K$6:$L$41,2,FALSE)))","v":""},{"$f":"IF(ISNA(VLOOKUP(C212,'WK 9'!$K$6:$L$41,2,FALSE)=0),\"\",IF(VLOOKUP(C212,'WK 9'!$K$6:$L$41,2,FALSE)=0,\"\",VLOOKUP(C212,'WK 9'!$K$6:$L$41,2,FALSE)))","v":""},{"$f":"IF(ISNA(VLOOKUP(C212,'WK 10'!$K$6:$L$41,2,FALSE)=0),\"\",IF(VLOOKUP(C212,'WK 10'!$K$6:$L$41,2,FALSE)=0,\"\",VLOOKUP(C212,'WK 10'!$K$6:$L$41,2,FALSE)))","v":""},0]
[null,null,{"$f":"IF(ISNA(VLOOKUP('WK 6'!K37,$C$2:$C$181,1,FALSE)),VLOOKUP('WK 6'!K37,'WK 6'!$K$6:$K$450,1,FALSE),\"\")","v":""},null,{"$f":"IF(ISNA(VLOOKUP(C213,'WK 2'!$K$6:$L$41,2,FALSE)=0),\"\",IF(VLOOKUP(C213,'WK 2'!$K$6:$L$41,2,FALSE)=0,\"\",VLOOKUP(C213,'WK 2'!$K$6:$L$41,2,FALSE)))","v":""},{"$f":"IF(ISNA(VLOOKUP(C213,'WK 3'!$K$6:$L$41,2,FALSE)=0),\"\",IF(VLOOKUP(C213,'WK 3'!$K$6:$L$41,2,FALSE)=0,\"\",VLOOKUP(C213,'WK 3'!$K$6:$L$41,2,FALSE)))","v":""},{"$f":"IF(ISNA(VLOOKUP(C213,'WK 4'!$K$6:$L$41,2,FALSE)=0),\"\",IF(VLOOKUP(C213,'WK 4'!$K$6:$L$41,2,FALSE)=0,\"\",VLOOKUP(C213,'WK 4'!$K$6:$L$41,2,FALSE)))","v":""},{"$f":"IF(ISNA(VLOOKUP(C213,'WK 5'!$K$6:$L$41,2,FALSE)=0),\"\",IF(VLOOKUP(C213,'WK 5'!$K$6:$L$41,2,FALSE)=0,\"\",VLOOKUP(C213,'WK 5'!$K$6:$L$41,2,FALSE)))","v":""},{"$f":"IF(ISNA(VLOOKUP(C213,'WK 6'!$K$6:$L$41,2,FALSE)=0),\"\",IF(VLOOKUP(C213,'WK 6'!$K$6:$L$41,2,FALSE)=0,\"\",VLOOKUP(C213,'WK 6'!$K$6:$L$41,2,FALSE)))","v":""},{"$f":"IF(ISNA(VLOOKUP(C213,'WK 7'!$K$6:$L$41,2,FALSE)=0),\"\",IF(VLOOKUP(C213,'WK 7'!$K$6:$L$41,2,FALSE)=0,\"\",VLOOKUP(C213,'WK 7'!$K$6:$L$41,2,FALSE)))","v":""},{"$f":"IF(ISNA(VLOOKUP(C213,'WK 8'!$K$6:$L$41,2,FALSE)=0),\"\",IF(VLOOKUP(C213,'WK 8'!$K$6:$L$41,2,FALSE)=0,\"\",VLOOKUP(C213,'WK 8'!$K$6:$L$41,2,FALSE)))","v":""},{"$f":"IF(ISNA(VLOOKUP(C213,'WK 9'!$K$6:$L$41,2,FALSE)=0),\"\",IF(VLOOKUP(C213,'WK 9'!$K$6:$L$41,2,FALSE)=0,\"\",VLOOKUP(C213,'WK 9'!$K$6:$L$41,2,FALSE)))","v":""},{"$f":"IF(ISNA(VLOOKUP(C213,'WK 10'!$K$6:$L$41,2,FALSE)=0),\"\",IF(VLOOKUP(C213,'WK 10'!$K$6:$L$41,2,FALSE)=0,\"\",VLOOKUP(C213,'WK 10'!$K$6:$L$41,2,FALSE)))","v":""},0]
[null,null,{"$f":"IF(ISNA(VLOOKUP('WK 6'!K38,$C$2:$C$181,1,FALSE)),VLOOKUP('WK 6'!K38,'WK 6'!$K$6:$K$450,1,FALSE),\"\")","v":""},null,{"$f":"IF(ISNA(VLOOKUP(C214,'WK 2'!$K$6:$L$41,2,FALSE)=0),\"\",IF(VLOOKUP(C214,'WK 2'!$K$6:$L$41,2,FALSE)=0,\"\",VLOOKUP(C214,'WK 2'!$K$6:$L$41,2,FALSE)))","v":""},{"$f":"IF(ISNA(VLOOKUP(C214,'WK 3'!$K$6:$L$41,2,FALSE)=0),\"\",IF(VLOOKUP(C214,'WK 3'!$K$6:$L$41,2,FALSE)=0,\"\",VLOOKUP(C214,'WK 3'!$K$6:$L$41,2,FALSE)))","v":""},{"$f":"IF(ISNA(VLOOKUP(C214,'WK 4'!$K$6:$L$41,2,FALSE)=0),\"\",IF(VLOOKUP(C214,'WK 4'!$K$6:$L$41,2,FALSE)=0,\"\",VLOOKUP(C214,'WK 4'!$K$6:$L$41,2,FALSE)))","v":""},{"$f":"IF(ISNA(VLOOKUP(C214,'WK 5'!$K$6:$L$41,2,FALSE)=0),\"\",IF(VLOOKUP(C214,'WK 5'!$K$6:$L$41,2,FALSE)=0,\"\",VLOOKUP(C214,'WK 5'!$K$6:$L$41,2,FALSE)))","v":""},{"$f":"IF(ISNA(VLOOKUP(C214,'WK 6'!$K$6:$L$41,2,FALSE)=0),\"\",IF(VLOOKUP(C214,'WK 6'!$K$6:$L$41,2,FALSE)=0,\"\",VLOOKUP(C214,'WK 6'!$K$6:$L$41,2,FALSE)))","v":""},{"$f":"IF(ISNA(VLOOKUP(C214,'WK 7'!$K$6:$L$41,2,FALSE)=0),\"\",IF(VLOOKUP(C214,'WK 7'!$K$6:$L$41,2,FALSE)=0,\"\",VLOOKUP(C214,'WK 7'!$K$6:$L$41,2,FALSE)))","v":""},{"$f":"IF(ISNA(VLOOKUP(C214,'WK 8'!$K$6:$L$41,2,FALSE)=0),\"\",IF(VLOOKUP(C214,'WK 8'!$K$6:$L$41,2,FALSE)=0,\"\",VLOOKUP(C214,'WK 8'!$K$6:$L$41,2,FALSE)))","v":""},{"$f":"IF(ISNA(VLOOKUP(C214,'WK 9'!$K$6:$L$41,2,FALSE)=0),\"\",IF(VLOOKUP(C214,'WK 9'!$K$6:$L$41,2,FALSE)=0,\"\",VLOOKUP(C214,'WK 9'!$K$6:$L$41,2,FALSE)))","v":""},{"$f":"IF(ISNA(VLOOKUP(C214,'WK 10'!$K$6:$L$41,2,FALSE)=0),\"\",IF(VLOOKUP(C214,'WK 10'!$K$6:$L$41,2,FALSE)=0,\"\",VLOOKUP(C214,'WK 10'!$K$6:$L$41,2,FALSE)))","v":""},0]
[null,null,{"$f":"IF(ISNA(VLOOKUP('WK 6'!K39,$C$2:$C$181,1,FALSE)),VLOOKUP('WK 6'!K39,'WK 6'!$K$6:$K$450,1,FALSE),\"\")","v":""},null,{"$f":"IF(ISNA(VLOOKUP(C215,'WK 2'!$K$6:$L$41,2,FALSE)=0),\"\",IF(VLOOKUP(C215,'WK 2'!$K$6:$L$41,2,FALSE)=0,\"\",VLOOKUP(C215,'WK 2'!$K$6:$L$41,2,FALSE)))","v":""},{"$f":"IF(ISNA(VLOOKUP(C215,'WK 3'!$K$6:$L$41,2,FALSE)=0),\"\",IF(VLOOKUP(C215,'WK 3'!$K$6:$L$41,2,FALSE)=0,\"\",VLOOKUP(C215,'WK 3'!$K$6:$L$41,2,FALSE)))","v":""},{"$f":"IF(ISNA(VLOOKUP(C215,'WK 4'!$K$6:$L$41,2,FALSE)=0),\"\",IF(VLOOKUP(C215,'WK 4'!$K$6:$L$41,2,FALSE)=0,\"\",VLOOKUP(C215,'WK 4'!$K$6:$L$41,2,FALSE)))","v":""},{"$f":"IF(ISNA(VLOOKUP(C215,'WK 5'!$K$6:$L$41,2,FALSE)=0),\"\",IF(VLOOKUP(C215,'WK 5'!$K$6:$L$41,2,FALSE)=0,\"\",VLOOKUP(C215,'WK 5'!$K$6:$L$41,2,FALSE)))","v":""},{"$f":"IF(ISNA(VLOOKUP(C215,'WK 6'!$K$6:$L$41,2,FALSE)=0),\"\",IF(VLOOKUP(C215,'WK 6'!$K$6:$L$41,2,FALSE)=0,\"\",VLOOKUP(C215,'WK 6'!$K$6:$L$41,2,FALSE)))","v":""},{"$f":"IF(ISNA(VLOOKUP(C215,'WK 7'!$K$6:$L$41,2,FALSE)=0),\"\",IF(VLOOKUP(C215,'WK 7'!$K$6:$L$41,2,FALSE)=0,\"\",VLOOKUP(C215,'WK 7'!$K$6:$L$41,2,FALSE)))","v":""},{"$f":"IF(ISNA(VLOOKUP(C215,'WK 8'!$K$6:$L$41,2,FALSE)=0),\"\",IF(VLOOKUP(C215,'WK 8'!$K$6:$L$41,2,FALSE)=0,\"\",VLOOKUP(C215,'WK 8'!$K$6:$L$41,2,FALSE)))","v":""},{"$f":"IF(ISNA(VLOOKUP(C215,'WK 9'!$K$6:$L$41,2,FALSE)=0),\"\",IF(VLOOKUP(C215,'WK 9'!$K$6:$L$41,2,FALSE)=0,\"\",VLOOKUP(C215,'WK 9'!$K$6:$L$41,2,FALSE)))","v":""},{"$f":"IF(ISNA(VLOOKUP(C215,'WK 10'!$K$6:$L$41,2,FALSE)=0),\"\",IF(VLOOKUP(C215,'WK 10'!$K$6:$L$41,2,FALSE)=0,\"\",VLOOKUP(C215,'WK 10'!$K$6:$L$41,2,FALSE)))","v":""},0]
[null,null,{"$f":"IF(ISNA(VLOOKUP('WK 6'!K40,$C$2:$C$181,1,FALSE)),VLOOKUP('WK 6'!K40,'WK 6'!$K$6:$K$450,1,FALSE),\"\")","v":""},null,{"$f":"IF(ISNA(VLOOKUP(C216,'WK 2'!$K$6:$L$41,2,FALSE)=0),\"\",IF(VLOOKUP(C216,'WK 2'!$K$6:$L$41,2,FALSE)=0,\"\",VLOOKUP(C216,'WK 2'!$K$6:$L$41,2,FALSE)))","v":""},{"$f":"IF(ISNA(VLOOKUP(C216,'WK 3'!$K$6:$L$41,2,FALSE)=0),\"\",IF(VLOOKUP(C216,'WK 3'!$K$6:$L$41,2,FALSE)=0,\"\",VLOOKUP(C216,'WK 3'!$K$6:$L$41,2,FALSE)))","v":""},{"$f":"IF(ISNA(VLOOKUP(C216,'WK 4'!$K$6:$L$41,2,FALSE)=0),\"\",IF(VLOOKUP(C216,'WK 4'!$K$6:$L$41,2,FALSE)=0,\"\",VLOOKUP(C216,'WK 4'!$K$6:$L$41,2,FALSE)))","v":""},{"$f":"IF(ISNA(VLOOKUP(C216,'WK 5'!$K$6:$L$41,2,FALSE)=0),\"\",IF(VLOOKUP(C216,'WK 5'!$K$6:$L$41,2,FALSE)=0,\"\",VLOOKUP(C216,'WK 5'!$K$6:$L$41,2,FALSE)))","v":""},{"$f":"IF(ISNA(VLOOKUP(C216,'WK 6'!$K$6:$L$41,2,FALSE)=0),\"\",IF(VLOOKUP(C216,'WK 6'!$K$6:$L$41,2,FALSE)=0,\"\",VLOOKUP(C216,'WK 6'!$K$6:$L$41,2,FALSE)))","v":""},{"$f":"IF(ISNA(VLOOKUP(C216,'WK 7'!$K$6:$L$41,2,FALSE)=0),\"\",IF(VLOOKUP(C216,'WK 7'!$K$6:$L$41,2,FALSE)=0,\"\",VLOOKUP(C216,'WK 7'!$K$6:$L$41,2,FALSE)))","v":""},{"$f":"IF(ISNA(VLOOKUP(C216,'WK 8'!$K$6:$L$41,2,FALSE)=0),\"\",IF(VLOOKUP(C216,'WK 8'!$K$6:$L$41,2,FALSE)=0,\"\",VLOOKUP(C216,'WK 8'!$K$6:$L$41,2,FALSE)))","v":""},{"$f":"IF(ISNA(VLOOKUP(C216,'WK 9'!$K$6:$L$41,2,FALSE)=0),\"\",IF(VLOOKUP(C216,'WK 9'!$K$6:$L$41,2,FALSE)=0,\"\",VLOOKUP(C216,'WK 9'!$K$6:$L$41,2,FALSE)))","v":""},{"$f":"IF(ISNA(VLOOKUP(C216,'WK 10'!$K$6:$L$41,2,FALSE)=0),\"\",IF(VLOOKUP(C216,'WK 10'!$K$6:$L$41,2,FALSE)=0,\"\",VLOOKUP(C216,'WK 10'!$K$6:$L$41,2,FALSE)))","v":""},0]
[null,null,{"$f":"IF(ISNA(VLOOKUP('WK 6'!K41,$C$2:$C$181,1,FALSE)),VLOOKUP('WK 6'!K41,'WK 6'!$K$6:$K$450,1,FALSE),\"\")","v":""},null,{"$f":"IF(ISNA(VLOOKUP(C217,'WK 2'!$K$6:$L$41,2,FALSE)=0),\"\",IF(VLOOKUP(C217,'WK 2'!$K$6:$L$41,2,FALSE)=0,\"\",VLOOKUP(C217,'WK 2'!$K$6:$L$41,2,FALSE)))","v":""},{"$f":"IF(ISNA(VLOOKUP(C217,'WK 3'!$K$6:$L$41,2,FALSE)=0),\"\",IF(VLOOKUP(C217,'WK 3'!$K$6:$L$41,2,FALSE)=0,\"\",VLOOKUP(C217,'WK 3'!$K$6:$L$41,2,FALSE)))","v":""},{"$f":"IF(ISNA(VLOOKUP(C217,'WK 4'!$K$6:$L$41,2,FALSE)=0),\"\",IF(VLOOKUP(C217,'WK 4'!$K$6:$L$41,2,FALSE)=0,\"\",VLOOKUP(C217,'WK 4'!$K$6:$L$41,2,FALSE)))","v":""},{"$f":"IF(ISNA(VLOOKUP(C217,'WK 5'!$K$6:$L$41,2,FALSE)=0),\"\",IF(VLOOKUP(C217,'WK 5'!$K$6:$L$41,2,FALSE)=0,\"\",VLOOKUP(C217,'WK 5'!$K$6:$L$41,2,FALSE)))","v":""},{"$f":"IF(ISNA(VLOOKUP(C217,'WK 6'!$K$6:$L$41,2,FALSE)=0),\"\",IF(VLOOKUP(C217,'WK 6'!$K$6:$L$41,2,FALSE)=0,\"\",VLOOKUP(C217,'WK 6'!$K$6:$L$41,2,FALSE)))","v":""},{"$f":"IF(ISNA(VLOOKUP(C217,'WK 7'!$K$6:$L$41,2,FALSE)=0),\"\",IF(VLOOKUP(C217,'WK 7'!$K$6:$L$41,2,FALSE)=0,\"\",VLOOKUP(C217,'WK 7'!$K$6:$L$41,2,FALSE)))","v":""},{"$f":"IF(ISNA(VLOOKUP(C217,'WK 8'!$K$6:$L$41,2,FALSE)=0),\"\",IF(VLOOKUP(C217,'WK 8'!$K$6:$L$41,2,FALSE)=0,\"\",VLOOKUP(C217,'WK 8'!$K$6:$L$41,2,FALSE)))","v":""},{"$f":"IF(ISNA(VLOOKUP(C217,'WK 9'!$K$6:$L$41,2,FALSE)=0),\"\",IF(VLOOKUP(C217,'WK 9'!$K$6:$L$41,2,FALSE)=0,\"\",VLOOKUP(C217,'WK 9'!$K$6:$L$41,2,FALSE)))","v":""},{"$f":"IF(ISNA(VLOOKUP(C217,'WK 10'!$K$6:$L$41,2,FALSE)=0),\"\",IF(VLOOKUP(C217,'WK 10'!$K$6:$L$41,2,FALSE)=0,\"\",VLOOKUP(C217,'WK 10'!$K$6:$L$41,2,FALSE)))","v":""},0]
[null,"WK 7 Beginn",{"$f":"IF(ISNA(VLOOKUP('WK 7'!K6,$C$2:$C$217,1,FALSE)),VLOOKUP('WK 7'!K6,'WK 7'!$K$6:$K$450,1,FALSE),\"\")","v":""},null,{"$f":"IF(ISNA(VLOOKUP(C218,'WK 2'!$K$6:$L$41,2,FALSE)=0),\"\",IF(VLOOKUP(C218,'WK 2'!$K$6:$L$41,2,FALSE)=0,\"\",VLOOKUP(C218,'WK 2'!$K$6:$L$41,2,FALSE)))","v":""},{"$f":"IF(ISNA(VLOOKUP(C218,'WK 3'!$K$6:$L$41,2,FALSE)=0),\"\",IF(VLOOKUP(C218,'WK 3'!$K$6:$L$41,2,FALSE)=0,\"\",VLOOKUP(C218,'WK 3'!$K$6:$L$41,2,FALSE)))","v":""},{"$f":"IF(ISNA(VLOOKUP(C218,'WK 4'!$K$6:$L$41,2,FALSE)=0),\"\",IF(VLOOKUP(C218,'WK 4'!$K$6:$L$41,2,FALSE)=0,\"\",VLOOKUP(C218,'WK 4'!$K$6:$L$41,2,FALSE)))","v":""},{"$f":"IF(ISNA(VLOOKUP(C218,'WK 5'!$K$6:$L$41,2,FALSE)=0),\"\",IF(VLOOKUP(C218,'WK 5'!$K$6:$L$41,2,FALSE)=0,\"\",VLOOKUP(C218,'WK 5'!$K$6:$L$41,2,FALSE)))","v":""},{"$f":"IF(ISNA(VLOOKUP(C218,'WK 6'!$K$6:$L$41,2,FALSE)=0),\"\",IF(VLOOKUP(C218,'WK 6'!$K$6:$L$41,2,FALSE)=0,\"\",VLOOKUP(C218,'WK 6'!$K$6:$L$41,2,FALSE)))","v":""},{"$f":"IF(ISNA(VLOOKUP(C218,'WK 7'!$K$6:$L$41,2,FALSE)=0),\"\",IF(VLOOKUP(C218,'WK 7'!$K$6:$L$41,2,FALSE)=0,\"\",VLOOKUP(C218,'WK 7'!$K$6:$L$41,2,FALSE)))","v":""},{"$f":"IF(ISNA(VLOOKUP(C218,'WK 8'!$K$6:$L$41,2,FALSE)=0),\"\",IF(VLOOKUP(C218,'WK 8'!$K$6:$L$41,2,FALSE)=0,\"\",VLOOKUP(C218,'WK 8'!$K$6:$L$41,2,FALSE)))","v":""},{"$f":"IF(ISNA(VLOOKUP(C218,'WK 9'!$K$6:$L$41,2,FALSE)=0),\"\",IF(VLOOKUP(C218,'WK 9'!$K$6:$L$41,2,FALSE)=0,\"\",VLOOKUP(C218,'WK 9'!$K$6:$L$41,2,FALSE)))","v":""},{"$f":"IF(ISNA(VLOOKUP(C218,'WK 10'!$K$6:$L$41,2,FALSE)=0),\"\",IF(VLOOKUP(C218,'WK 10'!$K$6:$L$41,2,FALSE)=0,\"\",VLOOKUP(C218,'WK 10'!$K$6:$L$41,2,FALSE)))","v":""},0]
[null,null,{"$f":"IF(ISNA(VLOOKUP('WK 7'!K7,$C$2:$C$217,1,FALSE)),VLOOKUP('WK 7'!K7,'WK 7'!$K$6:$K$450,1,FALSE),\"\")","v":""},null,{"$f":"IF(ISNA(VLOOKUP(C219,'WK 2'!$K$6:$L$41,2,FALSE)=0),\"\",IF(VLOOKUP(C219,'WK 2'!$K$6:$L$41,2,FALSE)=0,\"\",VLOOKUP(C219,'WK 2'!$K$6:$L$41,2,FALSE)))","v":""},{"$f":"IF(ISNA(VLOOKUP(C219,'WK 3'!$K$6:$L$41,2,FALSE)=0),\"\",IF(VLOOKUP(C219,'WK 3'!$K$6:$L$41,2,FALSE)=0,\"\",VLOOKUP(C219,'WK 3'!$K$6:$L$41,2,FALSE)))","v":""},{"$f":"IF(ISNA(VLOOKUP(C219,'WK 4'!$K$6:$L$41,2,FALSE)=0),\"\",IF(VLOOKUP(C219,'WK 4'!$K$6:$L$41,2,FALSE)=0,\"\",VLOOKUP(C219,'WK 4'!$K$6:$L$41,2,FALSE)))","v":""},{"$f":"IF(ISNA(VLOOKUP(C219,'WK 5'!$K$6:$L$41,2,FALSE)=0),\"\",IF(VLOOKUP(C219,'WK 5'!$K$6:$L$41,2,FALSE)=0,\"\",VLOOKUP(C219,'WK 5'!$K$6:$L$41,2,FALSE)))","v":""},{"$f":"IF(ISNA(VLOOKUP(C219,'WK 6'!$K$6:$L$41,2,FALSE)=0),\"\",IF(VLOOKUP(C219,'WK 6'!$K$6:$L$41,2,FALSE)=0,\"\",VLOOKUP(C219,'WK 6'!$K$6:$L$41,2,FALSE)))","v":""},{"$f":"IF(ISNA(VLOOKUP(C219,'WK 7'!$K$6:$L$41,2,FALSE)=0),\"\",IF(VLOOKUP(C219,'WK 7'!$K$6:$L$41,2,FALSE)=0,\"\",VLOOKUP(C219,'WK 7'!$K$6:$L$41,2,FALSE)))","v":""},{"$f":"IF(ISNA(VLOOKUP(C219,'WK 8'!$K$6:$L$41,2,FALSE)=0),\"\",IF(VLOOKUP(C219,'WK 8'!$K$6:$L$41,2,FALSE)=0,\"\",VLOOKUP(C219,'WK 8'!$K$6:$L$41,2,FALSE)))","v":""},{"$f":"IF(ISNA(VLOOKUP(C219,'WK 9'!$K$6:$L$41,2,FALSE)=0),\"\",IF(VLOOKUP(C219,'WK 9'!$K$6:$L$41,2,FALSE)=0,\"\",VLOOKUP(C219,'WK 9'!$K$6:$L$41,2,FALSE)))","v":""},{"$f":"IF(ISNA(VLOOKUP(C219,'WK 10'!$K$6:$L$41,2,FALSE)=0),\"\",IF(VLOOKUP(C219,'WK 10'!$K$6:$L$41,2,FALSE)=0,\"\",VLOOKUP(C219,'WK 10'!$K$6:$L$41,2,FALSE)))","v":""},0]
[null,null,{"$f":"IF(ISNA(VLOOKUP('WK 7'!K8,$C$2:$C$217,1,FALSE)),VLOOKUP('WK 7'!K8,'WK 7'!$K$6:$K$450,1,FALSE),\"\")","v":""},null,{"$f":"IF(ISNA(VLOOKUP(C220,'WK 2'!$K$6:$L$41,2,FALSE)=0),\"\",IF(VLOOKUP(C220,'WK 2'!$K$6:$L$41,2,FALSE)=0,\"\",VLOOKUP(C220,'WK 2'!$K$6:$L$41,2,FALSE)))","v":""},{"$f":"IF(ISNA(VLOOKUP(C220,'WK 3'!$K$6:$L$41,2,FALSE)=0),\"\",IF(VLOOKUP(C220,'WK 3'!$K$6:$L$41,2,FALSE)=0,\"\",VLOOKUP(C220,'WK 3'!$K$6:$L$41,2,FALSE)))","v":""},{"$f":"IF(ISNA(VLOOKUP(C220,'WK 4'!$K$6:$L$41,2,FALSE)=0),\"\",IF(VLOOKUP(C220,'WK 4'!$K$6:$L$41,2,FALSE)=0,\"\",VLOOKUP(C220,'WK 4'!$K$6:$L$41,2,FALSE)))","v":""},{"$f":"IF(ISNA(VLOOKUP(C220,'WK 5'!$K$6:$L$41,2,FALSE)=0),\"\",IF(VLOOKUP(C220,'WK 5'!$K$6:$L$41,2,FALSE)=0,\"\",VLOOKUP(C220,'WK 5'!$K$6:$L$41,2,FALSE)))","v":""},{"$f":"IF(ISNA(VLOOKUP(C220,'WK 6'!$K$6:$L$41,2,FALSE)=0),\"\",IF(VLOOKUP(C220,'WK 6'!$K$6:$L$41,2,FALSE)=0,\"\",VLOOKUP(C220,'WK 6'!$K$6:$L$41,2,FALSE)))","v":""},{"$f":"IF(ISNA(VLOOKUP(C220,'WK 7'!$K$6:$L$41,2,FALSE)=0),\"\",IF(VLOOKUP(C220,'WK 7'!$K$6:$L$41,2,FALSE)=0,\"\",VLOOKUP(C220,'WK 7'!$K$6:$L$41,2,FALSE)))","v":""},{"$f":"IF(ISNA(VLOOKUP(C220,'WK 8'!$K$6:$L$41,2,FALSE)=0),\"\",IF(VLOOKUP(C220,'WK 8'!$K$6:$L$41,2,FALSE)=0,\"\",VLOOKUP(C220,'WK 8'!$K$6:$L$41,2,FALSE)))","v":""},{"$f":"IF(ISNA(VLOOKUP(C220,'WK 9'!$K$6:$L$41,2,FALSE)=0),\"\",IF(VLOOKUP(C220,'WK 9'!$K$6:$L$41,2,FALSE)=0,\"\",VLOOKUP(C220,'WK 9'!$K$6:$L$41,2,FALSE)))","v":""},{"$f":"IF(ISNA(VLOOKUP(C220,'WK 10'!$K$6:$L$41,2,FALSE)=0),\"\",IF(VLOOKUP(C220,'WK 10'!$K$6:$L$41,2,FALSE)=0,\"\",VLOOKUP(C220,'WK 10'!$K$6:$L$41,2,FALSE)))","v":""},0]
[null,null,{"$f":"IF(ISNA(VLOOKUP('WK 7'!K9,$C$2:$C$217,1,FALSE)),VLOOKUP('WK 7'!K9,'WK 7'!$K$6:$K$450,1,FALSE),\"\")","v":""},null,{"$f":"IF(ISNA(VLOOKUP(C221,'WK 2'!$K$6:$L$41,2,FALSE)=0),\"\",IF(VLOOKUP(C221,'WK 2'!$K$6:$L$41,2,FALSE)=0,\"\",VLOOKUP(C221,'WK 2'!$K$6:$L$41,2,FALSE)))","v":""},{"$f":"IF(ISNA(VLOOKUP(C221,'WK 3'!$K$6:$L$41,2,FALSE)=0),\"\",IF(VLOOKUP(C221,'WK 3'!$K$6:$L$41,2,FALSE)=0,\"\",VLOOKUP(C221,'WK 3'!$K$6:$L$41,2,FALSE)))","v":""},{"$f":"IF(ISNA(VLOOKUP(C221,'WK 4'!$K$6:$L$41,2,FALSE)=0),\"\",IF(VLOOKUP(C221,'WK 4'!$K$6:$L$41,2,FALSE)=0,\"\",VLOOKUP(C221,'WK 4'!$K$6:$L$41,2,FALSE)))","v":""},{"$f":"IF(ISNA(VLOOKUP(C221,'WK 5'!$K$6:$L$41,2,FALSE)=0),\"\",IF(VLOOKUP(C221,'WK 5'!$K$6:$L$41,2,FALSE)=0,\"\",VLOOKUP(C221,'WK 5'!$K$6:$L$41,2,FALSE)))","v":""},{"$f":"IF(ISNA(VLOOKUP(C221,'WK 6'!$K$6:$L$41,2,FALSE)=0),\"\",IF(VLOOKUP(C221,'WK 6'!$K$6:$L$41,2,FALSE)=0,\"\",VLOOKUP(C221,'WK 6'!$K$6:$L$41,2,FALSE)))","v":""},{"$f":"IF(ISNA(VLOOKUP(C221,'WK 7'!$K$6:$L$41,2,FALSE)=0),\"\",IF(VLOOKUP(C221,'WK 7'!$K$6:$L$41,2,FALSE)=0,\"\",VLOOKUP(C221,'WK 7'!$K$6:$L$41,2,FALSE)))","v":""},{"$f":"IF(ISNA(VLOOKUP(C221,'WK 8'!$K$6:$L$41,2,FALSE)=0),\"\",IF(VLOOKUP(C221,'WK 8'!$K$6:$L$41,2,FALSE)=0,\"\",VLOOKUP(C221,'WK 8'!$K$6:$L$41,2,FALSE)))","v":""},{"$f":"IF(ISNA(VLOOKUP(C221,'WK 9'!$K$6:$L$41,2,FALSE)=0),\"\",IF(VLOOKUP(C221,'WK 9'!$K$6:$L$41,2,FALSE)=0,\"\",VLOOKUP(C221,'WK 9'!$K$6:$L$41,2,FALSE)))","v":""},{"$f":"IF(ISNA(VLOOKUP(C221,'WK 10'!$K$6:$L$41,2,FALSE)=0),\"\",IF(VLOOKUP(C221,'WK 10'!$K$6:$L$41,2,FALSE)=0,\"\",VLOOKUP(C221,'WK 10'!$K$6:$L$41,2,FALSE)))","v":""},0]
[null,null,{"$f":"IF(ISNA(VLOOKUP('WK 7'!K10,$C$2:$C$217,1,FALSE)),VLOOKUP('WK 7'!K10,'WK 7'!$K$6:$K$450,1,FALSE),\"\")","v":""},null,{"$f":"IF(ISNA(VLOOKUP(C222,'WK 2'!$K$6:$L$41,2,FALSE)=0),\"\",IF(VLOOKUP(C222,'WK 2'!$K$6:$L$41,2,FALSE)=0,\"\",VLOOKUP(C222,'WK 2'!$K$6:$L$41,2,FALSE)))","v":""},{"$f":"IF(ISNA(VLOOKUP(C222,'WK 3'!$K$6:$L$41,2,FALSE)=0),\"\",IF(VLOOKUP(C222,'WK 3'!$K$6:$L$41,2,FALSE)=0,\"\",VLOOKUP(C222,'WK 3'!$K$6:$L$41,2,FALSE)))","v":""},{"$f":"IF(ISNA(VLOOKUP(C222,'WK 4'!$K$6:$L$41,2,FALSE)=0),\"\",IF(VLOOKUP(C222,'WK 4'!$K$6:$L$41,2,FALSE)=0,\"\",VLOOKUP(C222,'WK 4'!$K$6:$L$41,2,FALSE)))","v":""},{"$f":"IF(ISNA(VLOOKUP(C222,'WK 5'!$K$6:$L$41,2,FALSE)=0),\"\",IF(VLOOKUP(C222,'WK 5'!$K$6:$L$41,2,FALSE)=0,\"\",VLOOKUP(C222,'WK 5'!$K$6:$L$41,2,FALSE)))","v":""},{"$f":"IF(ISNA(VLOOKUP(C222,'WK 6'!$K$6:$L$41,2,FALSE)=0),\"\",IF(VLOOKUP(C222,'WK 6'!$K$6:$L$41,2,FALSE)=0,\"\",VLOOKUP(C222,'WK 6'!$K$6:$L$41,2,FALSE)))","v":""},{"$f":"IF(ISNA(VLOOKUP(C222,'WK 7'!$K$6:$L$41,2,FALSE)=0),\"\",IF(VLOOKUP(C222,'WK 7'!$K$6:$L$41,2,FALSE)=0,\"\",VLOOKUP(C222,'WK 7'!$K$6:$L$41,2,FALSE)))","v":""},{"$f":"IF(ISNA(VLOOKUP(C222,'WK 8'!$K$6:$L$41,2,FALSE)=0),\"\",IF(VLOOKUP(C222,'WK 8'!$K$6:$L$41,2,FALSE)=0,\"\",VLOOKUP(C222,'WK 8'!$K$6:$L$41,2,FALSE)))","v":""},{"$f":"IF(ISNA(VLOOKUP(C222,'WK 9'!$K$6:$L$41,2,FALSE)=0),\"\",IF(VLOOKUP(C222,'WK 9'!$K$6:$L$41,2,FALSE)=0,\"\",VLOOKUP(C222,'WK 9'!$K$6:$L$41,2,FALSE)))","v":""},{"$f":"IF(ISNA(VLOOKUP(C222,'WK 10'!$K$6:$L$41,2,FALSE)=0),\"\",IF(VLOOKUP(C222,'WK 10'!$K$6:$L$41,2,FALSE)=0,\"\",VLOOKUP(C222,'WK 10'!$K$6:$L$41,2,FALSE)))","v":""},0]
[null,null,{"$f":"IF(ISNA(VLOOKUP('WK 7'!K11,$C$2:$C$217,1,FALSE)),VLOOKUP('WK 7'!K11,'WK 7'!$K$6:$K$450,1,FALSE),\"\")","v":""},null,{"$f":"IF(ISNA(VLOOKUP(C223,'WK 2'!$K$6:$L$41,2,FALSE)=0),\"\",IF(VLOOKUP(C223,'WK 2'!$K$6:$L$41,2,FALSE)=0,\"\",VLOOKUP(C223,'WK 2'!$K$6:$L$41,2,FALSE)))","v":""},{"$f":"IF(ISNA(VLOOKUP(C223,'WK 3'!$K$6:$L$41,2,FALSE)=0),\"\",IF(VLOOKUP(C223,'WK 3'!$K$6:$L$41,2,FALSE)=0,\"\",VLOOKUP(C223,'WK 3'!$K$6:$L$41,2,FALSE)))","v":""},{"$f":"IF(ISNA(VLOOKUP(C223,'WK 4'!$K$6:$L$41,2,FALSE)=0),\"\",IF(VLOOKUP(C223,'WK 4'!$K$6:$L$41,2,FALSE)=0,\"\",VLOOKUP(C223,'WK 4'!$K$6:$L$41,2,FALSE)))","v":""},{"$f":"IF(ISNA(VLOOKUP(C223,'WK 5'!$K$6:$L$41,2,FALSE)=0),\"\",IF(VLOOKUP(C223,'WK 5'!$K$6:$L$41,2,FALSE)=0,\"\",VLOOKUP(C223,'WK 5'!$K$6:$L$41,2,FALSE)))","v":""},{"$f":"IF(ISNA(VLOOKUP(C223,'WK 6'!$K$6:$L$41,2,FALSE)=0),\"\",IF(VLOOKUP(C223,'WK 6'!$K$6:$L$41,2,FALSE)=0,\"\",VLOOKUP(C223,'WK 6'!$K$6:$L$41,2,FALSE)))","v":""},{"$f":"IF(ISNA(VLOOKUP(C223,'WK 7'!$K$6:$L$41,2,FALSE)=0),\"\",IF(VLOOKUP(C223,'WK 7'!$K$6:$L$41,2,FALSE)=0,\"\",VLOOKUP(C223,'WK 7'!$K$6:$L$41,2,FALSE)))","v":""},{"$f":"IF(ISNA(VLOOKUP(C223,'WK 8'!$K$6:$L$41,2,FALSE)=0),\"\",IF(VLOOKUP(C223,'WK 8'!$K$6:$L$41,2,FALSE)=0,\"\",VLOOKUP(C223,'WK 8'!$K$6:$L$41,2,FALSE)))","v":""},{"$f":"IF(ISNA(VLOOKUP(C223,'WK 9'!$K$6:$L$41,2,FALSE)=0),\"\",IF(VLOOKUP(C223,'WK 9'!$K$6:$L$41,2,FALSE)=0,\"\",VLOOKUP(C223,'WK 9'!$K$6:$L$41,2,FALSE)))","v":""},{"$f":"IF(ISNA(VLOOKUP(C223,'WK 10'!$K$6:$L$41,2,FALSE)=0),\"\",IF(VLOOKUP(C223,'WK 10'!$K$6:$L$41,2,FALSE)=0,\"\",VLOOKUP(C223,'WK 10'!$K$6:$L$41,2,FALSE)))","v":""},0]
[null,null,{"$f":"IF(ISNA(VLOOKUP('WK 7'!K12,$C$2:$C$217,1,FALSE)),VLOOKUP('WK 7'!K12,'WK 7'!$K$6:$K$450,1,FALSE),\"\")","v":""},null,{"$f":"IF(ISNA(VLOOKUP(C224,'WK 2'!$K$6:$L$41,2,FALSE)=0),\"\",IF(VLOOKUP(C224,'WK 2'!$K$6:$L$41,2,FALSE)=0,\"\",VLOOKUP(C224,'WK 2'!$K$6:$L$41,2,FALSE)))","v":""},{"$f":"IF(ISNA(VLOOKUP(C224,'WK 3'!$K$6:$L$41,2,FALSE)=0),\"\",IF(VLOOKUP(C224,'WK 3'!$K$6:$L$41,2,FALSE)=0,\"\",VLOOKUP(C224,'WK 3'!$K$6:$L$41,2,FALSE)))","v":""},{"$f":"IF(ISNA(VLOOKUP(C224,'WK 4'!$K$6:$L$41,2,FALSE)=0),\"\",IF(VLOOKUP(C224,'WK 4'!$K$6:$L$41,2,FALSE)=0,\"\",VLOOKUP(C224,'WK 4'!$K$6:$L$41,2,FALSE)))","v":""},{"$f":"IF(ISNA(VLOOKUP(C224,'WK 5'!$K$6:$L$41,2,FALSE)=0),\"\",IF(VLOOKUP(C224,'WK 5'!$K$6:$L$41,2,FALSE)=0,\"\",VLOOKUP(C224,'WK 5'!$K$6:$L$41,2,FALSE)))","v":""},{"$f":"IF(ISNA(VLOOKUP(C224,'WK 6'!$K$6:$L$41,2,FALSE)=0),\"\",IF(VLOOKUP(C224,'WK 6'!$K$6:$L$41,2,FALSE)=0,\"\",VLOOKUP(C224,'WK 6'!$K$6:$L$41,2,FALSE)))","v":""},{"$f":"IF(ISNA(VLOOKUP(C224,'WK 7'!$K$6:$L$41,2,FALSE)=0),\"\",IF(VLOOKUP(C224,'WK 7'!$K$6:$L$41,2,FALSE)=0,\"\",VLOOKUP(C224,'WK 7'!$K$6:$L$41,2,FALSE)))","v":""},{"$f":"IF(ISNA(VLOOKUP(C224,'WK 8'!$K$6:$L$41,2,FALSE)=0),\"\",IF(VLOOKUP(C224,'WK 8'!$K$6:$L$41,2,FALSE)=0,\"\",VLOOKUP(C224,'WK 8'!$K$6:$L$41,2,FALSE)))","v":""},{"$f":"IF(ISNA(VLOOKUP(C224,'WK 9'!$K$6:$L$41,2,FALSE)=0),\"\",IF(VLOOKUP(C224,'WK 9'!$K$6:$L$41,2,FALSE)=0,\"\",VLOOKUP(C224,'WK 9'!$K$6:$L$41,2,FALSE)))","v":""},{"$f":"IF(ISNA(VLOOKUP(C224,'WK 10'!$K$6:$L$41,2,FALSE)=0),\"\",IF(VLOOKUP(C224,'WK 10'!$K$6:$L$41,2,FALSE)=0,\"\",VLOOKUP(C224,'WK 10'!$K$6:$L$41,2,FALSE)))","v":""},0]
[null,null,{"$f":"IF(ISNA(VLOOKUP('WK 7'!K13,$C$2:$C$217,1,FALSE)),VLOOKUP('WK 7'!K13,'WK 7'!$K$6:$K$450,1,FALSE),\"\")","v":""},null,{"$f":"IF(ISNA(VLOOKUP(C225,'WK 2'!$K$6:$L$41,2,FALSE)=0),\"\",IF(VLOOKUP(C225,'WK 2'!$K$6:$L$41,2,FALSE)=0,\"\",VLOOKUP(C225,'WK 2'!$K$6:$L$41,2,FALSE)))","v":""},{"$f":"IF(ISNA(VLOOKUP(C225,'WK 3'!$K$6:$L$41,2,FALSE)=0),\"\",IF(VLOOKUP(C225,'WK 3'!$K$6:$L$41,2,FALSE)=0,\"\",VLOOKUP(C225,'WK 3'!$K$6:$L$41,2,FALSE)))","v":""},{"$f":"IF(ISNA(VLOOKUP(C225,'WK 4'!$K$6:$L$41,2,FALSE)=0),\"\",IF(VLOOKUP(C225,'WK 4'!$K$6:$L$41,2,FALSE)=0,\"\",VLOOKUP(C225,'WK 4'!$K$6:$L$41,2,FALSE)))","v":""},{"$f":"IF(ISNA(VLOOKUP(C225,'WK 5'!$K$6:$L$41,2,FALSE)=0),\"\",IF(VLOOKUP(C225,'WK 5'!$K$6:$L$41,2,FALSE)=0,\"\",VLOOKUP(C225,'WK 5'!$K$6:$L$41,2,FALSE)))","v":""},{"$f":"IF(ISNA(VLOOKUP(C225,'WK 6'!$K$6:$L$41,2,FALSE)=0),\"\",IF(VLOOKUP(C225,'WK 6'!$K$6:$L$41,2,FALSE)=0,\"\",VLOOKUP(C225,'WK 6'!$K$6:$L$41,2,FALSE)))","v":""},{"$f":"IF(ISNA(VLOOKUP(C225,'WK 7'!$K$6:$L$41,2,FALSE)=0),\"\",IF(VLOOKUP(C225,'WK 7'!$K$6:$L$41,2,FALSE)=0,\"\",VLOOKUP(C225,'WK 7'!$K$6:$L$41,2,FALSE)))","v":""},{"$f":"IF(ISNA(VLOOKUP(C225,'WK 8'!$K$6:$L$41,2,FALSE)=0),\"\",IF(VLOOKUP(C225,'WK 8'!$K$6:$L$41,2,FALSE)=0,\"\",VLOOKUP(C225,'WK 8'!$K$6:$L$41,2,FALSE)))","v":""},{"$f":"IF(ISNA(VLOOKUP(C225,'WK 9'!$K$6:$L$41,2,FALSE)=0),\"\",IF(VLOOKUP(C225,'WK 9'!$K$6:$L$41,2,FALSE)=0,\"\",VLOOKUP(C225,'WK 9'!$K$6:$L$41,2,FALSE)))","v":""},{"$f":"IF(ISNA(VLOOKUP(C225,'WK 10'!$K$6:$L$41,2,FALSE)=0),\"\",IF(VLOOKUP(C225,'WK 10'!$K$6:$L$41,2,FALSE)=0,\"\",VLOOKUP(C225,'WK 10'!$K$6:$L$41,2,FALSE)))","v":""},0]
[null,null,{"$f":"IF(ISNA(VLOOKUP('WK 7'!K14,$C$2:$C$217,1,FALSE)),VLOOKUP('WK 7'!K14,'WK 7'!$K$6:$K$450,1,FALSE),\"\")","v":""},null,{"$f":"IF(ISNA(VLOOKUP(C226,'WK 2'!$K$6:$L$41,2,FALSE)=0),\"\",IF(VLOOKUP(C226,'WK 2'!$K$6:$L$41,2,FALSE)=0,\"\",VLOOKUP(C226,'WK 2'!$K$6:$L$41,2,FALSE)))","v":""},{"$f":"IF(ISNA(VLOOKUP(C226,'WK 3'!$K$6:$L$41,2,FALSE)=0),\"\",IF(VLOOKUP(C226,'WK 3'!$K$6:$L$41,2,FALSE)=0,\"\",VLOOKUP(C226,'WK 3'!$K$6:$L$41,2,FALSE)))","v":""},{"$f":"IF(ISNA(VLOOKUP(C226,'WK 4'!$K$6:$L$41,2,FALSE)=0),\"\",IF(VLOOKUP(C226,'WK 4'!$K$6:$L$41,2,FALSE)=0,\"\",VLOOKUP(C226,'WK 4'!$K$6:$L$41,2,FALSE)))","v":""},{"$f":"IF(ISNA(VLOOKUP(C226,'WK 5'!$K$6:$L$41,2,FALSE)=0),\"\",IF(VLOOKUP(C226,'WK 5'!$K$6:$L$41,2,FALSE)=0,\"\",VLOOKUP(C226,'WK 5'!$K$6:$L$41,2,FALSE)))","v":""},{"$f":"IF(ISNA(VLOOKUP(C226,'WK 6'!$K$6:$L$41,2,FALSE)=0),\"\",IF(VLOOKUP(C226,'WK 6'!$K$6:$L$41,2,FALSE)=0,\"\",VLOOKUP(C226,'WK 6'!$K$6:$L$41,2,FALSE)))","v":""},{"$f":"IF(ISNA(VLOOKUP(C226,'WK 7'!$K$6:$L$41,2,FALSE)=0),\"\",IF(VLOOKUP(C226,'WK 7'!$K$6:$L$41,2,FALSE)=0,\"\",VLOOKUP(C226,'WK 7'!$K$6:$L$41,2,FALSE)))","v":""},{"$f":"IF(ISNA(VLOOKUP(C226,'WK 8'!$K$6:$L$41,2,FALSE)=0),\"\",IF(VLOOKUP(C226,'WK 8'!$K$6:$L$41,2,FALSE)=0,\"\",VLOOKUP(C226,'WK 8'!$K$6:$L$41,2,FALSE)))","v":""},{"$f":"IF(ISNA(VLOOKUP(C226,'WK 9'!$K$6:$L$41,2,FALSE)=0),\"\",IF(VLOOKUP(C226,'WK 9'!$K$6:$L$41,2,FALSE)=0,\"\",VLOOKUP(C226,'WK 9'!$K$6:$L$41,2,FALSE)))","v":""},{"$f":"IF(ISNA(VLOOKUP(C226,'WK 10'!$K$6:$L$41,2,FALSE)=0),\"\",IF(VLOOKUP(C226,'WK 10'!$K$6:$L$41,2,FALSE)=0,\"\",VLOOKUP(C226,'WK 10'!$K$6:$L$41,2,FALSE)))","v":""},0]
[null,null,{"$f":"IF(ISNA(VLOOKUP('WK 7'!K15,$C$2:$C$217,1,FALSE)),VLOOKUP('WK 7'!K15,'WK 7'!$K$6:$K$450,1,FALSE),\"\")","v":""},null,{"$f":"IF(ISNA(VLOOKUP(C227,'WK 2'!$K$6:$L$41,2,FALSE)=0),\"\",IF(VLOOKUP(C227,'WK 2'!$K$6:$L$41,2,FALSE)=0,\"\",VLOOKUP(C227,'WK 2'!$K$6:$L$41,2,FALSE)))","v":""},{"$f":"IF(ISNA(VLOOKUP(C227,'WK 3'!$K$6:$L$41,2,FALSE)=0),\"\",IF(VLOOKUP(C227,'WK 3'!$K$6:$L$41,2,FALSE)=0,\"\",VLOOKUP(C227,'WK 3'!$K$6:$L$41,2,FALSE)))","v":""},{"$f":"IF(ISNA(VLOOKUP(C227,'WK 4'!$K$6:$L$41,2,FALSE)=0),\"\",IF(VLOOKUP(C227,'WK 4'!$K$6:$L$41,2,FALSE)=0,\"\",VLOOKUP(C227,'WK 4'!$K$6:$L$41,2,FALSE)))","v":""},{"$f":"IF(ISNA(VLOOKUP(C227,'WK 5'!$K$6:$L$41,2,FALSE)=0),\"\",IF(VLOOKUP(C227,'WK 5'!$K$6:$L$41,2,FALSE)=0,\"\",VLOOKUP(C227,'WK 5'!$K$6:$L$41,2,FALSE)))","v":""},{"$f":"IF(ISNA(VLOOKUP(C227,'WK 6'!$K$6:$L$41,2,FALSE)=0),\"\",IF(VLOOKUP(C227,'WK 6'!$K$6:$L$41,2,FALSE)=0,\"\",VLOOKUP(C227,'WK 6'!$K$6:$L$41,2,FALSE)))","v":""},{"$f":"IF(ISNA(VLOOKUP(C227,'WK 7'!$K$6:$L$41,2,FALSE)=0),\"\",IF(VLOOKUP(C227,'WK 7'!$K$6:$L$41,2,FALSE)=0,\"\",VLOOKUP(C227,'WK 7'!$K$6:$L$41,2,FALSE)))","v":""},{"$f":"IF(ISNA(VLOOKUP(C227,'WK 8'!$K$6:$L$41,2,FALSE)=0),\"\",IF(VLOOKUP(C227,'WK 8'!$K$6:$L$41,2,FALSE)=0,\"\",VLOOKUP(C227,'WK 8'!$K$6:$L$41,2,FALSE)))","v":""},{"$f":"IF(ISNA(VLOOKUP(C227,'WK 9'!$K$6:$L$41,2,FALSE)=0),\"\",IF(VLOOKUP(C227,'WK 9'!$K$6:$L$41,2,FALSE)=0,\"\",VLOOKUP(C227,'WK 9'!$K$6:$L$41,2,FALSE)))","v":""},{"$f":"IF(ISNA(VLOOKUP(C227,'WK 10'!$K$6:$L$41,2,FALSE)=0),\"\",IF(VLOOKUP(C227,'WK 10'!$K$6:$L$41,2,FALSE)=0,\"\",VLOOKUP(C227,'WK 10'!$K$6:$L$41,2,FALSE)))","v":""},0]
[null,null,{"$f":"IF(ISNA(VLOOKUP('WK 7'!K16,$C$2:$C$217,1,FALSE)),VLOOKUP('WK 7'!K16,'WK 7'!$K$6:$K$450,1,FALSE),\"\")","v":""},null,{"$f":"IF(ISNA(VLOOKUP(C228,'WK 2'!$K$6:$L$41,2,FALSE)=0),\"\",IF(VLOOKUP(C228,'WK 2'!$K$6:$L$41,2,FALSE)=0,\"\",VLOOKUP(C228,'WK 2'!$K$6:$L$41,2,FALSE)))","v":""},{"$f":"IF(ISNA(VLOOKUP(C228,'WK 3'!$K$6:$L$41,2,FALSE)=0),\"\",IF(VLOOKUP(C228,'WK 3'!$K$6:$L$41,2,FALSE)=0,\"\",VLOOKUP(C228,'WK 3'!$K$6:$L$41,2,FALSE)))","v":""},{"$f":"IF(ISNA(VLOOKUP(C228,'WK 4'!$K$6:$L$41,2,FALSE)=0),\"\",IF(VLOOKUP(C228,'WK 4'!$K$6:$L$41,2,FALSE)=0,\"\",VLOOKUP(C228,'WK 4'!$K$6:$L$41,2,FALSE)))","v":""},{"$f":"IF(ISNA(VLOOKUP(C228,'WK 5'!$K$6:$L$41,2,FALSE)=0),\"\",IF(VLOOKUP(C228,'WK 5'!$K$6:$L$41,2,FALSE)=0,\"\",VLOOKUP(C228,'WK 5'!$K$6:$L$41,2,FALSE)))","v":""},{"$f":"IF(ISNA(VLOOKUP(C228,'WK 6'!$K$6:$L$41,2,FALSE)=0),\"\",IF(VLOOKUP(C228,'WK 6'!$K$6:$L$41,2,FALSE)=0,\"\",VLOOKUP(C228,'WK 6'!$K$6:$L$41,2,FALSE)))","v":""},{"$f":"IF(ISNA(VLOOKUP(C228,'WK 7'!$K$6:$L$41,2,FALSE)=0),\"\",IF(VLOOKUP(C228,'WK 7'!$K$6:$L$41,2,FALSE)=0,\"\",VLOOKUP(C228,'WK 7'!$K$6:$L$41,2,FALSE)))","v":""},{"$f":"IF(ISNA(VLOOKUP(C228,'WK 8'!$K$6:$L$41,2,FALSE)=0),\"\",IF(VLOOKUP(C228,'WK 8'!$K$6:$L$41,2,FALSE)=0,\"\",VLOOKUP(C228,'WK 8'!$K$6:$L$41,2,FALSE)))","v":""},{"$f":"IF(ISNA(VLOOKUP(C228,'WK 9'!$K$6:$L$41,2,FALSE)=0),\"\",IF(VLOOKUP(C228,'WK 9'!$K$6:$L$41,2,FALSE)=0,\"\",VLOOKUP(C228,'WK 9'!$K$6:$L$41,2,FALSE)))","v":""},{"$f":"IF(ISNA(VLOOKUP(C228,'WK 10'!$K$6:$L$41,2,FALSE)=0),\"\",IF(VLOOKUP(C228,'WK 10'!$K$6:$L$41,2,FALSE)=0,\"\",VLOOKUP(C228,'WK 10'!$K$6:$L$41,2,FALSE)))","v":""},0]
[null,null,{"$f":"IF(ISNA(VLOOKUP('WK 7'!K17,$C$2:$C$217,1,FALSE)),VLOOKUP('WK 7'!K17,'WK 7'!$K$6:$K$450,1,FALSE),\"\")","v":""},null,{"$f":"IF(ISNA(VLOOKUP(C229,'WK 2'!$K$6:$L$41,2,FALSE)=0),\"\",IF(VLOOKUP(C229,'WK 2'!$K$6:$L$41,2,FALSE)=0,\"\",VLOOKUP(C229,'WK 2'!$K$6:$L$41,2,FALSE)))","v":""},{"$f":"IF(ISNA(VLOOKUP(C229,'WK 3'!$K$6:$L$41,2,FALSE)=0),\"\",IF(VLOOKUP(C229,'WK 3'!$K$6:$L$41,2,FALSE)=0,\"\",VLOOKUP(C229,'WK 3'!$K$6:$L$41,2,FALSE)))","v":""},{"$f":"IF(ISNA(VLOOKUP(C229,'WK 4'!$K$6:$L$41,2,FALSE)=0),\"\",IF(VLOOKUP(C229,'WK 4'!$K$6:$L$41,2,FALSE)=0,\"\",VLOOKUP(C229,'WK 4'!$K$6:$L$41,2,FALSE)))","v":""},{"$f":"IF(ISNA(VLOOKUP(C229,'WK 5'!$K$6:$L$41,2,FALSE)=0),\"\",IF(VLOOKUP(C229,'WK 5'!$K$6:$L$41,2,FALSE)=0,\"\",VLOOKUP(C229,'WK 5'!$K$6:$L$41,2,FALSE)))","v":""},{"$f":"IF(ISNA(VLOOKUP(C229,'WK 6'!$K$6:$L$41,2,FALSE)=0),\"\",IF(VLOOKUP(C229,'WK 6'!$K$6:$L$41,2,FALSE)=0,\"\",VLOOKUP(C229,'WK 6'!$K$6:$L$41,2,FALSE)))","v":""},{"$f":"IF(ISNA(VLOOKUP(C229,'WK 7'!$K$6:$L$41,2,FALSE)=0),\"\",IF(VLOOKUP(C229,'WK 7'!$K$6:$L$41,2,FALSE)=0,\"\",VLOOKUP(C229,'WK 7'!$K$6:$L$41,2,FALSE)))","v":""},{"$f":"IF(ISNA(VLOOKUP(C229,'WK 8'!$K$6:$L$41,2,FALSE)=0),\"\",IF(VLOOKUP(C229,'WK 8'!$K$6:$L$41,2,FALSE)=0,\"\",VLOOKUP(C229,'WK 8'!$K$6:$L$41,2,FALSE)))","v":""},{"$f":"IF(ISNA(VLOOKUP(C229,'WK 9'!$K$6:$L$41,2,FALSE)=0),\"\",IF(VLOOKUP(C229,'WK 9'!$K$6:$L$41,2,FALSE)=0,\"\",VLOOKUP(C229,'WK 9'!$K$6:$L$41,2,FALSE)))","v":""},{"$f":"IF(ISNA(VLOOKUP(C229,'WK 10'!$K$6:$L$41,2,FALSE)=0),\"\",IF(VLOOKUP(C229,'WK 10'!$K$6:$L$41,2,FALSE)=0,\"\",VLOOKUP(C229,'WK 10'!$K$6:$L$41,2,FALSE)))","v":""},0]
[null,null,{"$f":"IF(ISNA(VLOOKUP('WK 7'!K18,$C$2:$C$217,1,FALSE)),VLOOKUP('WK 7'!K18,'WK 7'!$K$6:$K$450,1,FALSE),\"\")","v":""},null,{"$f":"IF(ISNA(VLOOKUP(C230,'WK 2'!$K$6:$L$41,2,FALSE)=0),\"\",IF(VLOOKUP(C230,'WK 2'!$K$6:$L$41,2,FALSE)=0,\"\",VLOOKUP(C230,'WK 2'!$K$6:$L$41,2,FALSE)))","v":""},{"$f":"IF(ISNA(VLOOKUP(C230,'WK 3'!$K$6:$L$41,2,FALSE)=0),\"\",IF(VLOOKUP(C230,'WK 3'!$K$6:$L$41,2,FALSE)=0,\"\",VLOOKUP(C230,'WK 3'!$K$6:$L$41,2,FALSE)))","v":""},{"$f":"IF(ISNA(VLOOKUP(C230,'WK 4'!$K$6:$L$41,2,FALSE)=0),\"\",IF(VLOOKUP(C230,'WK 4'!$K$6:$L$41,2,FALSE)=0,\"\",VLOOKUP(C230,'WK 4'!$K$6:$L$41,2,FALSE)))","v":""},{"$f":"IF(ISNA(VLOOKUP(C230,'WK 5'!$K$6:$L$41,2,FALSE)=0),\"\",IF(VLOOKUP(C230,'WK 5'!$K$6:$L$41,2,FALSE)=0,\"\",VLOOKUP(C230,'WK 5'!$K$6:$L$41,2,FALSE)))","v":""},{"$f":"IF(ISNA(VLOOKUP(C230,'WK 6'!$K$6:$L$41,2,FALSE)=0),\"\",IF(VLOOKUP(C230,'WK 6'!$K$6:$L$41,2,FALSE)=0,\"\",VLOOKUP(C230,'WK 6'!$K$6:$L$41,2,FALSE)))","v":""},{"$f":"IF(ISNA(VLOOKUP(C230,'WK 7'!$K$6:$L$41,2,FALSE)=0),\"\",IF(VLOOKUP(C230,'WK 7'!$K$6:$L$41,2,FALSE)=0,\"\",VLOOKUP(C230,'WK 7'!$K$6:$L$41,2,FALSE)))","v":""},{"$f":"IF(ISNA(VLOOKUP(C230,'WK 8'!$K$6:$L$41,2,FALSE)=0),\"\",IF(VLOOKUP(C230,'WK 8'!$K$6:$L$41,2,FALSE)=0,\"\",VLOOKUP(C230,'WK 8'!$K$6:$L$41,2,FALSE)))","v":""},{"$f":"IF(ISNA(VLOOKUP(C230,'WK 9'!$K$6:$L$41,2,FALSE)=0),\"\",IF(VLOOKUP(C230,'WK 9'!$K$6:$L$41,2,FALSE)=0,\"\",VLOOKUP(C230,'WK 9'!$K$6:$L$41,2,FALSE)))","v":""},{"$f":"IF(ISNA(VLOOKUP(C230,'WK 10'!$K$6:$L$41,2,FALSE)=0),\"\",IF(VLOOKUP(C230,'WK 10'!$K$6:$L$41,2,FALSE)=0,\"\",VLOOKUP(C230,'WK 10'!$K$6:$L$41,2,FALSE)))","v":""},0]
[null,null,{"$f":"IF(ISNA(VLOOKUP('WK 7'!K19,$C$2:$C$217,1,FALSE)),VLOOKUP('WK 7'!K19,'WK 7'!$K$6:$K$450,1,FALSE),\"\")","v":""},null,{"$f":"IF(ISNA(VLOOKUP(C231,'WK 2'!$K$6:$L$41,2,FALSE)=0),\"\",IF(VLOOKUP(C231,'WK 2'!$K$6:$L$41,2,FALSE)=0,\"\",VLOOKUP(C231,'WK 2'!$K$6:$L$41,2,FALSE)))","v":""},{"$f":"IF(ISNA(VLOOKUP(C231,'WK 3'!$K$6:$L$41,2,FALSE)=0),\"\",IF(VLOOKUP(C231,'WK 3'!$K$6:$L$41,2,FALSE)=0,\"\",VLOOKUP(C231,'WK 3'!$K$6:$L$41,2,FALSE)))","v":""},{"$f":"IF(ISNA(VLOOKUP(C231,'WK 4'!$K$6:$L$41,2,FALSE)=0),\"\",IF(VLOOKUP(C231,'WK 4'!$K$6:$L$41,2,FALSE)=0,\"\",VLOOKUP(C231,'WK 4'!$K$6:$L$41,2,FALSE)))","v":""},{"$f":"IF(ISNA(VLOOKUP(C231,'WK 5'!$K$6:$L$41,2,FALSE)=0),\"\",IF(VLOOKUP(C231,'WK 5'!$K$6:$L$41,2,FALSE)=0,\"\",VLOOKUP(C231,'WK 5'!$K$6:$L$41,2,FALSE)))","v":""},{"$f":"IF(ISNA(VLOOKUP(C231,'WK 6'!$K$6:$L$41,2,FALSE)=0),\"\",IF(VLOOKUP(C231,'WK 6'!$K$6:$L$41,2,FALSE)=0,\"\",VLOOKUP(C231,'WK 6'!$K$6:$L$41,2,FALSE)))","v":""},{"$f":"IF(ISNA(VLOOKUP(C231,'WK 7'!$K$6:$L$41,2,FALSE)=0),\"\",IF(VLOOKUP(C231,'WK 7'!$K$6:$L$41,2,FALSE)=0,\"\",VLOOKUP(C231,'WK 7'!$K$6:$L$41,2,FALSE)))","v":""},{"$f":"IF(ISNA(VLOOKUP(C231,'WK 8'!$K$6:$L$41,2,FALSE)=0),\"\",IF(VLOOKUP(C231,'WK 8'!$K$6:$L$41,2,FALSE)=0,\"\",VLOOKUP(C231,'WK 8'!$K$6:$L$41,2,FALSE)))","v":""},{"$f":"IF(ISNA(VLOOKUP(C231,'WK 9'!$K$6:$L$41,2,FALSE)=0),\"\",IF(VLOOKUP(C231,'WK 9'!$K$6:$L$41,2,FALSE)=0,\"\",VLOOKUP(C231,'WK 9'!$K$6:$L$41,2,FALSE)))","v":""},{"$f":"IF(ISNA(VLOOKUP(C231,'WK 10'!$K$6:$L$41,2,FALSE)=0),\"\",IF(VLOOKUP(C231,'WK 10'!$K$6:$L$41,2,FALSE)=0,\"\",VLOOKUP(C231,'WK 10'!$K$6:$L$41,2,FALSE)))","v":""},0]
[null,null,{"$f":"IF(ISNA(VLOOKUP('WK 7'!K20,$C$2:$C$217,1,FALSE)),VLOOKUP('WK 7'!K20,'WK 7'!$K$6:$K$450,1,FALSE),\"\")","v":""},null,{"$f":"IF(ISNA(VLOOKUP(C232,'WK 2'!$K$6:$L$41,2,FALSE)=0),\"\",IF(VLOOKUP(C232,'WK 2'!$K$6:$L$41,2,FALSE)=0,\"\",VLOOKUP(C232,'WK 2'!$K$6:$L$41,2,FALSE)))","v":""},{"$f":"IF(ISNA(VLOOKUP(C232,'WK 3'!$K$6:$L$41,2,FALSE)=0),\"\",IF(VLOOKUP(C232,'WK 3'!$K$6:$L$41,2,FALSE)=0,\"\",VLOOKUP(C232,'WK 3'!$K$6:$L$41,2,FALSE)))","v":""},{"$f":"IF(ISNA(VLOOKUP(C232,'WK 4'!$K$6:$L$41,2,FALSE)=0),\"\",IF(VLOOKUP(C232,'WK 4'!$K$6:$L$41,2,FALSE)=0,\"\",VLOOKUP(C232,'WK 4'!$K$6:$L$41,2,FALSE)))","v":""},{"$f":"IF(ISNA(VLOOKUP(C232,'WK 5'!$K$6:$L$41,2,FALSE)=0),\"\",IF(VLOOKUP(C232,'WK 5'!$K$6:$L$41,2,FALSE)=0,\"\",VLOOKUP(C232,'WK 5'!$K$6:$L$41,2,FALSE)))","v":""},{"$f":"IF(ISNA(VLOOKUP(C232,'WK 6'!$K$6:$L$41,2,FALSE)=0),\"\",IF(VLOOKUP(C232,'WK 6'!$K$6:$L$41,2,FALSE)=0,\"\",VLOOKUP(C232,'WK 6'!$K$6:$L$41,2,FALSE)))","v":""},{"$f":"IF(ISNA(VLOOKUP(C232,'WK 7'!$K$6:$L$41,2,FALSE)=0),\"\",IF(VLOOKUP(C232,'WK 7'!$K$6:$L$41,2,FALSE)=0,\"\",VLOOKUP(C232,'WK 7'!$K$6:$L$41,2,FALSE)))","v":""},{"$f":"IF(ISNA(VLOOKUP(C232,'WK 8'!$K$6:$L$41,2,FALSE)=0),\"\",IF(VLOOKUP(C232,'WK 8'!$K$6:$L$41,2,FALSE)=0,\"\",VLOOKUP(C232,'WK 8'!$K$6:$L$41,2,FALSE)))","v":""},{"$f":"IF(ISNA(VLOOKUP(C232,'WK 9'!$K$6:$L$41,2,FALSE)=0),\"\",IF(VLOOKUP(C232,'WK 9'!$K$6:$L$41,2,FALSE)=0,\"\",VLOOKUP(C232,'WK 9'!$K$6:$L$41,2,FALSE)))","v":""},{"$f":"IF(ISNA(VLOOKUP(C232,'WK 10'!$K$6:$L$41,2,FALSE)=0),\"\",IF(VLOOKUP(C232,'WK 10'!$K$6:$L$41,2,FALSE)=0,\"\",VLOOKUP(C232,'WK 10'!$K$6:$L$41,2,FALSE)))","v":""},0]
[null,null,{"$f":"IF(ISNA(VLOOKUP('WK 7'!K21,$C$2:$C$217,1,FALSE)),VLOOKUP('WK 7'!K21,'WK 7'!$K$6:$K$450,1,FALSE),\"\")","v":""},null,{"$f":"IF(ISNA(VLOOKUP(C233,'WK 2'!$K$6:$L$41,2,FALSE)=0),\"\",IF(VLOOKUP(C233,'WK 2'!$K$6:$L$41,2,FALSE)=0,\"\",VLOOKUP(C233,'WK 2'!$K$6:$L$41,2,FALSE)))","v":""},{"$f":"IF(ISNA(VLOOKUP(C233,'WK 3'!$K$6:$L$41,2,FALSE)=0),\"\",IF(VLOOKUP(C233,'WK 3'!$K$6:$L$41,2,FALSE)=0,\"\",VLOOKUP(C233,'WK 3'!$K$6:$L$41,2,FALSE)))","v":""},{"$f":"IF(ISNA(VLOOKUP(C233,'WK 4'!$K$6:$L$41,2,FALSE)=0),\"\",IF(VLOOKUP(C233,'WK 4'!$K$6:$L$41,2,FALSE)=0,\"\",VLOOKUP(C233,'WK 4'!$K$6:$L$41,2,FALSE)))","v":""},{"$f":"IF(ISNA(VLOOKUP(C233,'WK 5'!$K$6:$L$41,2,FALSE)=0),\"\",IF(VLOOKUP(C233,'WK 5'!$K$6:$L$41,2,FALSE)=0,\"\",VLOOKUP(C233,'WK 5'!$K$6:$L$41,2,FALSE)))","v":""},{"$f":"IF(ISNA(VLOOKUP(C233,'WK 6'!$K$6:$L$41,2,FALSE)=0),\"\",IF(VLOOKUP(C233,'WK 6'!$K$6:$L$41,2,FALSE)=0,\"\",VLOOKUP(C233,'WK 6'!$K$6:$L$41,2,FALSE)))","v":""},{"$f":"IF(ISNA(VLOOKUP(C233,'WK 7'!$K$6:$L$41,2,FALSE)=0),\"\",IF(VLOOKUP(C233,'WK 7'!$K$6:$L$41,2,FALSE)=0,\"\",VLOOKUP(C233,'WK 7'!$K$6:$L$41,2,FALSE)))","v":""},{"$f":"IF(ISNA(VLOOKUP(C233,'WK 8'!$K$6:$L$41,2,FALSE)=0),\"\",IF(VLOOKUP(C233,'WK 8'!$K$6:$L$41,2,FALSE)=0,\"\",VLOOKUP(C233,'WK 8'!$K$6:$L$41,2,FALSE)))","v":""},{"$f":"IF(ISNA(VLOOKUP(C233,'WK 9'!$K$6:$L$41,2,FALSE)=0),\"\",IF(VLOOKUP(C233,'WK 9'!$K$6:$L$41,2,FALSE)=0,\"\",VLOOKUP(C233,'WK 9'!$K$6:$L$41,2,FALSE)))","v":""},{"$f":"IF(ISNA(VLOOKUP(C233,'WK 10'!$K$6:$L$41,2,FALSE)=0),\"\",IF(VLOOKUP(C233,'WK 10'!$K$6:$L$41,2,FALSE)=0,\"\",VLOOKUP(C233,'WK 10'!$K$6:$L$41,2,FALSE)))","v":""},0]
[null,null,{"$f":"IF(ISNA(VLOOKUP('WK 7'!K22,$C$2:$C$217,1,FALSE)),VLOOKUP('WK 7'!K22,'WK 7'!$K$6:$K$450,1,FALSE),\"\")","v":""},null,{"$f":"IF(ISNA(VLOOKUP(C234,'WK 2'!$K$6:$L$41,2,FALSE)=0),\"\",IF(VLOOKUP(C234,'WK 2'!$K$6:$L$41,2,FALSE)=0,\"\",VLOOKUP(C234,'WK 2'!$K$6:$L$41,2,FALSE)))","v":""},{"$f":"IF(ISNA(VLOOKUP(C234,'WK 3'!$K$6:$L$41,2,FALSE)=0),\"\",IF(VLOOKUP(C234,'WK 3'!$K$6:$L$41,2,FALSE)=0,\"\",VLOOKUP(C234,'WK 3'!$K$6:$L$41,2,FALSE)))","v":""},{"$f":"IF(ISNA(VLOOKUP(C234,'WK 4'!$K$6:$L$41,2,FALSE)=0),\"\",IF(VLOOKUP(C234,'WK 4'!$K$6:$L$41,2,FALSE)=0,\"\",VLOOKUP(C234,'WK 4'!$K$6:$L$41,2,FALSE)))","v":""},{"$f":"IF(ISNA(VLOOKUP(C234,'WK 5'!$K$6:$L$41,2,FALSE)=0),\"\",IF(VLOOKUP(C234,'WK 5'!$K$6:$L$41,2,FALSE)=0,\"\",VLOOKUP(C234,'WK 5'!$K$6:$L$41,2,FALSE)))","v":""},{"$f":"IF(ISNA(VLOOKUP(C234,'WK 6'!$K$6:$L$41,2,FALSE)=0),\"\",IF(VLOOKUP(C234,'WK 6'!$K$6:$L$41,2,FALSE)=0,\"\",VLOOKUP(C234,'WK 6'!$K$6:$L$41,2,FALSE)))","v":""},{"$f":"IF(ISNA(VLOOKUP(C234,'WK 7'!$K$6:$L$41,2,FALSE)=0),\"\",IF(VLOOKUP(C234,'WK 7'!$K$6:$L$41,2,FALSE)=0,\"\",VLOOKUP(C234,'WK 7'!$K$6:$L$41,2,FALSE)))","v":""},{"$f":"IF(ISNA(VLOOKUP(C234,'WK 8'!$K$6:$L$41,2,FALSE)=0),\"\",IF(VLOOKUP(C234,'WK 8'!$K$6:$L$41,2,FALSE)=0,\"\",VLOOKUP(C234,'WK 8'!$K$6:$L$41,2,FALSE)))","v":""},{"$f":"IF(ISNA(VLOOKUP(C234,'WK 9'!$K$6:$L$41,2,FALSE)=0),\"\",IF(VLOOKUP(C234,'WK 9'!$K$6:$L$41,2,FALSE)=0,\"\",VLOOKUP(C234,'WK 9'!$K$6:$L$41,2,FALSE)))","v":""},{"$f":"IF(ISNA(VLOOKUP(C234,'WK 10'!$K$6:$L$41,2,FALSE)=0),\"\",IF(VLOOKUP(C234,'WK 10'!$K$6:$L$41,2,FALSE)=0,\"\",VLOOKUP(C234,'WK 10'!$K$6:$L$41,2,FALSE)))","v":""},0]
[null,null,{"$f":"IF(ISNA(VLOOKUP('WK 7'!K23,$C$2:$C$217,1,FALSE)),VLOOKUP('WK 7'!K23,'WK 7'!$K$6:$K$450,1,FALSE),\"\")","v":""},null,{"$f":"IF(ISNA(VLOOKUP(C235,'WK 2'!$K$6:$L$41,2,FALSE)=0),\"\",IF(VLOOKUP(C235,'WK 2'!$K$6:$L$41,2,FALSE)=0,\"\",VLOOKUP(C235,'WK 2'!$K$6:$L$41,2,FALSE)))","v":""},{"$f":"IF(ISNA(VLOOKUP(C235,'WK 3'!$K$6:$L$41,2,FALSE)=0),\"\",IF(VLOOKUP(C235,'WK 3'!$K$6:$L$41,2,FALSE)=0,\"\",VLOOKUP(C235,'WK 3'!$K$6:$L$41,2,FALSE)))","v":""},{"$f":"IF(ISNA(VLOOKUP(C235,'WK 4'!$K$6:$L$41,2,FALSE)=0),\"\",IF(VLOOKUP(C235,'WK 4'!$K$6:$L$41,2,FALSE)=0,\"\",VLOOKUP(C235,'WK 4'!$K$6:$L$41,2,FALSE)))","v":""},{"$f":"IF(ISNA(VLOOKUP(C235,'WK 5'!$K$6:$L$41,2,FALSE)=0),\"\",IF(VLOOKUP(C235,'WK 5'!$K$6:$L$41,2,FALSE)=0,\"\",VLOOKUP(C235,'WK 5'!$K$6:$L$41,2,FALSE)))","v":""},{"$f":"IF(ISNA(VLOOKUP(C235,'WK 6'!$K$6:$L$41,2,FALSE)=0),\"\",IF(VLOOKUP(C235,'WK 6'!$K$6:$L$41,2,FALSE)=0,\"\",VLOOKUP(C235,'WK 6'!$K$6:$L$41,2,FALSE)))","v":""},{"$f":"IF(ISNA(VLOOKUP(C235,'WK 7'!$K$6:$L$41,2,FALSE)=0),\"\",IF(VLOOKUP(C235,'WK 7'!$K$6:$L$41,2,FALSE)=0,\"\",VLOOKUP(C235,'WK 7'!$K$6:$L$41,2,FALSE)))","v":""},{"$f":"IF(ISNA(VLOOKUP(C235,'WK 8'!$K$6:$L$41,2,FALSE)=0),\"\",IF(VLOOKUP(C235,'WK 8'!$K$6:$L$41,2,FALSE)=0,\"\",VLOOKUP(C235,'WK 8'!$K$6:$L$41,2,FALSE)))","v":""},{"$f":"IF(ISNA(VLOOKUP(C235,'WK 9'!$K$6:$L$41,2,FALSE)=0),\"\",IF(VLOOKUP(C235,'WK 9'!$K$6:$L$41,2,FALSE)=0,\"\",VLOOKUP(C235,'WK 9'!$K$6:$L$41,2,FALSE)))","v":""},{"$f":"IF(ISNA(VLOOKUP(C235,'WK 10'!$K$6:$L$41,2,FALSE)=0),\"\",IF(VLOOKUP(C235,'WK 10'!$K$6:$L$41,2,FALSE)=0,\"\",VLOOKUP(C235,'WK 10'!$K$6:$L$41,2,FALSE)))","v":""},0]
[null,null,{"$f":"IF(ISNA(VLOOKUP('WK 7'!K24,$C$2:$C$217,1,FALSE)),VLOOKUP('WK 7'!K24,'WK 7'!$K$6:$K$450,1,FALSE),\"\")","v":""},null,{"$f":"IF(ISNA(VLOOKUP(C236,'WK 2'!$K$6:$L$41,2,FALSE)=0),\"\",IF(VLOOKUP(C236,'WK 2'!$K$6:$L$41,2,FALSE)=0,\"\",VLOOKUP(C236,'WK 2'!$K$6:$L$41,2,FALSE)))","v":""},{"$f":"IF(ISNA(VLOOKUP(C236,'WK 3'!$K$6:$L$41,2,FALSE)=0),\"\",IF(VLOOKUP(C236,'WK 3'!$K$6:$L$41,2,FALSE)=0,\"\",VLOOKUP(C236,'WK 3'!$K$6:$L$41,2,FALSE)))","v":""},{"$f":"IF(ISNA(VLOOKUP(C236,'WK 4'!$K$6:$L$41,2,FALSE)=0),\"\",IF(VLOOKUP(C236,'WK 4'!$K$6:$L$41,2,FALSE)=0,\"\",VLOOKUP(C236,'WK 4'!$K$6:$L$41,2,FALSE)))","v":""},{"$f":"IF(ISNA(VLOOKUP(C236,'WK 5'!$K$6:$L$41,2,FALSE)=0),\"\",IF(VLOOKUP(C236,'WK 5'!$K$6:$L$41,2,FALSE)=0,\"\",VLOOKUP(C236,'WK 5'!$K$6:$L$41,2,FALSE)))","v":""},{"$f":"IF(ISNA(VLOOKUP(C236,'WK 6'!$K$6:$L$41,2,FALSE)=0),\"\",IF(VLOOKUP(C236,'WK 6'!$K$6:$L$41,2,FALSE)=0,\"\",VLOOKUP(C236,'WK 6'!$K$6:$L$41,2,FALSE)))","v":""},{"$f":"IF(ISNA(VLOOKUP(C236,'WK 7'!$K$6:$L$41,2,FALSE)=0),\"\",IF(VLOOKUP(C236,'WK 7'!$K$6:$L$41,2,FALSE)=0,\"\",VLOOKUP(C236,'WK 7'!$K$6:$L$41,2,FALSE)))","v":""},{"$f":"IF(ISNA(VLOOKUP(C236,'WK 8'!$K$6:$L$41,2,FALSE)=0),\"\",IF(VLOOKUP(C236,'WK 8'!$K$6:$L$41,2,FALSE)=0,\"\",VLOOKUP(C236,'WK 8'!$K$6:$L$41,2,FALSE)))","v":""},{"$f":"IF(ISNA(VLOOKUP(C236,'WK 9'!$K$6:$L$41,2,FALSE)=0),\"\",IF(VLOOKUP(C236,'WK 9'!$K$6:$L$41,2,FALSE)=0,\"\",VLOOKUP(C236,'WK 9'!$K$6:$L$41,2,FALSE)))","v":""},{"$f":"IF(ISNA(VLOOKUP(C236,'WK 10'!$K$6:$L$41,2,FALSE)=0),\"\",IF(VLOOKUP(C236,'WK 10'!$K$6:$L$41,2,FALSE)=0,\"\",VLOOKUP(C236,'WK 10'!$K$6:$L$41,2,FALSE)))","v":""},0]
[null,null,{"$f":"IF(ISNA(VLOOKUP('WK 7'!K25,$C$2:$C$217,1,FALSE)),VLOOKUP('WK 7'!K25,'WK 7'!$K$6:$K$450,1,FALSE),\"\")","v":""},null,{"$f":"IF(ISNA(VLOOKUP(C237,'WK 2'!$K$6:$L$41,2,FALSE)=0),\"\",IF(VLOOKUP(C237,'WK 2'!$K$6:$L$41,2,FALSE)=0,\"\",VLOOKUP(C237,'WK 2'!$K$6:$L$41,2,FALSE)))","v":""},{"$f":"IF(ISNA(VLOOKUP(C237,'WK 3'!$K$6:$L$41,2,FALSE)=0),\"\",IF(VLOOKUP(C237,'WK 3'!$K$6:$L$41,2,FALSE)=0,\"\",VLOOKUP(C237,'WK 3'!$K$6:$L$41,2,FALSE)))","v":""},{"$f":"IF(ISNA(VLOOKUP(C237,'WK 4'!$K$6:$L$41,2,FALSE)=0),\"\",IF(VLOOKUP(C237,'WK 4'!$K$6:$L$41,2,FALSE)=0,\"\",VLOOKUP(C237,'WK 4'!$K$6:$L$41,2,FALSE)))","v":""},{"$f":"IF(ISNA(VLOOKUP(C237,'WK 5'!$K$6:$L$41,2,FALSE)=0),\"\",IF(VLOOKUP(C237,'WK 5'!$K$6:$L$41,2,FALSE)=0,\"\",VLOOKUP(C237,'WK 5'!$K$6:$L$41,2,FALSE)))","v":""},{"$f":"IF(ISNA(VLOOKUP(C237,'WK 6'!$K$6:$L$41,2,FALSE)=0),\"\",IF(VLOOKUP(C237,'WK 6'!$K$6:$L$41,2,FALSE)=0,\"\",VLOOKUP(C237,'WK 6'!$K$6:$L$41,2,FALSE)))","v":""},{"$f":"IF(ISNA(VLOOKUP(C237,'WK 7'!$K$6:$L$41,2,FALSE)=0),\"\",IF(VLOOKUP(C237,'WK 7'!$K$6:$L$41,2,FALSE)=0,\"\",VLOOKUP(C237,'WK 7'!$K$6:$L$41,2,FALSE)))","v":""},{"$f":"IF(ISNA(VLOOKUP(C237,'WK 8'!$K$6:$L$41,2,FALSE)=0),\"\",IF(VLOOKUP(C237,'WK 8'!$K$6:$L$41,2,FALSE)=0,\"\",VLOOKUP(C237,'WK 8'!$K$6:$L$41,2,FALSE)))","v":""},{"$f":"IF(ISNA(VLOOKUP(C237,'WK 9'!$K$6:$L$41,2,FALSE)=0),\"\",IF(VLOOKUP(C237,'WK 9'!$K$6:$L$41,2,FALSE)=0,\"\",VLOOKUP(C237,'WK 9'!$K$6:$L$41,2,FALSE)))","v":""},{"$f":"IF(ISNA(VLOOKUP(C237,'WK 10'!$K$6:$L$41,2,FALSE)=0),\"\",IF(VLOOKUP(C237,'WK 10'!$K$6:$L$41,2,FALSE)=0,\"\",VLOOKUP(C237,'WK 10'!$K$6:$L$41,2,FALSE)))","v":""},0]
[null,null,{"$f":"IF(ISNA(VLOOKUP('WK 7'!K26,$C$2:$C$217,1,FALSE)),VLOOKUP('WK 7'!K26,'WK 7'!$K$6:$K$450,1,FALSE),\"\")","v":""},null,{"$f":"IF(ISNA(VLOOKUP(C238,'WK 2'!$K$6:$L$41,2,FALSE)=0),\"\",IF(VLOOKUP(C238,'WK 2'!$K$6:$L$41,2,FALSE)=0,\"\",VLOOKUP(C238,'WK 2'!$K$6:$L$41,2,FALSE)))","v":""},{"$f":"IF(ISNA(VLOOKUP(C238,'WK 3'!$K$6:$L$41,2,FALSE)=0),\"\",IF(VLOOKUP(C238,'WK 3'!$K$6:$L$41,2,FALSE)=0,\"\",VLOOKUP(C238,'WK 3'!$K$6:$L$41,2,FALSE)))","v":""},{"$f":"IF(ISNA(VLOOKUP(C238,'WK 4'!$K$6:$L$41,2,FALSE)=0),\"\",IF(VLOOKUP(C238,'WK 4'!$K$6:$L$41,2,FALSE)=0,\"\",VLOOKUP(C238,'WK 4'!$K$6:$L$41,2,FALSE)))","v":""},{"$f":"IF(ISNA(VLOOKUP(C238,'WK 5'!$K$6:$L$41,2,FALSE)=0),\"\",IF(VLOOKUP(C238,'WK 5'!$K$6:$L$41,2,FALSE)=0,\"\",VLOOKUP(C238,'WK 5'!$K$6:$L$41,2,FALSE)))","v":""},{"$f":"IF(ISNA(VLOOKUP(C238,'WK 6'!$K$6:$L$41,2,FALSE)=0),\"\",IF(VLOOKUP(C238,'WK 6'!$K$6:$L$41,2,FALSE)=0,\"\",VLOOKUP(C238,'WK 6'!$K$6:$L$41,2,FALSE)))","v":""},{"$f":"IF(ISNA(VLOOKUP(C238,'WK 7'!$K$6:$L$41,2,FALSE)=0),\"\",IF(VLOOKUP(C238,'WK 7'!$K$6:$L$41,2,FALSE)=0,\"\",VLOOKUP(C238,'WK 7'!$K$6:$L$41,2,FALSE)))","v":""},{"$f":"IF(ISNA(VLOOKUP(C238,'WK 8'!$K$6:$L$41,2,FALSE)=0),\"\",IF(VLOOKUP(C238,'WK 8'!$K$6:$L$41,2,FALSE)=0,\"\",VLOOKUP(C238,'WK 8'!$K$6:$L$41,2,FALSE)))","v":""},{"$f":"IF(ISNA(VLOOKUP(C238,'WK 9'!$K$6:$L$41,2,FALSE)=0),\"\",IF(VLOOKUP(C238,'WK 9'!$K$6:$L$41,2,FALSE)=0,\"\",VLOOKUP(C238,'WK 9'!$K$6:$L$41,2,FALSE)))","v":""},{"$f":"IF(ISNA(VLOOKUP(C238,'WK 10'!$K$6:$L$41,2,FALSE)=0),\"\",IF(VLOOKUP(C238,'WK 10'!$K$6:$L$41,2,FALSE)=0,\"\",VLOOKUP(C238,'WK 10'!$K$6:$L$41,2,FALSE)))","v":""},0]
[null,null,{"$f":"IF(ISNA(VLOOKUP('WK 7'!K27,$C$2:$C$217,1,FALSE)),VLOOKUP('WK 7'!K27,'WK 7'!$K$6:$K$450,1,FALSE),\"\")","v":""},null,{"$f":"IF(ISNA(VLOOKUP(C239,'WK 2'!$K$6:$L$41,2,FALSE)=0),\"\",IF(VLOOKUP(C239,'WK 2'!$K$6:$L$41,2,FALSE)=0,\"\",VLOOKUP(C239,'WK 2'!$K$6:$L$41,2,FALSE)))","v":""},{"$f":"IF(ISNA(VLOOKUP(C239,'WK 3'!$K$6:$L$41,2,FALSE)=0),\"\",IF(VLOOKUP(C239,'WK 3'!$K$6:$L$41,2,FALSE)=0,\"\",VLOOKUP(C239,'WK 3'!$K$6:$L$41,2,FALSE)))","v":""},{"$f":"IF(ISNA(VLOOKUP(C239,'WK 4'!$K$6:$L$41,2,FALSE)=0),\"\",IF(VLOOKUP(C239,'WK 4'!$K$6:$L$41,2,FALSE)=0,\"\",VLOOKUP(C239,'WK 4'!$K$6:$L$41,2,FALSE)))","v":""},{"$f":"IF(ISNA(VLOOKUP(C239,'WK 5'!$K$6:$L$41,2,FALSE)=0),\"\",IF(VLOOKUP(C239,'WK 5'!$K$6:$L$41,2,FALSE)=0,\"\",VLOOKUP(C239,'WK 5'!$K$6:$L$41,2,FALSE)))","v":""},{"$f":"IF(ISNA(VLOOKUP(C239,'WK 6'!$K$6:$L$41,2,FALSE)=0),\"\",IF(VLOOKUP(C239,'WK 6'!$K$6:$L$41,2,FALSE)=0,\"\",VLOOKUP(C239,'WK 6'!$K$6:$L$41,2,FALSE)))","v":""},{"$f":"IF(ISNA(VLOOKUP(C239,'WK 7'!$K$6:$L$41,2,FALSE)=0),\"\",IF(VLOOKUP(C239,'WK 7'!$K$6:$L$41,2,FALSE)=0,\"\",VLOOKUP(C239,'WK 7'!$K$6:$L$41,2,FALSE)))","v":""},{"$f":"IF(ISNA(VLOOKUP(C239,'WK 8'!$K$6:$L$41,2,FALSE)=0),\"\",IF(VLOOKUP(C239,'WK 8'!$K$6:$L$41,2,FALSE)=0,\"\",VLOOKUP(C239,'WK 8'!$K$6:$L$41,2,FALSE)))","v":""},{"$f":"IF(ISNA(VLOOKUP(C239,'WK 9'!$K$6:$L$41,2,FALSE)=0),\"\",IF(VLOOKUP(C239,'WK 9'!$K$6:$L$41,2,FALSE)=0,\"\",VLOOKUP(C239,'WK 9'!$K$6:$L$41,2,FALSE)))","v":""},{"$f":"IF(ISNA(VLOOKUP(C239,'WK 10'!$K$6:$L$41,2,FALSE)=0),\"\",IF(VLOOKUP(C239,'WK 10'!$K$6:$L$41,2,FALSE)=0,\"\",VLOOKUP(C239,'WK 10'!$K$6:$L$41,2,FALSE)))","v":""},0]
[null,null,{"$f":"IF(ISNA(VLOOKUP('WK 7'!K28,$C$2:$C$217,1,FALSE)),VLOOKUP('WK 7'!K28,'WK 7'!$K$6:$K$450,1,FALSE),\"\")","v":""},null,{"$f":"IF(ISNA(VLOOKUP(C240,'WK 2'!$K$6:$L$41,2,FALSE)=0),\"\",IF(VLOOKUP(C240,'WK 2'!$K$6:$L$41,2,FALSE)=0,\"\",VLOOKUP(C240,'WK 2'!$K$6:$L$41,2,FALSE)))","v":""},{"$f":"IF(ISNA(VLOOKUP(C240,'WK 3'!$K$6:$L$41,2,FALSE)=0),\"\",IF(VLOOKUP(C240,'WK 3'!$K$6:$L$41,2,FALSE)=0,\"\",VLOOKUP(C240,'WK 3'!$K$6:$L$41,2,FALSE)))","v":""},{"$f":"IF(ISNA(VLOOKUP(C240,'WK 4'!$K$6:$L$41,2,FALSE)=0),\"\",IF(VLOOKUP(C240,'WK 4'!$K$6:$L$41,2,FALSE)=0,\"\",VLOOKUP(C240,'WK 4'!$K$6:$L$41,2,FALSE)))","v":""},{"$f":"IF(ISNA(VLOOKUP(C240,'WK 5'!$K$6:$L$41,2,FALSE)=0),\"\",IF(VLOOKUP(C240,'WK 5'!$K$6:$L$41,2,FALSE)=0,\"\",VLOOKUP(C240,'WK 5'!$K$6:$L$41,2,FALSE)))","v":""},{"$f":"IF(ISNA(VLOOKUP(C240,'WK 6'!$K$6:$L$41,2,FALSE)=0),\"\",IF(VLOOKUP(C240,'WK 6'!$K$6:$L$41,2,FALSE)=0,\"\",VLOOKUP(C240,'WK 6'!$K$6:$L$41,2,FALSE)))","v":""},{"$f":"IF(ISNA(VLOOKUP(C240,'WK 7'!$K$6:$L$41,2,FALSE)=0),\"\",IF(VLOOKUP(C240,'WK 7'!$K$6:$L$41,2,FALSE)=0,\"\",VLOOKUP(C240,'WK 7'!$K$6:$L$41,2,FALSE)))","v":""},{"$f":"IF(ISNA(VLOOKUP(C240,'WK 8'!$K$6:$L$41,2,FALSE)=0),\"\",IF(VLOOKUP(C240,'WK 8'!$K$6:$L$41,2,FALSE)=0,\"\",VLOOKUP(C240,'WK 8'!$K$6:$L$41,2,FALSE)))","v":""},{"$f":"IF(ISNA(VLOOKUP(C240,'WK 9'!$K$6:$L$41,2,FALSE)=0),\"\",IF(VLOOKUP(C240,'WK 9'!$K$6:$L$41,2,FALSE)=0,\"\",VLOOKUP(C240,'WK 9'!$K$6:$L$41,2,FALSE)))","v":""},{"$f":"IF(ISNA(VLOOKUP(C240,'WK 10'!$K$6:$L$41,2,FALSE)=0),\"\",IF(VLOOKUP(C240,'WK 10'!$K$6:$L$41,2,FALSE)=0,\"\",VLOOKUP(C240,'WK 10'!$K$6:$L$41,2,FALSE)))","v":""},0]
[null,null,{"$f":"IF(ISNA(VLOOKUP('WK 7'!K29,$C$2:$C$217,1,FALSE)),VLOOKUP('WK 7'!K29,'WK 7'!$K$6:$K$450,1,FALSE),\"\")","v":""},null,{"$f":"IF(ISNA(VLOOKUP(C241,'WK 2'!$K$6:$L$41,2,FALSE)=0),\"\",IF(VLOOKUP(C241,'WK 2'!$K$6:$L$41,2,FALSE)=0,\"\",VLOOKUP(C241,'WK 2'!$K$6:$L$41,2,FALSE)))","v":""},{"$f":"IF(ISNA(VLOOKUP(C241,'WK 3'!$K$6:$L$41,2,FALSE)=0),\"\",IF(VLOOKUP(C241,'WK 3'!$K$6:$L$41,2,FALSE)=0,\"\",VLOOKUP(C241,'WK 3'!$K$6:$L$41,2,FALSE)))","v":""},{"$f":"IF(ISNA(VLOOKUP(C241,'WK 4'!$K$6:$L$41,2,FALSE)=0),\"\",IF(VLOOKUP(C241,'WK 4'!$K$6:$L$41,2,FALSE)=0,\"\",VLOOKUP(C241,'WK 4'!$K$6:$L$41,2,FALSE)))","v":""},{"$f":"IF(ISNA(VLOOKUP(C241,'WK 5'!$K$6:$L$41,2,FALSE)=0),\"\",IF(VLOOKUP(C241,'WK 5'!$K$6:$L$41,2,FALSE)=0,\"\",VLOOKUP(C241,'WK 5'!$K$6:$L$41,2,FALSE)))","v":""},{"$f":"IF(ISNA(VLOOKUP(C241,'WK 6'!$K$6:$L$41,2,FALSE)=0),\"\",IF(VLOOKUP(C241,'WK 6'!$K$6:$L$41,2,FALSE)=0,\"\",VLOOKUP(C241,'WK 6'!$K$6:$L$41,2,FALSE)))","v":""},{"$f":"IF(ISNA(VLOOKUP(C241,'WK 7'!$K$6:$L$41,2,FALSE)=0),\"\",IF(VLOOKUP(C241,'WK 7'!$K$6:$L$41,2,FALSE)=0,\"\",VLOOKUP(C241,'WK 7'!$K$6:$L$41,2,FALSE)))","v":""},{"$f":"IF(ISNA(VLOOKUP(C241,'WK 8'!$K$6:$L$41,2,FALSE)=0),\"\",IF(VLOOKUP(C241,'WK 8'!$K$6:$L$41,2,FALSE)=0,\"\",VLOOKUP(C241,'WK 8'!$K$6:$L$41,2,FALSE)))","v":""},{"$f":"IF(ISNA(VLOOKUP(C241,'WK 9'!$K$6:$L$41,2,FALSE)=0),\"\",IF(VLOOKUP(C241,'WK 9'!$K$6:$L$41,2,FALSE)=0,\"\",VLOOKUP(C241,'WK 9'!$K$6:$L$41,2,FALSE)))","v":""},{"$f":"IF(ISNA(VLOOKUP(C241,'WK 10'!$K$6:$L$41,2,FALSE)=0),\"\",IF(VLOOKUP(C241,'WK 10'!$K$6:$L$41,2,FALSE)=0,\"\",VLOOKUP(C241,'WK 10'!$K$6:$L$41,2,FALSE)))","v":""},0]
[null,null,{"$f":"IF(ISNA(VLOOKUP('WK 7'!K30,$C$2:$C$217,1,FALSE)),VLOOKUP('WK 7'!K30,'WK 7'!$K$6:$K$450,1,FALSE),\"\")","v":""},null,{"$f":"IF(ISNA(VLOOKUP(C242,'WK 2'!$K$6:$L$41,2,FALSE)=0),\"\",IF(VLOOKUP(C242,'WK 2'!$K$6:$L$41,2,FALSE)=0,\"\",VLOOKUP(C242,'WK 2'!$K$6:$L$41,2,FALSE)))","v":""},{"$f":"IF(ISNA(VLOOKUP(C242,'WK 3'!$K$6:$L$41,2,FALSE)=0),\"\",IF(VLOOKUP(C242,'WK 3'!$K$6:$L$41,2,FALSE)=0,\"\",VLOOKUP(C242,'WK 3'!$K$6:$L$41,2,FALSE)))","v":""},{"$f":"IF(ISNA(VLOOKUP(C242,'WK 4'!$K$6:$L$41,2,FALSE)=0),\"\",IF(VLOOKUP(C242,'WK 4'!$K$6:$L$41,2,FALSE)=0,\"\",VLOOKUP(C242,'WK 4'!$K$6:$L$41,2,FALSE)))","v":""},{"$f":"IF(ISNA(VLOOKUP(C242,'WK 5'!$K$6:$L$41,2,FALSE)=0),\"\",IF(VLOOKUP(C242,'WK 5'!$K$6:$L$41,2,FALSE)=0,\"\",VLOOKUP(C242,'WK 5'!$K$6:$L$41,2,FALSE)))","v":""},{"$f":"IF(ISNA(VLOOKUP(C242,'WK 6'!$K$6:$L$41,2,FALSE)=0),\"\",IF(VLOOKUP(C242,'WK 6'!$K$6:$L$41,2,FALSE)=0,\"\",VLOOKUP(C242,'WK 6'!$K$6:$L$41,2,FALSE)))","v":""},{"$f":"IF(ISNA(VLOOKUP(C242,'WK 7'!$K$6:$L$41,2,FALSE)=0),\"\",IF(VLOOKUP(C242,'WK 7'!$K$6:$L$41,2,FALSE)=0,\"\",VLOOKUP(C242,'WK 7'!$K$6:$L$41,2,FALSE)))","v":""},{"$f":"IF(ISNA(VLOOKUP(C242,'WK 8'!$K$6:$L$41,2,FALSE)=0),\"\",IF(VLOOKUP(C242,'WK 8'!$K$6:$L$41,2,FALSE)=0,\"\",VLOOKUP(C242,'WK 8'!$K$6:$L$41,2,FALSE)))","v":""},{"$f":"IF(ISNA(VLOOKUP(C242,'WK 9'!$K$6:$L$41,2,FALSE)=0),\"\",IF(VLOOKUP(C242,'WK 9'!$K$6:$L$41,2,FALSE)=0,\"\",VLOOKUP(C242,'WK 9'!$K$6:$L$41,2,FALSE)))","v":""},{"$f":"IF(ISNA(VLOOKUP(C242,'WK 10'!$K$6:$L$41,2,FALSE)=0),\"\",IF(VLOOKUP(C242,'WK 10'!$K$6:$L$41,2,FALSE)=0,\"\",VLOOKUP(C242,'WK 10'!$K$6:$L$41,2,FALSE)))","v":""},0]
[null,null,{"$f":"IF(ISNA(VLOOKUP('WK 7'!K31,$C$2:$C$217,1,FALSE)),VLOOKUP('WK 7'!K31,'WK 7'!$K$6:$K$450,1,FALSE),\"\")","v":""},null,{"$f":"IF(ISNA(VLOOKUP(C243,'WK 2'!$K$6:$L$41,2,FALSE)=0),\"\",IF(VLOOKUP(C243,'WK 2'!$K$6:$L$41,2,FALSE)=0,\"\",VLOOKUP(C243,'WK 2'!$K$6:$L$41,2,FALSE)))","v":""},{"$f":"IF(ISNA(VLOOKUP(C243,'WK 3'!$K$6:$L$41,2,FALSE)=0),\"\",IF(VLOOKUP(C243,'WK 3'!$K$6:$L$41,2,FALSE)=0,\"\",VLOOKUP(C243,'WK 3'!$K$6:$L$41,2,FALSE)))","v":""},{"$f":"IF(ISNA(VLOOKUP(C243,'WK 4'!$K$6:$L$41,2,FALSE)=0),\"\",IF(VLOOKUP(C243,'WK 4'!$K$6:$L$41,2,FALSE)=0,\"\",VLOOKUP(C243,'WK 4'!$K$6:$L$41,2,FALSE)))","v":""},{"$f":"IF(ISNA(VLOOKUP(C243,'WK 5'!$K$6:$L$41,2,FALSE)=0),\"\",IF(VLOOKUP(C243,'WK 5'!$K$6:$L$41,2,FALSE)=0,\"\",VLOOKUP(C243,'WK 5'!$K$6:$L$41,2,FALSE)))","v":""},{"$f":"IF(ISNA(VLOOKUP(C243,'WK 6'!$K$6:$L$41,2,FALSE)=0),\"\",IF(VLOOKUP(C243,'WK 6'!$K$6:$L$41,2,FALSE)=0,\"\",VLOOKUP(C243,'WK 6'!$K$6:$L$41,2,FALSE)))","v":""},{"$f":"IF(ISNA(VLOOKUP(C243,'WK 7'!$K$6:$L$41,2,FALSE)=0),\"\",IF(VLOOKUP(C243,'WK 7'!$K$6:$L$41,2,FALSE)=0,\"\",VLOOKUP(C243,'WK 7'!$K$6:$L$41,2,FALSE)))","v":""},{"$f":"IF(ISNA(VLOOKUP(C243,'WK 8'!$K$6:$L$41,2,FALSE)=0),\"\",IF(VLOOKUP(C243,'WK 8'!$K$6:$L$41,2,FALSE)=0,\"\",VLOOKUP(C243,'WK 8'!$K$6:$L$41,2,FALSE)))","v":""},{"$f":"IF(ISNA(VLOOKUP(C243,'WK 9'!$K$6:$L$41,2,FALSE)=0),\"\",IF(VLOOKUP(C243,'WK 9'!$K$6:$L$41,2,FALSE)=0,\"\",VLOOKUP(C243,'WK 9'!$K$6:$L$41,2,FALSE)))","v":""},{"$f":"IF(ISNA(VLOOKUP(C243,'WK 10'!$K$6:$L$41,2,FALSE)=0),\"\",IF(VLOOKUP(C243,'WK 10'!$K$6:$L$41,2,FALSE)=0,\"\",VLOOKUP(C243,'WK 10'!$K$6:$L$41,2,FALSE)))","v":""},0]
[null,null,{"$f":"IF(ISNA(VLOOKUP('WK 7'!K32,$C$2:$C$217,1,FALSE)),VLOOKUP('WK 7'!K32,'WK 7'!$K$6:$K$450,1,FALSE),\"\")","v":""},null,{"$f":"IF(ISNA(VLOOKUP(C244,'WK 2'!$K$6:$L$41,2,FALSE)=0),\"\",IF(VLOOKUP(C244,'WK 2'!$K$6:$L$41,2,FALSE)=0,\"\",VLOOKUP(C244,'WK 2'!$K$6:$L$41,2,FALSE)))","v":""},{"$f":"IF(ISNA(VLOOKUP(C244,'WK 3'!$K$6:$L$41,2,FALSE)=0),\"\",IF(VLOOKUP(C244,'WK 3'!$K$6:$L$41,2,FALSE)=0,\"\",VLOOKUP(C244,'WK 3'!$K$6:$L$41,2,FALSE)))","v":""},{"$f":"IF(ISNA(VLOOKUP(C244,'WK 4'!$K$6:$L$41,2,FALSE)=0),\"\",IF(VLOOKUP(C244,'WK 4'!$K$6:$L$41,2,FALSE)=0,\"\",VLOOKUP(C244,'WK 4'!$K$6:$L$41,2,FALSE)))","v":""},{"$f":"IF(ISNA(VLOOKUP(C244,'WK 5'!$K$6:$L$41,2,FALSE)=0),\"\",IF(VLOOKUP(C244,'WK 5'!$K$6:$L$41,2,FALSE)=0,\"\",VLOOKUP(C244,'WK 5'!$K$6:$L$41,2,FALSE)))","v":""},{"$f":"IF(ISNA(VLOOKUP(C244,'WK 6'!$K$6:$L$41,2,FALSE)=0),\"\",IF(VLOOKUP(C244,'WK 6'!$K$6:$L$41,2,FALSE)=0,\"\",VLOOKUP(C244,'WK 6'!$K$6:$L$41,2,FALSE)))","v":""},{"$f":"IF(ISNA(VLOOKUP(C244,'WK 7'!$K$6:$L$41,2,FALSE)=0),\"\",IF(VLOOKUP(C244,'WK 7'!$K$6:$L$41,2,FALSE)=0,\"\",VLOOKUP(C244,'WK 7'!$K$6:$L$41,2,FALSE)))","v":""},{"$f":"IF(ISNA(VLOOKUP(C244,'WK 8'!$K$6:$L$41,2,FALSE)=0),\"\",IF(VLOOKUP(C244,'WK 8'!$K$6:$L$41,2,FALSE)=0,\"\",VLOOKUP(C244,'WK 8'!$K$6:$L$41,2,FALSE)))","v":""},{"$f":"IF(ISNA(VLOOKUP(C244,'WK 9'!$K$6:$L$41,2,FALSE)=0),\"\",IF(VLOOKUP(C244,'WK 9'!$K$6:$L$41,2,FALSE)=0,\"\",VLOOKUP(C244,'WK 9'!$K$6:$L$41,2,FALSE)))","v":""},{"$f":"IF(ISNA(VLOOKUP(C244,'WK 10'!$K$6:$L$41,2,FALSE)=0),\"\",IF(VLOOKUP(C244,'WK 10'!$K$6:$L$41,2,FALSE)=0,\"\",VLOOKUP(C244,'WK 10'!$K$6:$L$41,2,FALSE)))","v":""},0]
[null,null,{"$f":"IF(ISNA(VLOOKUP('WK 7'!K33,$C$2:$C$217,1,FALSE)),VLOOKUP('WK 7'!K33,'WK 7'!$K$6:$K$450,1,FALSE),\"\")","v":""},null,{"$f":"IF(ISNA(VLOOKUP(C245,'WK 2'!$K$6:$L$41,2,FALSE)=0),\"\",IF(VLOOKUP(C245,'WK 2'!$K$6:$L$41,2,FALSE)=0,\"\",VLOOKUP(C245,'WK 2'!$K$6:$L$41,2,FALSE)))","v":""},{"$f":"IF(ISNA(VLOOKUP(C245,'WK 3'!$K$6:$L$41,2,FALSE)=0),\"\",IF(VLOOKUP(C245,'WK 3'!$K$6:$L$41,2,FALSE)=0,\"\",VLOOKUP(C245,'WK 3'!$K$6:$L$41,2,FALSE)))","v":""},{"$f":"IF(ISNA(VLOOKUP(C245,'WK 4'!$K$6:$L$41,2,FALSE)=0),\"\",IF(VLOOKUP(C245,'WK 4'!$K$6:$L$41,2,FALSE)=0,\"\",VLOOKUP(C245,'WK 4'!$K$6:$L$41,2,FALSE)))","v":""},{"$f":"IF(ISNA(VLOOKUP(C245,'WK 5'!$K$6:$L$41,2,FALSE)=0),\"\",IF(VLOOKUP(C245,'WK 5'!$K$6:$L$41,2,FALSE)=0,\"\",VLOOKUP(C245,'WK 5'!$K$6:$L$41,2,FALSE)))","v":""},{"$f":"IF(ISNA(VLOOKUP(C245,'WK 6'!$K$6:$L$41,2,FALSE)=0),\"\",IF(VLOOKUP(C245,'WK 6'!$K$6:$L$41,2,FALSE)=0,\"\",VLOOKUP(C245,'WK 6'!$K$6:$L$41,2,FALSE)))","v":""},{"$f":"IF(ISNA(VLOOKUP(C245,'WK 7'!$K$6:$L$41,2,FALSE)=0),\"\",IF(VLOOKUP(C245,'WK 7'!$K$6:$L$41,2,FALSE)=0,\"\",VLOOKUP(C245,'WK 7'!$K$6:$L$41,2,FALSE)))","v":""},{"$f":"IF(ISNA(VLOOKUP(C245,'WK 8'!$K$6:$L$41,2,FALSE)=0),\"\",IF(VLOOKUP(C245,'WK 8'!$K$6:$L$41,2,FALSE)=0,\"\",VLOOKUP(C245,'WK 8'!$K$6:$L$41,2,FALSE)))","v":""},{"$f":"IF(ISNA(VLOOKUP(C245,'WK 9'!$K$6:$L$41,2,FALSE)=0),\"\",IF(VLOOKUP(C245,'WK 9'!$K$6:$L$41,2,FALSE)=0,\"\",VLOOKUP(C245,'WK 9'!$K$6:$L$41,2,FALSE)))","v":""},{"$f":"IF(ISNA(VLOOKUP(C245,'WK 10'!$K$6:$L$41,2,FALSE)=0),\"\",IF(VLOOKUP(C245,'WK 10'!$K$6:$L$41,2,FALSE)=0,\"\",VLOOKUP(C245,'WK 10'!$K$6:$L$41,2,FALSE)))","v":""},0]
[null,null,{"$f":"IF(ISNA(VLOOKUP('WK 7'!K34,$C$2:$C$217,1,FALSE)),VLOOKUP('WK 7'!K34,'WK 7'!$K$6:$K$450,1,FALSE),\"\")","v":""},null,{"$f":"IF(ISNA(VLOOKUP(C246,'WK 2'!$K$6:$L$41,2,FALSE)=0),\"\",IF(VLOOKUP(C246,'WK 2'!$K$6:$L$41,2,FALSE)=0,\"\",VLOOKUP(C246,'WK 2'!$K$6:$L$41,2,FALSE)))","v":""},{"$f":"IF(ISNA(VLOOKUP(C246,'WK 3'!$K$6:$L$41,2,FALSE)=0),\"\",IF(VLOOKUP(C246,'WK 3'!$K$6:$L$41,2,FALSE)=0,\"\",VLOOKUP(C246,'WK 3'!$K$6:$L$41,2,FALSE)))","v":""},{"$f":"IF(ISNA(VLOOKUP(C246,'WK 4'!$K$6:$L$41,2,FALSE)=0),\"\",IF(VLOOKUP(C246,'WK 4'!$K$6:$L$41,2,FALSE)=0,\"\",VLOOKUP(C246,'WK 4'!$K$6:$L$41,2,FALSE)))","v":""},{"$f":"IF(ISNA(VLOOKUP(C246,'WK 5'!$K$6:$L$41,2,FALSE)=0),\"\",IF(VLOOKUP(C246,'WK 5'!$K$6:$L$41,2,FALSE)=0,\"\",VLOOKUP(C246,'WK 5'!$K$6:$L$41,2,FALSE)))","v":""},{"$f":"IF(ISNA(VLOOKUP(C246,'WK 6'!$K$6:$L$41,2,FALSE)=0),\"\",IF(VLOOKUP(C246,'WK 6'!$K$6:$L$41,2,FALSE)=0,\"\",VLOOKUP(C246,'WK 6'!$K$6:$L$41,2,FALSE)))","v":""},{"$f":"IF(ISNA(VLOOKUP(C246,'WK 7'!$K$6:$L$41,2,FALSE)=0),\"\",IF(VLOOKUP(C246,'WK 7'!$K$6:$L$41,2,FALSE)=0,\"\",VLOOKUP(C246,'WK 7'!$K$6:$L$41,2,FALSE)))","v":""},{"$f":"IF(ISNA(VLOOKUP(C246,'WK 8'!$K$6:$L$41,2,FALSE)=0),\"\",IF(VLOOKUP(C246,'WK 8'!$K$6:$L$41,2,FALSE)=0,\"\",VLOOKUP(C246,'WK 8'!$K$6:$L$41,2,FALSE)))","v":""},{"$f":"IF(ISNA(VLOOKUP(C246,'WK 9'!$K$6:$L$41,2,FALSE)=0),\"\",IF(VLOOKUP(C246,'WK 9'!$K$6:$L$41,2,FALSE)=0,\"\",VLOOKUP(C246,'WK 9'!$K$6:$L$41,2,FALSE)))","v":""},{"$f":"IF(ISNA(VLOOKUP(C246,'WK 10'!$K$6:$L$41,2,FALSE)=0),\"\",IF(VLOOKUP(C246,'WK 10'!$K$6:$L$41,2,FALSE)=0,\"\",VLOOKUP(C246,'WK 10'!$K$6:$L$41,2,FALSE)))","v":""},0]
[null,null,{"$f":"IF(ISNA(VLOOKUP('WK 7'!K35,$C$2:$C$217,1,FALSE)),VLOOKUP('WK 7'!K35,'WK 7'!$K$6:$K$450,1,FALSE),\"\")","v":""},null,{"$f":"IF(ISNA(VLOOKUP(C247,'WK 2'!$K$6:$L$41,2,FALSE)=0),\"\",IF(VLOOKUP(C247,'WK 2'!$K$6:$L$41,2,FALSE)=0,\"\",VLOOKUP(C247,'WK 2'!$K$6:$L$41,2,FALSE)))","v":""},{"$f":"IF(ISNA(VLOOKUP(C247,'WK 3'!$K$6:$L$41,2,FALSE)=0),\"\",IF(VLOOKUP(C247,'WK 3'!$K$6:$L$41,2,FALSE)=0,\"\",VLOOKUP(C247,'WK 3'!$K$6:$L$41,2,FALSE)))","v":""},{"$f":"IF(ISNA(VLOOKUP(C247,'WK 4'!$K$6:$L$41,2,FALSE)=0),\"\",IF(VLOOKUP(C247,'WK 4'!$K$6:$L$41,2,FALSE)=0,\"\",VLOOKUP(C247,'WK 4'!$K$6:$L$41,2,FALSE)))","v":""},{"$f":"IF(ISNA(VLOOKUP(C247,'WK 5'!$K$6:$L$41,2,FALSE)=0),\"\",IF(VLOOKUP(C247,'WK 5'!$K$6:$L$41,2,FALSE)=0,\"\",VLOOKUP(C247,'WK 5'!$K$6:$L$41,2,FALSE)))","v":""},{"$f":"IF(ISNA(VLOOKUP(C247,'WK 6'!$K$6:$L$41,2,FALSE)=0),\"\",IF(VLOOKUP(C247,'WK 6'!$K$6:$L$41,2,FALSE)=0,\"\",VLOOKUP(C247,'WK 6'!$K$6:$L$41,2,FALSE)))","v":""},{"$f":"IF(ISNA(VLOOKUP(C247,'WK 7'!$K$6:$L$41,2,FALSE)=0),\"\",IF(VLOOKUP(C247,'WK 7'!$K$6:$L$41,2,FALSE)=0,\"\",VLOOKUP(C247,'WK 7'!$K$6:$L$41,2,FALSE)))","v":""},{"$f":"IF(ISNA(VLOOKUP(C247,'WK 8'!$K$6:$L$41,2,FALSE)=0),\"\",IF(VLOOKUP(C247,'WK 8'!$K$6:$L$41,2,FALSE)=0,\"\",VLOOKUP(C247,'WK 8'!$K$6:$L$41,2,FALSE)))","v":""},{"$f":"IF(ISNA(VLOOKUP(C247,'WK 9'!$K$6:$L$41,2,FALSE)=0),\"\",IF(VLOOKUP(C247,'WK 9'!$K$6:$L$41,2,FALSE)=0,\"\",VLOOKUP(C247,'WK 9'!$K$6:$L$41,2,FALSE)))","v":""},{"$f":"IF(ISNA(VLOOKUP(C247,'WK 10'!$K$6:$L$41,2,FALSE)=0),\"\",IF(VLOOKUP(C247,'WK 10'!$K$6:$L$41,2,FALSE)=0,\"\",VLOOKUP(C247,'WK 10'!$K$6:$L$41,2,FALSE)))","v":""},0]
[null,null,{"$f":"IF(ISNA(VLOOKUP('WK 7'!K36,$C$2:$C$217,1,FALSE)),VLOOKUP('WK 7'!K36,'WK 7'!$K$6:$K$450,1,FALSE),\"\")","v":""},null,{"$f":"IF(ISNA(VLOOKUP(C248,'WK 2'!$K$6:$L$41,2,FALSE)=0),\"\",IF(VLOOKUP(C248,'WK 2'!$K$6:$L$41,2,FALSE)=0,\"\",VLOOKUP(C248,'WK 2'!$K$6:$L$41,2,FALSE)))","v":""},{"$f":"IF(ISNA(VLOOKUP(C248,'WK 3'!$K$6:$L$41,2,FALSE)=0),\"\",IF(VLOOKUP(C248,'WK 3'!$K$6:$L$41,2,FALSE)=0,\"\",VLOOKUP(C248,'WK 3'!$K$6:$L$41,2,FALSE)))","v":""},{"$f":"IF(ISNA(VLOOKUP(C248,'WK 4'!$K$6:$L$41,2,FALSE)=0),\"\",IF(VLOOKUP(C248,'WK 4'!$K$6:$L$41,2,FALSE)=0,\"\",VLOOKUP(C248,'WK 4'!$K$6:$L$41,2,FALSE)))","v":""},{"$f":"IF(ISNA(VLOOKUP(C248,'WK 5'!$K$6:$L$41,2,FALSE)=0),\"\",IF(VLOOKUP(C248,'WK 5'!$K$6:$L$41,2,FALSE)=0,\"\",VLOOKUP(C248,'WK 5'!$K$6:$L$41,2,FALSE)))","v":""},{"$f":"IF(ISNA(VLOOKUP(C248,'WK 6'!$K$6:$L$41,2,FALSE)=0),\"\",IF(VLOOKUP(C248,'WK 6'!$K$6:$L$41,2,FALSE)=0,\"\",VLOOKUP(C248,'WK 6'!$K$6:$L$41,2,FALSE)))","v":""},{"$f":"IF(ISNA(VLOOKUP(C248,'WK 7'!$K$6:$L$41,2,FALSE)=0),\"\",IF(VLOOKUP(C248,'WK 7'!$K$6:$L$41,2,FALSE)=0,\"\",VLOOKUP(C248,'WK 7'!$K$6:$L$41,2,FALSE)))","v":""},{"$f":"IF(ISNA(VLOOKUP(C248,'WK 8'!$K$6:$L$41,2,FALSE)=0),\"\",IF(VLOOKUP(C248,'WK 8'!$K$6:$L$41,2,FALSE)=0,\"\",VLOOKUP(C248,'WK 8'!$K$6:$L$41,2,FALSE)))","v":""},{"$f":"IF(ISNA(VLOOKUP(C248,'WK 9'!$K$6:$L$41,2,FALSE)=0),\"\",IF(VLOOKUP(C248,'WK 9'!$K$6:$L$41,2,FALSE)=0,\"\",VLOOKUP(C248,'WK 9'!$K$6:$L$41,2,FALSE)))","v":""},{"$f":"IF(ISNA(VLOOKUP(C248,'WK 10'!$K$6:$L$41,2,FALSE)=0),\"\",IF(VLOOKUP(C248,'WK 10'!$K$6:$L$41,2,FALSE)=0,\"\",VLOOKUP(C248,'WK 10'!$K$6:$L$41,2,FALSE)))","v":""},0]
[null,null,{"$f":"IF(ISNA(VLOOKUP('WK 7'!K37,$C$2:$C$217,1,FALSE)),VLOOKUP('WK 7'!K37,'WK 7'!$K$6:$K$450,1,FALSE),\"\")","v":""},null,{"$f":"IF(ISNA(VLOOKUP(C249,'WK 2'!$K$6:$L$41,2,FALSE)=0),\"\",IF(VLOOKUP(C249,'WK 2'!$K$6:$L$41,2,FALSE)=0,\"\",VLOOKUP(C249,'WK 2'!$K$6:$L$41,2,FALSE)))","v":""},{"$f":"IF(ISNA(VLOOKUP(C249,'WK 3'!$K$6:$L$41,2,FALSE)=0),\"\",IF(VLOOKUP(C249,'WK 3'!$K$6:$L$41,2,FALSE)=0,\"\",VLOOKUP(C249,'WK 3'!$K$6:$L$41,2,FALSE)))","v":""},{"$f":"IF(ISNA(VLOOKUP(C249,'WK 4'!$K$6:$L$41,2,FALSE)=0),\"\",IF(VLOOKUP(C249,'WK 4'!$K$6:$L$41,2,FALSE)=0,\"\",VLOOKUP(C249,'WK 4'!$K$6:$L$41,2,FALSE)))","v":""},{"$f":"IF(ISNA(VLOOKUP(C249,'WK 5'!$K$6:$L$41,2,FALSE)=0),\"\",IF(VLOOKUP(C249,'WK 5'!$K$6:$L$41,2,FALSE)=0,\"\",VLOOKUP(C249,'WK 5'!$K$6:$L$41,2,FALSE)))","v":""},{"$f":"IF(ISNA(VLOOKUP(C249,'WK 6'!$K$6:$L$41,2,FALSE)=0),\"\",IF(VLOOKUP(C249,'WK 6'!$K$6:$L$41,2,FALSE)=0,\"\",VLOOKUP(C249,'WK 6'!$K$6:$L$41,2,FALSE)))","v":""},{"$f":"IF(ISNA(VLOOKUP(C249,'WK 7'!$K$6:$L$41,2,FALSE)=0),\"\",IF(VLOOKUP(C249,'WK 7'!$K$6:$L$41,2,FALSE)=0,\"\",VLOOKUP(C249,'WK 7'!$K$6:$L$41,2,FALSE)))","v":""},{"$f":"IF(ISNA(VLOOKUP(C249,'WK 8'!$K$6:$L$41,2,FALSE)=0),\"\",IF(VLOOKUP(C249,'WK 8'!$K$6:$L$41,2,FALSE)=0,\"\",VLOOKUP(C249,'WK 8'!$K$6:$L$41,2,FALSE)))","v":""},{"$f":"IF(ISNA(VLOOKUP(C249,'WK 9'!$K$6:$L$41,2,FALSE)=0),\"\",IF(VLOOKUP(C249,'WK 9'!$K$6:$L$41,2,FALSE)=0,\"\",VLOOKUP(C249,'WK 9'!$K$6:$L$41,2,FALSE)))","v":""},{"$f":"IF(ISNA(VLOOKUP(C249,'WK 10'!$K$6:$L$41,2,FALSE)=0),\"\",IF(VLOOKUP(C249,'WK 10'!$K$6:$L$41,2,FALSE)=0,\"\",VLOOKUP(C249,'WK 10'!$K$6:$L$41,2,FALSE)))","v":""},0]
[null,null,{"$f":"IF(ISNA(VLOOKUP('WK 7'!K38,$C$2:$C$217,1,FALSE)),VLOOKUP('WK 7'!K38,'WK 7'!$K$6:$K$450,1,FALSE),\"\")","v":""},null,{"$f":"IF(ISNA(VLOOKUP(C250,'WK 2'!$K$6:$L$41,2,FALSE)=0),\"\",IF(VLOOKUP(C250,'WK 2'!$K$6:$L$41,2,FALSE)=0,\"\",VLOOKUP(C250,'WK 2'!$K$6:$L$41,2,FALSE)))","v":""},{"$f":"IF(ISNA(VLOOKUP(C250,'WK 3'!$K$6:$L$41,2,FALSE)=0),\"\",IF(VLOOKUP(C250,'WK 3'!$K$6:$L$41,2,FALSE)=0,\"\",VLOOKUP(C250,'WK 3'!$K$6:$L$41,2,FALSE)))","v":""},{"$f":"IF(ISNA(VLOOKUP(C250,'WK 4'!$K$6:$L$41,2,FALSE)=0),\"\",IF(VLOOKUP(C250,'WK 4'!$K$6:$L$41,2,FALSE)=0,\"\",VLOOKUP(C250,'WK 4'!$K$6:$L$41,2,FALSE)))","v":""},{"$f":"IF(ISNA(VLOOKUP(C250,'WK 5'!$K$6:$L$41,2,FALSE)=0),\"\",IF(VLOOKUP(C250,'WK 5'!$K$6:$L$41,2,FALSE)=0,\"\",VLOOKUP(C250,'WK 5'!$K$6:$L$41,2,FALSE)))","v":""},{"$f":"IF(ISNA(VLOOKUP(C250,'WK 6'!$K$6:$L$41,2,FALSE)=0),\"\",IF(VLOOKUP(C250,'WK 6'!$K$6:$L$41,2,FALSE)=0,\"\",VLOOKUP(C250,'WK 6'!$K$6:$L$41,2,FALSE)))","v":""},{"$f":"IF(ISNA(VLOOKUP(C250,'WK 7'!$K$6:$L$41,2,FALSE)=0),\"\",IF(VLOOKUP(C250,'WK 7'!$K$6:$L$41,2,FALSE)=0,\"\",VLOOKUP(C250,'WK 7'!$K$6:$L$41,2,FALSE)))","v":""},{"$f":"IF(ISNA(VLOOKUP(C250,'WK 8'!$K$6:$L$41,2,FALSE)=0),\"\",IF(VLOOKUP(C250,'WK 8'!$K$6:$L$41,2,FALSE)=0,\"\",VLOOKUP(C250,'WK 8'!$K$6:$L$41,2,FALSE)))","v":""},{"$f":"IF(ISNA(VLOOKUP(C250,'WK 9'!$K$6:$L$41,2,FALSE)=0),\"\",IF(VLOOKUP(C250,'WK 9'!$K$6:$L$41,2,FALSE)=0,\"\",VLOOKUP(C250,'WK 9'!$K$6:$L$41,2,FALSE)))","v":""},{"$f":"IF(ISNA(VLOOKUP(C250,'WK 10'!$K$6:$L$41,2,FALSE)=0),\"\",IF(VLOOKUP(C250,'WK 10'!$K$6:$L$41,2,FALSE)=0,\"\",VLOOKUP(C250,'WK 10'!$K$6:$L$41,2,FALSE)))","v":""},0]
[null,null,{"$f":"IF(ISNA(VLOOKUP('WK 7'!K39,$C$2:$C$217,1,FALSE)),VLOOKUP('WK 7'!K39,'WK 7'!$K$6:$K$450,1,FALSE),\"\")","v":""},null,{"$f":"IF(ISNA(VLOOKUP(C251,'WK 2'!$K$6:$L$41,2,FALSE)=0),\"\",IF(VLOOKUP(C251,'WK 2'!$K$6:$L$41,2,FALSE)=0,\"\",VLOOKUP(C251,'WK 2'!$K$6:$L$41,2,FALSE)))","v":""},{"$f":"IF(ISNA(VLOOKUP(C251,'WK 3'!$K$6:$L$41,2,FALSE)=0),\"\",IF(VLOOKUP(C251,'WK 3'!$K$6:$L$41,2,FALSE)=0,\"\",VLOOKUP(C251,'WK 3'!$K$6:$L$41,2,FALSE)))","v":""},{"$f":"IF(ISNA(VLOOKUP(C251,'WK 4'!$K$6:$L$41,2,FALSE)=0),\"\",IF(VLOOKUP(C251,'WK 4'!$K$6:$L$41,2,FALSE)=0,\"\",VLOOKUP(C251,'WK 4'!$K$6:$L$41,2,FALSE)))","v":""},{"$f":"IF(ISNA(VLOOKUP(C251,'WK 5'!$K$6:$L$41,2,FALSE)=0),\"\",IF(VLOOKUP(C251,'WK 5'!$K$6:$L$41,2,FALSE)=0,\"\",VLOOKUP(C251,'WK 5'!$K$6:$L$41,2,FALSE)))","v":""},{"$f":"IF(ISNA(VLOOKUP(C251,'WK 6'!$K$6:$L$41,2,FALSE)=0),\"\",IF(VLOOKUP(C251,'WK 6'!$K$6:$L$41,2,FALSE)=0,\"\",VLOOKUP(C251,'WK 6'!$K$6:$L$41,2,FALSE)))","v":""},{"$f":"IF(ISNA(VLOOKUP(C251,'WK 7'!$K$6:$L$41,2,FALSE)=0),\"\",IF(VLOOKUP(C251,'WK 7'!$K$6:$L$41,2,FALSE)=0,\"\",VLOOKUP(C251,'WK 7'!$K$6:$L$41,2,FALSE)))","v":""},{"$f":"IF(ISNA(VLOOKUP(C251,'WK 8'!$K$6:$L$41,2,FALSE)=0),\"\",IF(VLOOKUP(C251,'WK 8'!$K$6:$L$41,2,FALSE)=0,\"\",VLOOKUP(C251,'WK 8'!$K$6:$L$41,2,FALSE)))","v":""},{"$f":"IF(ISNA(VLOOKUP(C251,'WK 9'!$K$6:$L$41,2,FALSE)=0),\"\",IF(VLOOKUP(C251,'WK 9'!$K$6:$L$41,2,FALSE)=0,\"\",VLOOKUP(C251,'WK 9'!$K$6:$L$41,2,FALSE)))","v":""},{"$f":"IF(ISNA(VLOOKUP(C251,'WK 10'!$K$6:$L$41,2,FALSE)=0),\"\",IF(VLOOKUP(C251,'WK 10'!$K$6:$L$41,2,FALSE)=0,\"\",VLOOKUP(C251,'WK 10'!$K$6:$L$41,2,FALSE)))","v":""},0]
[null,null,{"$f":"IF(ISNA(VLOOKUP('WK 7'!K40,$C$2:$C$217,1,FALSE)),VLOOKUP('WK 7'!K40,'WK 7'!$K$6:$K$450,1,FALSE),\"\")","v":""},null,{"$f":"IF(ISNA(VLOOKUP(C252,'WK 2'!$K$6:$L$41,2,FALSE)=0),\"\",IF(VLOOKUP(C252,'WK 2'!$K$6:$L$41,2,FALSE)=0,\"\",VLOOKUP(C252,'WK 2'!$K$6:$L$41,2,FALSE)))","v":""},{"$f":"IF(ISNA(VLOOKUP(C252,'WK 3'!$K$6:$L$41,2,FALSE)=0),\"\",IF(VLOOKUP(C252,'WK 3'!$K$6:$L$41,2,FALSE)=0,\"\",VLOOKUP(C252,'WK 3'!$K$6:$L$41,2,FALSE)))","v":""},{"$f":"IF(ISNA(VLOOKUP(C252,'WK 4'!$K$6:$L$41,2,FALSE)=0),\"\",IF(VLOOKUP(C252,'WK 4'!$K$6:$L$41,2,FALSE)=0,\"\",VLOOKUP(C252,'WK 4'!$K$6:$L$41,2,FALSE)))","v":""},{"$f":"IF(ISNA(VLOOKUP(C252,'WK 5'!$K$6:$L$41,2,FALSE)=0),\"\",IF(VLOOKUP(C252,'WK 5'!$K$6:$L$41,2,FALSE)=0,\"\",VLOOKUP(C252,'WK 5'!$K$6:$L$41,2,FALSE)))","v":""},{"$f":"IF(ISNA(VLOOKUP(C252,'WK 6'!$K$6:$L$41,2,FALSE)=0),\"\",IF(VLOOKUP(C252,'WK 6'!$K$6:$L$41,2,FALSE)=0,\"\",VLOOKUP(C252,'WK 6'!$K$6:$L$41,2,FALSE)))","v":""},{"$f":"IF(ISNA(VLOOKUP(C252,'WK 7'!$K$6:$L$41,2,FALSE)=0),\"\",IF(VLOOKUP(C252,'WK 7'!$K$6:$L$41,2,FALSE)=0,\"\",VLOOKUP(C252,'WK 7'!$K$6:$L$41,2,FALSE)))","v":""},{"$f":"IF(ISNA(VLOOKUP(C252,'WK 8'!$K$6:$L$41,2,FALSE)=0),\"\",IF(VLOOKUP(C252,'WK 8'!$K$6:$L$41,2,FALSE)=0,\"\",VLOOKUP(C252,'WK 8'!$K$6:$L$41,2,FALSE)))","v":""},{"$f":"IF(ISNA(VLOOKUP(C252,'WK 9'!$K$6:$L$41,2,FALSE)=0),\"\",IF(VLOOKUP(C252,'WK 9'!$K$6:$L$41,2,FALSE)=0,\"\",VLOOKUP(C252,'WK 9'!$K$6:$L$41,2,FALSE)))","v":""},{"$f":"IF(ISNA(VLOOKUP(C252,'WK 10'!$K$6:$L$41,2,FALSE)=0),\"\",IF(VLOOKUP(C252,'WK 10'!$K$6:$L$41,2,FALSE)=0,\"\",VLOOKUP(C252,'WK 10'!$K$6:$L$41,2,FALSE)))","v":""},0]
[null,null,{"$f":"IF(ISNA(VLOOKUP('WK 7'!K41,$C$2:$C$217,1,FALSE)),VLOOKUP('WK 7'!K41,'WK 7'!$K$6:$K$450,1,FALSE),\"\")","v":""},null,{"$f":"IF(ISNA(VLOOKUP(C253,'WK 2'!$K$6:$L$41,2,FALSE)=0),\"\",IF(VLOOKUP(C253,'WK 2'!$K$6:$L$41,2,FALSE)=0,\"\",VLOOKUP(C253,'WK 2'!$K$6:$L$41,2,FALSE)))","v":""},{"$f":"IF(ISNA(VLOOKUP(C253,'WK 3'!$K$6:$L$41,2,FALSE)=0),\"\",IF(VLOOKUP(C253,'WK 3'!$K$6:$L$41,2,FALSE)=0,\"\",VLOOKUP(C253,'WK 3'!$K$6:$L$41,2,FALSE)))","v":""},{"$f":"IF(ISNA(VLOOKUP(C253,'WK 4'!$K$6:$L$41,2,FALSE)=0),\"\",IF(VLOOKUP(C253,'WK 4'!$K$6:$L$41,2,FALSE)=0,\"\",VLOOKUP(C253,'WK 4'!$K$6:$L$41,2,FALSE)))","v":""},{"$f":"IF(ISNA(VLOOKUP(C253,'WK 5'!$K$6:$L$41,2,FALSE)=0),\"\",IF(VLOOKUP(C253,'WK 5'!$K$6:$L$41,2,FALSE)=0,\"\",VLOOKUP(C253,'WK 5'!$K$6:$L$41,2,FALSE)))","v":""},{"$f":"IF(ISNA(VLOOKUP(C253,'WK 6'!$K$6:$L$41,2,FALSE)=0),\"\",IF(VLOOKUP(C253,'WK 6'!$K$6:$L$41,2,FALSE)=0,\"\",VLOOKUP(C253,'WK 6'!$K$6:$L$41,2,FALSE)))","v":""},{"$f":"IF(ISNA(VLOOKUP(C253,'WK 7'!$K$6:$L$41,2,FALSE)=0),\"\",IF(VLOOKUP(C253,'WK 7'!$K$6:$L$41,2,FALSE)=0,\"\",VLOOKUP(C253,'WK 7'!$K$6:$L$41,2,FALSE)))","v":""},{"$f":"IF(ISNA(VLOOKUP(C253,'WK 8'!$K$6:$L$41,2,FALSE)=0),\"\",IF(VLOOKUP(C253,'WK 8'!$K$6:$L$41,2,FALSE)=0,\"\",VLOOKUP(C253,'WK 8'!$K$6:$L$41,2,FALSE)))","v":""},{"$f":"IF(ISNA(VLOOKUP(C253,'WK 9'!$K$6:$L$41,2,FALSE)=0),\"\",IF(VLOOKUP(C253,'WK 9'!$K$6:$L$41,2,FALSE)=0,\"\",VLOOKUP(C253,'WK 9'!$K$6:$L$41,2,FALSE)))","v":""},{"$f":"IF(ISNA(VLOOKUP(C253,'WK 10'!$K$6:$L$41,2,FALSE)=0),\"\",IF(VLOOKUP(C253,'WK 10'!$K$6:$L$41,2,FALSE)=0,\"\",VLOOKUP(C253,'WK 10'!$K$6:$L$41,2,FALSE)))","v":""},0]
[null,"WK 8 Beginn",{"$f":"IF(ISNA(VLOOKUP('WK 8'!K6,$C$2:$C$253,1,FALSE)),VLOOKUP('WK 8'!K6,'WK 8'!$K$6:$K$450,1,FALSE),\"\")","v":""},null,{"$f":"IF(ISNA(VLOOKUP(C254,'WK 2'!$K$6:$L$41,2,FALSE)=0),\"\",IF(VLOOKUP(C254,'WK 2'!$K$6:$L$41,2,FALSE)=0,\"\",VLOOKUP(C254,'WK 2'!$K$6:$L$41,2,FALSE)))","v":""},{"$f":"IF(ISNA(VLOOKUP(C254,'WK 3'!$K$6:$L$41,2,FALSE)=0),\"\",IF(VLOOKUP(C254,'WK 3'!$K$6:$L$41,2,FALSE)=0,\"\",VLOOKUP(C254,'WK 3'!$K$6:$L$41,2,FALSE)))","v":""},{"$f":"IF(ISNA(VLOOKUP(C254,'WK 4'!$K$6:$L$41,2,FALSE)=0),\"\",IF(VLOOKUP(C254,'WK 4'!$K$6:$L$41,2,FALSE)=0,\"\",VLOOKUP(C254,'WK 4'!$K$6:$L$41,2,FALSE)))","v":""},{"$f":"IF(ISNA(VLOOKUP(C254,'WK 5'!$K$6:$L$41,2,FALSE)=0),\"\",IF(VLOOKUP(C254,'WK 5'!$K$6:$L$41,2,FALSE)=0,\"\",VLOOKUP(C254,'WK 5'!$K$6:$L$41,2,FALSE)))","v":""},{"$f":"IF(ISNA(VLOOKUP(C254,'WK 6'!$K$6:$L$41,2,FALSE)=0),\"\",IF(VLOOKUP(C254,'WK 6'!$K$6:$L$41,2,FALSE)=0,\"\",VLOOKUP(C254,'WK 6'!$K$6:$L$41,2,FALSE)))","v":""},{"$f":"IF(ISNA(VLOOKUP(C254,'WK 7'!$K$6:$L$41,2,FALSE)=0),\"\",IF(VLOOKUP(C254,'WK 7'!$K$6:$L$41,2,FALSE)=0,\"\",VLOOKUP(C254,'WK 7'!$K$6:$L$41,2,FALSE)))","v":""},{"$f":"IF(ISNA(VLOOKUP(C254,'WK 8'!$K$6:$L$41,2,FALSE)=0),\"\",IF(VLOOKUP(C254,'WK 8'!$K$6:$L$41,2,FALSE)=0,\"\",VLOOKUP(C254,'WK 8'!$K$6:$L$41,2,FALSE)))","v":""},{"$f":"IF(ISNA(VLOOKUP(C254,'WK 9'!$K$6:$L$41,2,FALSE)=0),\"\",IF(VLOOKUP(C254,'WK 9'!$K$6:$L$41,2,FALSE)=0,\"\",VLOOKUP(C254,'WK 9'!$K$6:$L$41,2,FALSE)))","v":""},{"$f":"IF(ISNA(VLOOKUP(C254,'WK 10'!$K$6:$L$41,2,FALSE)=0),\"\",IF(VLOOKUP(C254,'WK 10'!$K$6:$L$41,2,FALSE)=0,\"\",VLOOKUP(C254,'WK 10'!$K$6:$L$41,2,FALSE)))","v":""},0]
[null,null,{"$f":"IF(ISNA(VLOOKUP('WK 8'!K7,$C$2:$C$253,1,FALSE)),VLOOKUP('WK 8'!K7,'WK 8'!$K$6:$K$450,1,FALSE),\"\")","v":""},null,{"$f":"IF(ISNA(VLOOKUP(C255,'WK 2'!$K$6:$L$41,2,FALSE)=0),\"\",IF(VLOOKUP(C255,'WK 2'!$K$6:$L$41,2,FALSE)=0,\"\",VLOOKUP(C255,'WK 2'!$K$6:$L$41,2,FALSE)))","v":""},{"$f":"IF(ISNA(VLOOKUP(C255,'WK 3'!$K$6:$L$41,2,FALSE)=0),\"\",IF(VLOOKUP(C255,'WK 3'!$K$6:$L$41,2,FALSE)=0,\"\",VLOOKUP(C255,'WK 3'!$K$6:$L$41,2,FALSE)))","v":""},{"$f":"IF(ISNA(VLOOKUP(C255,'WK 4'!$K$6:$L$41,2,FALSE)=0),\"\",IF(VLOOKUP(C255,'WK 4'!$K$6:$L$41,2,FALSE)=0,\"\",VLOOKUP(C255,'WK 4'!$K$6:$L$41,2,FALSE)))","v":""},{"$f":"IF(ISNA(VLOOKUP(C255,'WK 5'!$K$6:$L$41,2,FALSE)=0),\"\",IF(VLOOKUP(C255,'WK 5'!$K$6:$L$41,2,FALSE)=0,\"\",VLOOKUP(C255,'WK 5'!$K$6:$L$41,2,FALSE)))","v":""},{"$f":"IF(ISNA(VLOOKUP(C255,'WK 6'!$K$6:$L$41,2,FALSE)=0),\"\",IF(VLOOKUP(C255,'WK 6'!$K$6:$L$41,2,FALSE)=0,\"\",VLOOKUP(C255,'WK 6'!$K$6:$L$41,2,FALSE)))","v":""},{"$f":"IF(ISNA(VLOOKUP(C255,'WK 7'!$K$6:$L$41,2,FALSE)=0),\"\",IF(VLOOKUP(C255,'WK 7'!$K$6:$L$41,2,FALSE)=0,\"\",VLOOKUP(C255,'WK 7'!$K$6:$L$41,2,FALSE)))","v":""},{"$f":"IF(ISNA(VLOOKUP(C255,'WK 8'!$K$6:$L$41,2,FALSE)=0),\"\",IF(VLOOKUP(C255,'WK 8'!$K$6:$L$41,2,FALSE)=0,\"\",VLOOKUP(C255,'WK 8'!$K$6:$L$41,2,FALSE)))","v":""},{"$f":"IF(ISNA(VLOOKUP(C255,'WK 9'!$K$6:$L$41,2,FALSE)=0),\"\",IF(VLOOKUP(C255,'WK 9'!$K$6:$L$41,2,FALSE)=0,\"\",VLOOKUP(C255,'WK 9'!$K$6:$L$41,2,FALSE)))","v":""},{"$f":"IF(ISNA(VLOOKUP(C255,'WK 10'!$K$6:$L$41,2,FALSE)=0),\"\",IF(VLOOKUP(C255,'WK 10'!$K$6:$L$41,2,FALSE)=0,\"\",VLOOKUP(C255,'WK 10'!$K$6:$L$41,2,FALSE)))","v":""},0]
[null,null,{"$f":"IF(ISNA(VLOOKUP('WK 8'!K8,$C$2:$C$253,1,FALSE)),VLOOKUP('WK 8'!K8,'WK 8'!$K$6:$K$450,1,FALSE),\"\")","v":""},null,{"$f":"IF(ISNA(VLOOKUP(C256,'WK 2'!$K$6:$L$41,2,FALSE)=0),\"\",IF(VLOOKUP(C256,'WK 2'!$K$6:$L$41,2,FALSE)=0,\"\",VLOOKUP(C256,'WK 2'!$K$6:$L$41,2,FALSE)))","v":""},{"$f":"IF(ISNA(VLOOKUP(C256,'WK 3'!$K$6:$L$41,2,FALSE)=0),\"\",IF(VLOOKUP(C256,'WK 3'!$K$6:$L$41,2,FALSE)=0,\"\",VLOOKUP(C256,'WK 3'!$K$6:$L$41,2,FALSE)))","v":""},{"$f":"IF(ISNA(VLOOKUP(C256,'WK 4'!$K$6:$L$41,2,FALSE)=0),\"\",IF(VLOOKUP(C256,'WK 4'!$K$6:$L$41,2,FALSE)=0,\"\",VLOOKUP(C256,'WK 4'!$K$6:$L$41,2,FALSE)))","v":""},{"$f":"IF(ISNA(VLOOKUP(C256,'WK 5'!$K$6:$L$41,2,FALSE)=0),\"\",IF(VLOOKUP(C256,'WK 5'!$K$6:$L$41,2,FALSE)=0,\"\",VLOOKUP(C256,'WK 5'!$K$6:$L$41,2,FALSE)))","v":""},{"$f":"IF(ISNA(VLOOKUP(C256,'WK 6'!$K$6:$L$41,2,FALSE)=0),\"\",IF(VLOOKUP(C256,'WK 6'!$K$6:$L$41,2,FALSE)=0,\"\",VLOOKUP(C256,'WK 6'!$K$6:$L$41,2,FALSE)))","v":""},{"$f":"IF(ISNA(VLOOKUP(C256,'WK 7'!$K$6:$L$41,2,FALSE)=0),\"\",IF(VLOOKUP(C256,'WK 7'!$K$6:$L$41,2,FALSE)=0,\"\",VLOOKUP(C256,'WK 7'!$K$6:$L$41,2,FALSE)))","v":""},{"$f":"IF(ISNA(VLOOKUP(C256,'WK 8'!$K$6:$L$41,2,FALSE)=0),\"\",IF(VLOOKUP(C256,'WK 8'!$K$6:$L$41,2,FALSE)=0,\"\",VLOOKUP(C256,'WK 8'!$K$6:$L$41,2,FALSE)))","v":""},{"$f":"IF(ISNA(VLOOKUP(C256,'WK 9'!$K$6:$L$41,2,FALSE)=0),\"\",IF(VLOOKUP(C256,'WK 9'!$K$6:$L$41,2,FALSE)=0,\"\",VLOOKUP(C256,'WK 9'!$K$6:$L$41,2,FALSE)))","v":""},{"$f":"IF(ISNA(VLOOKUP(C256,'WK 10'!$K$6:$L$41,2,FALSE)=0),\"\",IF(VLOOKUP(C256,'WK 10'!$K$6:$L$41,2,FALSE)=0,\"\",VLOOKUP(C256,'WK 10'!$K$6:$L$41,2,FALSE)))","v":""},0]
[null,null,{"$f":"IF(ISNA(VLOOKUP('WK 8'!K9,$C$2:$C$253,1,FALSE)),VLOOKUP('WK 8'!K9,'WK 8'!$K$6:$K$450,1,FALSE),\"\")","v":""},null,{"$f":"IF(ISNA(VLOOKUP(C257,'WK 2'!$K$6:$L$41,2,FALSE)=0),\"\",IF(VLOOKUP(C257,'WK 2'!$K$6:$L$41,2,FALSE)=0,\"\",VLOOKUP(C257,'WK 2'!$K$6:$L$41,2,FALSE)))","v":""},{"$f":"IF(ISNA(VLOOKUP(C257,'WK 3'!$K$6:$L$41,2,FALSE)=0),\"\",IF(VLOOKUP(C257,'WK 3'!$K$6:$L$41,2,FALSE)=0,\"\",VLOOKUP(C257,'WK 3'!$K$6:$L$41,2,FALSE)))","v":""},{"$f":"IF(ISNA(VLOOKUP(C257,'WK 4'!$K$6:$L$41,2,FALSE)=0),\"\",IF(VLOOKUP(C257,'WK 4'!$K$6:$L$41,2,FALSE)=0,\"\",VLOOKUP(C257,'WK 4'!$K$6:$L$41,2,FALSE)))","v":""},{"$f":"IF(ISNA(VLOOKUP(C257,'WK 5'!$K$6:$L$41,2,FALSE)=0),\"\",IF(VLOOKUP(C257,'WK 5'!$K$6:$L$41,2,FALSE)=0,\"\",VLOOKUP(C257,'WK 5'!$K$6:$L$41,2,FALSE)))","v":""},{"$f":"IF(ISNA(VLOOKUP(C257,'WK 6'!$K$6:$L$41,2,FALSE)=0),\"\",IF(VLOOKUP(C257,'WK 6'!$K$6:$L$41,2,FALSE)=0,\"\",VLOOKUP(C257,'WK 6'!$K$6:$L$41,2,FALSE)))","v":""},{"$f":"IF(ISNA(VLOOKUP(C257,'WK 7'!$K$6:$L$41,2,FALSE)=0),\"\",IF(VLOOKUP(C257,'WK 7'!$K$6:$L$41,2,FALSE)=0,\"\",VLOOKUP(C257,'WK 7'!$K$6:$L$41,2,FALSE)))","v":""},{"$f":"IF(ISNA(VLOOKUP(C257,'WK 8'!$K$6:$L$41,2,FALSE)=0),\"\",IF(VLOOKUP(C257,'WK 8'!$K$6:$L$41,2,FALSE)=0,\"\",VLOOKUP(C257,'WK 8'!$K$6:$L$41,2,FALSE)))","v":""},{"$f":"IF(ISNA(VLOOKUP(C257,'WK 9'!$K$6:$L$41,2,FALSE)=0),\"\",IF(VLOOKUP(C257,'WK 9'!$K$6:$L$41,2,FALSE)=0,\"\",VLOOKUP(C257,'WK 9'!$K$6:$L$41,2,FALSE)))","v":""},{"$f":"IF(ISNA(VLOOKUP(C257,'WK 10'!$K$6:$L$41,2,FALSE)=0),\"\",IF(VLOOKUP(C257,'WK 10'!$K$6:$L$41,2,FALSE)=0,\"\",VLOOKUP(C257,'WK 10'!$K$6:$L$41,2,FALSE)))","v":""},0]
[null,null,{"$f":"IF(ISNA(VLOOKUP('WK 8'!K10,$C$2:$C$253,1,FALSE)),VLOOKUP('WK 8'!K10,'WK 8'!$K$6:$K$450,1,FALSE),\"\")","v":""},null,{"$f":"IF(ISNA(VLOOKUP(C258,'WK 2'!$K$6:$L$41,2,FALSE)=0),\"\",IF(VLOOKUP(C258,'WK 2'!$K$6:$L$41,2,FALSE)=0,\"\",VLOOKUP(C258,'WK 2'!$K$6:$L$41,2,FALSE)))","v":""},{"$f":"IF(ISNA(VLOOKUP(C258,'WK 3'!$K$6:$L$41,2,FALSE)=0),\"\",IF(VLOOKUP(C258,'WK 3'!$K$6:$L$41,2,FALSE)=0,\"\",VLOOKUP(C258,'WK 3'!$K$6:$L$41,2,FALSE)))","v":""},{"$f":"IF(ISNA(VLOOKUP(C258,'WK 4'!$K$6:$L$41,2,FALSE)=0),\"\",IF(VLOOKUP(C258,'WK 4'!$K$6:$L$41,2,FALSE)=0,\"\",VLOOKUP(C258,'WK 4'!$K$6:$L$41,2,FALSE)))","v":""},{"$f":"IF(ISNA(VLOOKUP(C258,'WK 5'!$K$6:$L$41,2,FALSE)=0),\"\",IF(VLOOKUP(C258,'WK 5'!$K$6:$L$41,2,FALSE)=0,\"\",VLOOKUP(C258,'WK 5'!$K$6:$L$41,2,FALSE)))","v":""},{"$f":"IF(ISNA(VLOOKUP(C258,'WK 6'!$K$6:$L$41,2,FALSE)=0),\"\",IF(VLOOKUP(C258,'WK 6'!$K$6:$L$41,2,FALSE)=0,\"\",VLOOKUP(C258,'WK 6'!$K$6:$L$41,2,FALSE)))","v":""},{"$f":"IF(ISNA(VLOOKUP(C258,'WK 7'!$K$6:$L$41,2,FALSE)=0),\"\",IF(VLOOKUP(C258,'WK 7'!$K$6:$L$41,2,FALSE)=0,\"\",VLOOKUP(C258,'WK 7'!$K$6:$L$41,2,FALSE)))","v":""},{"$f":"IF(ISNA(VLOOKUP(C258,'WK 8'!$K$6:$L$41,2,FALSE)=0),\"\",IF(VLOOKUP(C258,'WK 8'!$K$6:$L$41,2,FALSE)=0,\"\",VLOOKUP(C258,'WK 8'!$K$6:$L$41,2,FALSE)))","v":""},{"$f":"IF(ISNA(VLOOKUP(C258,'WK 9'!$K$6:$L$41,2,FALSE)=0),\"\",IF(VLOOKUP(C258,'WK 9'!$K$6:$L$41,2,FALSE)=0,\"\",VLOOKUP(C258,'WK 9'!$K$6:$L$41,2,FALSE)))","v":""},{"$f":"IF(ISNA(VLOOKUP(C258,'WK 10'!$K$6:$L$41,2,FALSE)=0),\"\",IF(VLOOKUP(C258,'WK 10'!$K$6:$L$41,2,FALSE)=0,\"\",VLOOKUP(C258,'WK 10'!$K$6:$L$41,2,FALSE)))","v":""},0]
[null,null,{"$f":"IF(ISNA(VLOOKUP('WK 8'!K11,$C$2:$C$253,1,FALSE)),VLOOKUP('WK 8'!K11,'WK 8'!$K$6:$K$450,1,FALSE),\"\")","v":""},null,{"$f":"IF(ISNA(VLOOKUP(C259,'WK 2'!$K$6:$L$41,2,FALSE)=0),\"\",IF(VLOOKUP(C259,'WK 2'!$K$6:$L$41,2,FALSE)=0,\"\",VLOOKUP(C259,'WK 2'!$K$6:$L$41,2,FALSE)))","v":""},{"$f":"IF(ISNA(VLOOKUP(C259,'WK 3'!$K$6:$L$41,2,FALSE)=0),\"\",IF(VLOOKUP(C259,'WK 3'!$K$6:$L$41,2,FALSE)=0,\"\",VLOOKUP(C259,'WK 3'!$K$6:$L$41,2,FALSE)))","v":""},{"$f":"IF(ISNA(VLOOKUP(C259,'WK 4'!$K$6:$L$41,2,FALSE)=0),\"\",IF(VLOOKUP(C259,'WK 4'!$K$6:$L$41,2,FALSE)=0,\"\",VLOOKUP(C259,'WK 4'!$K$6:$L$41,2,FALSE)))","v":""},{"$f":"IF(ISNA(VLOOKUP(C259,'WK 5'!$K$6:$L$41,2,FALSE)=0),\"\",IF(VLOOKUP(C259,'WK 5'!$K$6:$L$41,2,FALSE)=0,\"\",VLOOKUP(C259,'WK 5'!$K$6:$L$41,2,FALSE)))","v":""},{"$f":"IF(ISNA(VLOOKUP(C259,'WK 6'!$K$6:$L$41,2,FALSE)=0),\"\",IF(VLOOKUP(C259,'WK 6'!$K$6:$L$41,2,FALSE)=0,\"\",VLOOKUP(C259,'WK 6'!$K$6:$L$41,2,FALSE)))","v":""},{"$f":"IF(ISNA(VLOOKUP(C259,'WK 7'!$K$6:$L$41,2,FALSE)=0),\"\",IF(VLOOKUP(C259,'WK 7'!$K$6:$L$41,2,FALSE)=0,\"\",VLOOKUP(C259,'WK 7'!$K$6:$L$41,2,FALSE)))","v":""},{"$f":"IF(ISNA(VLOOKUP(C259,'WK 8'!$K$6:$L$41,2,FALSE)=0),\"\",IF(VLOOKUP(C259,'WK 8'!$K$6:$L$41,2,FALSE)=0,\"\",VLOOKUP(C259,'WK 8'!$K$6:$L$41,2,FALSE)))","v":""},{"$f":"IF(ISNA(VLOOKUP(C259,'WK 9'!$K$6:$L$41,2,FALSE)=0),\"\",IF(VLOOKUP(C259,'WK 9'!$K$6:$L$41,2,FALSE)=0,\"\",VLOOKUP(C259,'WK 9'!$K$6:$L$41,2,FALSE)))","v":""},{"$f":"IF(ISNA(VLOOKUP(C259,'WK 10'!$K$6:$L$41,2,FALSE)=0),\"\",IF(VLOOKUP(C259,'WK 10'!$K$6:$L$41,2,FALSE)=0,\"\",VLOOKUP(C259,'WK 10'!$K$6:$L$41,2,FALSE)))","v":""},{"$f":"IF(COUNT(D259:M259)=0,0,AVERAGE(D259:M259))","v":0}]
[null,null,{"$f":"IF(ISNA(VLOOKUP('WK 8'!K12,$C$2:$C$253,1,FALSE)),VLOOKUP('WK 8'!K12,'WK 8'!$K$6:$K$450,1,FALSE),\"\")","v":""},null,{"$f":"IF(ISNA(VLOOKUP(C260,'WK 2'!$K$6:$L$41,2,FALSE)=0),\"\",IF(VLOOKUP(C260,'WK 2'!$K$6:$L$41,2,FALSE)=0,\"\",VLOOKUP(C260,'WK 2'!$K$6:$L$41,2,FALSE)))","v":""},{"$f":"IF(ISNA(VLOOKUP(C260,'WK 3'!$K$6:$L$41,2,FALSE)=0),\"\",IF(VLOOKUP(C260,'WK 3'!$K$6:$L$41,2,FALSE)=0,\"\",VLOOKUP(C260,'WK 3'!$K$6:$L$41,2,FALSE)))","v":""},{"$f":"IF(ISNA(VLOOKUP(C260,'WK 4'!$K$6:$L$41,2,FALSE)=0),\"\",IF(VLOOKUP(C260,'WK 4'!$K$6:$L$41,2,FALSE)=0,\"\",VLOOKUP(C260,'WK 4'!$K$6:$L$41,2,FALSE)))","v":""},{"$f":"IF(ISNA(VLOOKUP(C260,'WK 5'!$K$6:$L$41,2,FALSE)=0),\"\",IF(VLOOKUP(C260,'WK 5'!$K$6:$L$41,2,FALSE)=0,\"\",VLOOKUP(C260,'WK 5'!$K$6:$L$41,2,FALSE)))","v":""},{"$f":"IF(ISNA(VLOOKUP(C260,'WK 6'!$K$6:$L$41,2,FALSE)=0),\"\",IF(VLOOKUP(C260,'WK 6'!$K$6:$L$41,2,FALSE)=0,\"\",VLOOKUP(C260,'WK 6'!$K$6:$L$41,2,FALSE)))","v":""},{"$f":"IF(ISNA(VLOOKUP(C260,'WK 7'!$K$6:$L$41,2,FALSE)=0),\"\",IF(VLOOKUP(C260,'WK 7'!$K$6:$L$41,2,FALSE)=0,\"\",VLOOKUP(C260,'WK 7'!$K$6:$L$41,2,FALSE)))","v":""},{"$f":"IF(ISNA(VLOOKUP(C260,'WK 8'!$K$6:$L$41,2,FALSE)=0),\"\",IF(VLOOKUP(C260,'WK 8'!$K$6:$L$41,2,FALSE)=0,\"\",VLOOKUP(C260,'WK 8'!$K$6:$L$41,2,FALSE)))","v":""},{"$f":"IF(ISNA(VLOOKUP(C260,'WK 9'!$K$6:$L$41,2,FALSE)=0),\"\",IF(VLOOKUP(C260,'WK 9'!$K$6:$L$41,2,FALSE)=0,\"\",VLOOKUP(C260,'WK 9'!$K$6:$L$41,2,FALSE)))","v":""},{"$f":"IF(ISNA(VLOOKUP(C260,'WK 10'!$K$6:$L$41,2,FALSE)=0),\"\",IF(VLOOKUP(C260,'WK 10'!$K$6:$L$41,2,FALSE)=0,\"\",VLOOKUP(C260,'WK 10'!$K$6:$L$41,2,FALSE)))","v":""},0]
[null,null,{"$f":"IF(ISNA(VLOOKUP('WK 8'!K13,$C$2:$C$253,1,FALSE)),VLOOKUP('WK 8'!K13,'WK 8'!$K$6:$K$450,1,FALSE),\"\")","v":""},null,{"$f":"IF(ISNA(VLOOKUP(C261,'WK 2'!$K$6:$L$41,2,FALSE)=0),\"\",IF(VLOOKUP(C261,'WK 2'!$K$6:$L$41,2,FALSE)=0,\"\",VLOOKUP(C261,'WK 2'!$K$6:$L$41,2,FALSE)))","v":""},{"$f":"IF(ISNA(VLOOKUP(C261,'WK 3'!$K$6:$L$41,2,FALSE)=0),\"\",IF(VLOOKUP(C261,'WK 3'!$K$6:$L$41,2,FALSE)=0,\"\",VLOOKUP(C261,'WK 3'!$K$6:$L$41,2,FALSE)))","v":""},{"$f":"IF(ISNA(VLOOKUP(C261,'WK 4'!$K$6:$L$41,2,FALSE)=0),\"\",IF(VLOOKUP(C261,'WK 4'!$K$6:$L$41,2,FALSE)=0,\"\",VLOOKUP(C261,'WK 4'!$K$6:$L$41,2,FALSE)))","v":""},{"$f":"IF(ISNA(VLOOKUP(C261,'WK 5'!$K$6:$L$41,2,FALSE)=0),\"\",IF(VLOOKUP(C261,'WK 5'!$K$6:$L$41,2,FALSE)=0,\"\",VLOOKUP(C261,'WK 5'!$K$6:$L$41,2,FALSE)))","v":""},{"$f":"IF(ISNA(VLOOKUP(C261,'WK 6'!$K$6:$L$41,2,FALSE)=0),\"\",IF(VLOOKUP(C261,'WK 6'!$K$6:$L$41,2,FALSE)=0,\"\",VLOOKUP(C261,'WK 6'!$K$6:$L$41,2,FALSE)))","v":""},{"$f":"IF(ISNA(VLOOKUP(C261,'WK 7'!$K$6:$L$41,2,FALSE)=0),\"\",IF(VLOOKUP(C261,'WK 7'!$K$6:$L$41,2,FALSE)=0,\"\",VLOOKUP(C261,'WK 7'!$K$6:$L$41,2,FALSE)))","v":""},{"$f":"IF(ISNA(VLOOKUP(C261,'WK 8'!$K$6:$L$41,2,FALSE)=0),\"\",IF(VLOOKUP(C261,'WK 8'!$K$6:$L$41,2,FALSE)=0,\"\",VLOOKUP(C261,'WK 8'!$K$6:$L$41,2,FALSE)))","v":""},{"$f":"IF(ISNA(VLOOKUP(C261,'WK 9'!$K$6:$L$41,2,FALSE)=0),\"\",IF(VLOOKUP(C261,'WK 9'!$K$6:$L$41,2,FALSE)=0,\"\",VLOOKUP(C261,'WK 9'!$K$6:$L$41,2,FALSE)))","v":""},{"$f":"IF(ISNA(VLOOKUP(C261,'WK 10'!$K$6:$L$41,2,FALSE)=0),\"\",IF(VLOOKUP(C261,'WK 10'!$K$6:$L$41,2,FALSE)=0,\"\",VLOOKUP(C261,'WK 10'!$K$6:$L$41,2,FALSE)))","v":""},0]
[null,null,{"$f":"IF(ISNA(VLOOKUP('WK 8'!K14,$C$2:$C$253,1,FALSE)),VLOOKUP('WK 8'!K14,'WK 8'!$K$6:$K$450,1,FALSE),\"\")","v":""},null,{"$f":"IF(ISNA(VLOOKUP(C262,'WK 2'!$K$6:$L$41,2,FALSE)=0),\"\",IF(VLOOKUP(C262,'WK 2'!$K$6:$L$41,2,FALSE)=0,\"\",VLOOKUP(C262,'WK 2'!$K$6:$L$41,2,FALSE)))","v":""},{"$f":"IF(ISNA(VLOOKUP(C262,'WK 3'!$K$6:$L$41,2,FALSE)=0),\"\",IF(VLOOKUP(C262,'WK 3'!$K$6:$L$41,2,FALSE)=0,\"\",VLOOKUP(C262,'WK 3'!$K$6:$L$41,2,FALSE)))","v":""},{"$f":"IF(ISNA(VLOOKUP(C262,'WK 4'!$K$6:$L$41,2,FALSE)=0),\"\",IF(VLOOKUP(C262,'WK 4'!$K$6:$L$41,2,FALSE)=0,\"\",VLOOKUP(C262,'WK 4'!$K$6:$L$41,2,FALSE)))","v":""},{"$f":"IF(ISNA(VLOOKUP(C262,'WK 5'!$K$6:$L$41,2,FALSE)=0),\"\",IF(VLOOKUP(C262,'WK 5'!$K$6:$L$41,2,FALSE)=0,\"\",VLOOKUP(C262,'WK 5'!$K$6:$L$41,2,FALSE)))","v":""},{"$f":"IF(ISNA(VLOOKUP(C262,'WK 6'!$K$6:$L$41,2,FALSE)=0),\"\",IF(VLOOKUP(C262,'WK 6'!$K$6:$L$41,2,FALSE)=0,\"\",VLOOKUP(C262,'WK 6'!$K$6:$L$41,2,FALSE)))","v":""},{"$f":"IF(ISNA(VLOOKUP(C262,'WK 7'!$K$6:$L$41,2,FALSE)=0),\"\",IF(VLOOKUP(C262,'WK 7'!$K$6:$L$41,2,FALSE)=0,\"\",VLOOKUP(C262,'WK 7'!$K$6:$L$41,2,FALSE)))","v":""},{"$f":"IF(ISNA(VLOOKUP(C262,'WK 8'!$K$6:$L$41,2,FALSE)=0),\"\",IF(VLOOKUP(C262,'WK 8'!$K$6:$L$41,2,FALSE)=0,\"\",VLOOKUP(C262,'WK 8'!$K$6:$L$41,2,FALSE)))","v":""},{"$f":"IF(ISNA(VLOOKUP(C262,'WK 9'!$K$6:$L$41,2,FALSE)=0),\"\",IF(VLOOKUP(C262,'WK 9'!$K$6:$L$41,2,FALSE)=0,\"\",VLOOKUP(C262,'WK 9'!$K$6:$L$41,2,FALSE)))","v":""},{"$f":"IF(ISNA(VLOOKUP(C262,'WK 10'!$K$6:$L$41,2,FALSE)=0),\"\",IF(VLOOKUP(C262,'WK 10'!$K$6:$L$41,2,FALSE)=0,\"\",VLOOKUP(C262,'WK 10'!$K$6:$L$41,2,FALSE)))","v":""},0]
[null,null,{"$f":"IF(ISNA(VLOOKUP('WK 8'!K15,$C$2:$C$253,1,FALSE)),VLOOKUP('WK 8'!K15,'WK 8'!$K$6:$K$450,1,FALSE),\"\")","v":""},null,{"$f":"IF(ISNA(VLOOKUP(C263,'WK 2'!$K$6:$L$41,2,FALSE)=0),\"\",IF(VLOOKUP(C263,'WK 2'!$K$6:$L$41,2,FALSE)=0,\"\",VLOOKUP(C263,'WK 2'!$K$6:$L$41,2,FALSE)))","v":""},{"$f":"IF(ISNA(VLOOKUP(C263,'WK 3'!$K$6:$L$41,2,FALSE)=0),\"\",IF(VLOOKUP(C263,'WK 3'!$K$6:$L$41,2,FALSE)=0,\"\",VLOOKUP(C263,'WK 3'!$K$6:$L$41,2,FALSE)))","v":""},{"$f":"IF(ISNA(VLOOKUP(C263,'WK 4'!$K$6:$L$41,2,FALSE)=0),\"\",IF(VLOOKUP(C263,'WK 4'!$K$6:$L$41,2,FALSE)=0,\"\",VLOOKUP(C263,'WK 4'!$K$6:$L$41,2,FALSE)))","v":""},{"$f":"IF(ISNA(VLOOKUP(C263,'WK 5'!$K$6:$L$41,2,FALSE)=0),\"\",IF(VLOOKUP(C263,'WK 5'!$K$6:$L$41,2,FALSE)=0,\"\",VLOOKUP(C263,'WK 5'!$K$6:$L$41,2,FALSE)))","v":""},{"$f":"IF(ISNA(VLOOKUP(C263,'WK 6'!$K$6:$L$41,2,FALSE)=0),\"\",IF(VLOOKUP(C263,'WK 6'!$K$6:$L$41,2,FALSE)=0,\"\",VLOOKUP(C263,'WK 6'!$K$6:$L$41,2,FALSE)))","v":""},{"$f":"IF(ISNA(VLOOKUP(C263,'WK 7'!$K$6:$L$41,2,FALSE)=0),\"\",IF(VLOOKUP(C263,'WK 7'!$K$6:$L$41,2,FALSE)=0,\"\",VLOOKUP(C263,'WK 7'!$K$6:$L$41,2,FALSE)))","v":""},{"$f":"IF(ISNA(VLOOKUP(C263,'WK 8'!$K$6:$L$41,2,FALSE)=0),\"\",IF(VLOOKUP(C263,'WK 8'!$K$6:$L$41,2,FALSE)=0,\"\",VLOOKUP(C263,'WK 8'!$K$6:$L$41,2,FALSE)))","v":""},{"$f":"IF(ISNA(VLOOKUP(C263,'WK 9'!$K$6:$L$41,2,FALSE)=0),\"\",IF(VLOOKUP(C263,'WK 9'!$K$6:$L$41,2,FALSE)=0,\"\",VLOOKUP(C263,'WK 9'!$K$6:$L$41,2,FALSE)))","v":""},{"$f":"IF(ISNA(VLOOKUP(C263,'WK 10'!$K$6:$L$41,2,FALSE)=0),\"\",IF(VLOOKUP(C263,'WK 10'!$K$6:$L$41,2,FALSE)=0,\"\",VLOOKUP(C263,'WK 10'!$K$6:$L$41,2,FALSE)))","v":""},0]
[null,null,{"$f":"IF(ISNA(VLOOKUP('WK 8'!K16,$C$2:$C$253,1,FALSE)),VLOOKUP('WK 8'!K16,'WK 8'!$K$6:$K$450,1,FALSE),\"\")","v":""},null,{"$f":"IF(ISNA(VLOOKUP(C264,'WK 2'!$K$6:$L$41,2,FALSE)=0),\"\",IF(VLOOKUP(C264,'WK 2'!$K$6:$L$41,2,FALSE)=0,\"\",VLOOKUP(C264,'WK 2'!$K$6:$L$41,2,FALSE)))","v":""},{"$f":"IF(ISNA(VLOOKUP(C264,'WK 3'!$K$6:$L$41,2,FALSE)=0),\"\",IF(VLOOKUP(C264,'WK 3'!$K$6:$L$41,2,FALSE)=0,\"\",VLOOKUP(C264,'WK 3'!$K$6:$L$41,2,FALSE)))","v":""},{"$f":"IF(ISNA(VLOOKUP(C264,'WK 4'!$K$6:$L$41,2,FALSE)=0),\"\",IF(VLOOKUP(C264,'WK 4'!$K$6:$L$41,2,FALSE)=0,\"\",VLOOKUP(C264,'WK 4'!$K$6:$L$41,2,FALSE)))","v":""},{"$f":"IF(ISNA(VLOOKUP(C264,'WK 5'!$K$6:$L$41,2,FALSE)=0),\"\",IF(VLOOKUP(C264,'WK 5'!$K$6:$L$41,2,FALSE)=0,\"\",VLOOKUP(C264,'WK 5'!$K$6:$L$41,2,FALSE)))","v":""},{"$f":"IF(ISNA(VLOOKUP(C264,'WK 6'!$K$6:$L$41,2,FALSE)=0),\"\",IF(VLOOKUP(C264,'WK 6'!$K$6:$L$41,2,FALSE)=0,\"\",VLOOKUP(C264,'WK 6'!$K$6:$L$41,2,FALSE)))","v":""},{"$f":"IF(ISNA(VLOOKUP(C264,'WK 7'!$K$6:$L$41,2,FALSE)=0),\"\",IF(VLOOKUP(C264,'WK 7'!$K$6:$L$41,2,FALSE)=0,\"\",VLOOKUP(C264,'WK 7'!$K$6:$L$41,2,FALSE)))","v":""},{"$f":"IF(ISNA(VLOOKUP(C264,'WK 8'!$K$6:$L$41,2,FALSE)=0),\"\",IF(VLOOKUP(C264,'WK 8'!$K$6:$L$41,2,FALSE)=0,\"\",VLOOKUP(C264,'WK 8'!$K$6:$L$41,2,FALSE)))","v":""},{"$f":"IF(ISNA(VLOOKUP(C264,'WK 9'!$K$6:$L$41,2,FALSE)=0),\"\",IF(VLOOKUP(C264,'WK 9'!$K$6:$L$41,2,FALSE)=0,\"\",VLOOKUP(C264,'WK 9'!$K$6:$L$41,2,FALSE)))","v":""},{"$f":"IF(ISNA(VLOOKUP(C264,'WK 10'!$K$6:$L$41,2,FALSE)=0),\"\",IF(VLOOKUP(C264,'WK 10'!$K$6:$L$41,2,FALSE)=0,\"\",VLOOKUP(C264,'WK 10'!$K$6:$L$41,2,FALSE)))","v":""},0]
[null,null,{"$f":"IF(ISNA(VLOOKUP('WK 8'!K17,$C$2:$C$253,1,FALSE)),VLOOKUP('WK 8'!K17,'WK 8'!$K$6:$K$450,1,FALSE),\"\")","v":""},null,{"$f":"IF(ISNA(VLOOKUP(C265,'WK 2'!$K$6:$L$41,2,FALSE)=0),\"\",IF(VLOOKUP(C265,'WK 2'!$K$6:$L$41,2,FALSE)=0,\"\",VLOOKUP(C265,'WK 2'!$K$6:$L$41,2,FALSE)))","v":""},{"$f":"IF(ISNA(VLOOKUP(C265,'WK 3'!$K$6:$L$41,2,FALSE)=0),\"\",IF(VLOOKUP(C265,'WK 3'!$K$6:$L$41,2,FALSE)=0,\"\",VLOOKUP(C265,'WK 3'!$K$6:$L$41,2,FALSE)))","v":""},{"$f":"IF(ISNA(VLOOKUP(C265,'WK 4'!$K$6:$L$41,2,FALSE)=0),\"\",IF(VLOOKUP(C265,'WK 4'!$K$6:$L$41,2,FALSE)=0,\"\",VLOOKUP(C265,'WK 4'!$K$6:$L$41,2,FALSE)))","v":""},{"$f":"IF(ISNA(VLOOKUP(C265,'WK 5'!$K$6:$L$41,2,FALSE)=0),\"\",IF(VLOOKUP(C265,'WK 5'!$K$6:$L$41,2,FALSE)=0,\"\",VLOOKUP(C265,'WK 5'!$K$6:$L$41,2,FALSE)))","v":""},{"$f":"IF(ISNA(VLOOKUP(C265,'WK 6'!$K$6:$L$41,2,FALSE)=0),\"\",IF(VLOOKUP(C265,'WK 6'!$K$6:$L$41,2,FALSE)=0,\"\",VLOOKUP(C265,'WK 6'!$K$6:$L$41,2,FALSE)))","v":""},{"$f":"IF(ISNA(VLOOKUP(C265,'WK 7'!$K$6:$L$41,2,FALSE)=0),\"\",IF(VLOOKUP(C265,'WK 7'!$K$6:$L$41,2,FALSE)=0,\"\",VLOOKUP(C265,'WK 7'!$K$6:$L$41,2,FALSE)))","v":""},{"$f":"IF(ISNA(VLOOKUP(C265,'WK 8'!$K$6:$L$41,2,FALSE)=0),\"\",IF(VLOOKUP(C265,'WK 8'!$K$6:$L$41,2,FALSE)=0,\"\",VLOOKUP(C265,'WK 8'!$K$6:$L$41,2,FALSE)))","v":""},{"$f":"IF(ISNA(VLOOKUP(C265,'WK 9'!$K$6:$L$41,2,FALSE)=0),\"\",IF(VLOOKUP(C265,'WK 9'!$K$6:$L$41,2,FALSE)=0,\"\",VLOOKUP(C265,'WK 9'!$K$6:$L$41,2,FALSE)))","v":""},{"$f":"IF(ISNA(VLOOKUP(C265,'WK 10'!$K$6:$L$41,2,FALSE)=0),\"\",IF(VLOOKUP(C265,'WK 10'!$K$6:$L$41,2,FALSE)=0,\"\",VLOOKUP(C265,'WK 10'!$K$6:$L$41,2,FALSE)))","v":""},0]
[null,null,{"$f":"IF(ISNA(VLOOKUP('WK 8'!K18,$C$2:$C$253,1,FALSE)),VLOOKUP('WK 8'!K18,'WK 8'!$K$6:$K$450,1,FALSE),\"\")","v":""},null,{"$f":"IF(ISNA(VLOOKUP(C266,'WK 2'!$K$6:$L$41,2,FALSE)=0),\"\",IF(VLOOKUP(C266,'WK 2'!$K$6:$L$41,2,FALSE)=0,\"\",VLOOKUP(C266,'WK 2'!$K$6:$L$41,2,FALSE)))","v":""},{"$f":"IF(ISNA(VLOOKUP(C266,'WK 3'!$K$6:$L$41,2,FALSE)=0),\"\",IF(VLOOKUP(C266,'WK 3'!$K$6:$L$41,2,FALSE)=0,\"\",VLOOKUP(C266,'WK 3'!$K$6:$L$41,2,FALSE)))","v":""},{"$f":"IF(ISNA(VLOOKUP(C266,'WK 4'!$K$6:$L$41,2,FALSE)=0),\"\",IF(VLOOKUP(C266,'WK 4'!$K$6:$L$41,2,FALSE)=0,\"\",VLOOKUP(C266,'WK 4'!$K$6:$L$41,2,FALSE)))","v":""},{"$f":"IF(ISNA(VLOOKUP(C266,'WK 5'!$K$6:$L$41,2,FALSE)=0),\"\",IF(VLOOKUP(C266,'WK 5'!$K$6:$L$41,2,FALSE)=0,\"\",VLOOKUP(C266,'WK 5'!$K$6:$L$41,2,FALSE)))","v":""},{"$f":"IF(ISNA(VLOOKUP(C266,'WK 6'!$K$6:$L$41,2,FALSE)=0),\"\",IF(VLOOKUP(C266,'WK 6'!$K$6:$L$41,2,FALSE)=0,\"\",VLOOKUP(C266,'WK 6'!$K$6:$L$41,2,FALSE)))","v":""},{"$f":"IF(ISNA(VLOOKUP(C266,'WK 7'!$K$6:$L$41,2,FALSE)=0),\"\",IF(VLOOKUP(C266,'WK 7'!$K$6:$L$41,2,FALSE)=0,\"\",VLOOKUP(C266,'WK 7'!$K$6:$L$41,2,FALSE)))","v":""},{"$f":"IF(ISNA(VLOOKUP(C266,'WK 8'!$K$6:$L$41,2,FALSE)=0),\"\",IF(VLOOKUP(C266,'WK 8'!$K$6:$L$41,2,FALSE)=0,\"\",VLOOKUP(C266,'WK 8'!$K$6:$L$41,2,FALSE)))","v":""},{"$f":"IF(ISNA(VLOOKUP(C266,'WK 9'!$K$6:$L$41,2,FALSE)=0),\"\",IF(VLOOKUP(C266,'WK 9'!$K$6:$L$41,2,FALSE)=0,\"\",VLOOKUP(C266,'WK 9'!$K$6:$L$41,2,FALSE)))","v":""},{"$f":"IF(ISNA(VLOOKUP(C266,'WK 10'!$K$6:$L$41,2,FALSE)=0),\"\",IF(VLOOKUP(C266,'WK 10'!$K$6:$L$41,2,FALSE)=0,\"\",VLOOKUP(C266,'WK 10'!$K$6:$L$41,2,FALSE)))","v":""},0]
[null,null,{"$f":"IF(ISNA(VLOOKUP('WK 8'!K19,$C$2:$C$253,1,FALSE)),VLOOKUP('WK 8'!K19,'WK 8'!$K$6:$K$450,1,FALSE),\"\")","v":""},null,{"$f":"IF(ISNA(VLOOKUP(C267,'WK 2'!$K$6:$L$41,2,FALSE)=0),\"\",IF(VLOOKUP(C267,'WK 2'!$K$6:$L$41,2,FALSE)=0,\"\",VLOOKUP(C267,'WK 2'!$K$6:$L$41,2,FALSE)))","v":""},{"$f":"IF(ISNA(VLOOKUP(C267,'WK 3'!$K$6:$L$41,2,FALSE)=0),\"\",IF(VLOOKUP(C267,'WK 3'!$K$6:$L$41,2,FALSE)=0,\"\",VLOOKUP(C267,'WK 3'!$K$6:$L$41,2,FALSE)))","v":""},{"$f":"IF(ISNA(VLOOKUP(C267,'WK 4'!$K$6:$L$41,2,FALSE)=0),\"\",IF(VLOOKUP(C267,'WK 4'!$K$6:$L$41,2,FALSE)=0,\"\",VLOOKUP(C267,'WK 4'!$K$6:$L$41,2,FALSE)))","v":""},{"$f":"IF(ISNA(VLOOKUP(C267,'WK 5'!$K$6:$L$41,2,FALSE)=0),\"\",IF(VLOOKUP(C267,'WK 5'!$K$6:$L$41,2,FALSE)=0,\"\",VLOOKUP(C267,'WK 5'!$K$6:$L$41,2,FALSE)))","v":""},{"$f":"IF(ISNA(VLOOKUP(C267,'WK 6'!$K$6:$L$41,2,FALSE)=0),\"\",IF(VLOOKUP(C267,'WK 6'!$K$6:$L$41,2,FALSE)=0,\"\",VLOOKUP(C267,'WK 6'!$K$6:$L$41,2,FALSE)))","v":""},{"$f":"IF(ISNA(VLOOKUP(C267,'WK 7'!$K$6:$L$41,2,FALSE)=0),\"\",IF(VLOOKUP(C267,'WK 7'!$K$6:$L$41,2,FALSE)=0,\"\",VLOOKUP(C267,'WK 7'!$K$6:$L$41,2,FALSE)))","v":""},{"$f":"IF(ISNA(VLOOKUP(C267,'WK 8'!$K$6:$L$41,2,FALSE)=0),\"\",IF(VLOOKUP(C267,'WK 8'!$K$6:$L$41,2,FALSE)=0,\"\",VLOOKUP(C267,'WK 8'!$K$6:$L$41,2,FALSE)))","v":""},{"$f":"IF(ISNA(VLOOKUP(C267,'WK 9'!$K$6:$L$41,2,FALSE)=0),\"\",IF(VLOOKUP(C267,'WK 9'!$K$6:$L$41,2,FALSE)=0,\"\",VLOOKUP(C267,'WK 9'!$K$6:$L$41,2,FALSE)))","v":""},{"$f":"IF(ISNA(VLOOKUP(C267,'WK 10'!$K$6:$L$41,2,FALSE)=0),\"\",IF(VLOOKUP(C267,'WK 10'!$K$6:$L$41,2,FALSE)=0,\"\",VLOOKUP(C267,'WK 10'!$K$6:$L$41,2,FALSE)))","v":""},0]
[null,null,{"$f":"IF(ISNA(VLOOKUP('WK 8'!K20,$C$2:$C$253,1,FALSE)),VLOOKUP('WK 8'!K20,'WK 8'!$K$6:$K$450,1,FALSE),\"\")","v":""},null,{"$f":"IF(ISNA(VLOOKUP(C268,'WK 2'!$K$6:$L$41,2,FALSE)=0),\"\",IF(VLOOKUP(C268,'WK 2'!$K$6:$L$41,2,FALSE)=0,\"\",VLOOKUP(C268,'WK 2'!$K$6:$L$41,2,FALSE)))","v":""},{"$f":"IF(ISNA(VLOOKUP(C268,'WK 3'!$K$6:$L$41,2,FALSE)=0),\"\",IF(VLOOKUP(C268,'WK 3'!$K$6:$L$41,2,FALSE)=0,\"\",VLOOKUP(C268,'WK 3'!$K$6:$L$41,2,FALSE)))","v":""},{"$f":"IF(ISNA(VLOOKUP(C268,'WK 4'!$K$6:$L$41,2,FALSE)=0),\"\",IF(VLOOKUP(C268,'WK 4'!$K$6:$L$41,2,FALSE)=0,\"\",VLOOKUP(C268,'WK 4'!$K$6:$L$41,2,FALSE)))","v":""},{"$f":"IF(ISNA(VLOOKUP(C268,'WK 5'!$K$6:$L$41,2,FALSE)=0),\"\",IF(VLOOKUP(C268,'WK 5'!$K$6:$L$41,2,FALSE)=0,\"\",VLOOKUP(C268,'WK 5'!$K$6:$L$41,2,FALSE)))","v":""},{"$f":"IF(ISNA(VLOOKUP(C268,'WK 6'!$K$6:$L$41,2,FALSE)=0),\"\",IF(VLOOKUP(C268,'WK 6'!$K$6:$L$41,2,FALSE)=0,\"\",VLOOKUP(C268,'WK 6'!$K$6:$L$41,2,FALSE)))","v":""},{"$f":"IF(ISNA(VLOOKUP(C268,'WK 7'!$K$6:$L$41,2,FALSE)=0),\"\",IF(VLOOKUP(C268,'WK 7'!$K$6:$L$41,2,FALSE)=0,\"\",VLOOKUP(C268,'WK 7'!$K$6:$L$41,2,FALSE)))","v":""},{"$f":"IF(ISNA(VLOOKUP(C268,'WK 8'!$K$6:$L$41,2,FALSE)=0),\"\",IF(VLOOKUP(C268,'WK 8'!$K$6:$L$41,2,FALSE)=0,\"\",VLOOKUP(C268,'WK 8'!$K$6:$L$41,2,FALSE)))","v":""},{"$f":"IF(ISNA(VLOOKUP(C268,'WK 9'!$K$6:$L$41,2,FALSE)=0),\"\",IF(VLOOKUP(C268,'WK 9'!$K$6:$L$41,2,FALSE)=0,\"\",VLOOKUP(C268,'WK 9'!$K$6:$L$41,2,FALSE)))","v":""},{"$f":"IF(ISNA(VLOOKUP(C268,'WK 10'!$K$6:$L$41,2,FALSE)=0),\"\",IF(VLOOKUP(C268,'WK 10'!$K$6:$L$41,2,FALSE)=0,\"\",VLOOKUP(C268,'WK 10'!$K$6:$L$41,2,FALSE)))","v":""},0]
[null,null,{"$f":"IF(ISNA(VLOOKUP('WK 8'!K21,$C$2:$C$253,1,FALSE)),VLOOKUP('WK 8'!K21,'WK 8'!$K$6:$K$450,1,FALSE),\"\")","v":""},null,{"$f":"IF(ISNA(VLOOKUP(C269,'WK 2'!$K$6:$L$41,2,FALSE)=0),\"\",IF(VLOOKUP(C269,'WK 2'!$K$6:$L$41,2,FALSE)=0,\"\",VLOOKUP(C269,'WK 2'!$K$6:$L$41,2,FALSE)))","v":""},{"$f":"IF(ISNA(VLOOKUP(C269,'WK 3'!$K$6:$L$41,2,FALSE)=0),\"\",IF(VLOOKUP(C269,'WK 3'!$K$6:$L$41,2,FALSE)=0,\"\",VLOOKUP(C269,'WK 3'!$K$6:$L$41,2,FALSE)))","v":""},{"$f":"IF(ISNA(VLOOKUP(C269,'WK 4'!$K$6:$L$41,2,FALSE)=0),\"\",IF(VLOOKUP(C269,'WK 4'!$K$6:$L$41,2,FALSE)=0,\"\",VLOOKUP(C269,'WK 4'!$K$6:$L$41,2,FALSE)))","v":""},{"$f":"IF(ISNA(VLOOKUP(C269,'WK 5'!$K$6:$L$41,2,FALSE)=0),\"\",IF(VLOOKUP(C269,'WK 5'!$K$6:$L$41,2,FALSE)=0,\"\",VLOOKUP(C269,'WK 5'!$K$6:$L$41,2,FALSE)))","v":""},{"$f":"IF(ISNA(VLOOKUP(C269,'WK 6'!$K$6:$L$41,2,FALSE)=0),\"\",IF(VLOOKUP(C269,'WK 6'!$K$6:$L$41,2,FALSE)=0,\"\",VLOOKUP(C269,'WK 6'!$K$6:$L$41,2,FALSE)))","v":""},{"$f":"IF(ISNA(VLOOKUP(C269,'WK 7'!$K$6:$L$41,2,FALSE)=0),\"\",IF(VLOOKUP(C269,'WK 7'!$K$6:$L$41,2,FALSE)=0,\"\",VLOOKUP(C269,'WK 7'!$K$6:$L$41,2,FALSE)))","v":""},{"$f":"IF(ISNA(VLOOKUP(C269,'WK 8'!$K$6:$L$41,2,FALSE)=0),\"\",IF(VLOOKUP(C269,'WK 8'!$K$6:$L$41,2,FALSE)=0,\"\",VLOOKUP(C269,'WK 8'!$K$6:$L$41,2,FALSE)))","v":""},{"$f":"IF(ISNA(VLOOKUP(C269,'WK 9'!$K$6:$L$41,2,FALSE)=0),\"\",IF(VLOOKUP(C269,'WK 9'!$K$6:$L$41,2,FALSE)=0,\"\",VLOOKUP(C269,'WK 9'!$K$6:$L$41,2,FALSE)))","v":""},{"$f":"IF(ISNA(VLOOKUP(C269,'WK 10'!$K$6:$L$41,2,FALSE)=0),\"\",IF(VLOOKUP(C269,'WK 10'!$K$6:$L$41,2,FALSE)=0,\"\",VLOOKUP(C269,'WK 10'!$K$6:$L$41,2,FALSE)))","v":""},0]
[null,null,{"$f":"IF(ISNA(VLOOKUP('WK 8'!K22,$C$2:$C$253,1,FALSE)),VLOOKUP('WK 8'!K22,'WK 8'!$K$6:$K$450,1,FALSE),\"\")","v":""},null,{"$f":"IF(ISNA(VLOOKUP(C270,'WK 2'!$K$6:$L$41,2,FALSE)=0),\"\",IF(VLOOKUP(C270,'WK 2'!$K$6:$L$41,2,FALSE)=0,\"\",VLOOKUP(C270,'WK 2'!$K$6:$L$41,2,FALSE)))","v":""},{"$f":"IF(ISNA(VLOOKUP(C270,'WK 3'!$K$6:$L$41,2,FALSE)=0),\"\",IF(VLOOKUP(C270,'WK 3'!$K$6:$L$41,2,FALSE)=0,\"\",VLOOKUP(C270,'WK 3'!$K$6:$L$41,2,FALSE)))","v":""},{"$f":"IF(ISNA(VLOOKUP(C270,'WK 4'!$K$6:$L$41,2,FALSE)=0),\"\",IF(VLOOKUP(C270,'WK 4'!$K$6:$L$41,2,FALSE)=0,\"\",VLOOKUP(C270,'WK 4'!$K$6:$L$41,2,FALSE)))","v":""},{"$f":"IF(ISNA(VLOOKUP(C270,'WK 5'!$K$6:$L$41,2,FALSE)=0),\"\",IF(VLOOKUP(C270,'WK 5'!$K$6:$L$41,2,FALSE)=0,\"\",VLOOKUP(C270,'WK 5'!$K$6:$L$41,2,FALSE)))","v":""},{"$f":"IF(ISNA(VLOOKUP(C270,'WK 6'!$K$6:$L$41,2,FALSE)=0),\"\",IF(VLOOKUP(C270,'WK 6'!$K$6:$L$41,2,FALSE)=0,\"\",VLOOKUP(C270,'WK 6'!$K$6:$L$41,2,FALSE)))","v":""},{"$f":"IF(ISNA(VLOOKUP(C270,'WK 7'!$K$6:$L$41,2,FALSE)=0),\"\",IF(VLOOKUP(C270,'WK 7'!$K$6:$L$41,2,FALSE)=0,\"\",VLOOKUP(C270,'WK 7'!$K$6:$L$41,2,FALSE)))","v":""},{"$f":"IF(ISNA(VLOOKUP(C270,'WK 8'!$K$6:$L$41,2,FALSE)=0),\"\",IF(VLOOKUP(C270,'WK 8'!$K$6:$L$41,2,FALSE)=0,\"\",VLOOKUP(C270,'WK 8'!$K$6:$L$41,2,FALSE)))","v":""},{"$f":"IF(ISNA(VLOOKUP(C270,'WK 9'!$K$6:$L$41,2,FALSE)=0),\"\",IF(VLOOKUP(C270,'WK 9'!$K$6:$L$41,2,FALSE)=0,\"\",VLOOKUP(C270,'WK 9'!$K$6:$L$41,2,FALSE)))","v":""},{"$f":"IF(ISNA(VLOOKUP(C270,'WK 10'!$K$6:$L$41,2,FALSE)=0),\"\",IF(VLOOKUP(C270,'WK 10'!$K$6:$L$41,2,FALSE)=0,\"\",VLOOKUP(C270,'WK 10'!$K$6:$L$41,2,FALSE)))","v":""},0]
[null,null,{"$f":"IF(ISNA(VLOOKUP('WK 8'!K23,$C$2:$C$253,1,FALSE)),VLOOKUP('WK 8'!K23,'WK 8'!$K$6:$K$450,1,FALSE),\"\")","v":""},null,{"$f":"IF(ISNA(VLOOKUP(C271,'WK 2'!$K$6:$L$41,2,FALSE)=0),\"\",IF(VLOOKUP(C271,'WK 2'!$K$6:$L$41,2,FALSE)=0,\"\",VLOOKUP(C271,'WK 2'!$K$6:$L$41,2,FALSE)))","v":""},{"$f":"IF(ISNA(VLOOKUP(C271,'WK 3'!$K$6:$L$41,2,FALSE)=0),\"\",IF(VLOOKUP(C271,'WK 3'!$K$6:$L$41,2,FALSE)=0,\"\",VLOOKUP(C271,'WK 3'!$K$6:$L$41,2,FALSE)))","v":""},{"$f":"IF(ISNA(VLOOKUP(C271,'WK 4'!$K$6:$L$41,2,FALSE)=0),\"\",IF(VLOOKUP(C271,'WK 4'!$K$6:$L$41,2,FALSE)=0,\"\",VLOOKUP(C271,'WK 4'!$K$6:$L$41,2,FALSE)))","v":""},{"$f":"IF(ISNA(VLOOKUP(C271,'WK 5'!$K$6:$L$41,2,FALSE)=0),\"\",IF(VLOOKUP(C271,'WK 5'!$K$6:$L$41,2,FALSE)=0,\"\",VLOOKUP(C271,'WK 5'!$K$6:$L$41,2,FALSE)))","v":""},{"$f":"IF(ISNA(VLOOKUP(C271,'WK 6'!$K$6:$L$41,2,FALSE)=0),\"\",IF(VLOOKUP(C271,'WK 6'!$K$6:$L$41,2,FALSE)=0,\"\",VLOOKUP(C271,'WK 6'!$K$6:$L$41,2,FALSE)))","v":""},{"$f":"IF(ISNA(VLOOKUP(C271,'WK 7'!$K$6:$L$41,2,FALSE)=0),\"\",IF(VLOOKUP(C271,'WK 7'!$K$6:$L$41,2,FALSE)=0,\"\",VLOOKUP(C271,'WK 7'!$K$6:$L$41,2,FALSE)))","v":""},{"$f":"IF(ISNA(VLOOKUP(C271,'WK 8'!$K$6:$L$41,2,FALSE)=0),\"\",IF(VLOOKUP(C271,'WK 8'!$K$6:$L$41,2,FALSE)=0,\"\",VLOOKUP(C271,'WK 8'!$K$6:$L$41,2,FALSE)))","v":""},{"$f":"IF(ISNA(VLOOKUP(C271,'WK 9'!$K$6:$L$41,2,FALSE)=0),\"\",IF(VLOOKUP(C271,'WK 9'!$K$6:$L$41,2,FALSE)=0,\"\",VLOOKUP(C271,'WK 9'!$K$6:$L$41,2,FALSE)))","v":""},{"$f":"IF(ISNA(VLOOKUP(C271,'WK 10'!$K$6:$L$41,2,FALSE)=0),\"\",IF(VLOOKUP(C271,'WK 10'!$K$6:$L$41,2,FALSE)=0,\"\",VLOOKUP(C271,'WK 10'!$K$6:$L$41,2,FALSE)))","v":""},0]
[null,null,{"$f":"IF(ISNA(VLOOKUP('WK 8'!K24,$C$2:$C$253,1,FALSE)),VLOOKUP('WK 8'!K24,'WK 8'!$K$6:$K$450,1,FALSE),\"\")","v":""},null,{"$f":"IF(ISNA(VLOOKUP(C272,'WK 2'!$K$6:$L$41,2,FALSE)=0),\"\",IF(VLOOKUP(C272,'WK 2'!$K$6:$L$41,2,FALSE)=0,\"\",VLOOKUP(C272,'WK 2'!$K$6:$L$41,2,FALSE)))","v":""},{"$f":"IF(ISNA(VLOOKUP(C272,'WK 3'!$K$6:$L$41,2,FALSE)=0),\"\",IF(VLOOKUP(C272,'WK 3'!$K$6:$L$41,2,FALSE)=0,\"\",VLOOKUP(C272,'WK 3'!$K$6:$L$41,2,FALSE)))","v":""},{"$f":"IF(ISNA(VLOOKUP(C272,'WK 4'!$K$6:$L$41,2,FALSE)=0),\"\",IF(VLOOKUP(C272,'WK 4'!$K$6:$L$41,2,FALSE)=0,\"\",VLOOKUP(C272,'WK 4'!$K$6:$L$41,2,FALSE)))","v":""},{"$f":"IF(ISNA(VLOOKUP(C272,'WK 5'!$K$6:$L$41,2,FALSE)=0),\"\",IF(VLOOKUP(C272,'WK 5'!$K$6:$L$41,2,FALSE)=0,\"\",VLOOKUP(C272,'WK 5'!$K$6:$L$41,2,FALSE)))","v":""},{"$f":"IF(ISNA(VLOOKUP(C272,'WK 6'!$K$6:$L$41,2,FALSE)=0),\"\",IF(VLOOKUP(C272,'WK 6'!$K$6:$L$41,2,FALSE)=0,\"\",VLOOKUP(C272,'WK 6'!$K$6:$L$41,2,FALSE)))","v":""},{"$f":"IF(ISNA(VLOOKUP(C272,'WK 7'!$K$6:$L$41,2,FALSE)=0),\"\",IF(VLOOKUP(C272,'WK 7'!$K$6:$L$41,2,FALSE)=0,\"\",VLOOKUP(C272,'WK 7'!$K$6:$L$41,2,FALSE)))","v":""},{"$f":"IF(ISNA(VLOOKUP(C272,'WK 8'!$K$6:$L$41,2,FALSE)=0),\"\",IF(VLOOKUP(C272,'WK 8'!$K$6:$L$41,2,FALSE)=0,\"\",VLOOKUP(C272,'WK 8'!$K$6:$L$41,2,FALSE)))","v":""},{"$f":"IF(ISNA(VLOOKUP(C272,'WK 9'!$K$6:$L$41,2,FALSE)=0),\"\",IF(VLOOKUP(C272,'WK 9'!$K$6:$L$41,2,FALSE)=0,\"\",VLOOKUP(C272,'WK 9'!$K$6:$L$41,2,FALSE)))","v":""},{"$f":"IF(ISNA(VLOOKUP(C272,'WK 10'!$K$6:$L$41,2,FALSE)=0),\"\",IF(VLOOKUP(C272,'WK 10'!$K$6:$L$41,2,FALSE)=0,\"\",VLOOKUP(C272,'WK 10'!$K$6:$L$41,2,FALSE)))","v":""},0]
[null,null,{"$f":"IF(ISNA(VLOOKUP('WK 8'!K25,$C$2:$C$253,1,FALSE)),VLOOKUP('WK 8'!K25,'WK 8'!$K$6:$K$450,1,FALSE),\"\")","v":""},null,{"$f":"IF(ISNA(VLOOKUP(C273,'WK 2'!$K$6:$L$41,2,FALSE)=0),\"\",IF(VLOOKUP(C273,'WK 2'!$K$6:$L$41,2,FALSE)=0,\"\",VLOOKUP(C273,'WK 2'!$K$6:$L$41,2,FALSE)))","v":""},{"$f":"IF(ISNA(VLOOKUP(C273,'WK 3'!$K$6:$L$41,2,FALSE)=0),\"\",IF(VLOOKUP(C273,'WK 3'!$K$6:$L$41,2,FALSE)=0,\"\",VLOOKUP(C273,'WK 3'!$K$6:$L$41,2,FALSE)))","v":""},{"$f":"IF(ISNA(VLOOKUP(C273,'WK 4'!$K$6:$L$41,2,FALSE)=0),\"\",IF(VLOOKUP(C273,'WK 4'!$K$6:$L$41,2,FALSE)=0,\"\",VLOOKUP(C273,'WK 4'!$K$6:$L$41,2,FALSE)))","v":""},{"$f":"IF(ISNA(VLOOKUP(C273,'WK 5'!$K$6:$L$41,2,FALSE)=0),\"\",IF(VLOOKUP(C273,'WK 5'!$K$6:$L$41,2,FALSE)=0,\"\",VLOOKUP(C273,'WK 5'!$K$6:$L$41,2,FALSE)))","v":""},{"$f":"IF(ISNA(VLOOKUP(C273,'WK 6'!$K$6:$L$41,2,FALSE)=0),\"\",IF(VLOOKUP(C273,'WK 6'!$K$6:$L$41,2,FALSE)=0,\"\",VLOOKUP(C273,'WK 6'!$K$6:$L$41,2,FALSE)))","v":""},{"$f":"IF(ISNA(VLOOKUP(C273,'WK 7'!$K$6:$L$41,2,FALSE)=0),\"\",IF(VLOOKUP(C273,'WK 7'!$K$6:$L$41,2,FALSE)=0,\"\",VLOOKUP(C273,'WK 7'!$K$6:$L$41,2,FALSE)))","v":""},{"$f":"IF(ISNA(VLOOKUP(C273,'WK 8'!$K$6:$L$41,2,FALSE)=0),\"\",IF(VLOOKUP(C273,'WK 8'!$K$6:$L$41,2,FALSE)=0,\"\",VLOOKUP(C273,'WK 8'!$K$6:$L$41,2,FALSE)))","v":""},{"$f":"IF(ISNA(VLOOKUP(C273,'WK 9'!$K$6:$L$41,2,FALSE)=0),\"\",IF(VLOOKUP(C273,'WK 9'!$K$6:$L$41,2,FALSE)=0,\"\",VLOOKUP(C273,'WK 9'!$K$6:$L$41,2,FALSE)))","v":""},{"$f":"IF(ISNA(VLOOKUP(C273,'WK 10'!$K$6:$L$41,2,FALSE)=0),\"\",IF(VLOOKUP(C273,'WK 10'!$K$6:$L$41,2,FALSE)=0,\"\",VLOOKUP(C273,'WK 10'!$K$6:$L$41,2,FALSE)))","v":""},0]
[null,null,{"$f":"IF(ISNA(VLOOKUP('WK 8'!K26,$C$2:$C$253,1,FALSE)),VLOOKUP('WK 8'!K26,'WK 8'!$K$6:$K$450,1,FALSE),\"\")","v":""},null,{"$f":"IF(ISNA(VLOOKUP(C274,'WK 2'!$K$6:$L$41,2,FALSE)=0),\"\",IF(VLOOKUP(C274,'WK 2'!$K$6:$L$41,2,FALSE)=0,\"\",VLOOKUP(C274,'WK 2'!$K$6:$L$41,2,FALSE)))","v":""},{"$f":"IF(ISNA(VLOOKUP(C274,'WK 3'!$K$6:$L$41,2,FALSE)=0),\"\",IF(VLOOKUP(C274,'WK 3'!$K$6:$L$41,2,FALSE)=0,\"\",VLOOKUP(C274,'WK 3'!$K$6:$L$41,2,FALSE)))","v":""},{"$f":"IF(ISNA(VLOOKUP(C274,'WK 4'!$K$6:$L$41,2,FALSE)=0),\"\",IF(VLOOKUP(C274,'WK 4'!$K$6:$L$41,2,FALSE)=0,\"\",VLOOKUP(C274,'WK 4'!$K$6:$L$41,2,FALSE)))","v":""},{"$f":"IF(ISNA(VLOOKUP(C274,'WK 5'!$K$6:$L$41,2,FALSE)=0),\"\",IF(VLOOKUP(C274,'WK 5'!$K$6:$L$41,2,FALSE)=0,\"\",VLOOKUP(C274,'WK 5'!$K$6:$L$41,2,FALSE)))","v":""},{"$f":"IF(ISNA(VLOOKUP(C274,'WK 6'!$K$6:$L$41,2,FALSE)=0),\"\",IF(VLOOKUP(C274,'WK 6'!$K$6:$L$41,2,FALSE)=0,\"\",VLOOKUP(C274,'WK 6'!$K$6:$L$41,2,FALSE)))","v":""},{"$f":"IF(ISNA(VLOOKUP(C274,'WK 7'!$K$6:$L$41,2,FALSE)=0),\"\",IF(VLOOKUP(C274,'WK 7'!$K$6:$L$41,2,FALSE)=0,\"\",VLOOKUP(C274,'WK 7'!$K$6:$L$41,2,FALSE)))","v":""},{"$f":"IF(ISNA(VLOOKUP(C274,'WK 8'!$K$6:$L$41,2,FALSE)=0),\"\",IF(VLOOKUP(C274,'WK 8'!$K$6:$L$41,2,FALSE)=0,\"\",VLOOKUP(C274,'WK 8'!$K$6:$L$41,2,FALSE)))","v":""},{"$f":"IF(ISNA(VLOOKUP(C274,'WK 9'!$K$6:$L$41,2,FALSE)=0),\"\",IF(VLOOKUP(C274,'WK 9'!$K$6:$L$41,2,FALSE)=0,\"\",VLOOKUP(C274,'WK 9'!$K$6:$L$41,2,FALSE)))","v":""},{"$f":"IF(ISNA(VLOOKUP(C274,'WK 10'!$K$6:$L$41,2,FALSE)=0),\"\",IF(VLOOKUP(C274,'WK 10'!$K$6:$L$41,2,FALSE)=0,\"\",VLOOKUP(C274,'WK 10'!$K$6:$L$41,2,FALSE)))","v":""},0]
[null,null,{"$f":"IF(ISNA(VLOOKUP('WK 8'!K27,$C$2:$C$253,1,FALSE)),VLOOKUP('WK 8'!K27,'WK 8'!$K$6:$K$450,1,FALSE),\"\")","v":""},null,{"$f":"IF(ISNA(VLOOKUP(C275,'WK 2'!$K$6:$L$41,2,FALSE)=0),\"\",IF(VLOOKUP(C275,'WK 2'!$K$6:$L$41,2,FALSE)=0,\"\",VLOOKUP(C275,'WK 2'!$K$6:$L$41,2,FALSE)))","v":""},{"$f":"IF(ISNA(VLOOKUP(C275,'WK 3'!$K$6:$L$41,2,FALSE)=0),\"\",IF(VLOOKUP(C275,'WK 3'!$K$6:$L$41,2,FALSE)=0,\"\",VLOOKUP(C275,'WK 3'!$K$6:$L$41,2,FALSE)))","v":""},{"$f":"IF(ISNA(VLOOKUP(C275,'WK 4'!$K$6:$L$41,2,FALSE)=0),\"\",IF(VLOOKUP(C275,'WK 4'!$K$6:$L$41,2,FALSE)=0,\"\",VLOOKUP(C275,'WK 4'!$K$6:$L$41,2,FALSE)))","v":""},{"$f":"IF(ISNA(VLOOKUP(C275,'WK 5'!$K$6:$L$41,2,FALSE)=0),\"\",IF(VLOOKUP(C275,'WK 5'!$K$6:$L$41,2,FALSE)=0,\"\",VLOOKUP(C275,'WK 5'!$K$6:$L$41,2,FALSE)))","v":""},{"$f":"IF(ISNA(VLOOKUP(C275,'WK 6'!$K$6:$L$41,2,FALSE)=0),\"\",IF(VLOOKUP(C275,'WK 6'!$K$6:$L$41,2,FALSE)=0,\"\",VLOOKUP(C275,'WK 6'!$K$6:$L$41,2,FALSE)))","v":""},{"$f":"IF(ISNA(VLOOKUP(C275,'WK 7'!$K$6:$L$41,2,FALSE)=0),\"\",IF(VLOOKUP(C275,'WK 7'!$K$6:$L$41,2,FALSE)=0,\"\",VLOOKUP(C275,'WK 7'!$K$6:$L$41,2,FALSE)))","v":""},{"$f":"IF(ISNA(VLOOKUP(C275,'WK 8'!$K$6:$L$41,2,FALSE)=0),\"\",IF(VLOOKUP(C275,'WK 8'!$K$6:$L$41,2,FALSE)=0,\"\",VLOOKUP(C275,'WK 8'!$K$6:$L$41,2,FALSE)))","v":""},{"$f":"IF(ISNA(VLOOKUP(C275,'WK 9'!$K$6:$L$41,2,FALSE)=0),\"\",IF(VLOOKUP(C275,'WK 9'!$K$6:$L$41,2,FALSE)=0,\"\",VLOOKUP(C275,'WK 9'!$K$6:$L$41,2,FALSE)))","v":""},{"$f":"IF(ISNA(VLOOKUP(C275,'WK 10'!$K$6:$L$41,2,FALSE)=0),\"\",IF(VLOOKUP(C275,'WK 10'!$K$6:$L$41,2,FALSE)=0,\"\",VLOOKUP(C275,'WK 10'!$K$6:$L$41,2,FALSE)))","v":""},0]
[null,null,{"$f":"IF(ISNA(VLOOKUP('WK 8'!K28,$C$2:$C$253,1,FALSE)),VLOOKUP('WK 8'!K28,'WK 8'!$K$6:$K$450,1,FALSE),\"\")","v":""},null,{"$f":"IF(ISNA(VLOOKUP(C276,'WK 2'!$K$6:$L$41,2,FALSE)=0),\"\",IF(VLOOKUP(C276,'WK 2'!$K$6:$L$41,2,FALSE)=0,\"\",VLOOKUP(C276,'WK 2'!$K$6:$L$41,2,FALSE)))","v":""},{"$f":"IF(ISNA(VLOOKUP(C276,'WK 3'!$K$6:$L$41,2,FALSE)=0),\"\",IF(VLOOKUP(C276,'WK 3'!$K$6:$L$41,2,FALSE)=0,\"\",VLOOKUP(C276,'WK 3'!$K$6:$L$41,2,FALSE)))","v":""},{"$f":"IF(ISNA(VLOOKUP(C276,'WK 4'!$K$6:$L$41,2,FALSE)=0),\"\",IF(VLOOKUP(C276,'WK 4'!$K$6:$L$41,2,FALSE)=0,\"\",VLOOKUP(C276,'WK 4'!$K$6:$L$41,2,FALSE)))","v":""},{"$f":"IF(ISNA(VLOOKUP(C276,'WK 5'!$K$6:$L$41,2,FALSE)=0),\"\",IF(VLOOKUP(C276,'WK 5'!$K$6:$L$41,2,FALSE)=0,\"\",VLOOKUP(C276,'WK 5'!$K$6:$L$41,2,FALSE)))","v":""},{"$f":"IF(ISNA(VLOOKUP(C276,'WK 6'!$K$6:$L$41,2,FALSE)=0),\"\",IF(VLOOKUP(C276,'WK 6'!$K$6:$L$41,2,FALSE)=0,\"\",VLOOKUP(C276,'WK 6'!$K$6:$L$41,2,FALSE)))","v":""},{"$f":"IF(ISNA(VLOOKUP(C276,'WK 7'!$K$6:$L$41,2,FALSE)=0),\"\",IF(VLOOKUP(C276,'WK 7'!$K$6:$L$41,2,FALSE)=0,\"\",VLOOKUP(C276,'WK 7'!$K$6:$L$41,2,FALSE)))","v":""},{"$f":"IF(ISNA(VLOOKUP(C276,'WK 8'!$K$6:$L$41,2,FALSE)=0),\"\",IF(VLOOKUP(C276,'WK 8'!$K$6:$L$41,2,FALSE)=0,\"\",VLOOKUP(C276,'WK 8'!$K$6:$L$41,2,FALSE)))","v":""},{"$f":"IF(ISNA(VLOOKUP(C276,'WK 9'!$K$6:$L$41,2,FALSE)=0),\"\",IF(VLOOKUP(C276,'WK 9'!$K$6:$L$41,2,FALSE)=0,\"\",VLOOKUP(C276,'WK 9'!$K$6:$L$41,2,FALSE)))","v":""},{"$f":"IF(ISNA(VLOOKUP(C276,'WK 10'!$K$6:$L$41,2,FALSE)=0),\"\",IF(VLOOKUP(C276,'WK 10'!$K$6:$L$41,2,FALSE)=0,\"\",VLOOKUP(C276,'WK 10'!$K$6:$L$41,2,FALSE)))","v":""},0]
[null,null,{"$f":"IF(ISNA(VLOOKUP('WK 8'!K29,$C$2:$C$253,1,FALSE)),VLOOKUP('WK 8'!K29,'WK 8'!$K$6:$K$450,1,FALSE),\"\")","v":""},null,{"$f":"IF(ISNA(VLOOKUP(C277,'WK 2'!$K$6:$L$41,2,FALSE)=0),\"\",IF(VLOOKUP(C277,'WK 2'!$K$6:$L$41,2,FALSE)=0,\"\",VLOOKUP(C277,'WK 2'!$K$6:$L$41,2,FALSE)))","v":""},{"$f":"IF(ISNA(VLOOKUP(C277,'WK 3'!$K$6:$L$41,2,FALSE)=0),\"\",IF(VLOOKUP(C277,'WK 3'!$K$6:$L$41,2,FALSE)=0,\"\",VLOOKUP(C277,'WK 3'!$K$6:$L$41,2,FALSE)))","v":""},{"$f":"IF(ISNA(VLOOKUP(C277,'WK 4'!$K$6:$L$41,2,FALSE)=0),\"\",IF(VLOOKUP(C277,'WK 4'!$K$6:$L$41,2,FALSE)=0,\"\",VLOOKUP(C277,'WK 4'!$K$6:$L$41,2,FALSE)))","v":""},{"$f":"IF(ISNA(VLOOKUP(C277,'WK 5'!$K$6:$L$41,2,FALSE)=0),\"\",IF(VLOOKUP(C277,'WK 5'!$K$6:$L$41,2,FALSE)=0,\"\",VLOOKUP(C277,'WK 5'!$K$6:$L$41,2,FALSE)))","v":""},{"$f":"IF(ISNA(VLOOKUP(C277,'WK 6'!$K$6:$L$41,2,FALSE)=0),\"\",IF(VLOOKUP(C277,'WK 6'!$K$6:$L$41,2,FALSE)=0,\"\",VLOOKUP(C277,'WK 6'!$K$6:$L$41,2,FALSE)))","v":""},{"$f":"IF(ISNA(VLOOKUP(C277,'WK 7'!$K$6:$L$41,2,FALSE)=0),\"\",IF(VLOOKUP(C277,'WK 7'!$K$6:$L$41,2,FALSE)=0,\"\",VLOOKUP(C277,'WK 7'!$K$6:$L$41,2,FALSE)))","v":""},{"$f":"IF(ISNA(VLOOKUP(C277,'WK 8'!$K$6:$L$41,2,FALSE)=0),\"\",IF(VLOOKUP(C277,'WK 8'!$K$6:$L$41,2,FALSE)=0,\"\",VLOOKUP(C277,'WK 8'!$K$6:$L$41,2,FALSE)))","v":""},{"$f":"IF(ISNA(VLOOKUP(C277,'WK 9'!$K$6:$L$41,2,FALSE)=0),\"\",IF(VLOOKUP(C277,'WK 9'!$K$6:$L$41,2,FALSE)=0,\"\",VLOOKUP(C277,'WK 9'!$K$6:$L$41,2,FALSE)))","v":""},{"$f":"IF(ISNA(VLOOKUP(C277,'WK 10'!$K$6:$L$41,2,FALSE)=0),\"\",IF(VLOOKUP(C277,'WK 10'!$K$6:$L$41,2,FALSE)=0,\"\",VLOOKUP(C277,'WK 10'!$K$6:$L$41,2,FALSE)))","v":""},0]
[null,null,{"$f":"IF(ISNA(VLOOKUP('WK 8'!K30,$C$2:$C$253,1,FALSE)),VLOOKUP('WK 8'!K30,'WK 8'!$K$6:$K$450,1,FALSE),\"\")","v":""},null,{"$f":"IF(ISNA(VLOOKUP(C278,'WK 2'!$K$6:$L$41,2,FALSE)=0),\"\",IF(VLOOKUP(C278,'WK 2'!$K$6:$L$41,2,FALSE)=0,\"\",VLOOKUP(C278,'WK 2'!$K$6:$L$41,2,FALSE)))","v":""},{"$f":"IF(ISNA(VLOOKUP(C278,'WK 3'!$K$6:$L$41,2,FALSE)=0),\"\",IF(VLOOKUP(C278,'WK 3'!$K$6:$L$41,2,FALSE)=0,\"\",VLOOKUP(C278,'WK 3'!$K$6:$L$41,2,FALSE)))","v":""},{"$f":"IF(ISNA(VLOOKUP(C278,'WK 4'!$K$6:$L$41,2,FALSE)=0),\"\",IF(VLOOKUP(C278,'WK 4'!$K$6:$L$41,2,FALSE)=0,\"\",VLOOKUP(C278,'WK 4'!$K$6:$L$41,2,FALSE)))","v":""},{"$f":"IF(ISNA(VLOOKUP(C278,'WK 5'!$K$6:$L$41,2,FALSE)=0),\"\",IF(VLOOKUP(C278,'WK 5'!$K$6:$L$41,2,FALSE)=0,\"\",VLOOKUP(C278,'WK 5'!$K$6:$L$41,2,FALSE)))","v":""},{"$f":"IF(ISNA(VLOOKUP(C278,'WK 6'!$K$6:$L$41,2,FALSE)=0),\"\",IF(VLOOKUP(C278,'WK 6'!$K$6:$L$41,2,FALSE)=0,\"\",VLOOKUP(C278,'WK 6'!$K$6:$L$41,2,FALSE)))","v":""},{"$f":"IF(ISNA(VLOOKUP(C278,'WK 7'!$K$6:$L$41,2,FALSE)=0),\"\",IF(VLOOKUP(C278,'WK 7'!$K$6:$L$41,2,FALSE)=0,\"\",VLOOKUP(C278,'WK 7'!$K$6:$L$41,2,FALSE)))","v":""},{"$f":"IF(ISNA(VLOOKUP(C278,'WK 8'!$K$6:$L$41,2,FALSE)=0),\"\",IF(VLOOKUP(C278,'WK 8'!$K$6:$L$41,2,FALSE)=0,\"\",VLOOKUP(C278,'WK 8'!$K$6:$L$41,2,FALSE)))","v":""},{"$f":"IF(ISNA(VLOOKUP(C278,'WK 9'!$K$6:$L$41,2,FALSE)=0),\"\",IF(VLOOKUP(C278,'WK 9'!$K$6:$L$41,2,FALSE)=0,\"\",VLOOKUP(C278,'WK 9'!$K$6:$L$41,2,FALSE)))","v":""},{"$f":"IF(ISNA(VLOOKUP(C278,'WK 10'!$K$6:$L$41,2,FALSE)=0),\"\",IF(VLOOKUP(C278,'WK 10'!$K$6:$L$41,2,FALSE)=0,\"\",VLOOKUP(C278,'WK 10'!$K$6:$L$41,2,FALSE)))","v":""},0]
[null,null,{"$f":"IF(ISNA(VLOOKUP('WK 8'!K31,$C$2:$C$253,1,FALSE)),VLOOKUP('WK 8'!K31,'WK 8'!$K$6:$K$450,1,FALSE),\"\")","v":""},null,{"$f":"IF(ISNA(VLOOKUP(C279,'WK 2'!$K$6:$L$41,2,FALSE)=0),\"\",IF(VLOOKUP(C279,'WK 2'!$K$6:$L$41,2,FALSE)=0,\"\",VLOOKUP(C279,'WK 2'!$K$6:$L$41,2,FALSE)))","v":""},{"$f":"IF(ISNA(VLOOKUP(C279,'WK 3'!$K$6:$L$41,2,FALSE)=0),\"\",IF(VLOOKUP(C279,'WK 3'!$K$6:$L$41,2,FALSE)=0,\"\",VLOOKUP(C279,'WK 3'!$K$6:$L$41,2,FALSE)))","v":""},{"$f":"IF(ISNA(VLOOKUP(C279,'WK 4'!$K$6:$L$41,2,FALSE)=0),\"\",IF(VLOOKUP(C279,'WK 4'!$K$6:$L$41,2,FALSE)=0,\"\",VLOOKUP(C279,'WK 4'!$K$6:$L$41,2,FALSE)))","v":""},{"$f":"IF(ISNA(VLOOKUP(C279,'WK 5'!$K$6:$L$41,2,FALSE)=0),\"\",IF(VLOOKUP(C279,'WK 5'!$K$6:$L$41,2,FALSE)=0,\"\",VLOOKUP(C279,'WK 5'!$K$6:$L$41,2,FALSE)))","v":""},{"$f":"IF(ISNA(VLOOKUP(C279,'WK 6'!$K$6:$L$41,2,FALSE)=0),\"\",IF(VLOOKUP(C279,'WK 6'!$K$6:$L$41,2,FALSE)=0,\"\",VLOOKUP(C279,'WK 6'!$K$6:$L$41,2,FALSE)))","v":""},{"$f":"IF(ISNA(VLOOKUP(C279,'WK 7'!$K$6:$L$41,2,FALSE)=0),\"\",IF(VLOOKUP(C279,'WK 7'!$K$6:$L$41,2,FALSE)=0,\"\",VLOOKUP(C279,'WK 7'!$K$6:$L$41,2,FALSE)))","v":""},{"$f":"IF(ISNA(VLOOKUP(C279,'WK 8'!$K$6:$L$41,2,FALSE)=0),\"\",IF(VLOOKUP(C279,'WK 8'!$K$6:$L$41,2,FALSE)=0,\"\",VLOOKUP(C279,'WK 8'!$K$6:$L$41,2,FALSE)))","v":""},{"$f":"IF(ISNA(VLOOKUP(C279,'WK 9'!$K$6:$L$41,2,FALSE)=0),\"\",IF(VLOOKUP(C279,'WK 9'!$K$6:$L$41,2,FALSE)=0,\"\",VLOOKUP(C279,'WK 9'!$K$6:$L$41,2,FALSE)))","v":""},{"$f":"IF(ISNA(VLOOKUP(C279,'WK 10'!$K$6:$L$41,2,FALSE)=0),\"\",IF(VLOOKUP(C279,'WK 10'!$K$6:$L$41,2,FALSE)=0,\"\",VLOOKUP(C279,'WK 10'!$K$6:$L$41,2,FALSE)))","v":""},0]
[null,null,{"$f":"IF(ISNA(VLOOKUP('WK 8'!K32,$C$2:$C$253,1,FALSE)),VLOOKUP('WK 8'!K32,'WK 8'!$K$6:$K$450,1,FALSE),\"\")","v":""},null,{"$f":"IF(ISNA(VLOOKUP(C280,'WK 2'!$K$6:$L$41,2,FALSE)=0),\"\",IF(VLOOKUP(C280,'WK 2'!$K$6:$L$41,2,FALSE)=0,\"\",VLOOKUP(C280,'WK 2'!$K$6:$L$41,2,FALSE)))","v":""},{"$f":"IF(ISNA(VLOOKUP(C280,'WK 3'!$K$6:$L$41,2,FALSE)=0),\"\",IF(VLOOKUP(C280,'WK 3'!$K$6:$L$41,2,FALSE)=0,\"\",VLOOKUP(C280,'WK 3'!$K$6:$L$41,2,FALSE)))","v":""},{"$f":"IF(ISNA(VLOOKUP(C280,'WK 4'!$K$6:$L$41,2,FALSE)=0),\"\",IF(VLOOKUP(C280,'WK 4'!$K$6:$L$41,2,FALSE)=0,\"\",VLOOKUP(C280,'WK 4'!$K$6:$L$41,2,FALSE)))","v":""},{"$f":"IF(ISNA(VLOOKUP(C280,'WK 5'!$K$6:$L$41,2,FALSE)=0),\"\",IF(VLOOKUP(C280,'WK 5'!$K$6:$L$41,2,FALSE)=0,\"\",VLOOKUP(C280,'WK 5'!$K$6:$L$41,2,FALSE)))","v":""},{"$f":"IF(ISNA(VLOOKUP(C280,'WK 6'!$K$6:$L$41,2,FALSE)=0),\"\",IF(VLOOKUP(C280,'WK 6'!$K$6:$L$41,2,FALSE)=0,\"\",VLOOKUP(C280,'WK 6'!$K$6:$L$41,2,FALSE)))","v":""},{"$f":"IF(ISNA(VLOOKUP(C280,'WK 7'!$K$6:$L$41,2,FALSE)=0),\"\",IF(VLOOKUP(C280,'WK 7'!$K$6:$L$41,2,FALSE)=0,\"\",VLOOKUP(C280,'WK 7'!$K$6:$L$41,2,FALSE)))","v":""},{"$f":"IF(ISNA(VLOOKUP(C280,'WK 8'!$K$6:$L$41,2,FALSE)=0),\"\",IF(VLOOKUP(C280,'WK 8'!$K$6:$L$41,2,FALSE)=0,\"\",VLOOKUP(C280,'WK 8'!$K$6:$L$41,2,FALSE)))","v":""},{"$f":"IF(ISNA(VLOOKUP(C280,'WK 9'!$K$6:$L$41,2,FALSE)=0),\"\",IF(VLOOKUP(C280,'WK 9'!$K$6:$L$41,2,FALSE)=0,\"\",VLOOKUP(C280,'WK 9'!$K$6:$L$41,2,FALSE)))","v":""},{"$f":"IF(ISNA(VLOOKUP(C280,'WK 10'!$K$6:$L$41,2,FALSE)=0),\"\",IF(VLOOKUP(C280,'WK 10'!$K$6:$L$41,2,FALSE)=0,\"\",VLOOKUP(C280,'WK 10'!$K$6:$L$41,2,FALSE)))","v":""},0]
[null,null,{"$f":"IF(ISNA(VLOOKUP('WK 8'!K33,$C$2:$C$253,1,FALSE)),VLOOKUP('WK 8'!K33,'WK 8'!$K$6:$K$450,1,FALSE),\"\")","v":""},null,{"$f":"IF(ISNA(VLOOKUP(C281,'WK 2'!$K$6:$L$41,2,FALSE)=0),\"\",IF(VLOOKUP(C281,'WK 2'!$K$6:$L$41,2,FALSE)=0,\"\",VLOOKUP(C281,'WK 2'!$K$6:$L$41,2,FALSE)))","v":""},{"$f":"IF(ISNA(VLOOKUP(C281,'WK 3'!$K$6:$L$41,2,FALSE)=0),\"\",IF(VLOOKUP(C281,'WK 3'!$K$6:$L$41,2,FALSE)=0,\"\",VLOOKUP(C281,'WK 3'!$K$6:$L$41,2,FALSE)))","v":""},{"$f":"IF(ISNA(VLOOKUP(C281,'WK 4'!$K$6:$L$41,2,FALSE)=0),\"\",IF(VLOOKUP(C281,'WK 4'!$K$6:$L$41,2,FALSE)=0,\"\",VLOOKUP(C281,'WK 4'!$K$6:$L$41,2,FALSE)))","v":""},{"$f":"IF(ISNA(VLOOKUP(C281,'WK 5'!$K$6:$L$41,2,FALSE)=0),\"\",IF(VLOOKUP(C281,'WK 5'!$K$6:$L$41,2,FALSE)=0,\"\",VLOOKUP(C281,'WK 5'!$K$6:$L$41,2,FALSE)))","v":""},{"$f":"IF(ISNA(VLOOKUP(C281,'WK 6'!$K$6:$L$41,2,FALSE)=0),\"\",IF(VLOOKUP(C281,'WK 6'!$K$6:$L$41,2,FALSE)=0,\"\",VLOOKUP(C281,'WK 6'!$K$6:$L$41,2,FALSE)))","v":""},{"$f":"IF(ISNA(VLOOKUP(C281,'WK 7'!$K$6:$L$41,2,FALSE)=0),\"\",IF(VLOOKUP(C281,'WK 7'!$K$6:$L$41,2,FALSE)=0,\"\",VLOOKUP(C281,'WK 7'!$K$6:$L$41,2,FALSE)))","v":""},{"$f":"IF(ISNA(VLOOKUP(C281,'WK 8'!$K$6:$L$41,2,FALSE)=0),\"\",IF(VLOOKUP(C281,'WK 8'!$K$6:$L$41,2,FALSE)=0,\"\",VLOOKUP(C281,'WK 8'!$K$6:$L$41,2,FALSE)))","v":""},{"$f":"IF(ISNA(VLOOKUP(C281,'WK 9'!$K$6:$L$41,2,FALSE)=0),\"\",IF(VLOOKUP(C281,'WK 9'!$K$6:$L$41,2,FALSE)=0,\"\",VLOOKUP(C281,'WK 9'!$K$6:$L$41,2,FALSE)))","v":""},{"$f":"IF(ISNA(VLOOKUP(C281,'WK 10'!$K$6:$L$41,2,FALSE)=0),\"\",IF(VLOOKUP(C281,'WK 10'!$K$6:$L$41,2,FALSE)=0,\"\",VLOOKUP(C281,'WK 10'!$K$6:$L$41,2,FALSE)))","v":""},0]
[null,null,{"$f":"IF(ISNA(VLOOKUP('WK 8'!K34,$C$2:$C$253,1,FALSE)),VLOOKUP('WK 8'!K34,'WK 8'!$K$6:$K$450,1,FALSE),\"\")","v":""},null,{"$f":"IF(ISNA(VLOOKUP(C282,'WK 2'!$K$6:$L$41,2,FALSE)=0),\"\",IF(VLOOKUP(C282,'WK 2'!$K$6:$L$41,2,FALSE)=0,\"\",VLOOKUP(C282,'WK 2'!$K$6:$L$41,2,FALSE)))","v":""},{"$f":"IF(ISNA(VLOOKUP(C282,'WK 3'!$K$6:$L$41,2,FALSE)=0),\"\",IF(VLOOKUP(C282,'WK 3'!$K$6:$L$41,2,FALSE)=0,\"\",VLOOKUP(C282,'WK 3'!$K$6:$L$41,2,FALSE)))","v":""},{"$f":"IF(ISNA(VLOOKUP(C282,'WK 4'!$K$6:$L$41,2,FALSE)=0),\"\",IF(VLOOKUP(C282,'WK 4'!$K$6:$L$41,2,FALSE)=0,\"\",VLOOKUP(C282,'WK 4'!$K$6:$L$41,2,FALSE)))","v":""},{"$f":"IF(ISNA(VLOOKUP(C282,'WK 5'!$K$6:$L$41,2,FALSE)=0),\"\",IF(VLOOKUP(C282,'WK 5'!$K$6:$L$41,2,FALSE)=0,\"\",VLOOKUP(C282,'WK 5'!$K$6:$L$41,2,FALSE)))","v":""},{"$f":"IF(ISNA(VLOOKUP(C282,'WK 6'!$K$6:$L$41,2,FALSE)=0),\"\",IF(VLOOKUP(C282,'WK 6'!$K$6:$L$41,2,FALSE)=0,\"\",VLOOKUP(C282,'WK 6'!$K$6:$L$41,2,FALSE)))","v":""},{"$f":"IF(ISNA(VLOOKUP(C282,'WK 7'!$K$6:$L$41,2,FALSE)=0),\"\",IF(VLOOKUP(C282,'WK 7'!$K$6:$L$41,2,FALSE)=0,\"\",VLOOKUP(C282,'WK 7'!$K$6:$L$41,2,FALSE)))","v":""},{"$f":"IF(ISNA(VLOOKUP(C282,'WK 8'!$K$6:$L$41,2,FALSE)=0),\"\",IF(VLOOKUP(C282,'WK 8'!$K$6:$L$41,2,FALSE)=0,\"\",VLOOKUP(C282,'WK 8'!$K$6:$L$41,2,FALSE)))","v":""},{"$f":"IF(ISNA(VLOOKUP(C282,'WK 9'!$K$6:$L$41,2,FALSE)=0),\"\",IF(VLOOKUP(C282,'WK 9'!$K$6:$L$41,2,FALSE)=0,\"\",VLOOKUP(C282,'WK 9'!$K$6:$L$41,2,FALSE)))","v":""},{"$f":"IF(ISNA(VLOOKUP(C282,'WK 10'!$K$6:$L$41,2,FALSE)=0),\"\",IF(VLOOKUP(C282,'WK 10'!$K$6:$L$41,2,FALSE)=0,\"\",VLOOKUP(C282,'WK 10'!$K$6:$L$41,2,FALSE)))","v":""},0]
[null,null,{"$f":"IF(ISNA(VLOOKUP('WK 8'!K35,$C$2:$C$253,1,FALSE)),VLOOKUP('WK 8'!K35,'WK 8'!$K$6:$K$450,1,FALSE),\"\")","v":""},null,{"$f":"IF(ISNA(VLOOKUP(C283,'WK 2'!$K$6:$L$41,2,FALSE)=0),\"\",IF(VLOOKUP(C283,'WK 2'!$K$6:$L$41,2,FALSE)=0,\"\",VLOOKUP(C283,'WK 2'!$K$6:$L$41,2,FALSE)))","v":""},{"$f":"IF(ISNA(VLOOKUP(C283,'WK 3'!$K$6:$L$41,2,FALSE)=0),\"\",IF(VLOOKUP(C283,'WK 3'!$K$6:$L$41,2,FALSE)=0,\"\",VLOOKUP(C283,'WK 3'!$K$6:$L$41,2,FALSE)))","v":""},{"$f":"IF(ISNA(VLOOKUP(C283,'WK 4'!$K$6:$L$41,2,FALSE)=0),\"\",IF(VLOOKUP(C283,'WK 4'!$K$6:$L$41,2,FALSE)=0,\"\",VLOOKUP(C283,'WK 4'!$K$6:$L$41,2,FALSE)))","v":""},{"$f":"IF(ISNA(VLOOKUP(C283,'WK 5'!$K$6:$L$41,2,FALSE)=0),\"\",IF(VLOOKUP(C283,'WK 5'!$K$6:$L$41,2,FALSE)=0,\"\",VLOOKUP(C283,'WK 5'!$K$6:$L$41,2,FALSE)))","v":""},{"$f":"IF(ISNA(VLOOKUP(C283,'WK 6'!$K$6:$L$41,2,FALSE)=0),\"\",IF(VLOOKUP(C283,'WK 6'!$K$6:$L$41,2,FALSE)=0,\"\",VLOOKUP(C283,'WK 6'!$K$6:$L$41,2,FALSE)))","v":""},{"$f":"IF(ISNA(VLOOKUP(C283,'WK 7'!$K$6:$L$41,2,FALSE)=0),\"\",IF(VLOOKUP(C283,'WK 7'!$K$6:$L$41,2,FALSE)=0,\"\",VLOOKUP(C283,'WK 7'!$K$6:$L$41,2,FALSE)))","v":""},{"$f":"IF(ISNA(VLOOKUP(C283,'WK 8'!$K$6:$L$41,2,FALSE)=0),\"\",IF(VLOOKUP(C283,'WK 8'!$K$6:$L$41,2,FALSE)=0,\"\",VLOOKUP(C283,'WK 8'!$K$6:$L$41,2,FALSE)))","v":""},{"$f":"IF(ISNA(VLOOKUP(C283,'WK 9'!$K$6:$L$41,2,FALSE)=0),\"\",IF(VLOOKUP(C283,'WK 9'!$K$6:$L$41,2,FALSE)=0,\"\",VLOOKUP(C283,'WK 9'!$K$6:$L$41,2,FALSE)))","v":""},{"$f":"IF(ISNA(VLOOKUP(C283,'WK 10'!$K$6:$L$41,2,FALSE)=0),\"\",IF(VLOOKUP(C283,'WK 10'!$K$6:$L$41,2,FALSE)=0,\"\",VLOOKUP(C283,'WK 10'!$K$6:$L$41,2,FALSE)))","v":""},0]
[null,null,{"$f":"IF(ISNA(VLOOKUP('WK 8'!K36,$C$2:$C$253,1,FALSE)),VLOOKUP('WK 8'!K36,'WK 8'!$K$6:$K$450,1,FALSE),\"\")","v":""},null,{"$f":"IF(ISNA(VLOOKUP(C284,'WK 2'!$K$6:$L$41,2,FALSE)=0),\"\",IF(VLOOKUP(C284,'WK 2'!$K$6:$L$41,2,FALSE)=0,\"\",VLOOKUP(C284,'WK 2'!$K$6:$L$41,2,FALSE)))","v":""},{"$f":"IF(ISNA(VLOOKUP(C284,'WK 3'!$K$6:$L$41,2,FALSE)=0),\"\",IF(VLOOKUP(C284,'WK 3'!$K$6:$L$41,2,FALSE)=0,\"\",VLOOKUP(C284,'WK 3'!$K$6:$L$41,2,FALSE)))","v":""},{"$f":"IF(ISNA(VLOOKUP(C284,'WK 4'!$K$6:$L$41,2,FALSE)=0),\"\",IF(VLOOKUP(C284,'WK 4'!$K$6:$L$41,2,FALSE)=0,\"\",VLOOKUP(C284,'WK 4'!$K$6:$L$41,2,FALSE)))","v":""},{"$f":"IF(ISNA(VLOOKUP(C284,'WK 5'!$K$6:$L$41,2,FALSE)=0),\"\",IF(VLOOKUP(C284,'WK 5'!$K$6:$L$41,2,FALSE)=0,\"\",VLOOKUP(C284,'WK 5'!$K$6:$L$41,2,FALSE)))","v":""},{"$f":"IF(ISNA(VLOOKUP(C284,'WK 6'!$K$6:$L$41,2,FALSE)=0),\"\",IF(VLOOKUP(C284,'WK 6'!$K$6:$L$41,2,FALSE)=0,\"\",VLOOKUP(C284,'WK 6'!$K$6:$L$41,2,FALSE)))","v":""},{"$f":"IF(ISNA(VLOOKUP(C284,'WK 7'!$K$6:$L$41,2,FALSE)=0),\"\",IF(VLOOKUP(C284,'WK 7'!$K$6:$L$41,2,FALSE)=0,\"\",VLOOKUP(C284,'WK 7'!$K$6:$L$41,2,FALSE)))","v":""},{"$f":"IF(ISNA(VLOOKUP(C284,'WK 8'!$K$6:$L$41,2,FALSE)=0),\"\",IF(VLOOKUP(C284,'WK 8'!$K$6:$L$41,2,FALSE)=0,\"\",VLOOKUP(C284,'WK 8'!$K$6:$L$41,2,FALSE)))","v":""},{"$f":"IF(ISNA(VLOOKUP(C284,'WK 9'!$K$6:$L$41,2,FALSE)=0),\"\",IF(VLOOKUP(C284,'WK 9'!$K$6:$L$41,2,FALSE)=0,\"\",VLOOKUP(C284,'WK 9'!$K$6:$L$41,2,FALSE)))","v":""},{"$f":"IF(ISNA(VLOOKUP(C284,'WK 10'!$K$6:$L$41,2,FALSE)=0),\"\",IF(VLOOKUP(C284,'WK 10'!$K$6:$L$41,2,FALSE)=0,\"\",VLOOKUP(C284,'WK 10'!$K$6:$L$41,2,FALSE)))","v":""},0]
[null,null,{"$f":"IF(ISNA(VLOOKUP('WK 8'!K37,$C$2:$C$253,1,FALSE)),VLOOKUP('WK 8'!K37,'WK 8'!$K$6:$K$450,1,FALSE),\"\")","v":""},null,{"$f":"IF(ISNA(VLOOKUP(C285,'WK 2'!$K$6:$L$41,2,FALSE)=0),\"\",IF(VLOOKUP(C285,'WK 2'!$K$6:$L$41,2,FALSE)=0,\"\",VLOOKUP(C285,'WK 2'!$K$6:$L$41,2,FALSE)))","v":""},{"$f":"IF(ISNA(VLOOKUP(C285,'WK 3'!$K$6:$L$41,2,FALSE)=0),\"\",IF(VLOOKUP(C285,'WK 3'!$K$6:$L$41,2,FALSE)=0,\"\",VLOOKUP(C285,'WK 3'!$K$6:$L$41,2,FALSE)))","v":""},{"$f":"IF(ISNA(VLOOKUP(C285,'WK 4'!$K$6:$L$41,2,FALSE)=0),\"\",IF(VLOOKUP(C285,'WK 4'!$K$6:$L$41,2,FALSE)=0,\"\",VLOOKUP(C285,'WK 4'!$K$6:$L$41,2,FALSE)))","v":""},{"$f":"IF(ISNA(VLOOKUP(C285,'WK 5'!$K$6:$L$41,2,FALSE)=0),\"\",IF(VLOOKUP(C285,'WK 5'!$K$6:$L$41,2,FALSE)=0,\"\",VLOOKUP(C285,'WK 5'!$K$6:$L$41,2,FALSE)))","v":""},{"$f":"IF(ISNA(VLOOKUP(C285,'WK 6'!$K$6:$L$41,2,FALSE)=0),\"\",IF(VLOOKUP(C285,'WK 6'!$K$6:$L$41,2,FALSE)=0,\"\",VLOOKUP(C285,'WK 6'!$K$6:$L$41,2,FALSE)))","v":""},{"$f":"IF(ISNA(VLOOKUP(C285,'WK 7'!$K$6:$L$41,2,FALSE)=0),\"\",IF(VLOOKUP(C285,'WK 7'!$K$6:$L$41,2,FALSE)=0,\"\",VLOOKUP(C285,'WK 7'!$K$6:$L$41,2,FALSE)))","v":""},{"$f":"IF(ISNA(VLOOKUP(C285,'WK 8'!$K$6:$L$41,2,FALSE)=0),\"\",IF(VLOOKUP(C285,'WK 8'!$K$6:$L$41,2,FALSE)=0,\"\",VLOOKUP(C285,'WK 8'!$K$6:$L$41,2,FALSE)))","v":""},{"$f":"IF(ISNA(VLOOKUP(C285,'WK 9'!$K$6:$L$41,2,FALSE)=0),\"\",IF(VLOOKUP(C285,'WK 9'!$K$6:$L$41,2,FALSE)=0,\"\",VLOOKUP(C285,'WK 9'!$K$6:$L$41,2,FALSE)))","v":""},{"$f":"IF(ISNA(VLOOKUP(C285,'WK 10'!$K$6:$L$41,2,FALSE)=0),\"\",IF(VLOOKUP(C285,'WK 10'!$K$6:$L$41,2,FALSE)=0,\"\",VLOOKUP(C285,'WK 10'!$K$6:$L$41,2,FALSE)))","v":""},0]
[null,null,{"$f":"IF(ISNA(VLOOKUP('WK 8'!K38,$C$2:$C$253,1,FALSE)),VLOOKUP('WK 8'!K38,'WK 8'!$K$6:$K$450,1,FALSE),\"\")","v":""},null,{"$f":"IF(ISNA(VLOOKUP(C286,'WK 2'!$K$6:$L$41,2,FALSE)=0),\"\",IF(VLOOKUP(C286,'WK 2'!$K$6:$L$41,2,FALSE)=0,\"\",VLOOKUP(C286,'WK 2'!$K$6:$L$41,2,FALSE)))","v":""},{"$f":"IF(ISNA(VLOOKUP(C286,'WK 3'!$K$6:$L$41,2,FALSE)=0),\"\",IF(VLOOKUP(C286,'WK 3'!$K$6:$L$41,2,FALSE)=0,\"\",VLOOKUP(C286,'WK 3'!$K$6:$L$41,2,FALSE)))","v":""},{"$f":"IF(ISNA(VLOOKUP(C286,'WK 4'!$K$6:$L$41,2,FALSE)=0),\"\",IF(VLOOKUP(C286,'WK 4'!$K$6:$L$41,2,FALSE)=0,\"\",VLOOKUP(C286,'WK 4'!$K$6:$L$41,2,FALSE)))","v":""},{"$f":"IF(ISNA(VLOOKUP(C286,'WK 5'!$K$6:$L$41,2,FALSE)=0),\"\",IF(VLOOKUP(C286,'WK 5'!$K$6:$L$41,2,FALSE)=0,\"\",VLOOKUP(C286,'WK 5'!$K$6:$L$41,2,FALSE)))","v":""},{"$f":"IF(ISNA(VLOOKUP(C286,'WK 6'!$K$6:$L$41,2,FALSE)=0),\"\",IF(VLOOKUP(C286,'WK 6'!$K$6:$L$41,2,FALSE)=0,\"\",VLOOKUP(C286,'WK 6'!$K$6:$L$41,2,FALSE)))","v":""},{"$f":"IF(ISNA(VLOOKUP(C286,'WK 7'!$K$6:$L$41,2,FALSE)=0),\"\",IF(VLOOKUP(C286,'WK 7'!$K$6:$L$41,2,FALSE)=0,\"\",VLOOKUP(C286,'WK 7'!$K$6:$L$41,2,FALSE)))","v":""},{"$f":"IF(ISNA(VLOOKUP(C286,'WK 8'!$K$6:$L$41,2,FALSE)=0),\"\",IF(VLOOKUP(C286,'WK 8'!$K$6:$L$41,2,FALSE)=0,\"\",VLOOKUP(C286,'WK 8'!$K$6:$L$41,2,FALSE)))","v":""},{"$f":"IF(ISNA(VLOOKUP(C286,'WK 9'!$K$6:$L$41,2,FALSE)=0),\"\",IF(VLOOKUP(C286,'WK 9'!$K$6:$L$41,2,FALSE)=0,\"\",VLOOKUP(C286,'WK 9'!$K$6:$L$41,2,FALSE)))","v":""},{"$f":"IF(ISNA(VLOOKUP(C286,'WK 10'!$K$6:$L$41,2,FALSE)=0),\"\",IF(VLOOKUP(C286,'WK 10'!$K$6:$L$41,2,FALSE)=0,\"\",VLOOKUP(C286,'WK 10'!$K$6:$L$41,2,FALSE)))","v":""},0]
[null,null,{"$f":"IF(ISNA(VLOOKUP('WK 8'!K39,$C$2:$C$253,1,FALSE)),VLOOKUP('WK 8'!K39,'WK 8'!$K$6:$K$450,1,FALSE),\"\")","v":""},null,{"$f":"IF(ISNA(VLOOKUP(C287,'WK 2'!$K$6:$L$41,2,FALSE)=0),\"\",IF(VLOOKUP(C287,'WK 2'!$K$6:$L$41,2,FALSE)=0,\"\",VLOOKUP(C287,'WK 2'!$K$6:$L$41,2,FALSE)))","v":""},{"$f":"IF(ISNA(VLOOKUP(C287,'WK 3'!$K$6:$L$41,2,FALSE)=0),\"\",IF(VLOOKUP(C287,'WK 3'!$K$6:$L$41,2,FALSE)=0,\"\",VLOOKUP(C287,'WK 3'!$K$6:$L$41,2,FALSE)))","v":""},{"$f":"IF(ISNA(VLOOKUP(C287,'WK 4'!$K$6:$L$41,2,FALSE)=0),\"\",IF(VLOOKUP(C287,'WK 4'!$K$6:$L$41,2,FALSE)=0,\"\",VLOOKUP(C287,'WK 4'!$K$6:$L$41,2,FALSE)))","v":""},{"$f":"IF(ISNA(VLOOKUP(C287,'WK 5'!$K$6:$L$41,2,FALSE)=0),\"\",IF(VLOOKUP(C287,'WK 5'!$K$6:$L$41,2,FALSE)=0,\"\",VLOOKUP(C287,'WK 5'!$K$6:$L$41,2,FALSE)))","v":""},{"$f":"IF(ISNA(VLOOKUP(C287,'WK 6'!$K$6:$L$41,2,FALSE)=0),\"\",IF(VLOOKUP(C287,'WK 6'!$K$6:$L$41,2,FALSE)=0,\"\",VLOOKUP(C287,'WK 6'!$K$6:$L$41,2,FALSE)))","v":""},{"$f":"IF(ISNA(VLOOKUP(C287,'WK 7'!$K$6:$L$41,2,FALSE)=0),\"\",IF(VLOOKUP(C287,'WK 7'!$K$6:$L$41,2,FALSE)=0,\"\",VLOOKUP(C287,'WK 7'!$K$6:$L$41,2,FALSE)))","v":""},{"$f":"IF(ISNA(VLOOKUP(C287,'WK 8'!$K$6:$L$41,2,FALSE)=0),\"\",IF(VLOOKUP(C287,'WK 8'!$K$6:$L$41,2,FALSE)=0,\"\",VLOOKUP(C287,'WK 8'!$K$6:$L$41,2,FALSE)))","v":""},{"$f":"IF(ISNA(VLOOKUP(C287,'WK 9'!$K$6:$L$41,2,FALSE)=0),\"\",IF(VLOOKUP(C287,'WK 9'!$K$6:$L$41,2,FALSE)=0,\"\",VLOOKUP(C287,'WK 9'!$K$6:$L$41,2,FALSE)))","v":""},{"$f":"IF(ISNA(VLOOKUP(C287,'WK 10'!$K$6:$L$41,2,FALSE)=0),\"\",IF(VLOOKUP(C287,'WK 10'!$K$6:$L$41,2,FALSE)=0,\"\",VLOOKUP(C287,'WK 10'!$K$6:$L$41,2,FALSE)))","v":""},0]
[null,null,{"$f":"IF(ISNA(VLOOKUP('WK 8'!K40,$C$2:$C$253,1,FALSE)),VLOOKUP('WK 8'!K40,'WK 8'!$K$6:$K$450,1,FALSE),\"\")","v":""},null,{"$f":"IF(ISNA(VLOOKUP(C288,'WK 2'!$K$6:$L$41,2,FALSE)=0),\"\",IF(VLOOKUP(C288,'WK 2'!$K$6:$L$41,2,FALSE)=0,\"\",VLOOKUP(C288,'WK 2'!$K$6:$L$41,2,FALSE)))","v":""},{"$f":"IF(ISNA(VLOOKUP(C288,'WK 3'!$K$6:$L$41,2,FALSE)=0),\"\",IF(VLOOKUP(C288,'WK 3'!$K$6:$L$41,2,FALSE)=0,\"\",VLOOKUP(C288,'WK 3'!$K$6:$L$41,2,FALSE)))","v":""},{"$f":"IF(ISNA(VLOOKUP(C288,'WK 4'!$K$6:$L$41,2,FALSE)=0),\"\",IF(VLOOKUP(C288,'WK 4'!$K$6:$L$41,2,FALSE)=0,\"\",VLOOKUP(C288,'WK 4'!$K$6:$L$41,2,FALSE)))","v":""},{"$f":"IF(ISNA(VLOOKUP(C288,'WK 5'!$K$6:$L$41,2,FALSE)=0),\"\",IF(VLOOKUP(C288,'WK 5'!$K$6:$L$41,2,FALSE)=0,\"\",VLOOKUP(C288,'WK 5'!$K$6:$L$41,2,FALSE)))","v":""},{"$f":"IF(ISNA(VLOOKUP(C288,'WK 6'!$K$6:$L$41,2,FALSE)=0),\"\",IF(VLOOKUP(C288,'WK 6'!$K$6:$L$41,2,FALSE)=0,\"\",VLOOKUP(C288,'WK 6'!$K$6:$L$41,2,FALSE)))","v":""},{"$f":"IF(ISNA(VLOOKUP(C288,'WK 7'!$K$6:$L$41,2,FALSE)=0),\"\",IF(VLOOKUP(C288,'WK 7'!$K$6:$L$41,2,FALSE)=0,\"\",VLOOKUP(C288,'WK 7'!$K$6:$L$41,2,FALSE)))","v":""},{"$f":"IF(ISNA(VLOOKUP(C288,'WK 8'!$K$6:$L$41,2,FALSE)=0),\"\",IF(VLOOKUP(C288,'WK 8'!$K$6:$L$41,2,FALSE)=0,\"\",VLOOKUP(C288,'WK 8'!$K$6:$L$41,2,FALSE)))","v":""},{"$f":"IF(ISNA(VLOOKUP(C288,'WK 9'!$K$6:$L$41,2,FALSE)=0),\"\",IF(VLOOKUP(C288,'WK 9'!$K$6:$L$41,2,FALSE)=0,\"\",VLOOKUP(C288,'WK 9'!$K$6:$L$41,2,FALSE)))","v":""},{"$f":"IF(ISNA(VLOOKUP(C288,'WK 10'!$K$6:$L$41,2,FALSE)=0),\"\",IF(VLOOKUP(C288,'WK 10'!$K$6:$L$41,2,FALSE)=0,\"\",VLOOKUP(C288,'WK 10'!$K$6:$L$41,2,FALSE)))","v":""},0]
[null,null,{"$f":"IF(ISNA(VLOOKUP('WK 8'!K41,$C$2:$C$253,1,FALSE)),VLOOKUP('WK 8'!K41,'WK 8'!$K$6:$K$450,1,FALSE),\"\")","v":""},null,{"$f":"IF(ISNA(VLOOKUP(C289,'WK 2'!$K$6:$L$41,2,FALSE)=0),\"\",IF(VLOOKUP(C289,'WK 2'!$K$6:$L$41,2,FALSE)=0,\"\",VLOOKUP(C289,'WK 2'!$K$6:$L$41,2,FALSE)))","v":""},{"$f":"IF(ISNA(VLOOKUP(C289,'WK 3'!$K$6:$L$41,2,FALSE)=0),\"\",IF(VLOOKUP(C289,'WK 3'!$K$6:$L$41,2,FALSE)=0,\"\",VLOOKUP(C289,'WK 3'!$K$6:$L$41,2,FALSE)))","v":""},{"$f":"IF(ISNA(VLOOKUP(C289,'WK 4'!$K$6:$L$41,2,FALSE)=0),\"\",IF(VLOOKUP(C289,'WK 4'!$K$6:$L$41,2,FALSE)=0,\"\",VLOOKUP(C289,'WK 4'!$K$6:$L$41,2,FALSE)))","v":""},{"$f":"IF(ISNA(VLOOKUP(C289,'WK 5'!$K$6:$L$41,2,FALSE)=0),\"\",IF(VLOOKUP(C289,'WK 5'!$K$6:$L$41,2,FALSE)=0,\"\",VLOOKUP(C289,'WK 5'!$K$6:$L$41,2,FALSE)))","v":""},{"$f":"IF(ISNA(VLOOKUP(C289,'WK 6'!$K$6:$L$41,2,FALSE)=0),\"\",IF(VLOOKUP(C289,'WK 6'!$K$6:$L$41,2,FALSE)=0,\"\",VLOOKUP(C289,'WK 6'!$K$6:$L$41,2,FALSE)))","v":""},{"$f":"IF(ISNA(VLOOKUP(C289,'WK 7'!$K$6:$L$41,2,FALSE)=0),\"\",IF(VLOOKUP(C289,'WK 7'!$K$6:$L$41,2,FALSE)=0,\"\",VLOOKUP(C289,'WK 7'!$K$6:$L$41,2,FALSE)))","v":""},{"$f":"IF(ISNA(VLOOKUP(C289,'WK 8'!$K$6:$L$41,2,FALSE)=0),\"\",IF(VLOOKUP(C289,'WK 8'!$K$6:$L$41,2,FALSE)=0,\"\",VLOOKUP(C289,'WK 8'!$K$6:$L$41,2,FALSE)))","v":""},{"$f":"IF(ISNA(VLOOKUP(C289,'WK 9'!$K$6:$L$41,2,FALSE)=0),\"\",IF(VLOOKUP(C289,'WK 9'!$K$6:$L$41,2,FALSE)=0,\"\",VLOOKUP(C289,'WK 9'!$K$6:$L$41,2,FALSE)))","v":""},{"$f":"IF(ISNA(VLOOKUP(C289,'WK 10'!$K$6:$L$41,2,FALSE)=0),\"\",IF(VLOOKUP(C289,'WK 10'!$K$6:$L$41,2,FALSE)=0,\"\",VLOOKUP(C289,'WK 10'!$K$6:$L$41,2,FALSE)))","v":""},0]
[null,"WK 9 Beginn",{"$f":"IF(ISNA(VLOOKUP('WK 9'!K6,$C$2:$C$253,1,FALSE)),VLOOKUP('WK 9'!K6,'WK 9'!$K$6:$K$450,1,FALSE),\"\")","v":""},null,{"$f":"IF(ISNA(VLOOKUP(C290,'WK 2'!$K$6:$L$41,2,FALSE)=0),\"\",IF(VLOOKUP(C290,'WK 2'!$K$6:$L$41,2,FALSE)=0,\"\",VLOOKUP(C290,'WK 2'!$K$6:$L$41,2,FALSE)))","v":""},{"$f":"IF(ISNA(VLOOKUP(C290,'WK 3'!$K$6:$L$41,2,FALSE)=0),\"\",IF(VLOOKUP(C290,'WK 3'!$K$6:$L$41,2,FALSE)=0,\"\",VLOOKUP(C290,'WK 3'!$K$6:$L$41,2,FALSE)))","v":""},{"$f":"IF(ISNA(VLOOKUP(C290,'WK 4'!$K$6:$L$41,2,FALSE)=0),\"\",IF(VLOOKUP(C290,'WK 4'!$K$6:$L$41,2,FALSE)=0,\"\",VLOOKUP(C290,'WK 4'!$K$6:$L$41,2,FALSE)))","v":""},{"$f":"IF(ISNA(VLOOKUP(C290,'WK 5'!$K$6:$L$41,2,FALSE)=0),\"\",IF(VLOOKUP(C290,'WK 5'!$K$6:$L$41,2,FALSE)=0,\"\",VLOOKUP(C290,'WK 5'!$K$6:$L$41,2,FALSE)))","v":""},{"$f":"IF(ISNA(VLOOKUP(C290,'WK 6'!$K$6:$L$41,2,FALSE)=0),\"\",IF(VLOOKUP(C290,'WK 6'!$K$6:$L$41,2,FALSE)=0,\"\",VLOOKUP(C290,'WK 6'!$K$6:$L$41,2,FALSE)))","v":""},{"$f":"IF(ISNA(VLOOKUP(C290,'WK 7'!$K$6:$L$41,2,FALSE)=0),\"\",IF(VLOOKUP(C290,'WK 7'!$K$6:$L$41,2,FALSE)=0,\"\",VLOOKUP(C290,'WK 7'!$K$6:$L$41,2,FALSE)))","v":""},{"$f":"IF(ISNA(VLOOKUP(C290,'WK 8'!$K$6:$L$41,2,FALSE)=0),\"\",IF(VLOOKUP(C290,'WK 8'!$K$6:$L$41,2,FALSE)=0,\"\",VLOOKUP(C290,'WK 8'!$K$6:$L$41,2,FALSE)))","v":""},{"$f":"IF(ISNA(VLOOKUP(C290,'WK 9'!$K$6:$L$41,2,FALSE)=0),\"\",IF(VLOOKUP(C290,'WK 9'!$K$6:$L$41,2,FALSE)=0,\"\",VLOOKUP(C290,'WK 9'!$K$6:$L$41,2,FALSE)))","v":""},{"$f":"IF(ISNA(VLOOKUP(C290,'WK 10'!$K$6:$L$41,2,FALSE)=0),\"\",IF(VLOOKUP(C290,'WK 10'!$K$6:$L$41,2,FALSE)=0,\"\",VLOOKUP(C290,'WK 10'!$K$6:$L$41,2,FALSE)))","v":""},0]
[null,null,{"$f":"IF(ISNA(VLOOKUP('WK 9'!K7,$C$2:$C$253,1,FALSE)),VLOOKUP('WK 9'!K7,'WK 9'!$K$6:$K$450,1,FALSE),\"\")","v":""},null,{"$f":"IF(ISNA(VLOOKUP(C291,'WK 2'!$K$6:$L$41,2,FALSE)=0),\"\",IF(VLOOKUP(C291,'WK 2'!$K$6:$L$41,2,FALSE)=0,\"\",VLOOKUP(C291,'WK 2'!$K$6:$L$41,2,FALSE)))","v":""},{"$f":"IF(ISNA(VLOOKUP(C291,'WK 3'!$K$6:$L$41,2,FALSE)=0),\"\",IF(VLOOKUP(C291,'WK 3'!$K$6:$L$41,2,FALSE)=0,\"\",VLOOKUP(C291,'WK 3'!$K$6:$L$41,2,FALSE)))","v":""},{"$f":"IF(ISNA(VLOOKUP(C291,'WK 4'!$K$6:$L$41,2,FALSE)=0),\"\",IF(VLOOKUP(C291,'WK 4'!$K$6:$L$41,2,FALSE)=0,\"\",VLOOKUP(C291,'WK 4'!$K$6:$L$41,2,FALSE)))","v":""},{"$f":"IF(ISNA(VLOOKUP(C291,'WK 5'!$K$6:$L$41,2,FALSE)=0),\"\",IF(VLOOKUP(C291,'WK 5'!$K$6:$L$41,2,FALSE)=0,\"\",VLOOKUP(C291,'WK 5'!$K$6:$L$41,2,FALSE)))","v":""},{"$f":"IF(ISNA(VLOOKUP(C291,'WK 6'!$K$6:$L$41,2,FALSE)=0),\"\",IF(VLOOKUP(C291,'WK 6'!$K$6:$L$41,2,FALSE)=0,\"\",VLOOKUP(C291,'WK 6'!$K$6:$L$41,2,FALSE)))","v":""},{"$f":"IF(ISNA(VLOOKUP(C291,'WK 7'!$K$6:$L$41,2,FALSE)=0),\"\",IF(VLOOKUP(C291,'WK 7'!$K$6:$L$41,2,FALSE)=0,\"\",VLOOKUP(C291,'WK 7'!$K$6:$L$41,2,FALSE)))","v":""},{"$f":"IF(ISNA(VLOOKUP(C291,'WK 8'!$K$6:$L$41,2,FALSE)=0),\"\",IF(VLOOKUP(C291,'WK 8'!$K$6:$L$41,2,FALSE)=0,\"\",VLOOKUP(C291,'WK 8'!$K$6:$L$41,2,FALSE)))","v":""},{"$f":"IF(ISNA(VLOOKUP(C291,'WK 9'!$K$6:$L$41,2,FALSE)=0),\"\",IF(VLOOKUP(C291,'WK 9'!$K$6:$L$41,2,FALSE)=0,\"\",VLOOKUP(C291,'WK 9'!$K$6:$L$41,2,FALSE)))","v":""},{"$f":"IF(ISNA(VLOOKUP(C291,'WK 10'!$K$6:$L$41,2,FALSE)=0),\"\",IF(VLOOKUP(C291,'WK 10'!$K$6:$L$41,2,FALSE)=0,\"\",VLOOKUP(C291,'WK 10'!$K$6:$L$41,2,FALSE)))","v":""},0]
[null,null,{"$f":"IF(ISNA(VLOOKUP('WK 9'!K8,$C$2:$C$253,1,FALSE)),VLOOKUP('WK 9'!K8,'WK 9'!$K$6:$K$450,1,FALSE),\"\")","v":""},null,{"$f":"IF(ISNA(VLOOKUP(C292,'WK 2'!$K$6:$L$41,2,FALSE)=0),\"\",IF(VLOOKUP(C292,'WK 2'!$K$6:$L$41,2,FALSE)=0,\"\",VLOOKUP(C292,'WK 2'!$K$6:$L$41,2,FALSE)))","v":""},{"$f":"IF(ISNA(VLOOKUP(C292,'WK 3'!$K$6:$L$41,2,FALSE)=0),\"\",IF(VLOOKUP(C292,'WK 3'!$K$6:$L$41,2,FALSE)=0,\"\",VLOOKUP(C292,'WK 3'!$K$6:$L$41,2,FALSE)))","v":""},{"$f":"IF(ISNA(VLOOKUP(C292,'WK 4'!$K$6:$L$41,2,FALSE)=0),\"\",IF(VLOOKUP(C292,'WK 4'!$K$6:$L$41,2,FALSE)=0,\"\",VLOOKUP(C292,'WK 4'!$K$6:$L$41,2,FALSE)))","v":""},{"$f":"IF(ISNA(VLOOKUP(C292,'WK 5'!$K$6:$L$41,2,FALSE)=0),\"\",IF(VLOOKUP(C292,'WK 5'!$K$6:$L$41,2,FALSE)=0,\"\",VLOOKUP(C292,'WK 5'!$K$6:$L$41,2,FALSE)))","v":""},{"$f":"IF(ISNA(VLOOKUP(C292,'WK 6'!$K$6:$L$41,2,FALSE)=0),\"\",IF(VLOOKUP(C292,'WK 6'!$K$6:$L$41,2,FALSE)=0,\"\",VLOOKUP(C292,'WK 6'!$K$6:$L$41,2,FALSE)))","v":""},{"$f":"IF(ISNA(VLOOKUP(C292,'WK 7'!$K$6:$L$41,2,FALSE)=0),\"\",IF(VLOOKUP(C292,'WK 7'!$K$6:$L$41,2,FALSE)=0,\"\",VLOOKUP(C292,'WK 7'!$K$6:$L$41,2,FALSE)))","v":""},{"$f":"IF(ISNA(VLOOKUP(C292,'WK 8'!$K$6:$L$41,2,FALSE)=0),\"\",IF(VLOOKUP(C292,'WK 8'!$K$6:$L$41,2,FALSE)=0,\"\",VLOOKUP(C292,'WK 8'!$K$6:$L$41,2,FALSE)))","v":""},{"$f":"IF(ISNA(VLOOKUP(C292,'WK 9'!$K$6:$L$41,2,FALSE)=0),\"\",IF(VLOOKUP(C292,'WK 9'!$K$6:$L$41,2,FALSE)=0,\"\",VLOOKUP(C292,'WK 9'!$K$6:$L$41,2,FALSE)))","v":""},{"$f":"IF(ISNA(VLOOKUP(C292,'WK 10'!$K$6:$L$41,2,FALSE)=0),\"\",IF(VLOOKUP(C292,'WK 10'!$K$6:$L$41,2,FALSE)=0,\"\",VLOOKUP(C292,'WK 10'!$K$6:$L$41,2,FALSE)))","v":""},0]
[null,null,{"$f":"IF(ISNA(VLOOKUP('WK 9'!K9,$C$2:$C$253,1,FALSE)),VLOOKUP('WK 9'!K9,'WK 9'!$K$6:$K$450,1,FALSE),\"\")","v":""},null,{"$f":"IF(ISNA(VLOOKUP(C293,'WK 2'!$K$6:$L$41,2,FALSE)=0),\"\",IF(VLOOKUP(C293,'WK 2'!$K$6:$L$41,2,FALSE)=0,\"\",VLOOKUP(C293,'WK 2'!$K$6:$L$41,2,FALSE)))","v":""},{"$f":"IF(ISNA(VLOOKUP(C293,'WK 3'!$K$6:$L$41,2,FALSE)=0),\"\",IF(VLOOKUP(C293,'WK 3'!$K$6:$L$41,2,FALSE)=0,\"\",VLOOKUP(C293,'WK 3'!$K$6:$L$41,2,FALSE)))","v":""},{"$f":"IF(ISNA(VLOOKUP(C293,'WK 4'!$K$6:$L$41,2,FALSE)=0),\"\",IF(VLOOKUP(C293,'WK 4'!$K$6:$L$41,2,FALSE)=0,\"\",VLOOKUP(C293,'WK 4'!$K$6:$L$41,2,FALSE)))","v":""},{"$f":"IF(ISNA(VLOOKUP(C293,'WK 5'!$K$6:$L$41,2,FALSE)=0),\"\",IF(VLOOKUP(C293,'WK 5'!$K$6:$L$41,2,FALSE)=0,\"\",VLOOKUP(C293,'WK 5'!$K$6:$L$41,2,FALSE)))","v":""},{"$f":"IF(ISNA(VLOOKUP(C293,'WK 6'!$K$6:$L$41,2,FALSE)=0),\"\",IF(VLOOKUP(C293,'WK 6'!$K$6:$L$41,2,FALSE)=0,\"\",VLOOKUP(C293,'WK 6'!$K$6:$L$41,2,FALSE)))","v":""},{"$f":"IF(ISNA(VLOOKUP(C293,'WK 7'!$K$6:$L$41,2,FALSE)=0),\"\",IF(VLOOKUP(C293,'WK 7'!$K$6:$L$41,2,FALSE)=0,\"\",VLOOKUP(C293,'WK 7'!$K$6:$L$41,2,FALSE)))","v":""},{"$f":"IF(ISNA(VLOOKUP(C293,'WK 8'!$K$6:$L$41,2,FALSE)=0),\"\",IF(VLOOKUP(C293,'WK 8'!$K$6:$L$41,2,FALSE)=0,\"\",VLOOKUP(C293,'WK 8'!$K$6:$L$41,2,FALSE)))","v":""},{"$f":"IF(ISNA(VLOOKUP(C293,'WK 9'!$K$6:$L$41,2,FALSE)=0),\"\",IF(VLOOKUP(C293,'WK 9'!$K$6:$L$41,2,FALSE)=0,\"\",VLOOKUP(C293,'WK 9'!$K$6:$L$41,2,FALSE)))","v":""},{"$f":"IF(ISNA(VLOOKUP(C293,'WK 10'!$K$6:$L$41,2,FALSE)=0),\"\",IF(VLOOKUP(C293,'WK 10'!$K$6:$L$41,2,FALSE)=0,\"\",VLOOKUP(C293,'WK 10'!$K$6:$L$41,2,FALSE)))","v":""},0]
[null,null,{"$f":"IF(ISNA(VLOOKUP('WK 9'!K10,$C$2:$C$253,1,FALSE)),VLOOKUP('WK 9'!K10,'WK 9'!$K$6:$K$450,1,FALSE),\"\")","v":""},null,{"$f":"IF(ISNA(VLOOKUP(C294,'WK 2'!$K$6:$L$41,2,FALSE)=0),\"\",IF(VLOOKUP(C294,'WK 2'!$K$6:$L$41,2,FALSE)=0,\"\",VLOOKUP(C294,'WK 2'!$K$6:$L$41,2,FALSE)))","v":""},{"$f":"IF(ISNA(VLOOKUP(C294,'WK 3'!$K$6:$L$41,2,FALSE)=0),\"\",IF(VLOOKUP(C294,'WK 3'!$K$6:$L$41,2,FALSE)=0,\"\",VLOOKUP(C294,'WK 3'!$K$6:$L$41,2,FALSE)))","v":""},{"$f":"IF(ISNA(VLOOKUP(C294,'WK 4'!$K$6:$L$41,2,FALSE)=0),\"\",IF(VLOOKUP(C294,'WK 4'!$K$6:$L$41,2,FALSE)=0,\"\",VLOOKUP(C294,'WK 4'!$K$6:$L$41,2,FALSE)))","v":""},{"$f":"IF(ISNA(VLOOKUP(C294,'WK 5'!$K$6:$L$41,2,FALSE)=0),\"\",IF(VLOOKUP(C294,'WK 5'!$K$6:$L$41,2,FALSE)=0,\"\",VLOOKUP(C294,'WK 5'!$K$6:$L$41,2,FALSE)))","v":""},{"$f":"IF(ISNA(VLOOKUP(C294,'WK 6'!$K$6:$L$41,2,FALSE)=0),\"\",IF(VLOOKUP(C294,'WK 6'!$K$6:$L$41,2,FALSE)=0,\"\",VLOOKUP(C294,'WK 6'!$K$6:$L$41,2,FALSE)))","v":""},{"$f":"IF(ISNA(VLOOKUP(C294,'WK 7'!$K$6:$L$41,2,FALSE)=0),\"\",IF(VLOOKUP(C294,'WK 7'!$K$6:$L$41,2,FALSE)=0,\"\",VLOOKUP(C294,'WK 7'!$K$6:$L$41,2,FALSE)))","v":""},{"$f":"IF(ISNA(VLOOKUP(C294,'WK 8'!$K$6:$L$41,2,FALSE)=0),\"\",IF(VLOOKUP(C294,'WK 8'!$K$6:$L$41,2,FALSE)=0,\"\",VLOOKUP(C294,'WK 8'!$K$6:$L$41,2,FALSE)))","v":""},{"$f":"IF(ISNA(VLOOKUP(C294,'WK 9'!$K$6:$L$41,2,FALSE)=0),\"\",IF(VLOOKUP(C294,'WK 9'!$K$6:$L$41,2,FALSE)=0,\"\",VLOOKUP(C294,'WK 9'!$K$6:$L$41,2,FALSE)))","v":""},{"$f":"IF(ISNA(VLOOKUP(C294,'WK 10'!$K$6:$L$41,2,FALSE)=0),\"\",IF(VLOOKUP(C294,'WK 10'!$K$6:$L$41,2,FALSE)=0,\"\",VLOOKUP(C294,'WK 10'!$K$6:$L$41,2,FALSE)))","v":""},0]
[null,null,{"$f":"IF(ISNA(VLOOKUP('WK 9'!K11,$C$2:$C$253,1,FALSE)),VLOOKUP('WK 9'!K11,'WK 9'!$K$6:$K$450,1,FALSE),\"\")","v":""},null,{"$f":"IF(ISNA(VLOOKUP(C295,'WK 2'!$K$6:$L$41,2,FALSE)=0),\"\",IF(VLOOKUP(C295,'WK 2'!$K$6:$L$41,2,FALSE)=0,\"\",VLOOKUP(C295,'WK 2'!$K$6:$L$41,2,FALSE)))","v":""},{"$f":"IF(ISNA(VLOOKUP(C295,'WK 3'!$K$6:$L$41,2,FALSE)=0),\"\",IF(VLOOKUP(C295,'WK 3'!$K$6:$L$41,2,FALSE)=0,\"\",VLOOKUP(C295,'WK 3'!$K$6:$L$41,2,FALSE)))","v":""},{"$f":"IF(ISNA(VLOOKUP(C295,'WK 4'!$K$6:$L$41,2,FALSE)=0),\"\",IF(VLOOKUP(C295,'WK 4'!$K$6:$L$41,2,FALSE)=0,\"\",VLOOKUP(C295,'WK 4'!$K$6:$L$41,2,FALSE)))","v":""},{"$f":"IF(ISNA(VLOOKUP(C295,'WK 5'!$K$6:$L$41,2,FALSE)=0),\"\",IF(VLOOKUP(C295,'WK 5'!$K$6:$L$41,2,FALSE)=0,\"\",VLOOKUP(C295,'WK 5'!$K$6:$L$41,2,FALSE)))","v":""},{"$f":"IF(ISNA(VLOOKUP(C295,'WK 6'!$K$6:$L$41,2,FALSE)=0),\"\",IF(VLOOKUP(C295,'WK 6'!$K$6:$L$41,2,FALSE)=0,\"\",VLOOKUP(C295,'WK 6'!$K$6:$L$41,2,FALSE)))","v":""},{"$f":"IF(ISNA(VLOOKUP(C295,'WK 7'!$K$6:$L$41,2,FALSE)=0),\"\",IF(VLOOKUP(C295,'WK 7'!$K$6:$L$41,2,FALSE)=0,\"\",VLOOKUP(C295,'WK 7'!$K$6:$L$41,2,FALSE)))","v":""},{"$f":"IF(ISNA(VLOOKUP(C295,'WK 8'!$K$6:$L$41,2,FALSE)=0),\"\",IF(VLOOKUP(C295,'WK 8'!$K$6:$L$41,2,FALSE)=0,\"\",VLOOKUP(C295,'WK 8'!$K$6:$L$41,2,FALSE)))","v":""},{"$f":"IF(ISNA(VLOOKUP(C295,'WK 9'!$K$6:$L$41,2,FALSE)=0),\"\",IF(VLOOKUP(C295,'WK 9'!$K$6:$L$41,2,FALSE)=0,\"\",VLOOKUP(C295,'WK 9'!$K$6:$L$41,2,FALSE)))","v":""},{"$f":"IF(ISNA(VLOOKUP(C295,'WK 10'!$K$6:$L$41,2,FALSE)=0),\"\",IF(VLOOKUP(C295,'WK 10'!$K$6:$L$41,2,FALSE)=0,\"\",VLOOKUP(C295,'WK 10'!$K$6:$L$41,2,FALSE)))","v":""},0]
[null,null,{"$f":"IF(ISNA(VLOOKUP('WK 9'!K12,$C$2:$C$253,1,FALSE)),VLOOKUP('WK 9'!K12,'WK 9'!$K$6:$K$450,1,FALSE),\"\")","v":""},null,{"$f":"IF(ISNA(VLOOKUP(C296,'WK 2'!$K$6:$L$41,2,FALSE)=0),\"\",IF(VLOOKUP(C296,'WK 2'!$K$6:$L$41,2,FALSE)=0,\"\",VLOOKUP(C296,'WK 2'!$K$6:$L$41,2,FALSE)))","v":""},{"$f":"IF(ISNA(VLOOKUP(C296,'WK 3'!$K$6:$L$41,2,FALSE)=0),\"\",IF(VLOOKUP(C296,'WK 3'!$K$6:$L$41,2,FALSE)=0,\"\",VLOOKUP(C296,'WK 3'!$K$6:$L$41,2,FALSE)))","v":""},{"$f":"IF(ISNA(VLOOKUP(C296,'WK 4'!$K$6:$L$41,2,FALSE)=0),\"\",IF(VLOOKUP(C296,'WK 4'!$K$6:$L$41,2,FALSE)=0,\"\",VLOOKUP(C296,'WK 4'!$K$6:$L$41,2,FALSE)))","v":""},{"$f":"IF(ISNA(VLOOKUP(C296,'WK 5'!$K$6:$L$41,2,FALSE)=0),\"\",IF(VLOOKUP(C296,'WK 5'!$K$6:$L$41,2,FALSE)=0,\"\",VLOOKUP(C296,'WK 5'!$K$6:$L$41,2,FALSE)))","v":""},{"$f":"IF(ISNA(VLOOKUP(C296,'WK 6'!$K$6:$L$41,2,FALSE)=0),\"\",IF(VLOOKUP(C296,'WK 6'!$K$6:$L$41,2,FALSE)=0,\"\",VLOOKUP(C296,'WK 6'!$K$6:$L$41,2,FALSE)))","v":""},{"$f":"IF(ISNA(VLOOKUP(C296,'WK 7'!$K$6:$L$41,2,FALSE)=0),\"\",IF(VLOOKUP(C296,'WK 7'!$K$6:$L$41,2,FALSE)=0,\"\",VLOOKUP(C296,'WK 7'!$K$6:$L$41,2,FALSE)))","v":""},{"$f":"IF(ISNA(VLOOKUP(C296,'WK 8'!$K$6:$L$41,2,FALSE)=0),\"\",IF(VLOOKUP(C296,'WK 8'!$K$6:$L$41,2,FALSE)=0,\"\",VLOOKUP(C296,'WK 8'!$K$6:$L$41,2,FALSE)))","v":""},{"$f":"IF(ISNA(VLOOKUP(C296,'WK 9'!$K$6:$L$41,2,FALSE)=0),\"\",IF(VLOOKUP(C296,'WK 9'!$K$6:$L$41,2,FALSE)=0,\"\",VLOOKUP(C296,'WK 9'!$K$6:$L$41,2,FALSE)))","v":""},{"$f":"IF(ISNA(VLOOKUP(C296,'WK 10'!$K$6:$L$41,2,FALSE)=0),\"\",IF(VLOOKUP(C296,'WK 10'!$K$6:$L$41,2,FALSE)=0,\"\",VLOOKUP(C296,'WK 10'!$K$6:$L$41,2,FALSE)))","v":""},0]
[null,null,{"$f":"IF(ISNA(VLOOKUP('WK 9'!K13,$C$2:$C$253,1,FALSE)),VLOOKUP('WK 9'!K13,'WK 9'!$K$6:$K$450,1,FALSE),\"\")","v":""},null,{"$f":"IF(ISNA(VLOOKUP(C297,'WK 2'!$K$6:$L$41,2,FALSE)=0),\"\",IF(VLOOKUP(C297,'WK 2'!$K$6:$L$41,2,FALSE)=0,\"\",VLOOKUP(C297,'WK 2'!$K$6:$L$41,2,FALSE)))","v":""},{"$f":"IF(ISNA(VLOOKUP(C297,'WK 3'!$K$6:$L$41,2,FALSE)=0),\"\",IF(VLOOKUP(C297,'WK 3'!$K$6:$L$41,2,FALSE)=0,\"\",VLOOKUP(C297,'WK 3'!$K$6:$L$41,2,FALSE)))","v":""},{"$f":"IF(ISNA(VLOOKUP(C297,'WK 4'!$K$6:$L$41,2,FALSE)=0),\"\",IF(VLOOKUP(C297,'WK 4'!$K$6:$L$41,2,FALSE)=0,\"\",VLOOKUP(C297,'WK 4'!$K$6:$L$41,2,FALSE)))","v":""},{"$f":"IF(ISNA(VLOOKUP(C297,'WK 5'!$K$6:$L$41,2,FALSE)=0),\"\",IF(VLOOKUP(C297,'WK 5'!$K$6:$L$41,2,FALSE)=0,\"\",VLOOKUP(C297,'WK 5'!$K$6:$L$41,2,FALSE)))","v":""},{"$f":"IF(ISNA(VLOOKUP(C297,'WK 6'!$K$6:$L$41,2,FALSE)=0),\"\",IF(VLOOKUP(C297,'WK 6'!$K$6:$L$41,2,FALSE)=0,\"\",VLOOKUP(C297,'WK 6'!$K$6:$L$41,2,FALSE)))","v":""},{"$f":"IF(ISNA(VLOOKUP(C297,'WK 7'!$K$6:$L$41,2,FALSE)=0),\"\",IF(VLOOKUP(C297,'WK 7'!$K$6:$L$41,2,FALSE)=0,\"\",VLOOKUP(C297,'WK 7'!$K$6:$L$41,2,FALSE)))","v":""},{"$f":"IF(ISNA(VLOOKUP(C297,'WK 8'!$K$6:$L$41,2,FALSE)=0),\"\",IF(VLOOKUP(C297,'WK 8'!$K$6:$L$41,2,FALSE)=0,\"\",VLOOKUP(C297,'WK 8'!$K$6:$L$41,2,FALSE)))","v":""},{"$f":"IF(ISNA(VLOOKUP(C297,'WK 9'!$K$6:$L$41,2,FALSE)=0),\"\",IF(VLOOKUP(C297,'WK 9'!$K$6:$L$41,2,FALSE)=0,\"\",VLOOKUP(C297,'WK 9'!$K$6:$L$41,2,FALSE)))","v":""},{"$f":"IF(ISNA(VLOOKUP(C297,'WK 10'!$K$6:$L$41,2,FALSE)=0),\"\",IF(VLOOKUP(C297,'WK 10'!$K$6:$L$41,2,FALSE)=0,\"\",VLOOKUP(C297,'WK 10'!$K$6:$L$41,2,FALSE)))","v":""},0]
[null,null,{"$f":"IF(ISNA(VLOOKUP('WK 9'!K14,$C$2:$C$253,1,FALSE)),VLOOKUP('WK 9'!K14,'WK 9'!$K$6:$K$450,1,FALSE),\"\")","v":""},null,{"$f":"IF(ISNA(VLOOKUP(C298,'WK 2'!$K$6:$L$41,2,FALSE)=0),\"\",IF(VLOOKUP(C298,'WK 2'!$K$6:$L$41,2,FALSE)=0,\"\",VLOOKUP(C298,'WK 2'!$K$6:$L$41,2,FALSE)))","v":""},{"$f":"IF(ISNA(VLOOKUP(C298,'WK 3'!$K$6:$L$41,2,FALSE)=0),\"\",IF(VLOOKUP(C298,'WK 3'!$K$6:$L$41,2,FALSE)=0,\"\",VLOOKUP(C298,'WK 3'!$K$6:$L$41,2,FALSE)))","v":""},{"$f":"IF(ISNA(VLOOKUP(C298,'WK 4'!$K$6:$L$41,2,FALSE)=0),\"\",IF(VLOOKUP(C298,'WK 4'!$K$6:$L$41,2,FALSE)=0,\"\",VLOOKUP(C298,'WK 4'!$K$6:$L$41,2,FALSE)))","v":""},{"$f":"IF(ISNA(VLOOKUP(C298,'WK 5'!$K$6:$L$41,2,FALSE)=0),\"\",IF(VLOOKUP(C298,'WK 5'!$K$6:$L$41,2,FALSE)=0,\"\",VLOOKUP(C298,'WK 5'!$K$6:$L$41,2,FALSE)))","v":""},{"$f":"IF(ISNA(VLOOKUP(C298,'WK 6'!$K$6:$L$41,2,FALSE)=0),\"\",IF(VLOOKUP(C298,'WK 6'!$K$6:$L$41,2,FALSE)=0,\"\",VLOOKUP(C298,'WK 6'!$K$6:$L$41,2,FALSE)))","v":""},{"$f":"IF(ISNA(VLOOKUP(C298,'WK 7'!$K$6:$L$41,2,FALSE)=0),\"\",IF(VLOOKUP(C298,'WK 7'!$K$6:$L$41,2,FALSE)=0,\"\",VLOOKUP(C298,'WK 7'!$K$6:$L$41,2,FALSE)))","v":""},{"$f":"IF(ISNA(VLOOKUP(C298,'WK 8'!$K$6:$L$41,2,FALSE)=0),\"\",IF(VLOOKUP(C298,'WK 8'!$K$6:$L$41,2,FALSE)=0,\"\",VLOOKUP(C298,'WK 8'!$K$6:$L$41,2,FALSE)))","v":""},{"$f":"IF(ISNA(VLOOKUP(C298,'WK 9'!$K$6:$L$41,2,FALSE)=0),\"\",IF(VLOOKUP(C298,'WK 9'!$K$6:$L$41,2,FALSE)=0,\"\",VLOOKUP(C298,'WK 9'!$K$6:$L$41,2,FALSE)))","v":""},{"$f":"IF(ISNA(VLOOKUP(C298,'WK 10'!$K$6:$L$41,2,FALSE)=0),\"\",IF(VLOOKUP(C298,'WK 10'!$K$6:$L$41,2,FALSE)=0,\"\",VLOOKUP(C298,'WK 10'!$K$6:$L$41,2,FALSE)))","v":""},0]
[null,null,{"$f":"IF(ISNA(VLOOKUP('WK 9'!K15,$C$2:$C$253,1,FALSE)),VLOOKUP('WK 9'!K15,'WK 9'!$K$6:$K$450,1,FALSE),\"\")","v":""},null,{"$f":"IF(ISNA(VLOOKUP(C299,'WK 2'!$K$6:$L$41,2,FALSE)=0),\"\",IF(VLOOKUP(C299,'WK 2'!$K$6:$L$41,2,FALSE)=0,\"\",VLOOKUP(C299,'WK 2'!$K$6:$L$41,2,FALSE)))","v":""},{"$f":"IF(ISNA(VLOOKUP(C299,'WK 3'!$K$6:$L$41,2,FALSE)=0),\"\",IF(VLOOKUP(C299,'WK 3'!$K$6:$L$41,2,FALSE)=0,\"\",VLOOKUP(C299,'WK 3'!$K$6:$L$41,2,FALSE)))","v":""},{"$f":"IF(ISNA(VLOOKUP(C299,'WK 4'!$K$6:$L$41,2,FALSE)=0),\"\",IF(VLOOKUP(C299,'WK 4'!$K$6:$L$41,2,FALSE)=0,\"\",VLOOKUP(C299,'WK 4'!$K$6:$L$41,2,FALSE)))","v":""},{"$f":"IF(ISNA(VLOOKUP(C299,'WK 5'!$K$6:$L$41,2,FALSE)=0),\"\",IF(VLOOKUP(C299,'WK 5'!$K$6:$L$41,2,FALSE)=0,\"\",VLOOKUP(C299,'WK 5'!$K$6:$L$41,2,FALSE)))","v":""},{"$f":"IF(ISNA(VLOOKUP(C299,'WK 6'!$K$6:$L$41,2,FALSE)=0),\"\",IF(VLOOKUP(C299,'WK 6'!$K$6:$L$41,2,FALSE)=0,\"\",VLOOKUP(C299,'WK 6'!$K$6:$L$41,2,FALSE)))","v":""},{"$f":"IF(ISNA(VLOOKUP(C299,'WK 7'!$K$6:$L$41,2,FALSE)=0),\"\",IF(VLOOKUP(C299,'WK 7'!$K$6:$L$41,2,FALSE)=0,\"\",VLOOKUP(C299,'WK 7'!$K$6:$L$41,2,FALSE)))","v":""},{"$f":"IF(ISNA(VLOOKUP(C299,'WK 8'!$K$6:$L$41,2,FALSE)=0),\"\",IF(VLOOKUP(C299,'WK 8'!$K$6:$L$41,2,FALSE)=0,\"\",VLOOKUP(C299,'WK 8'!$K$6:$L$41,2,FALSE)))","v":""},{"$f":"IF(ISNA(VLOOKUP(C299,'WK 9'!$K$6:$L$41,2,FALSE)=0),\"\",IF(VLOOKUP(C299,'WK 9'!$K$6:$L$41,2,FALSE)=0,\"\",VLOOKUP(C299,'WK 9'!$K$6:$L$41,2,FALSE)))","v":""},{"$f":"IF(ISNA(VLOOKUP(C299,'WK 10'!$K$6:$L$41,2,FALSE)=0),\"\",IF(VLOOKUP(C299,'WK 10'!$K$6:$L$41,2,FALSE)=0,\"\",VLOOKUP(C299,'WK 10'!$K$6:$L$41,2,FALSE)))","v":""},0]
[null,null,{"$f":"IF(ISNA(VLOOKUP('WK 9'!K16,$C$2:$C$253,1,FALSE)),VLOOKUP('WK 9'!K16,'WK 9'!$K$6:$K$450,1,FALSE),\"\")","v":""},null,{"$f":"IF(ISNA(VLOOKUP(C300,'WK 2'!$K$6:$L$41,2,FALSE)=0),\"\",IF(VLOOKUP(C300,'WK 2'!$K$6:$L$41,2,FALSE)=0,\"\",VLOOKUP(C300,'WK 2'!$K$6:$L$41,2,FALSE)))","v":""},{"$f":"IF(ISNA(VLOOKUP(C300,'WK 3'!$K$6:$L$41,2,FALSE)=0),\"\",IF(VLOOKUP(C300,'WK 3'!$K$6:$L$41,2,FALSE)=0,\"\",VLOOKUP(C300,'WK 3'!$K$6:$L$41,2,FALSE)))","v":""},{"$f":"IF(ISNA(VLOOKUP(C300,'WK 4'!$K$6:$L$41,2,FALSE)=0),\"\",IF(VLOOKUP(C300,'WK 4'!$K$6:$L$41,2,FALSE)=0,\"\",VLOOKUP(C300,'WK 4'!$K$6:$L$41,2,FALSE)))","v":""},{"$f":"IF(ISNA(VLOOKUP(C300,'WK 5'!$K$6:$L$41,2,FALSE)=0),\"\",IF(VLOOKUP(C300,'WK 5'!$K$6:$L$41,2,FALSE)=0,\"\",VLOOKUP(C300,'WK 5'!$K$6:$L$41,2,FALSE)))","v":""},{"$f":"IF(ISNA(VLOOKUP(C300,'WK 6'!$K$6:$L$41,2,FALSE)=0),\"\",IF(VLOOKUP(C300,'WK 6'!$K$6:$L$41,2,FALSE)=0,\"\",VLOOKUP(C300,'WK 6'!$K$6:$L$41,2,FALSE)))","v":""},{"$f":"IF(ISNA(VLOOKUP(C300,'WK 7'!$K$6:$L$41,2,FALSE)=0),\"\",IF(VLOOKUP(C300,'WK 7'!$K$6:$L$41,2,FALSE)=0,\"\",VLOOKUP(C300,'WK 7'!$K$6:$L$41,2,FALSE)))","v":""},{"$f":"IF(ISNA(VLOOKUP(C300,'WK 8'!$K$6:$L$41,2,FALSE)=0),\"\",IF(VLOOKUP(C300,'WK 8'!$K$6:$L$41,2,FALSE)=0,\"\",VLOOKUP(C300,'WK 8'!$K$6:$L$41,2,FALSE)))","v":""},{"$f":"IF(ISNA(VLOOKUP(C300,'WK 9'!$K$6:$L$41,2,FALSE)=0),\"\",IF(VLOOKUP(C300,'WK 9'!$K$6:$L$41,2,FALSE)=0,\"\",VLOOKUP(C300,'WK 9'!$K$6:$L$41,2,FALSE)))","v":""},{"$f":"IF(ISNA(VLOOKUP(C300,'WK 10'!$K$6:$L$41,2,FALSE)=0),\"\",IF(VLOOKUP(C300,'WK 10'!$K$6:$L$41,2,FALSE)=0,\"\",VLOOKUP(C300,'WK 10'!$K$6:$L$41,2,FALSE)))","v":""},0]
[null,null,{"$f":"IF(ISNA(VLOOKUP('WK 9'!K17,$C$2:$C$253,1,FALSE)),VLOOKUP('WK 9'!K17,'WK 9'!$K$6:$K$450,1,FALSE),\"\")","v":""},null,{"$f":"IF(ISNA(VLOOKUP(C301,'WK 2'!$K$6:$L$41,2,FALSE)=0),\"\",IF(VLOOKUP(C301,'WK 2'!$K$6:$L$41,2,FALSE)=0,\"\",VLOOKUP(C301,'WK 2'!$K$6:$L$41,2,FALSE)))","v":""},{"$f":"IF(ISNA(VLOOKUP(C301,'WK 3'!$K$6:$L$41,2,FALSE)=0),\"\",IF(VLOOKUP(C301,'WK 3'!$K$6:$L$41,2,FALSE)=0,\"\",VLOOKUP(C301,'WK 3'!$K$6:$L$41,2,FALSE)))","v":""},{"$f":"IF(ISNA(VLOOKUP(C301,'WK 4'!$K$6:$L$41,2,FALSE)=0),\"\",IF(VLOOKUP(C301,'WK 4'!$K$6:$L$41,2,FALSE)=0,\"\",VLOOKUP(C301,'WK 4'!$K$6:$L$41,2,FALSE)))","v":""},{"$f":"IF(ISNA(VLOOKUP(C301,'WK 5'!$K$6:$L$41,2,FALSE)=0),\"\",IF(VLOOKUP(C301,'WK 5'!$K$6:$L$41,2,FALSE)=0,\"\",VLOOKUP(C301,'WK 5'!$K$6:$L$41,2,FALSE)))","v":""},{"$f":"IF(ISNA(VLOOKUP(C301,'WK 6'!$K$6:$L$41,2,FALSE)=0),\"\",IF(VLOOKUP(C301,'WK 6'!$K$6:$L$41,2,FALSE)=0,\"\",VLOOKUP(C301,'WK 6'!$K$6:$L$41,2,FALSE)))","v":""},{"$f":"IF(ISNA(VLOOKUP(C301,'WK 7'!$K$6:$L$41,2,FALSE)=0),\"\",IF(VLOOKUP(C301,'WK 7'!$K$6:$L$41,2,FALSE)=0,\"\",VLOOKUP(C301,'WK 7'!$K$6:$L$41,2,FALSE)))","v":""},{"$f":"IF(ISNA(VLOOKUP(C301,'WK 8'!$K$6:$L$41,2,FALSE)=0),\"\",IF(VLOOKUP(C301,'WK 8'!$K$6:$L$41,2,FALSE)=0,\"\",VLOOKUP(C301,'WK 8'!$K$6:$L$41,2,FALSE)))","v":""},{"$f":"IF(ISNA(VLOOKUP(C301,'WK 9'!$K$6:$L$41,2,FALSE)=0),\"\",IF(VLOOKUP(C301,'WK 9'!$K$6:$L$41,2,FALSE)=0,\"\",VLOOKUP(C301,'WK 9'!$K$6:$L$41,2,FALSE)))","v":""},{"$f":"IF(ISNA(VLOOKUP(C301,'WK 10'!$K$6:$L$41,2,FALSE)=0),\"\",IF(VLOOKUP(C301,'WK 10'!$K$6:$L$41,2,FALSE)=0,\"\",VLOOKUP(C301,'WK 10'!$K$6:$L$41,2,FALSE)))","v":""},0]
[null,null,{"$f":"IF(ISNA(VLOOKUP('WK 9'!K18,$C$2:$C$253,1,FALSE)),VLOOKUP('WK 9'!K18,'WK 9'!$K$6:$K$450,1,FALSE),\"\")","v":""},null,{"$f":"IF(ISNA(VLOOKUP(C302,'WK 2'!$K$6:$L$41,2,FALSE)=0),\"\",IF(VLOOKUP(C302,'WK 2'!$K$6:$L$41,2,FALSE)=0,\"\",VLOOKUP(C302,'WK 2'!$K$6:$L$41,2,FALSE)))","v":""},{"$f":"IF(ISNA(VLOOKUP(C302,'WK 3'!$K$6:$L$41,2,FALSE)=0),\"\",IF(VLOOKUP(C302,'WK 3'!$K$6:$L$41,2,FALSE)=0,\"\",VLOOKUP(C302,'WK 3'!$K$6:$L$41,2,FALSE)))","v":""},{"$f":"IF(ISNA(VLOOKUP(C302,'WK 4'!$K$6:$L$41,2,FALSE)=0),\"\",IF(VLOOKUP(C302,'WK 4'!$K$6:$L$41,2,FALSE)=0,\"\",VLOOKUP(C302,'WK 4'!$K$6:$L$41,2,FALSE)))","v":""},{"$f":"IF(ISNA(VLOOKUP(C302,'WK 5'!$K$6:$L$41,2,FALSE)=0),\"\",IF(VLOOKUP(C302,'WK 5'!$K$6:$L$41,2,FALSE)=0,\"\",VLOOKUP(C302,'WK 5'!$K$6:$L$41,2,FALSE)))","v":""},{"$f":"IF(ISNA(VLOOKUP(C302,'WK 6'!$K$6:$L$41,2,FALSE)=0),\"\",IF(VLOOKUP(C302,'WK 6'!$K$6:$L$41,2,FALSE)=0,\"\",VLOOKUP(C302,'WK 6'!$K$6:$L$41,2,FALSE)))","v":""},{"$f":"IF(ISNA(VLOOKUP(C302,'WK 7'!$K$6:$L$41,2,FALSE)=0),\"\",IF(VLOOKUP(C302,'WK 7'!$K$6:$L$41,2,FALSE)=0,\"\",VLOOKUP(C302,'WK 7'!$K$6:$L$41,2,FALSE)))","v":""},{"$f":"IF(ISNA(VLOOKUP(C302,'WK 8'!$K$6:$L$41,2,FALSE)=0),\"\",IF(VLOOKUP(C302,'WK 8'!$K$6:$L$41,2,FALSE)=0,\"\",VLOOKUP(C302,'WK 8'!$K$6:$L$41,2,FALSE)))","v":""},{"$f":"IF(ISNA(VLOOKUP(C302,'WK 9'!$K$6:$L$41,2,FALSE)=0),\"\",IF(VLOOKUP(C302,'WK 9'!$K$6:$L$41,2,FALSE)=0,\"\",VLOOKUP(C302,'WK 9'!$K$6:$L$41,2,FALSE)))","v":""},{"$f":"IF(ISNA(VLOOKUP(C302,'WK 10'!$K$6:$L$41,2,FALSE)=0),\"\",IF(VLOOKUP(C302,'WK 10'!$K$6:$L$41,2,FALSE)=0,\"\",VLOOKUP(C302,'WK 10'!$K$6:$L$41,2,FALSE)))","v":""},0]
[null,null,{"$f":"IF(ISNA(VLOOKUP('WK 9'!K19,$C$2:$C$253,1,FALSE)),VLOOKUP('WK 9'!K19,'WK 9'!$K$6:$K$450,1,FALSE),\"\")","v":""},null,{"$f":"IF(ISNA(VLOOKUP(C303,'WK 2'!$K$6:$L$41,2,FALSE)=0),\"\",IF(VLOOKUP(C303,'WK 2'!$K$6:$L$41,2,FALSE)=0,\"\",VLOOKUP(C303,'WK 2'!$K$6:$L$41,2,FALSE)))","v":""},{"$f":"IF(ISNA(VLOOKUP(C303,'WK 3'!$K$6:$L$41,2,FALSE)=0),\"\",IF(VLOOKUP(C303,'WK 3'!$K$6:$L$41,2,FALSE)=0,\"\",VLOOKUP(C303,'WK 3'!$K$6:$L$41,2,FALSE)))","v":""},{"$f":"IF(ISNA(VLOOKUP(C303,'WK 4'!$K$6:$L$41,2,FALSE)=0),\"\",IF(VLOOKUP(C303,'WK 4'!$K$6:$L$41,2,FALSE)=0,\"\",VLOOKUP(C303,'WK 4'!$K$6:$L$41,2,FALSE)))","v":""},{"$f":"IF(ISNA(VLOOKUP(C303,'WK 5'!$K$6:$L$41,2,FALSE)=0),\"\",IF(VLOOKUP(C303,'WK 5'!$K$6:$L$41,2,FALSE)=0,\"\",VLOOKUP(C303,'WK 5'!$K$6:$L$41,2,FALSE)))","v":""},{"$f":"IF(ISNA(VLOOKUP(C303,'WK 6'!$K$6:$L$41,2,FALSE)=0),\"\",IF(VLOOKUP(C303,'WK 6'!$K$6:$L$41,2,FALSE)=0,\"\",VLOOKUP(C303,'WK 6'!$K$6:$L$41,2,FALSE)))","v":""},{"$f":"IF(ISNA(VLOOKUP(C303,'WK 7'!$K$6:$L$41,2,FALSE)=0),\"\",IF(VLOOKUP(C303,'WK 7'!$K$6:$L$41,2,FALSE)=0,\"\",VLOOKUP(C303,'WK 7'!$K$6:$L$41,2,FALSE)))","v":""},{"$f":"IF(ISNA(VLOOKUP(C303,'WK 8'!$K$6:$L$41,2,FALSE)=0),\"\",IF(VLOOKUP(C303,'WK 8'!$K$6:$L$41,2,FALSE)=0,\"\",VLOOKUP(C303,'WK 8'!$K$6:$L$41,2,FALSE)))","v":""},{"$f":"IF(ISNA(VLOOKUP(C303,'WK 9'!$K$6:$L$41,2,FALSE)=0),\"\",IF(VLOOKUP(C303,'WK 9'!$K$6:$L$41,2,FALSE)=0,\"\",VLOOKUP(C303,'WK 9'!$K$6:$L$41,2,FALSE)))","v":""},{"$f":"IF(ISNA(VLOOKUP(C303,'WK 10'!$K$6:$L$41,2,FALSE)=0),\"\",IF(VLOOKUP(C303,'WK 10'!$K$6:$L$41,2,FALSE)=0,\"\",VLOOKUP(C303,'WK 10'!$K$6:$L$41,2,FALSE)))","v":""},0]
[null,null,{"$f":"IF(ISNA(VLOOKUP('WK 9'!K20,$C$2:$C$253,1,FALSE)),VLOOKUP('WK 9'!K20,'WK 9'!$K$6:$K$450,1,FALSE),\"\")","v":""},null,{"$f":"IF(ISNA(VLOOKUP(C304,'WK 2'!$K$6:$L$41,2,FALSE)=0),\"\",IF(VLOOKUP(C304,'WK 2'!$K$6:$L$41,2,FALSE)=0,\"\",VLOOKUP(C304,'WK 2'!$K$6:$L$41,2,FALSE)))","v":""},{"$f":"IF(ISNA(VLOOKUP(C304,'WK 3'!$K$6:$L$41,2,FALSE)=0),\"\",IF(VLOOKUP(C304,'WK 3'!$K$6:$L$41,2,FALSE)=0,\"\",VLOOKUP(C304,'WK 3'!$K$6:$L$41,2,FALSE)))","v":""},{"$f":"IF(ISNA(VLOOKUP(C304,'WK 4'!$K$6:$L$41,2,FALSE)=0),\"\",IF(VLOOKUP(C304,'WK 4'!$K$6:$L$41,2,FALSE)=0,\"\",VLOOKUP(C304,'WK 4'!$K$6:$L$41,2,FALSE)))","v":""},{"$f":"IF(ISNA(VLOOKUP(C304,'WK 5'!$K$6:$L$41,2,FALSE)=0),\"\",IF(VLOOKUP(C304,'WK 5'!$K$6:$L$41,2,FALSE)=0,\"\",VLOOKUP(C304,'WK 5'!$K$6:$L$41,2,FALSE)))","v":""},{"$f":"IF(ISNA(VLOOKUP(C304,'WK 6'!$K$6:$L$41,2,FALSE)=0),\"\",IF(VLOOKUP(C304,'WK 6'!$K$6:$L$41,2,FALSE)=0,\"\",VLOOKUP(C304,'WK 6'!$K$6:$L$41,2,FALSE)))","v":""},{"$f":"IF(ISNA(VLOOKUP(C304,'WK 7'!$K$6:$L$41,2,FALSE)=0),\"\",IF(VLOOKUP(C304,'WK 7'!$K$6:$L$41,2,FALSE)=0,\"\",VLOOKUP(C304,'WK 7'!$K$6:$L$41,2,FALSE)))","v":""},{"$f":"IF(ISNA(VLOOKUP(C304,'WK 8'!$K$6:$L$41,2,FALSE)=0),\"\",IF(VLOOKUP(C304,'WK 8'!$K$6:$L$41,2,FALSE)=0,\"\",VLOOKUP(C304,'WK 8'!$K$6:$L$41,2,FALSE)))","v":""},{"$f":"IF(ISNA(VLOOKUP(C304,'WK 9'!$K$6:$L$41,2,FALSE)=0),\"\",IF(VLOOKUP(C304,'WK 9'!$K$6:$L$41,2,FALSE)=0,\"\",VLOOKUP(C304,'WK 9'!$K$6:$L$41,2,FALSE)))","v":""},{"$f":"IF(ISNA(VLOOKUP(C304,'WK 10'!$K$6:$L$41,2,FALSE)=0),\"\",IF(VLOOKUP(C304,'WK 10'!$K$6:$L$41,2,FALSE)=0,\"\",VLOOKUP(C304,'WK 10'!$K$6:$L$41,2,FALSE)))","v":""},0]
[null,null,{"$f":"IF(ISNA(VLOOKUP('WK 9'!K21,$C$2:$C$253,1,FALSE)),VLOOKUP('WK 9'!K21,'WK 9'!$K$6:$K$450,1,FALSE),\"\")","v":""},null,{"$f":"IF(ISNA(VLOOKUP(C305,'WK 2'!$K$6:$L$41,2,FALSE)=0),\"\",IF(VLOOKUP(C305,'WK 2'!$K$6:$L$41,2,FALSE)=0,\"\",VLOOKUP(C305,'WK 2'!$K$6:$L$41,2,FALSE)))","v":""},{"$f":"IF(ISNA(VLOOKUP(C305,'WK 3'!$K$6:$L$41,2,FALSE)=0),\"\",IF(VLOOKUP(C305,'WK 3'!$K$6:$L$41,2,FALSE)=0,\"\",VLOOKUP(C305,'WK 3'!$K$6:$L$41,2,FALSE)))","v":""},{"$f":"IF(ISNA(VLOOKUP(C305,'WK 4'!$K$6:$L$41,2,FALSE)=0),\"\",IF(VLOOKUP(C305,'WK 4'!$K$6:$L$41,2,FALSE)=0,\"\",VLOOKUP(C305,'WK 4'!$K$6:$L$41,2,FALSE)))","v":""},{"$f":"IF(ISNA(VLOOKUP(C305,'WK 5'!$K$6:$L$41,2,FALSE)=0),\"\",IF(VLOOKUP(C305,'WK 5'!$K$6:$L$41,2,FALSE)=0,\"\",VLOOKUP(C305,'WK 5'!$K$6:$L$41,2,FALSE)))","v":""},{"$f":"IF(ISNA(VLOOKUP(C305,'WK 6'!$K$6:$L$41,2,FALSE)=0),\"\",IF(VLOOKUP(C305,'WK 6'!$K$6:$L$41,2,FALSE)=0,\"\",VLOOKUP(C305,'WK 6'!$K$6:$L$41,2,FALSE)))","v":""},{"$f":"IF(ISNA(VLOOKUP(C305,'WK 7'!$K$6:$L$41,2,FALSE)=0),\"\",IF(VLOOKUP(C305,'WK 7'!$K$6:$L$41,2,FALSE)=0,\"\",VLOOKUP(C305,'WK 7'!$K$6:$L$41,2,FALSE)))","v":""},{"$f":"IF(ISNA(VLOOKUP(C305,'WK 8'!$K$6:$L$41,2,FALSE)=0),\"\",IF(VLOOKUP(C305,'WK 8'!$K$6:$L$41,2,FALSE)=0,\"\",VLOOKUP(C305,'WK 8'!$K$6:$L$41,2,FALSE)))","v":""},{"$f":"IF(ISNA(VLOOKUP(C305,'WK 9'!$K$6:$L$41,2,FALSE)=0),\"\",IF(VLOOKUP(C305,'WK 9'!$K$6:$L$41,2,FALSE)=0,\"\",VLOOKUP(C305,'WK 9'!$K$6:$L$41,2,FALSE)))","v":""},{"$f":"IF(ISNA(VLOOKUP(C305,'WK 10'!$K$6:$L$41,2,FALSE)=0),\"\",IF(VLOOKUP(C305,'WK 10'!$K$6:$L$41,2,FALSE)=0,\"\",VLOOKUP(C305,'WK 10'!$K$6:$L$41,2,FALSE)))","v":""},0]
[null,null,{"$f":"IF(ISNA(VLOOKUP('WK 9'!K22,$C$2:$C$253,1,FALSE)),VLOOKUP('WK 9'!K22,'WK 9'!$K$6:$K$450,1,FALSE),\"\")","v":""},null,{"$f":"IF(ISNA(VLOOKUP(C306,'WK 2'!$K$6:$L$41,2,FALSE)=0),\"\",IF(VLOOKUP(C306,'WK 2'!$K$6:$L$41,2,FALSE)=0,\"\",VLOOKUP(C306,'WK 2'!$K$6:$L$41,2,FALSE)))","v":""},{"$f":"IF(ISNA(VLOOKUP(C306,'WK 3'!$K$6:$L$41,2,FALSE)=0),\"\",IF(VLOOKUP(C306,'WK 3'!$K$6:$L$41,2,FALSE)=0,\"\",VLOOKUP(C306,'WK 3'!$K$6:$L$41,2,FALSE)))","v":""},{"$f":"IF(ISNA(VLOOKUP(C306,'WK 4'!$K$6:$L$41,2,FALSE)=0),\"\",IF(VLOOKUP(C306,'WK 4'!$K$6:$L$41,2,FALSE)=0,\"\",VLOOKUP(C306,'WK 4'!$K$6:$L$41,2,FALSE)))","v":""},{"$f":"IF(ISNA(VLOOKUP(C306,'WK 5'!$K$6:$L$41,2,FALSE)=0),\"\",IF(VLOOKUP(C306,'WK 5'!$K$6:$L$41,2,FALSE)=0,\"\",VLOOKUP(C306,'WK 5'!$K$6:$L$41,2,FALSE)))","v":""},{"$f":"IF(ISNA(VLOOKUP(C306,'WK 6'!$K$6:$L$41,2,FALSE)=0),\"\",IF(VLOOKUP(C306,'WK 6'!$K$6:$L$41,2,FALSE)=0,\"\",VLOOKUP(C306,'WK 6'!$K$6:$L$41,2,FALSE)))","v":""},{"$f":"IF(ISNA(VLOOKUP(C306,'WK 7'!$K$6:$L$41,2,FALSE)=0),\"\",IF(VLOOKUP(C306,'WK 7'!$K$6:$L$41,2,FALSE)=0,\"\",VLOOKUP(C306,'WK 7'!$K$6:$L$41,2,FALSE)))","v":""},{"$f":"IF(ISNA(VLOOKUP(C306,'WK 8'!$K$6:$L$41,2,FALSE)=0),\"\",IF(VLOOKUP(C306,'WK 8'!$K$6:$L$41,2,FALSE)=0,\"\",VLOOKUP(C306,'WK 8'!$K$6:$L$41,2,FALSE)))","v":""},{"$f":"IF(ISNA(VLOOKUP(C306,'WK 9'!$K$6:$L$41,2,FALSE)=0),\"\",IF(VLOOKUP(C306,'WK 9'!$K$6:$L$41,2,FALSE)=0,\"\",VLOOKUP(C306,'WK 9'!$K$6:$L$41,2,FALSE)))","v":""},{"$f":"IF(ISNA(VLOOKUP(C306,'WK 10'!$K$6:$L$41,2,FALSE)=0),\"\",IF(VLOOKUP(C306,'WK 10'!$K$6:$L$41,2,FALSE)=0,\"\",VLOOKUP(C306,'WK 10'!$K$6:$L$41,2,FALSE)))","v":""},0]
[null,null,{"$f":"IF(ISNA(VLOOKUP('WK 9'!K23,$C$2:$C$253,1,FALSE)),VLOOKUP('WK 9'!K23,'WK 9'!$K$6:$K$450,1,FALSE),\"\")","v":""},null,{"$f":"IF(ISNA(VLOOKUP(C307,'WK 2'!$K$6:$L$41,2,FALSE)=0),\"\",IF(VLOOKUP(C307,'WK 2'!$K$6:$L$41,2,FALSE)=0,\"\",VLOOKUP(C307,'WK 2'!$K$6:$L$41,2,FALSE)))","v":""},{"$f":"IF(ISNA(VLOOKUP(C307,'WK 3'!$K$6:$L$41,2,FALSE)=0),\"\",IF(VLOOKUP(C307,'WK 3'!$K$6:$L$41,2,FALSE)=0,\"\",VLOOKUP(C307,'WK 3'!$K$6:$L$41,2,FALSE)))","v":""},{"$f":"IF(ISNA(VLOOKUP(C307,'WK 4'!$K$6:$L$41,2,FALSE)=0),\"\",IF(VLOOKUP(C307,'WK 4'!$K$6:$L$41,2,FALSE)=0,\"\",VLOOKUP(C307,'WK 4'!$K$6:$L$41,2,FALSE)))","v":""},{"$f":"IF(ISNA(VLOOKUP(C307,'WK 5'!$K$6:$L$41,2,FALSE)=0),\"\",IF(VLOOKUP(C307,'WK 5'!$K$6:$L$41,2,FALSE)=0,\"\",VLOOKUP(C307,'WK 5'!$K$6:$L$41,2,FALSE)))","v":""},{"$f":"IF(ISNA(VLOOKUP(C307,'WK 6'!$K$6:$L$41,2,FALSE)=0),\"\",IF(VLOOKUP(C307,'WK 6'!$K$6:$L$41,2,FALSE)=0,\"\",VLOOKUP(C307,'WK 6'!$K$6:$L$41,2,FALSE)))","v":""},{"$f":"IF(ISNA(VLOOKUP(C307,'WK 7'!$K$6:$L$41,2,FALSE)=0),\"\",IF(VLOOKUP(C307,'WK 7'!$K$6:$L$41,2,FALSE)=0,\"\",VLOOKUP(C307,'WK 7'!$K$6:$L$41,2,FALSE)))","v":""},{"$f":"IF(ISNA(VLOOKUP(C307,'WK 8'!$K$6:$L$41,2,FALSE)=0),\"\",IF(VLOOKUP(C307,'WK 8'!$K$6:$L$41,2,FALSE)=0,\"\",VLOOKUP(C307,'WK 8'!$K$6:$L$41,2,FALSE)))","v":""},{"$f":"IF(ISNA(VLOOKUP(C307,'WK 9'!$K$6:$L$41,2,FALSE)=0),\"\",IF(VLOOKUP(C307,'WK 9'!$K$6:$L$41,2,FALSE)=0,\"\",VLOOKUP(C307,'WK 9'!$K$6:$L$41,2,FALSE)))","v":""},{"$f":"IF(ISNA(VLOOKUP(C307,'WK 10'!$K$6:$L$41,2,FALSE)=0),\"\",IF(VLOOKUP(C307,'WK 10'!$K$6:$L$41,2,FALSE)=0,\"\",VLOOKUP(C307,'WK 10'!$K$6:$L$41,2,FALSE)))","v":""},0]
[null,null,{"$f":"IF(ISNA(VLOOKUP('WK 9'!K24,$C$2:$C$253,1,FALSE)),VLOOKUP('WK 9'!K24,'WK 9'!$K$6:$K$450,1,FALSE),\"\")","v":""},null,{"$f":"IF(ISNA(VLOOKUP(C308,'WK 2'!$K$6:$L$41,2,FALSE)=0),\"\",IF(VLOOKUP(C308,'WK 2'!$K$6:$L$41,2,FALSE)=0,\"\",VLOOKUP(C308,'WK 2'!$K$6:$L$41,2,FALSE)))","v":""},{"$f":"IF(ISNA(VLOOKUP(C308,'WK 3'!$K$6:$L$41,2,FALSE)=0),\"\",IF(VLOOKUP(C308,'WK 3'!$K$6:$L$41,2,FALSE)=0,\"\",VLOOKUP(C308,'WK 3'!$K$6:$L$41,2,FALSE)))","v":""},{"$f":"IF(ISNA(VLOOKUP(C308,'WK 4'!$K$6:$L$41,2,FALSE)=0),\"\",IF(VLOOKUP(C308,'WK 4'!$K$6:$L$41,2,FALSE)=0,\"\",VLOOKUP(C308,'WK 4'!$K$6:$L$41,2,FALSE)))","v":""},{"$f":"IF(ISNA(VLOOKUP(C308,'WK 5'!$K$6:$L$41,2,FALSE)=0),\"\",IF(VLOOKUP(C308,'WK 5'!$K$6:$L$41,2,FALSE)=0,\"\",VLOOKUP(C308,'WK 5'!$K$6:$L$41,2,FALSE)))","v":""},{"$f":"IF(ISNA(VLOOKUP(C308,'WK 6'!$K$6:$L$41,2,FALSE)=0),\"\",IF(VLOOKUP(C308,'WK 6'!$K$6:$L$41,2,FALSE)=0,\"\",VLOOKUP(C308,'WK 6'!$K$6:$L$41,2,FALSE)))","v":""},{"$f":"IF(ISNA(VLOOKUP(C308,'WK 7'!$K$6:$L$41,2,FALSE)=0),\"\",IF(VLOOKUP(C308,'WK 7'!$K$6:$L$41,2,FALSE)=0,\"\",VLOOKUP(C308,'WK 7'!$K$6:$L$41,2,FALSE)))","v":""},{"$f":"IF(ISNA(VLOOKUP(C308,'WK 8'!$K$6:$L$41,2,FALSE)=0),\"\",IF(VLOOKUP(C308,'WK 8'!$K$6:$L$41,2,FALSE)=0,\"\",VLOOKUP(C308,'WK 8'!$K$6:$L$41,2,FALSE)))","v":""},{"$f":"IF(ISNA(VLOOKUP(C308,'WK 9'!$K$6:$L$41,2,FALSE)=0),\"\",IF(VLOOKUP(C308,'WK 9'!$K$6:$L$41,2,FALSE)=0,\"\",VLOOKUP(C308,'WK 9'!$K$6:$L$41,2,FALSE)))","v":""},{"$f":"IF(ISNA(VLOOKUP(C308,'WK 10'!$K$6:$L$41,2,FALSE)=0),\"\",IF(VLOOKUP(C308,'WK 10'!$K$6:$L$41,2,FALSE)=0,\"\",VLOOKUP(C308,'WK 10'!$K$6:$L$41,2,FALSE)))","v":""},0]
[null,null,{"$f":"IF(ISNA(VLOOKUP('WK 9'!K25,$C$2:$C$253,1,FALSE)),VLOOKUP('WK 9'!K25,'WK 9'!$K$6:$K$450,1,FALSE),\"\")","v":""},null,{"$f":"IF(ISNA(VLOOKUP(C309,'WK 2'!$K$6:$L$41,2,FALSE)=0),\"\",IF(VLOOKUP(C309,'WK 2'!$K$6:$L$41,2,FALSE)=0,\"\",VLOOKUP(C309,'WK 2'!$K$6:$L$41,2,FALSE)))","v":""},{"$f":"IF(ISNA(VLOOKUP(C309,'WK 3'!$K$6:$L$41,2,FALSE)=0),\"\",IF(VLOOKUP(C309,'WK 3'!$K$6:$L$41,2,FALSE)=0,\"\",VLOOKUP(C309,'WK 3'!$K$6:$L$41,2,FALSE)))","v":""},{"$f":"IF(ISNA(VLOOKUP(C309,'WK 4'!$K$6:$L$41,2,FALSE)=0),\"\",IF(VLOOKUP(C309,'WK 4'!$K$6:$L$41,2,FALSE)=0,\"\",VLOOKUP(C309,'WK 4'!$K$6:$L$41,2,FALSE)))","v":""},{"$f":"IF(ISNA(VLOOKUP(C309,'WK 5'!$K$6:$L$41,2,FALSE)=0),\"\",IF(VLOOKUP(C309,'WK 5'!$K$6:$L$41,2,FALSE)=0,\"\",VLOOKUP(C309,'WK 5'!$K$6:$L$41,2,FALSE)))","v":""},{"$f":"IF(ISNA(VLOOKUP(C309,'WK 6'!$K$6:$L$41,2,FALSE)=0),\"\",IF(VLOOKUP(C309,'WK 6'!$K$6:$L$41,2,FALSE)=0,\"\",VLOOKUP(C309,'WK 6'!$K$6:$L$41,2,FALSE)))","v":""},{"$f":"IF(ISNA(VLOOKUP(C309,'WK 7'!$K$6:$L$41,2,FALSE)=0),\"\",IF(VLOOKUP(C309,'WK 7'!$K$6:$L$41,2,FALSE)=0,\"\",VLOOKUP(C309,'WK 7'!$K$6:$L$41,2,FALSE)))","v":""},{"$f":"IF(ISNA(VLOOKUP(C309,'WK 8'!$K$6:$L$41,2,FALSE)=0),\"\",IF(VLOOKUP(C309,'WK 8'!$K$6:$L$41,2,FALSE)=0,\"\",VLOOKUP(C309,'WK 8'!$K$6:$L$41,2,FALSE)))","v":""},{"$f":"IF(ISNA(VLOOKUP(C309,'WK 9'!$K$6:$L$41,2,FALSE)=0),\"\",IF(VLOOKUP(C309,'WK 9'!$K$6:$L$41,2,FALSE)=0,\"\",VLOOKUP(C309,'WK 9'!$K$6:$L$41,2,FALSE)))","v":""},{"$f":"IF(ISNA(VLOOKUP(C309,'WK 10'!$K$6:$L$41,2,FALSE)=0),\"\",IF(VLOOKUP(C309,'WK 10'!$K$6:$L$41,2,FALSE)=0,\"\",VLOOKUP(C309,'WK 10'!$K$6:$L$41,2,FALSE)))","v":""},0]
[null,null,{"$f":"IF(ISNA(VLOOKUP('WK 9'!K26,$C$2:$C$253,1,FALSE)),VLOOKUP('WK 9'!K26,'WK 9'!$K$6:$K$450,1,FALSE),\"\")","v":""},null,{"$f":"IF(ISNA(VLOOKUP(C310,'WK 2'!$K$6:$L$41,2,FALSE)=0),\"\",IF(VLOOKUP(C310,'WK 2'!$K$6:$L$41,2,FALSE)=0,\"\",VLOOKUP(C310,'WK 2'!$K$6:$L$41,2,FALSE)))","v":""},{"$f":"IF(ISNA(VLOOKUP(C310,'WK 3'!$K$6:$L$41,2,FALSE)=0),\"\",IF(VLOOKUP(C310,'WK 3'!$K$6:$L$41,2,FALSE)=0,\"\",VLOOKUP(C310,'WK 3'!$K$6:$L$41,2,FALSE)))","v":""},{"$f":"IF(ISNA(VLOOKUP(C310,'WK 4'!$K$6:$L$41,2,FALSE)=0),\"\",IF(VLOOKUP(C310,'WK 4'!$K$6:$L$41,2,FALSE)=0,\"\",VLOOKUP(C310,'WK 4'!$K$6:$L$41,2,FALSE)))","v":""},{"$f":"IF(ISNA(VLOOKUP(C310,'WK 5'!$K$6:$L$41,2,FALSE)=0),\"\",IF(VLOOKUP(C310,'WK 5'!$K$6:$L$41,2,FALSE)=0,\"\",VLOOKUP(C310,'WK 5'!$K$6:$L$41,2,FALSE)))","v":""},{"$f":"IF(ISNA(VLOOKUP(C310,'WK 6'!$K$6:$L$41,2,FALSE)=0),\"\",IF(VLOOKUP(C310,'WK 6'!$K$6:$L$41,2,FALSE)=0,\"\",VLOOKUP(C310,'WK 6'!$K$6:$L$41,2,FALSE)))","v":""},{"$f":"IF(ISNA(VLOOKUP(C310,'WK 7'!$K$6:$L$41,2,FALSE)=0),\"\",IF(VLOOKUP(C310,'WK 7'!$K$6:$L$41,2,FALSE)=0,\"\",VLOOKUP(C310,'WK 7'!$K$6:$L$41,2,FALSE)))","v":""},{"$f":"IF(ISNA(VLOOKUP(C310,'WK 8'!$K$6:$L$41,2,FALSE)=0),\"\",IF(VLOOKUP(C310,'WK 8'!$K$6:$L$41,2,FALSE)=0,\"\",VLOOKUP(C310,'WK 8'!$K$6:$L$41,2,FALSE)))","v":""},{"$f":"IF(ISNA(VLOOKUP(C310,'WK 9'!$K$6:$L$41,2,FALSE)=0),\"\",IF(VLOOKUP(C310,'WK 9'!$K$6:$L$41,2,FALSE)=0,\"\",VLOOKUP(C310,'WK 9'!$K$6:$L$41,2,FALSE)))","v":""},{"$f":"IF(ISNA(VLOOKUP(C310,'WK 10'!$K$6:$L$41,2,FALSE)=0),\"\",IF(VLOOKUP(C310,'WK 10'!$K$6:$L$41,2,FALSE)=0,\"\",VLOOKUP(C310,'WK 10'!$K$6:$L$41,2,FALSE)))","v":""},0]
[null,null,{"$f":"IF(ISNA(VLOOKUP('WK 9'!K27,$C$2:$C$253,1,FALSE)),VLOOKUP('WK 9'!K27,'WK 9'!$K$6:$K$450,1,FALSE),\"\")","v":""},null,{"$f":"IF(ISNA(VLOOKUP(C311,'WK 2'!$K$6:$L$41,2,FALSE)=0),\"\",IF(VLOOKUP(C311,'WK 2'!$K$6:$L$41,2,FALSE)=0,\"\",VLOOKUP(C311,'WK 2'!$K$6:$L$41,2,FALSE)))","v":""},{"$f":"IF(ISNA(VLOOKUP(C311,'WK 3'!$K$6:$L$41,2,FALSE)=0),\"\",IF(VLOOKUP(C311,'WK 3'!$K$6:$L$41,2,FALSE)=0,\"\",VLOOKUP(C311,'WK 3'!$K$6:$L$41,2,FALSE)))","v":""},{"$f":"IF(ISNA(VLOOKUP(C311,'WK 4'!$K$6:$L$41,2,FALSE)=0),\"\",IF(VLOOKUP(C311,'WK 4'!$K$6:$L$41,2,FALSE)=0,\"\",VLOOKUP(C311,'WK 4'!$K$6:$L$41,2,FALSE)))","v":""},{"$f":"IF(ISNA(VLOOKUP(C311,'WK 5'!$K$6:$L$41,2,FALSE)=0),\"\",IF(VLOOKUP(C311,'WK 5'!$K$6:$L$41,2,FALSE)=0,\"\",VLOOKUP(C311,'WK 5'!$K$6:$L$41,2,FALSE)))","v":""},{"$f":"IF(ISNA(VLOOKUP(C311,'WK 6'!$K$6:$L$41,2,FALSE)=0),\"\",IF(VLOOKUP(C311,'WK 6'!$K$6:$L$41,2,FALSE)=0,\"\",VLOOKUP(C311,'WK 6'!$K$6:$L$41,2,FALSE)))","v":""},{"$f":"IF(ISNA(VLOOKUP(C311,'WK 7'!$K$6:$L$41,2,FALSE)=0),\"\",IF(VLOOKUP(C311,'WK 7'!$K$6:$L$41,2,FALSE)=0,\"\",VLOOKUP(C311,'WK 7'!$K$6:$L$41,2,FALSE)))","v":""},{"$f":"IF(ISNA(VLOOKUP(C311,'WK 8'!$K$6:$L$41,2,FALSE)=0),\"\",IF(VLOOKUP(C311,'WK 8'!$K$6:$L$41,2,FALSE)=0,\"\",VLOOKUP(C311,'WK 8'!$K$6:$L$41,2,FALSE)))","v":""},{"$f":"IF(ISNA(VLOOKUP(C311,'WK 9'!$K$6:$L$41,2,FALSE)=0),\"\",IF(VLOOKUP(C311,'WK 9'!$K$6:$L$41,2,FALSE)=0,\"\",VLOOKUP(C311,'WK 9'!$K$6:$L$41,2,FALSE)))","v":""},{"$f":"IF(ISNA(VLOOKUP(C311,'WK 10'!$K$6:$L$41,2,FALSE)=0),\"\",IF(VLOOKUP(C311,'WK 10'!$K$6:$L$41,2,FALSE)=0,\"\",VLOOKUP(C311,'WK 10'!$K$6:$L$41,2,FALSE)))","v":""},0]
[null,null,{"$f":"IF(ISNA(VLOOKUP('WK 9'!K28,$C$2:$C$253,1,FALSE)),VLOOKUP('WK 9'!K28,'WK 9'!$K$6:$K$450,1,FALSE),\"\")","v":""},null,{"$f":"IF(ISNA(VLOOKUP(C312,'WK 2'!$K$6:$L$41,2,FALSE)=0),\"\",IF(VLOOKUP(C312,'WK 2'!$K$6:$L$41,2,FALSE)=0,\"\",VLOOKUP(C312,'WK 2'!$K$6:$L$41,2,FALSE)))","v":""},{"$f":"IF(ISNA(VLOOKUP(C312,'WK 3'!$K$6:$L$41,2,FALSE)=0),\"\",IF(VLOOKUP(C312,'WK 3'!$K$6:$L$41,2,FALSE)=0,\"\",VLOOKUP(C312,'WK 3'!$K$6:$L$41,2,FALSE)))","v":""},{"$f":"IF(ISNA(VLOOKUP(C312,'WK 4'!$K$6:$L$41,2,FALSE)=0),\"\",IF(VLOOKUP(C312,'WK 4'!$K$6:$L$41,2,FALSE)=0,\"\",VLOOKUP(C312,'WK 4'!$K$6:$L$41,2,FALSE)))","v":""},{"$f":"IF(ISNA(VLOOKUP(C312,'WK 5'!$K$6:$L$41,2,FALSE)=0),\"\",IF(VLOOKUP(C312,'WK 5'!$K$6:$L$41,2,FALSE)=0,\"\",VLOOKUP(C312,'WK 5'!$K$6:$L$41,2,FALSE)))","v":""},{"$f":"IF(ISNA(VLOOKUP(C312,'WK 6'!$K$6:$L$41,2,FALSE)=0),\"\",IF(VLOOKUP(C312,'WK 6'!$K$6:$L$41,2,FALSE)=0,\"\",VLOOKUP(C312,'WK 6'!$K$6:$L$41,2,FALSE)))","v":""},{"$f":"IF(ISNA(VLOOKUP(C312,'WK 7'!$K$6:$L$41,2,FALSE)=0),\"\",IF(VLOOKUP(C312,'WK 7'!$K$6:$L$41,2,FALSE)=0,\"\",VLOOKUP(C312,'WK 7'!$K$6:$L$41,2,FALSE)))","v":""},{"$f":"IF(ISNA(VLOOKUP(C312,'WK 8'!$K$6:$L$41,2,FALSE)=0),\"\",IF(VLOOKUP(C312,'WK 8'!$K$6:$L$41,2,FALSE)=0,\"\",VLOOKUP(C312,'WK 8'!$K$6:$L$41,2,FALSE)))","v":""},{"$f":"IF(ISNA(VLOOKUP(C312,'WK 9'!$K$6:$L$41,2,FALSE)=0),\"\",IF(VLOOKUP(C312,'WK 9'!$K$6:$L$41,2,FALSE)=0,\"\",VLOOKUP(C312,'WK 9'!$K$6:$L$41,2,FALSE)))","v":""},{"$f":"IF(ISNA(VLOOKUP(C312,'WK 10'!$K$6:$L$41,2,FALSE)=0),\"\",IF(VLOOKUP(C312,'WK 10'!$K$6:$L$41,2,FALSE)=0,\"\",VLOOKUP(C312,'WK 10'!$K$6:$L$41,2,FALSE)))","v":""},0]
[null,null,{"$f":"IF(ISNA(VLOOKUP('WK 9'!K29,$C$2:$C$253,1,FALSE)),VLOOKUP('WK 9'!K29,'WK 9'!$K$6:$K$450,1,FALSE),\"\")","v":""},null,{"$f":"IF(ISNA(VLOOKUP(C313,'WK 2'!$K$6:$L$41,2,FALSE)=0),\"\",IF(VLOOKUP(C313,'WK 2'!$K$6:$L$41,2,FALSE)=0,\"\",VLOOKUP(C313,'WK 2'!$K$6:$L$41,2,FALSE)))","v":""},{"$f":"IF(ISNA(VLOOKUP(C313,'WK 3'!$K$6:$L$41,2,FALSE)=0),\"\",IF(VLOOKUP(C313,'WK 3'!$K$6:$L$41,2,FALSE)=0,\"\",VLOOKUP(C313,'WK 3'!$K$6:$L$41,2,FALSE)))","v":""},{"$f":"IF(ISNA(VLOOKUP(C313,'WK 4'!$K$6:$L$41,2,FALSE)=0),\"\",IF(VLOOKUP(C313,'WK 4'!$K$6:$L$41,2,FALSE)=0,\"\",VLOOKUP(C313,'WK 4'!$K$6:$L$41,2,FALSE)))","v":""},{"$f":"IF(ISNA(VLOOKUP(C313,'WK 5'!$K$6:$L$41,2,FALSE)=0),\"\",IF(VLOOKUP(C313,'WK 5'!$K$6:$L$41,2,FALSE)=0,\"\",VLOOKUP(C313,'WK 5'!$K$6:$L$41,2,FALSE)))","v":""},{"$f":"IF(ISNA(VLOOKUP(C313,'WK 6'!$K$6:$L$41,2,FALSE)=0),\"\",IF(VLOOKUP(C313,'WK 6'!$K$6:$L$41,2,FALSE)=0,\"\",VLOOKUP(C313,'WK 6'!$K$6:$L$41,2,FALSE)))","v":""},{"$f":"IF(ISNA(VLOOKUP(C313,'WK 7'!$K$6:$L$41,2,FALSE)=0),\"\",IF(VLOOKUP(C313,'WK 7'!$K$6:$L$41,2,FALSE)=0,\"\",VLOOKUP(C313,'WK 7'!$K$6:$L$41,2,FALSE)))","v":""},{"$f":"IF(ISNA(VLOOKUP(C313,'WK 8'!$K$6:$L$41,2,FALSE)=0),\"\",IF(VLOOKUP(C313,'WK 8'!$K$6:$L$41,2,FALSE)=0,\"\",VLOOKUP(C313,'WK 8'!$K$6:$L$41,2,FALSE)))","v":""},{"$f":"IF(ISNA(VLOOKUP(C313,'WK 9'!$K$6:$L$41,2,FALSE)=0),\"\",IF(VLOOKUP(C313,'WK 9'!$K$6:$L$41,2,FALSE)=0,\"\",VLOOKUP(C313,'WK 9'!$K$6:$L$41,2,FALSE)))","v":""},{"$f":"IF(ISNA(VLOOKUP(C313,'WK 10'!$K$6:$L$41,2,FALSE)=0),\"\",IF(VLOOKUP(C313,'WK 10'!$K$6:$L$41,2,FALSE)=0,\"\",VLOOKUP(C313,'WK 10'!$K$6:$L$41,2,FALSE)))","v":""},0]
[null,null,{"$f":"IF(ISNA(VLOOKUP('WK 9'!K30,$C$2:$C$253,1,FALSE)),VLOOKUP('WK 9'!K30,'WK 9'!$K$6:$K$450,1,FALSE),\"\")","v":""},null,{"$f":"IF(ISNA(VLOOKUP(C314,'WK 2'!$K$6:$L$41,2,FALSE)=0),\"\",IF(VLOOKUP(C314,'WK 2'!$K$6:$L$41,2,FALSE)=0,\"\",VLOOKUP(C314,'WK 2'!$K$6:$L$41,2,FALSE)))","v":""},{"$f":"IF(ISNA(VLOOKUP(C314,'WK 3'!$K$6:$L$41,2,FALSE)=0),\"\",IF(VLOOKUP(C314,'WK 3'!$K$6:$L$41,2,FALSE)=0,\"\",VLOOKUP(C314,'WK 3'!$K$6:$L$41,2,FALSE)))","v":""},{"$f":"IF(ISNA(VLOOKUP(C314,'WK 4'!$K$6:$L$41,2,FALSE)=0),\"\",IF(VLOOKUP(C314,'WK 4'!$K$6:$L$41,2,FALSE)=0,\"\",VLOOKUP(C314,'WK 4'!$K$6:$L$41,2,FALSE)))","v":""},{"$f":"IF(ISNA(VLOOKUP(C314,'WK 5'!$K$6:$L$41,2,FALSE)=0),\"\",IF(VLOOKUP(C314,'WK 5'!$K$6:$L$41,2,FALSE)=0,\"\",VLOOKUP(C314,'WK 5'!$K$6:$L$41,2,FALSE)))","v":""},{"$f":"IF(ISNA(VLOOKUP(C314,'WK 6'!$K$6:$L$41,2,FALSE)=0),\"\",IF(VLOOKUP(C314,'WK 6'!$K$6:$L$41,2,FALSE)=0,\"\",VLOOKUP(C314,'WK 6'!$K$6:$L$41,2,FALSE)))","v":""},{"$f":"IF(ISNA(VLOOKUP(C314,'WK 7'!$K$6:$L$41,2,FALSE)=0),\"\",IF(VLOOKUP(C314,'WK 7'!$K$6:$L$41,2,FALSE)=0,\"\",VLOOKUP(C314,'WK 7'!$K$6:$L$41,2,FALSE)))","v":""},{"$f":"IF(ISNA(VLOOKUP(C314,'WK 8'!$K$6:$L$41,2,FALSE)=0),\"\",IF(VLOOKUP(C314,'WK 8'!$K$6:$L$41,2,FALSE)=0,\"\",VLOOKUP(C314,'WK 8'!$K$6:$L$41,2,FALSE)))","v":""},{"$f":"IF(ISNA(VLOOKUP(C314,'WK 9'!$K$6:$L$41,2,FALSE)=0),\"\",IF(VLOOKUP(C314,'WK 9'!$K$6:$L$41,2,FALSE)=0,\"\",VLOOKUP(C314,'WK 9'!$K$6:$L$41,2,FALSE)))","v":""},{"$f":"IF(ISNA(VLOOKUP(C314,'WK 10'!$K$6:$L$41,2,FALSE)=0),\"\",IF(VLOOKUP(C314,'WK 10'!$K$6:$L$41,2,FALSE)=0,\"\",VLOOKUP(C314,'WK 10'!$K$6:$L$41,2,FALSE)))","v":""},0]
[null,null,{"$f":"IF(ISNA(VLOOKUP('WK 9'!K31,$C$2:$C$253,1,FALSE)),VLOOKUP('WK 9'!K31,'WK 9'!$K$6:$K$450,1,FALSE),\"\")","v":""},null,{"$f":"IF(ISNA(VLOOKUP(C315,'WK 2'!$K$6:$L$41,2,FALSE)=0),\"\",IF(VLOOKUP(C315,'WK 2'!$K$6:$L$41,2,FALSE)=0,\"\",VLOOKUP(C315,'WK 2'!$K$6:$L$41,2,FALSE)))","v":""},{"$f":"IF(ISNA(VLOOKUP(C315,'WK 3'!$K$6:$L$41,2,FALSE)=0),\"\",IF(VLOOKUP(C315,'WK 3'!$K$6:$L$41,2,FALSE)=0,\"\",VLOOKUP(C315,'WK 3'!$K$6:$L$41,2,FALSE)))","v":""},{"$f":"IF(ISNA(VLOOKUP(C315,'WK 4'!$K$6:$L$41,2,FALSE)=0),\"\",IF(VLOOKUP(C315,'WK 4'!$K$6:$L$41,2,FALSE)=0,\"\",VLOOKUP(C315,'WK 4'!$K$6:$L$41,2,FALSE)))","v":""},{"$f":"IF(ISNA(VLOOKUP(C315,'WK 5'!$K$6:$L$41,2,FALSE)=0),\"\",IF(VLOOKUP(C315,'WK 5'!$K$6:$L$41,2,FALSE)=0,\"\",VLOOKUP(C315,'WK 5'!$K$6:$L$41,2,FALSE)))","v":""},{"$f":"IF(ISNA(VLOOKUP(C315,'WK 6'!$K$6:$L$41,2,FALSE)=0),\"\",IF(VLOOKUP(C315,'WK 6'!$K$6:$L$41,2,FALSE)=0,\"\",VLOOKUP(C315,'WK 6'!$K$6:$L$41,2,FALSE)))","v":""},{"$f":"IF(ISNA(VLOOKUP(C315,'WK 7'!$K$6:$L$41,2,FALSE)=0),\"\",IF(VLOOKUP(C315,'WK 7'!$K$6:$L$41,2,FALSE)=0,\"\",VLOOKUP(C315,'WK 7'!$K$6:$L$41,2,FALSE)))","v":""},{"$f":"IF(ISNA(VLOOKUP(C315,'WK 8'!$K$6:$L$41,2,FALSE)=0),\"\",IF(VLOOKUP(C315,'WK 8'!$K$6:$L$41,2,FALSE)=0,\"\",VLOOKUP(C315,'WK 8'!$K$6:$L$41,2,FALSE)))","v":""},{"$f":"IF(ISNA(VLOOKUP(C315,'WK 9'!$K$6:$L$41,2,FALSE)=0),\"\",IF(VLOOKUP(C315,'WK 9'!$K$6:$L$41,2,FALSE)=0,\"\",VLOOKUP(C315,'WK 9'!$K$6:$L$41,2,FALSE)))","v":""},{"$f":"IF(ISNA(VLOOKUP(C315,'WK 10'!$K$6:$L$41,2,FALSE)=0),\"\",IF(VLOOKUP(C315,'WK 10'!$K$6:$L$41,2,FALSE)=0,\"\",VLOOKUP(C315,'WK 10'!$K$6:$L$41,2,FALSE)))","v":""},0]
[null,null,{"$f":"IF(ISNA(VLOOKUP('WK 9'!K32,$C$2:$C$253,1,FALSE)),VLOOKUP('WK 9'!K32,'WK 9'!$K$6:$K$450,1,FALSE),\"\")","v":""},null,{"$f":"IF(ISNA(VLOOKUP(C316,'WK 2'!$K$6:$L$41,2,FALSE)=0),\"\",IF(VLOOKUP(C316,'WK 2'!$K$6:$L$41,2,FALSE)=0,\"\",VLOOKUP(C316,'WK 2'!$K$6:$L$41,2,FALSE)))","v":""},{"$f":"IF(ISNA(VLOOKUP(C316,'WK 3'!$K$6:$L$41,2,FALSE)=0),\"\",IF(VLOOKUP(C316,'WK 3'!$K$6:$L$41,2,FALSE)=0,\"\",VLOOKUP(C316,'WK 3'!$K$6:$L$41,2,FALSE)))","v":""},{"$f":"IF(ISNA(VLOOKUP(C316,'WK 4'!$K$6:$L$41,2,FALSE)=0),\"\",IF(VLOOKUP(C316,'WK 4'!$K$6:$L$41,2,FALSE)=0,\"\",VLOOKUP(C316,'WK 4'!$K$6:$L$41,2,FALSE)))","v":""},{"$f":"IF(ISNA(VLOOKUP(C316,'WK 5'!$K$6:$L$41,2,FALSE)=0),\"\",IF(VLOOKUP(C316,'WK 5'!$K$6:$L$41,2,FALSE)=0,\"\",VLOOKUP(C316,'WK 5'!$K$6:$L$41,2,FALSE)))","v":""},{"$f":"IF(ISNA(VLOOKUP(C316,'WK 6'!$K$6:$L$41,2,FALSE)=0),\"\",IF(VLOOKUP(C316,'WK 6'!$K$6:$L$41,2,FALSE)=0,\"\",VLOOKUP(C316,'WK 6'!$K$6:$L$41,2,FALSE)))","v":""},{"$f":"IF(ISNA(VLOOKUP(C316,'WK 7'!$K$6:$L$41,2,FALSE)=0),\"\",IF(VLOOKUP(C316,'WK 7'!$K$6:$L$41,2,FALSE)=0,\"\",VLOOKUP(C316,'WK 7'!$K$6:$L$41,2,FALSE)))","v":""},{"$f":"IF(ISNA(VLOOKUP(C316,'WK 8'!$K$6:$L$41,2,FALSE)=0),\"\",IF(VLOOKUP(C316,'WK 8'!$K$6:$L$41,2,FALSE)=0,\"\",VLOOKUP(C316,'WK 8'!$K$6:$L$41,2,FALSE)))","v":""},{"$f":"IF(ISNA(VLOOKUP(C316,'WK 9'!$K$6:$L$41,2,FALSE)=0),\"\",IF(VLOOKUP(C316,'WK 9'!$K$6:$L$41,2,FALSE)=0,\"\",VLOOKUP(C316,'WK 9'!$K$6:$L$41,2,FALSE)))","v":""},{"$f":"IF(ISNA(VLOOKUP(C316,'WK 10'!$K$6:$L$41,2,FALSE)=0),\"\",IF(VLOOKUP(C316,'WK 10'!$K$6:$L$41,2,FALSE)=0,\"\",VLOOKUP(C316,'WK 10'!$K$6:$L$41,2,FALSE)))","v":""},0]
[null,null,{"$f":"IF(ISNA(VLOOKUP('WK 9'!K33,$C$2:$C$253,1,FALSE)),VLOOKUP('WK 9'!K33,'WK 9'!$K$6:$K$450,1,FALSE),\"\")","v":""},null,{"$f":"IF(ISNA(VLOOKUP(C317,'WK 2'!$K$6:$L$41,2,FALSE)=0),\"\",IF(VLOOKUP(C317,'WK 2'!$K$6:$L$41,2,FALSE)=0,\"\",VLOOKUP(C317,'WK 2'!$K$6:$L$41,2,FALSE)))","v":""},{"$f":"IF(ISNA(VLOOKUP(C317,'WK 3'!$K$6:$L$41,2,FALSE)=0),\"\",IF(VLOOKUP(C317,'WK 3'!$K$6:$L$41,2,FALSE)=0,\"\",VLOOKUP(C317,'WK 3'!$K$6:$L$41,2,FALSE)))","v":""},{"$f":"IF(ISNA(VLOOKUP(C317,'WK 4'!$K$6:$L$41,2,FALSE)=0),\"\",IF(VLOOKUP(C317,'WK 4'!$K$6:$L$41,2,FALSE)=0,\"\",VLOOKUP(C317,'WK 4'!$K$6:$L$41,2,FALSE)))","v":""},{"$f":"IF(ISNA(VLOOKUP(C317,'WK 5'!$K$6:$L$41,2,FALSE)=0),\"\",IF(VLOOKUP(C317,'WK 5'!$K$6:$L$41,2,FALSE)=0,\"\",VLOOKUP(C317,'WK 5'!$K$6:$L$41,2,FALSE)))","v":""},{"$f":"IF(ISNA(VLOOKUP(C317,'WK 6'!$K$6:$L$41,2,FALSE)=0),\"\",IF(VLOOKUP(C317,'WK 6'!$K$6:$L$41,2,FALSE)=0,\"\",VLOOKUP(C317,'WK 6'!$K$6:$L$41,2,FALSE)))","v":""},{"$f":"IF(ISNA(VLOOKUP(C317,'WK 7'!$K$6:$L$41,2,FALSE)=0),\"\",IF(VLOOKUP(C317,'WK 7'!$K$6:$L$41,2,FALSE)=0,\"\",VLOOKUP(C317,'WK 7'!$K$6:$L$41,2,FALSE)))","v":""},{"$f":"IF(ISNA(VLOOKUP(C317,'WK 8'!$K$6:$L$41,2,FALSE)=0),\"\",IF(VLOOKUP(C317,'WK 8'!$K$6:$L$41,2,FALSE)=0,\"\",VLOOKUP(C317,'WK 8'!$K$6:$L$41,2,FALSE)))","v":""},{"$f":"IF(ISNA(VLOOKUP(C317,'WK 9'!$K$6:$L$41,2,FALSE)=0),\"\",IF(VLOOKUP(C317,'WK 9'!$K$6:$L$41,2,FALSE)=0,\"\",VLOOKUP(C317,'WK 9'!$K$6:$L$41,2,FALSE)))","v":""},{"$f":"IF(ISNA(VLOOKUP(C317,'WK 10'!$K$6:$L$41,2,FALSE)=0),\"\",IF(VLOOKUP(C317,'WK 10'!$K$6:$L$41,2,FALSE)=0,\"\",VLOOKUP(C317,'WK 10'!$K$6:$L$41,2,FALSE)))","v":""},0]
[null,null,{"$f":"IF(ISNA(VLOOKUP('WK 9'!K34,$C$2:$C$253,1,FALSE)),VLOOKUP('WK 9'!K34,'WK 9'!$K$6:$K$450,1,FALSE),\"\")","v":""},null,{"$f":"IF(ISNA(VLOOKUP(C318,'WK 2'!$K$6:$L$41,2,FALSE)=0),\"\",IF(VLOOKUP(C318,'WK 2'!$K$6:$L$41,2,FALSE)=0,\"\",VLOOKUP(C318,'WK 2'!$K$6:$L$41,2,FALSE)))","v":""},{"$f":"IF(ISNA(VLOOKUP(C318,'WK 3'!$K$6:$L$41,2,FALSE)=0),\"\",IF(VLOOKUP(C318,'WK 3'!$K$6:$L$41,2,FALSE)=0,\"\",VLOOKUP(C318,'WK 3'!$K$6:$L$41,2,FALSE)))","v":""},{"$f":"IF(ISNA(VLOOKUP(C318,'WK 4'!$K$6:$L$41,2,FALSE)=0),\"\",IF(VLOOKUP(C318,'WK 4'!$K$6:$L$41,2,FALSE)=0,\"\",VLOOKUP(C318,'WK 4'!$K$6:$L$41,2,FALSE)))","v":""},{"$f":"IF(ISNA(VLOOKUP(C318,'WK 5'!$K$6:$L$41,2,FALSE)=0),\"\",IF(VLOOKUP(C318,'WK 5'!$K$6:$L$41,2,FALSE)=0,\"\",VLOOKUP(C318,'WK 5'!$K$6:$L$41,2,FALSE)))","v":""},{"$f":"IF(ISNA(VLOOKUP(C318,'WK 6'!$K$6:$L$41,2,FALSE)=0),\"\",IF(VLOOKUP(C318,'WK 6'!$K$6:$L$41,2,FALSE)=0,\"\",VLOOKUP(C318,'WK 6'!$K$6:$L$41,2,FALSE)))","v":""},{"$f":"IF(ISNA(VLOOKUP(C318,'WK 7'!$K$6:$L$41,2,FALSE)=0),\"\",IF(VLOOKUP(C318,'WK 7'!$K$6:$L$41,2,FALSE)=0,\"\",VLOOKUP(C318,'WK 7'!$K$6:$L$41,2,FALSE)))","v":""},{"$f":"IF(ISNA(VLOOKUP(C318,'WK 8'!$K$6:$L$41,2,FALSE)=0),\"\",IF(VLOOKUP(C318,'WK 8'!$K$6:$L$41,2,FALSE)=0,\"\",VLOOKUP(C318,'WK 8'!$K$6:$L$41,2,FALSE)))","v":""},{"$f":"IF(ISNA(VLOOKUP(C318,'WK 9'!$K$6:$L$41,2,FALSE)=0),\"\",IF(VLOOKUP(C318,'WK 9'!$K$6:$L$41,2,FALSE)=0,\"\",VLOOKUP(C318,'WK 9'!$K$6:$L$41,2,FALSE)))","v":""},{"$f":"IF(ISNA(VLOOKUP(C318,'WK 10'!$K$6:$L$41,2,FALSE)=0),\"\",IF(VLOOKUP(C318,'WK 10'!$K$6:$L$41,2,FALSE)=0,\"\",VLOOKUP(C318,'WK 10'!$K$6:$L$41,2,FALSE)))","v":""},0]
[null,null,{"$f":"IF(ISNA(VLOOKUP('WK 9'!K35,$C$2:$C$253,1,FALSE)),VLOOKUP('WK 9'!K35,'WK 9'!$K$6:$K$450,1,FALSE),\"\")","v":""},null,{"$f":"IF(ISNA(VLOOKUP(C319,'WK 2'!$K$6:$L$41,2,FALSE)=0),\"\",IF(VLOOKUP(C319,'WK 2'!$K$6:$L$41,2,FALSE)=0,\"\",VLOOKUP(C319,'WK 2'!$K$6:$L$41,2,FALSE)))","v":""},{"$f":"IF(ISNA(VLOOKUP(C319,'WK 3'!$K$6:$L$41,2,FALSE)=0),\"\",IF(VLOOKUP(C319,'WK 3'!$K$6:$L$41,2,FALSE)=0,\"\",VLOOKUP(C319,'WK 3'!$K$6:$L$41,2,FALSE)))","v":""},{"$f":"IF(ISNA(VLOOKUP(C319,'WK 4'!$K$6:$L$41,2,FALSE)=0),\"\",IF(VLOOKUP(C319,'WK 4'!$K$6:$L$41,2,FALSE)=0,\"\",VLOOKUP(C319,'WK 4'!$K$6:$L$41,2,FALSE)))","v":""},{"$f":"IF(ISNA(VLOOKUP(C319,'WK 5'!$K$6:$L$41,2,FALSE)=0),\"\",IF(VLOOKUP(C319,'WK 5'!$K$6:$L$41,2,FALSE)=0,\"\",VLOOKUP(C319,'WK 5'!$K$6:$L$41,2,FALSE)))","v":""},{"$f":"IF(ISNA(VLOOKUP(C319,'WK 6'!$K$6:$L$41,2,FALSE)=0),\"\",IF(VLOOKUP(C319,'WK 6'!$K$6:$L$41,2,FALSE)=0,\"\",VLOOKUP(C319,'WK 6'!$K$6:$L$41,2,FALSE)))","v":""},{"$f":"IF(ISNA(VLOOKUP(C319,'WK 7'!$K$6:$L$41,2,FALSE)=0),\"\",IF(VLOOKUP(C319,'WK 7'!$K$6:$L$41,2,FALSE)=0,\"\",VLOOKUP(C319,'WK 7'!$K$6:$L$41,2,FALSE)))","v":""},{"$f":"IF(ISNA(VLOOKUP(C319,'WK 8'!$K$6:$L$41,2,FALSE)=0),\"\",IF(VLOOKUP(C319,'WK 8'!$K$6:$L$41,2,FALSE)=0,\"\",VLOOKUP(C319,'WK 8'!$K$6:$L$41,2,FALSE)))","v":""},{"$f":"IF(ISNA(VLOOKUP(C319,'WK 9'!$K$6:$L$41,2,FALSE)=0),\"\",IF(VLOOKUP(C319,'WK 9'!$K$6:$L$41,2,FALSE)=0,\"\",VLOOKUP(C319,'WK 9'!$K$6:$L$41,2,FALSE)))","v":""},{"$f":"IF(ISNA(VLOOKUP(C319,'WK 10'!$K$6:$L$41,2,FALSE)=0),\"\",IF(VLOOKUP(C319,'WK 10'!$K$6:$L$41,2,FALSE)=0,\"\",VLOOKUP(C319,'WK 10'!$K$6:$L$41,2,FALSE)))","v":""},0]
[null,null,{"$f":"IF(ISNA(VLOOKUP('WK 9'!K36,$C$2:$C$253,1,FALSE)),VLOOKUP('WK 9'!K36,'WK 9'!$K$6:$K$450,1,FALSE),\"\")","v":""},null,{"$f":"IF(ISNA(VLOOKUP(C320,'WK 2'!$K$6:$L$41,2,FALSE)=0),\"\",IF(VLOOKUP(C320,'WK 2'!$K$6:$L$41,2,FALSE)=0,\"\",VLOOKUP(C320,'WK 2'!$K$6:$L$41,2,FALSE)))","v":""},{"$f":"IF(ISNA(VLOOKUP(C320,'WK 3'!$K$6:$L$41,2,FALSE)=0),\"\",IF(VLOOKUP(C320,'WK 3'!$K$6:$L$41,2,FALSE)=0,\"\",VLOOKUP(C320,'WK 3'!$K$6:$L$41,2,FALSE)))","v":""},{"$f":"IF(ISNA(VLOOKUP(C320,'WK 4'!$K$6:$L$41,2,FALSE)=0),\"\",IF(VLOOKUP(C320,'WK 4'!$K$6:$L$41,2,FALSE)=0,\"\",VLOOKUP(C320,'WK 4'!$K$6:$L$41,2,FALSE)))","v":""},{"$f":"IF(ISNA(VLOOKUP(C320,'WK 5'!$K$6:$L$41,2,FALSE)=0),\"\",IF(VLOOKUP(C320,'WK 5'!$K$6:$L$41,2,FALSE)=0,\"\",VLOOKUP(C320,'WK 5'!$K$6:$L$41,2,FALSE)))","v":""},{"$f":"IF(ISNA(VLOOKUP(C320,'WK 6'!$K$6:$L$41,2,FALSE)=0),\"\",IF(VLOOKUP(C320,'WK 6'!$K$6:$L$41,2,FALSE)=0,\"\",VLOOKUP(C320,'WK 6'!$K$6:$L$41,2,FALSE)))","v":""},{"$f":"IF(ISNA(VLOOKUP(C320,'WK 7'!$K$6:$L$41,2,FALSE)=0),\"\",IF(VLOOKUP(C320,'WK 7'!$K$6:$L$41,2,FALSE)=0,\"\",VLOOKUP(C320,'WK 7'!$K$6:$L$41,2,FALSE)))","v":""},{"$f":"IF(ISNA(VLOOKUP(C320,'WK 8'!$K$6:$L$41,2,FALSE)=0),\"\",IF(VLOOKUP(C320,'WK 8'!$K$6:$L$41,2,FALSE)=0,\"\",VLOOKUP(C320,'WK 8'!$K$6:$L$41,2,FALSE)))","v":""},{"$f":"IF(ISNA(VLOOKUP(C320,'WK 9'!$K$6:$L$41,2,FALSE)=0),\"\",IF(VLOOKUP(C320,'WK 9'!$K$6:$L$41,2,FALSE)=0,\"\",VLOOKUP(C320,'WK 9'!$K$6:$L$41,2,FALSE)))","v":""},{"$f":"IF(ISNA(VLOOKUP(C320,'WK 10'!$K$6:$L$41,2,FALSE)=0),\"\",IF(VLOOKUP(C320,'WK 10'!$K$6:$L$41,2,FALSE)=0,\"\",VLOOKUP(C320,'WK 10'!$K$6:$L$41,2,FALSE)))","v":""},0]
[null,null,{"$f":"IF(ISNA(VLOOKUP('WK 9'!K37,$C$2:$C$253,1,FALSE)),VLOOKUP('WK 9'!K37,'WK 9'!$K$6:$K$450,1,FALSE),\"\")","v":""},null,{"$f":"IF(ISNA(VLOOKUP(C321,'WK 2'!$K$6:$L$41,2,FALSE)=0),\"\",IF(VLOOKUP(C321,'WK 2'!$K$6:$L$41,2,FALSE)=0,\"\",VLOOKUP(C321,'WK 2'!$K$6:$L$41,2,FALSE)))","v":""},{"$f":"IF(ISNA(VLOOKUP(C321,'WK 3'!$K$6:$L$41,2,FALSE)=0),\"\",IF(VLOOKUP(C321,'WK 3'!$K$6:$L$41,2,FALSE)=0,\"\",VLOOKUP(C321,'WK 3'!$K$6:$L$41,2,FALSE)))","v":""},{"$f":"IF(ISNA(VLOOKUP(C321,'WK 4'!$K$6:$L$41,2,FALSE)=0),\"\",IF(VLOOKUP(C321,'WK 4'!$K$6:$L$41,2,FALSE)=0,\"\",VLOOKUP(C321,'WK 4'!$K$6:$L$41,2,FALSE)))","v":""},{"$f":"IF(ISNA(VLOOKUP(C321,'WK 5'!$K$6:$L$41,2,FALSE)=0),\"\",IF(VLOOKUP(C321,'WK 5'!$K$6:$L$41,2,FALSE)=0,\"\",VLOOKUP(C321,'WK 5'!$K$6:$L$41,2,FALSE)))","v":""},{"$f":"IF(ISNA(VLOOKUP(C321,'WK 6'!$K$6:$L$41,2,FALSE)=0),\"\",IF(VLOOKUP(C321,'WK 6'!$K$6:$L$41,2,FALSE)=0,\"\",VLOOKUP(C321,'WK 6'!$K$6:$L$41,2,FALSE)))","v":""},{"$f":"IF(ISNA(VLOOKUP(C321,'WK 7'!$K$6:$L$41,2,FALSE)=0),\"\",IF(VLOOKUP(C321,'WK 7'!$K$6:$L$41,2,FALSE)=0,\"\",VLOOKUP(C321,'WK 7'!$K$6:$L$41,2,FALSE)))","v":""},{"$f":"IF(ISNA(VLOOKUP(C321,'WK 8'!$K$6:$L$41,2,FALSE)=0),\"\",IF(VLOOKUP(C321,'WK 8'!$K$6:$L$41,2,FALSE)=0,\"\",VLOOKUP(C321,'WK 8'!$K$6:$L$41,2,FALSE)))","v":""},{"$f":"IF(ISNA(VLOOKUP(C321,'WK 9'!$K$6:$L$41,2,FALSE)=0),\"\",IF(VLOOKUP(C321,'WK 9'!$K$6:$L$41,2,FALSE)=0,\"\",VLOOKUP(C321,'WK 9'!$K$6:$L$41,2,FALSE)))","v":""},{"$f":"IF(ISNA(VLOOKUP(C321,'WK 10'!$K$6:$L$41,2,FALSE)=0),\"\",IF(VLOOKUP(C321,'WK 10'!$K$6:$L$41,2,FALSE)=0,\"\",VLOOKUP(C321,'WK 10'!$K$6:$L$41,2,FALSE)))","v":""},0]
[null,null,{"$f":"IF(ISNA(VLOOKUP('WK 9'!K38,$C$2:$C$253,1,FALSE)),VLOOKUP('WK 9'!K38,'WK 9'!$K$6:$K$450,1,FALSE),\"\")","v":""},null,{"$f":"IF(ISNA(VLOOKUP(C322,'WK 2'!$K$6:$L$41,2,FALSE)=0),\"\",IF(VLOOKUP(C322,'WK 2'!$K$6:$L$41,2,FALSE)=0,\"\",VLOOKUP(C322,'WK 2'!$K$6:$L$41,2,FALSE)))","v":""},{"$f":"IF(ISNA(VLOOKUP(C322,'WK 3'!$K$6:$L$41,2,FALSE)=0),\"\",IF(VLOOKUP(C322,'WK 3'!$K$6:$L$41,2,FALSE)=0,\"\",VLOOKUP(C322,'WK 3'!$K$6:$L$41,2,FALSE)))","v":""},{"$f":"IF(ISNA(VLOOKUP(C322,'WK 4'!$K$6:$L$41,2,FALSE)=0),\"\",IF(VLOOKUP(C322,'WK 4'!$K$6:$L$41,2,FALSE)=0,\"\",VLOOKUP(C322,'WK 4'!$K$6:$L$41,2,FALSE)))","v":""},{"$f":"IF(ISNA(VLOOKUP(C322,'WK 5'!$K$6:$L$41,2,FALSE)=0),\"\",IF(VLOOKUP(C322,'WK 5'!$K$6:$L$41,2,FALSE)=0,\"\",VLOOKUP(C322,'WK 5'!$K$6:$L$41,2,FALSE)))","v":""},{"$f":"IF(ISNA(VLOOKUP(C322,'WK 6'!$K$6:$L$41,2,FALSE)=0),\"\",IF(VLOOKUP(C322,'WK 6'!$K$6:$L$41,2,FALSE)=0,\"\",VLOOKUP(C322,'WK 6'!$K$6:$L$41,2,FALSE)))","v":""},{"$f":"IF(ISNA(VLOOKUP(C322,'WK 7'!$K$6:$L$41,2,FALSE)=0),\"\",IF(VLOOKUP(C322,'WK 7'!$K$6:$L$41,2,FALSE)=0,\"\",VLOOKUP(C322,'WK 7'!$K$6:$L$41,2,FALSE)))","v":""},{"$f":"IF(ISNA(VLOOKUP(C322,'WK 8'!$K$6:$L$41,2,FALSE)=0),\"\",IF(VLOOKUP(C322,'WK 8'!$K$6:$L$41,2,FALSE)=0,\"\",VLOOKUP(C322,'WK 8'!$K$6:$L$41,2,FALSE)))","v":""},{"$f":"IF(ISNA(VLOOKUP(C322,'WK 9'!$K$6:$L$41,2,FALSE)=0),\"\",IF(VLOOKUP(C322,'WK 9'!$K$6:$L$41,2,FALSE)=0,\"\",VLOOKUP(C322,'WK 9'!$K$6:$L$41,2,FALSE)))","v":""},{"$f":"IF(ISNA(VLOOKUP(C322,'WK 10'!$K$6:$L$41,2,FALSE)=0),\"\",IF(VLOOKUP(C322,'WK 10'!$K$6:$L$41,2,FALSE)=0,\"\",VLOOKUP(C322,'WK 10'!$K$6:$L$41,2,FALSE)))","v":""},0]
[null,null,{"$f":"IF(ISNA(VLOOKUP('WK 9'!K39,$C$2:$C$253,1,FALSE)),VLOOKUP('WK 9'!K39,'WK 9'!$K$6:$K$450,1,FALSE),\"\")","v":""},null,{"$f":"IF(ISNA(VLOOKUP(C323,'WK 2'!$K$6:$L$41,2,FALSE)=0),\"\",IF(VLOOKUP(C323,'WK 2'!$K$6:$L$41,2,FALSE)=0,\"\",VLOOKUP(C323,'WK 2'!$K$6:$L$41,2,FALSE)))","v":""},{"$f":"IF(ISNA(VLOOKUP(C323,'WK 3'!$K$6:$L$41,2,FALSE)=0),\"\",IF(VLOOKUP(C323,'WK 3'!$K$6:$L$41,2,FALSE)=0,\"\",VLOOKUP(C323,'WK 3'!$K$6:$L$41,2,FALSE)))","v":""},{"$f":"IF(ISNA(VLOOKUP(C323,'WK 4'!$K$6:$L$41,2,FALSE)=0),\"\",IF(VLOOKUP(C323,'WK 4'!$K$6:$L$41,2,FALSE)=0,\"\",VLOOKUP(C323,'WK 4'!$K$6:$L$41,2,FALSE)))","v":""},{"$f":"IF(ISNA(VLOOKUP(C323,'WK 5'!$K$6:$L$41,2,FALSE)=0),\"\",IF(VLOOKUP(C323,'WK 5'!$K$6:$L$41,2,FALSE)=0,\"\",VLOOKUP(C323,'WK 5'!$K$6:$L$41,2,FALSE)))","v":""},{"$f":"IF(ISNA(VLOOKUP(C323,'WK 6'!$K$6:$L$41,2,FALSE)=0),\"\",IF(VLOOKUP(C323,'WK 6'!$K$6:$L$41,2,FALSE)=0,\"\",VLOOKUP(C323,'WK 6'!$K$6:$L$41,2,FALSE)))","v":""},{"$f":"IF(ISNA(VLOOKUP(C323,'WK 7'!$K$6:$L$41,2,FALSE)=0),\"\",IF(VLOOKUP(C323,'WK 7'!$K$6:$L$41,2,FALSE)=0,\"\",VLOOKUP(C323,'WK 7'!$K$6:$L$41,2,FALSE)))","v":""},{"$f":"IF(ISNA(VLOOKUP(C323,'WK 8'!$K$6:$L$41,2,FALSE)=0),\"\",IF(VLOOKUP(C323,'WK 8'!$K$6:$L$41,2,FALSE)=0,\"\",VLOOKUP(C323,'WK 8'!$K$6:$L$41,2,FALSE)))","v":""},{"$f":"IF(ISNA(VLOOKUP(C323,'WK 9'!$K$6:$L$41,2,FALSE)=0),\"\",IF(VLOOKUP(C323,'WK 9'!$K$6:$L$41,2,FALSE)=0,\"\",VLOOKUP(C323,'WK 9'!$K$6:$L$41,2,FALSE)))","v":""},{"$f":"IF(ISNA(VLOOKUP(C323,'WK 10'!$K$6:$L$41,2,FALSE)=0),\"\",IF(VLOOKUP(C323,'WK 10'!$K$6:$L$41,2,FALSE)=0,\"\",VLOOKUP(C323,'WK 10'!$K$6:$L$41,2,FALSE)))","v":""},{"$f":"IF(COUNT(D323:M323)=0,0,AVERAGE(D323:M323))","v":0}]
[null,null,{"$f":"IF(ISNA(VLOOKUP('WK 9'!K40,$C$2:$C$253,1,FALSE)),VLOOKUP('WK 9'!K40,'WK 9'!$K$6:$K$450,1,FALSE),\"\")","v":""},null,{"$f":"IF(ISNA(VLOOKUP(C324,'WK 2'!$K$6:$L$41,2,FALSE)=0),\"\",IF(VLOOKUP(C324,'WK 2'!$K$6:$L$41,2,FALSE)=0,\"\",VLOOKUP(C324,'WK 2'!$K$6:$L$41,2,FALSE)))","v":""},{"$f":"IF(ISNA(VLOOKUP(C324,'WK 3'!$K$6:$L$41,2,FALSE)=0),\"\",IF(VLOOKUP(C324,'WK 3'!$K$6:$L$41,2,FALSE)=0,\"\",VLOOKUP(C324,'WK 3'!$K$6:$L$41,2,FALSE)))","v":""},{"$f":"IF(ISNA(VLOOKUP(C324,'WK 4'!$K$6:$L$41,2,FALSE)=0),\"\",IF(VLOOKUP(C324,'WK 4'!$K$6:$L$41,2,FALSE)=0,\"\",VLOOKUP(C324,'WK 4'!$K$6:$L$41,2,FALSE)))","v":""},{"$f":"IF(ISNA(VLOOKUP(C324,'WK 5'!$K$6:$L$41,2,FALSE)=0),\"\",IF(VLOOKUP(C324,'WK 5'!$K$6:$L$41,2,FALSE)=0,\"\",VLOOKUP(C324,'WK 5'!$K$6:$L$41,2,FALSE)))","v":""},{"$f":"IF(ISNA(VLOOKUP(C324,'WK 6'!$K$6:$L$41,2,FALSE)=0),\"\",IF(VLOOKUP(C324,'WK 6'!$K$6:$L$41,2,FALSE)=0,\"\",VLOOKUP(C324,'WK 6'!$K$6:$L$41,2,FALSE)))","v":""},{"$f":"IF(ISNA(VLOOKUP(C324,'WK 7'!$K$6:$L$41,2,FALSE)=0),\"\",IF(VLOOKUP(C324,'WK 7'!$K$6:$L$41,2,FALSE)=0,\"\",VLOOKUP(C324,'WK 7'!$K$6:$L$41,2,FALSE)))","v":""},{"$f":"IF(ISNA(VLOOKUP(C324,'WK 8'!$K$6:$L$41,2,FALSE)=0),\"\",IF(VLOOKUP(C324,'WK 8'!$K$6:$L$41,2,FALSE)=0,\"\",VLOOKUP(C324,'WK 8'!$K$6:$L$41,2,FALSE)))","v":""},{"$f":"IF(ISNA(VLOOKUP(C324,'WK 9'!$K$6:$L$41,2,FALSE)=0),\"\",IF(VLOOKUP(C324,'WK 9'!$K$6:$L$41,2,FALSE)=0,\"\",VLOOKUP(C324,'WK 9'!$K$6:$L$41,2,FALSE)))","v":""},{"$f":"IF(ISNA(VLOOKUP(C324,'WK 10'!$K$6:$L$41,2,FALSE)=0),\"\",IF(VLOOKUP(C324,'WK 10'!$K$6:$L$41,2,FALSE)=0,\"\",VLOOKUP(C324,'WK 10'!$K$6:$L$41,2,FALSE)))","v":""},0]
[null,null,{"$f":"IF(ISNA(VLOOKUP('WK 9'!K41,$C$2:$C$253,1,FALSE)),VLOOKUP('WK 9'!K41,'WK 9'!$K$6:$K$450,1,FALSE),\"\")","v":""},null,{"$f":"IF(ISNA(VLOOKUP(C325,'WK 2'!$K$6:$L$41,2,FALSE)=0),\"\",IF(VLOOKUP(C325,'WK 2'!$K$6:$L$41,2,FALSE)=0,\"\",VLOOKUP(C325,'WK 2'!$K$6:$L$41,2,FALSE)))","v":""},{"$f":"IF(ISNA(VLOOKUP(C325,'WK 3'!$K$6:$L$41,2,FALSE)=0),\"\",IF(VLOOKUP(C325,'WK 3'!$K$6:$L$41,2,FALSE)=0,\"\",VLOOKUP(C325,'WK 3'!$K$6:$L$41,2,FALSE)))","v":""},{"$f":"IF(ISNA(VLOOKUP(C325,'WK 4'!$K$6:$L$41,2,FALSE)=0),\"\",IF(VLOOKUP(C325,'WK 4'!$K$6:$L$41,2,FALSE)=0,\"\",VLOOKUP(C325,'WK 4'!$K$6:$L$41,2,FALSE)))","v":""},{"$f":"IF(ISNA(VLOOKUP(C325,'WK 5'!$K$6:$L$41,2,FALSE)=0),\"\",IF(VLOOKUP(C325,'WK 5'!$K$6:$L$41,2,FALSE)=0,\"\",VLOOKUP(C325,'WK 5'!$K$6:$L$41,2,FALSE)))","v":""},{"$f":"IF(ISNA(VLOOKUP(C325,'WK 6'!$K$6:$L$41,2,FALSE)=0),\"\",IF(VLOOKUP(C325,'WK 6'!$K$6:$L$41,2,FALSE)=0,\"\",VLOOKUP(C325,'WK 6'!$K$6:$L$41,2,FALSE)))","v":""},{"$f":"IF(ISNA(VLOOKUP(C325,'WK 7'!$K$6:$L$41,2,FALSE)=0),\"\",IF(VLOOKUP(C325,'WK 7'!$K$6:$L$41,2,FALSE)=0,\"\",VLOOKUP(C325,'WK 7'!$K$6:$L$41,2,FALSE)))","v":""},{"$f":"IF(ISNA(VLOOKUP(C325,'WK 8'!$K$6:$L$41,2,FALSE)=0),\"\",IF(VLOOKUP(C325,'WK 8'!$K$6:$L$41,2,FALSE)=0,\"\",VLOOKUP(C325,'WK 8'!$K$6:$L$41,2,FALSE)))","v":""},{"$f":"IF(ISNA(VLOOKUP(C325,'WK 9'!$K$6:$L$41,2,FALSE)=0),\"\",IF(VLOOKUP(C325,'WK 9'!$K$6:$L$41,2,FALSE)=0,\"\",VLOOKUP(C325,'WK 9'!$K$6:$L$41,2,FALSE)))","v":""},{"$f":"IF(ISNA(VLOOKUP(C325,'WK 10'!$K$6:$L$41,2,FALSE)=0),\"\",IF(VLOOKUP(C325,'WK 10'!$K$6:$L$41,2,FALSE)=0,\"\",VLOOKUP(C325,'WK 10'!$K$6:$L$41,2,FALSE)))","v":""},0]
[null,"WK 10 Beginn",{"$f":"IF(ISNA(VLOOKUP('WK 10'!K6,$C$2:$C$325,1,FALSE)),VLOOKUP('WK 10'!K6,'WK 10'!$K$6:$K$450,1,FALSE),\"\")","v":""},null,{"$f":"IF(ISNA(VLOOKUP(C326,'WK 2'!$K$6:$L$41,2,FALSE)=0),\"\",IF(VLOOKUP(C326,'WK 2'!$K$6:$L$41,2,FALSE)=0,\"\",VLOOKUP(C326,'WK 2'!$K$6:$L$41,2,FALSE)))","v":""},{"$f":"IF(ISNA(VLOOKUP(C326,'WK 3'!$K$6:$L$41,2,FALSE)=0),\"\",IF(VLOOKUP(C326,'WK 3'!$K$6:$L$41,2,FALSE)=0,\"\",VLOOKUP(C326,'WK 3'!$K$6:$L$41,2,FALSE)))","v":""},{"$f":"IF(ISNA(VLOOKUP(C326,'WK 4'!$K$6:$L$41,2,FALSE)=0),\"\",IF(VLOOKUP(C326,'WK 4'!$K$6:$L$41,2,FALSE)=0,\"\",VLOOKUP(C326,'WK 4'!$K$6:$L$41,2,FALSE)))","v":""},{"$f":"IF(ISNA(VLOOKUP(C326,'WK 5'!$K$6:$L$41,2,FALSE)=0),\"\",IF(VLOOKUP(C326,'WK 5'!$K$6:$L$41,2,FALSE)=0,\"\",VLOOKUP(C326,'WK 5'!$K$6:$L$41,2,FALSE)))","v":""},{"$f":"IF(ISNA(VLOOKUP(C326,'WK 6'!$K$6:$L$41,2,FALSE)=0),\"\",IF(VLOOKUP(C326,'WK 6'!$K$6:$L$41,2,FALSE)=0,\"\",VLOOKUP(C326,'WK 6'!$K$6:$L$41,2,FALSE)))","v":""},{"$f":"IF(ISNA(VLOOKUP(C326,'WK 7'!$K$6:$L$41,2,FALSE)=0),\"\",IF(VLOOKUP(C326,'WK 7'!$K$6:$L$41,2,FALSE)=0,\"\",VLOOKUP(C326,'WK 7'!$K$6:$L$41,2,FALSE)))","v":""},{"$f":"IF(ISNA(VLOOKUP(C326,'WK 8'!$K$6:$L$41,2,FALSE)=0),\"\",IF(VLOOKUP(C326,'WK 8'!$K$6:$L$41,2,FALSE)=0,\"\",VLOOKUP(C326,'WK 8'!$K$6:$L$41,2,FALSE)))","v":""},{"$f":"IF(ISNA(VLOOKUP(C326,'WK 9'!$K$6:$L$41,2,FALSE)=0),\"\",IF(VLOOKUP(C326,'WK 9'!$K$6:$L$41,2,FALSE)=0,\"\",VLOOKUP(C326,'WK 9'!$K$6:$L$41,2,FALSE)))","v":""},{"$f":"IF(ISNA(VLOOKUP(C326,'WK 10'!$K$6:$L$41,2,FALSE)=0),\"\",IF(VLOOKUP(C326,'WK 10'!$K$6:$L$41,2,FALSE)=0,\"\",VLOOKUP(C326,'WK 10'!$K$6:$L$41,2,FALSE)))","v":""},0]
[null,null,{"$f":"IF(ISNA(VLOOKUP('WK 10'!K7,$C$2:$C$325,1,FALSE)),VLOOKUP('WK 10'!K7,'WK 10'!$K$6:$K$450,1,FALSE),\"\")","v":""},null,{"$f":"IF(ISNA(VLOOKUP(C327,'WK 2'!$K$6:$L$41,2,FALSE)=0),\"\",IF(VLOOKUP(C327,'WK 2'!$K$6:$L$41,2,FALSE)=0,\"\",VLOOKUP(C327,'WK 2'!$K$6:$L$41,2,FALSE)))","v":""},{"$f":"IF(ISNA(VLOOKUP(C327,'WK 3'!$K$6:$L$41,2,FALSE)=0),\"\",IF(VLOOKUP(C327,'WK 3'!$K$6:$L$41,2,FALSE)=0,\"\",VLOOKUP(C327,'WK 3'!$K$6:$L$41,2,FALSE)))","v":""},{"$f":"IF(ISNA(VLOOKUP(C327,'WK 4'!$K$6:$L$41,2,FALSE)=0),\"\",IF(VLOOKUP(C327,'WK 4'!$K$6:$L$41,2,FALSE)=0,\"\",VLOOKUP(C327,'WK 4'!$K$6:$L$41,2,FALSE)))","v":""},{"$f":"IF(ISNA(VLOOKUP(C327,'WK 5'!$K$6:$L$41,2,FALSE)=0),\"\",IF(VLOOKUP(C327,'WK 5'!$K$6:$L$41,2,FALSE)=0,\"\",VLOOKUP(C327,'WK 5'!$K$6:$L$41,2,FALSE)))","v":""},{"$f":"IF(ISNA(VLOOKUP(C327,'WK 6'!$K$6:$L$41,2,FALSE)=0),\"\",IF(VLOOKUP(C327,'WK 6'!$K$6:$L$41,2,FALSE)=0,\"\",VLOOKUP(C327,'WK 6'!$K$6:$L$41,2,FALSE)))","v":""},{"$f":"IF(ISNA(VLOOKUP(C327,'WK 7'!$K$6:$L$41,2,FALSE)=0),\"\",IF(VLOOKUP(C327,'WK 7'!$K$6:$L$41,2,FALSE)=0,\"\",VLOOKUP(C327,'WK 7'!$K$6:$L$41,2,FALSE)))","v":""},{"$f":"IF(ISNA(VLOOKUP(C327,'WK 8'!$K$6:$L$41,2,FALSE)=0),\"\",IF(VLOOKUP(C327,'WK 8'!$K$6:$L$41,2,FALSE)=0,\"\",VLOOKUP(C327,'WK 8'!$K$6:$L$41,2,FALSE)))","v":""},{"$f":"IF(ISNA(VLOOKUP(C327,'WK 9'!$K$6:$L$41,2,FALSE)=0),\"\",IF(VLOOKUP(C327,'WK 9'!$K$6:$L$41,2,FALSE)=0,\"\",VLOOKUP(C327,'WK 9'!$K$6:$L$41,2,FALSE)))","v":""},{"$f":"IF(ISNA(VLOOKUP(C327,'WK 10'!$K$6:$L$41,2,FALSE)=0),\"\",IF(VLOOKUP(C327,'WK 10'!$K$6:$L$41,2,FALSE)=0,\"\",VLOOKUP(C327,'WK 10'!$K$6:$L$41,2,FALSE)))","v":""},0]
[null,null,{"$f":"IF(ISNA(VLOOKUP('WK 10'!K8,$C$2:$C$325,1,FALSE)),VLOOKUP('WK 10'!K8,'WK 10'!$K$6:$K$450,1,FALSE),\"\")","v":""},null,{"$f":"IF(ISNA(VLOOKUP(C328,'WK 2'!$K$6:$L$41,2,FALSE)=0),\"\",IF(VLOOKUP(C328,'WK 2'!$K$6:$L$41,2,FALSE)=0,\"\",VLOOKUP(C328,'WK 2'!$K$6:$L$41,2,FALSE)))","v":""},{"$f":"IF(ISNA(VLOOKUP(C328,'WK 3'!$K$6:$L$41,2,FALSE)=0),\"\",IF(VLOOKUP(C328,'WK 3'!$K$6:$L$41,2,FALSE)=0,\"\",VLOOKUP(C328,'WK 3'!$K$6:$L$41,2,FALSE)))","v":""},{"$f":"IF(ISNA(VLOOKUP(C328,'WK 4'!$K$6:$L$41,2,FALSE)=0),\"\",IF(VLOOKUP(C328,'WK 4'!$K$6:$L$41,2,FALSE)=0,\"\",VLOOKUP(C328,'WK 4'!$K$6:$L$41,2,FALSE)))","v":""},{"$f":"IF(ISNA(VLOOKUP(C328,'WK 5'!$K$6:$L$41,2,FALSE)=0),\"\",IF(VLOOKUP(C328,'WK 5'!$K$6:$L$41,2,FALSE)=0,\"\",VLOOKUP(C328,'WK 5'!$K$6:$L$41,2,FALSE)))","v":""},{"$f":"IF(ISNA(VLOOKUP(C328,'WK 6'!$K$6:$L$41,2,FALSE)=0),\"\",IF(VLOOKUP(C328,'WK 6'!$K$6:$L$41,2,FALSE)=0,\"\",VLOOKUP(C328,'WK 6'!$K$6:$L$41,2,FALSE)))","v":""},{"$f":"IF(ISNA(VLOOKUP(C328,'WK 7'!$K$6:$L$41,2,FALSE)=0),\"\",IF(VLOOKUP(C328,'WK 7'!$K$6:$L$41,2,FALSE)=0,\"\",VLOOKUP(C328,'WK 7'!$K$6:$L$41,2,FALSE)))","v":""},{"$f":"IF(ISNA(VLOOKUP(C328,'WK 8'!$K$6:$L$41,2,FALSE)=0),\"\",IF(VLOOKUP(C328,'WK 8'!$K$6:$L$41,2,FALSE)=0,\"\",VLOOKUP(C328,'WK 8'!$K$6:$L$41,2,FALSE)))","v":""},{"$f":"IF(ISNA(VLOOKUP(C328,'WK 9'!$K$6:$L$41,2,FALSE)=0),\"\",IF(VLOOKUP(C328,'WK 9'!$K$6:$L$41,2,FALSE)=0,\"\",VLOOKUP(C328,'WK 9'!$K$6:$L$41,2,FALSE)))","v":""},{"$f":"IF(ISNA(VLOOKUP(C328,'WK 10'!$K$6:$L$41,2,FALSE)=0),\"\",IF(VLOOKUP(C328,'WK 10'!$K$6:$L$41,2,FALSE)=0,\"\",VLOOKUP(C328,'WK 10'!$K$6:$L$41,2,FALSE)))","v":""},0]
[null,null,{"$f":"IF(ISNA(VLOOKUP('WK 10'!K9,$C$2:$C$325,1,FALSE)),VLOOKUP('WK 10'!K9,'WK 10'!$K$6:$K$450,1,FALSE),\"\")","v":""},null,{"$f":"IF(ISNA(VLOOKUP(C329,'WK 2'!$K$6:$L$41,2,FALSE)=0),\"\",IF(VLOOKUP(C329,'WK 2'!$K$6:$L$41,2,FALSE)=0,\"\",VLOOKUP(C329,'WK 2'!$K$6:$L$41,2,FALSE)))","v":""},{"$f":"IF(ISNA(VLOOKUP(C329,'WK 3'!$K$6:$L$41,2,FALSE)=0),\"\",IF(VLOOKUP(C329,'WK 3'!$K$6:$L$41,2,FALSE)=0,\"\",VLOOKUP(C329,'WK 3'!$K$6:$L$41,2,FALSE)))","v":""},{"$f":"IF(ISNA(VLOOKUP(C329,'WK 4'!$K$6:$L$41,2,FALSE)=0),\"\",IF(VLOOKUP(C329,'WK 4'!$K$6:$L$41,2,FALSE)=0,\"\",VLOOKUP(C329,'WK 4'!$K$6:$L$41,2,FALSE)))","v":""},{"$f":"IF(ISNA(VLOOKUP(C329,'WK 5'!$K$6:$L$41,2,FALSE)=0),\"\",IF(VLOOKUP(C329,'WK 5'!$K$6:$L$41,2,FALSE)=0,\"\",VLOOKUP(C329,'WK 5'!$K$6:$L$41,2,FALSE)))","v":""},{"$f":"IF(ISNA(VLOOKUP(C329,'WK 6'!$K$6:$L$41,2,FALSE)=0),\"\",IF(VLOOKUP(C329,'WK 6'!$K$6:$L$41,2,FALSE)=0,\"\",VLOOKUP(C329,'WK 6'!$K$6:$L$41,2,FALSE)))","v":""},{"$f":"IF(ISNA(VLOOKUP(C329,'WK 7'!$K$6:$L$41,2,FALSE)=0),\"\",IF(VLOOKUP(C329,'WK 7'!$K$6:$L$41,2,FALSE)=0,\"\",VLOOKUP(C329,'WK 7'!$K$6:$L$41,2,FALSE)))","v":""},{"$f":"IF(ISNA(VLOOKUP(C329,'WK 8'!$K$6:$L$41,2,FALSE)=0),\"\",IF(VLOOKUP(C329,'WK 8'!$K$6:$L$41,2,FALSE)=0,\"\",VLOOKUP(C329,'WK 8'!$K$6:$L$41,2,FALSE)))","v":""},{"$f":"IF(ISNA(VLOOKUP(C329,'WK 9'!$K$6:$L$41,2,FALSE)=0),\"\",IF(VLOOKUP(C329,'WK 9'!$K$6:$L$41,2,FALSE)=0,\"\",VLOOKUP(C329,'WK 9'!$K$6:$L$41,2,FALSE)))","v":""},{"$f":"IF(ISNA(VLOOKUP(C329,'WK 10'!$K$6:$L$41,2,FALSE)=0),\"\",IF(VLOOKUP(C329,'WK 10'!$K$6:$L$41,2,FALSE)=0,\"\",VLOOKUP(C329,'WK 10'!$K$6:$L$41,2,FALSE)))","v":""},0]
[null,null,{"$f":"IF(ISNA(VLOOKUP('WK 10'!K10,$C$2:$C$325,1,FALSE)),VLOOKUP('WK 10'!K10,'WK 10'!$K$6:$K$450,1,FALSE),\"\")","v":""},null,{"$f":"IF(ISNA(VLOOKUP(C330,'WK 2'!$K$6:$L$41,2,FALSE)=0),\"\",IF(VLOOKUP(C330,'WK 2'!$K$6:$L$41,2,FALSE)=0,\"\",VLOOKUP(C330,'WK 2'!$K$6:$L$41,2,FALSE)))","v":""},{"$f":"IF(ISNA(VLOOKUP(C330,'WK 3'!$K$6:$L$41,2,FALSE)=0),\"\",IF(VLOOKUP(C330,'WK 3'!$K$6:$L$41,2,FALSE)=0,\"\",VLOOKUP(C330,'WK 3'!$K$6:$L$41,2,FALSE)))","v":""},{"$f":"IF(ISNA(VLOOKUP(C330,'WK 4'!$K$6:$L$41,2,FALSE)=0),\"\",IF(VLOOKUP(C330,'WK 4'!$K$6:$L$41,2,FALSE)=0,\"\",VLOOKUP(C330,'WK 4'!$K$6:$L$41,2,FALSE)))","v":""},{"$f":"IF(ISNA(VLOOKUP(C330,'WK 5'!$K$6:$L$41,2,FALSE)=0),\"\",IF(VLOOKUP(C330,'WK 5'!$K$6:$L$41,2,FALSE)=0,\"\",VLOOKUP(C330,'WK 5'!$K$6:$L$41,2,FALSE)))","v":""},{"$f":"IF(ISNA(VLOOKUP(C330,'WK 6'!$K$6:$L$41,2,FALSE)=0),\"\",IF(VLOOKUP(C330,'WK 6'!$K$6:$L$41,2,FALSE)=0,\"\",VLOOKUP(C330,'WK 6'!$K$6:$L$41,2,FALSE)))","v":""},{"$f":"IF(ISNA(VLOOKUP(C330,'WK 7'!$K$6:$L$41,2,FALSE)=0),\"\",IF(VLOOKUP(C330,'WK 7'!$K$6:$L$41,2,FALSE)=0,\"\",VLOOKUP(C330,'WK 7'!$K$6:$L$41,2,FALSE)))","v":""},{"$f":"IF(ISNA(VLOOKUP(C330,'WK 8'!$K$6:$L$41,2,FALSE)=0),\"\",IF(VLOOKUP(C330,'WK 8'!$K$6:$L$41,2,FALSE)=0,\"\",VLOOKUP(C330,'WK 8'!$K$6:$L$41,2,FALSE)))","v":""},{"$f":"IF(ISNA(VLOOKUP(C330,'WK 9'!$K$6:$L$41,2,FALSE)=0),\"\",IF(VLOOKUP(C330,'WK 9'!$K$6:$L$41,2,FALSE)=0,\"\",VLOOKUP(C330,'WK 9'!$K$6:$L$41,2,FALSE)))","v":""},{"$f":"IF(ISNA(VLOOKUP(C330,'WK 10'!$K$6:$L$41,2,FALSE)=0),\"\",IF(VLOOKUP(C330,'WK 10'!$K$6:$L$41,2,FALSE)=0,\"\",VLOOKUP(C330,'WK 10'!$K$6:$L$41,2,FALSE)))","v":""},0]
[null,null,{"$f":"IF(ISNA(VLOOKUP('WK 10'!K11,$C$2:$C$325,1,FALSE)),VLOOKUP('WK 10'!K11,'WK 10'!$K$6:$K$450,1,FALSE),\"\")","v":""},null,{"$f":"IF(ISNA(VLOOKUP(C331,'WK 2'!$K$6:$L$41,2,FALSE)=0),\"\",IF(VLOOKUP(C331,'WK 2'!$K$6:$L$41,2,FALSE)=0,\"\",VLOOKUP(C331,'WK 2'!$K$6:$L$41,2,FALSE)))","v":""},{"$f":"IF(ISNA(VLOOKUP(C331,'WK 3'!$K$6:$L$41,2,FALSE)=0),\"\",IF(VLOOKUP(C331,'WK 3'!$K$6:$L$41,2,FALSE)=0,\"\",VLOOKUP(C331,'WK 3'!$K$6:$L$41,2,FALSE)))","v":""},{"$f":"IF(ISNA(VLOOKUP(C331,'WK 4'!$K$6:$L$41,2,FALSE)=0),\"\",IF(VLOOKUP(C331,'WK 4'!$K$6:$L$41,2,FALSE)=0,\"\",VLOOKUP(C331,'WK 4'!$K$6:$L$41,2,FALSE)))","v":""},{"$f":"IF(ISNA(VLOOKUP(C331,'WK 5'!$K$6:$L$41,2,FALSE)=0),\"\",IF(VLOOKUP(C331,'WK 5'!$K$6:$L$41,2,FALSE)=0,\"\",VLOOKUP(C331,'WK 5'!$K$6:$L$41,2,FALSE)))","v":""},{"$f":"IF(ISNA(VLOOKUP(C331,'WK 6'!$K$6:$L$41,2,FALSE)=0),\"\",IF(VLOOKUP(C331,'WK 6'!$K$6:$L$41,2,FALSE)=0,\"\",VLOOKUP(C331,'WK 6'!$K$6:$L$41,2,FALSE)))","v":""},{"$f":"IF(ISNA(VLOOKUP(C331,'WK 7'!$K$6:$L$41,2,FALSE)=0),\"\",IF(VLOOKUP(C331,'WK 7'!$K$6:$L$41,2,FALSE)=0,\"\",VLOOKUP(C331,'WK 7'!$K$6:$L$41,2,FALSE)))","v":""},{"$f":"IF(ISNA(VLOOKUP(C331,'WK 8'!$K$6:$L$41,2,FALSE)=0),\"\",IF(VLOOKUP(C331,'WK 8'!$K$6:$L$41,2,FALSE)=0,\"\",VLOOKUP(C331,'WK 8'!$K$6:$L$41,2,FALSE)))","v":""},{"$f":"IF(ISNA(VLOOKUP(C331,'WK 9'!$K$6:$L$41,2,FALSE)=0),\"\",IF(VLOOKUP(C331,'WK 9'!$K$6:$L$41,2,FALSE)=0,\"\",VLOOKUP(C331,'WK 9'!$K$6:$L$41,2,FALSE)))","v":""},{"$f":"IF(ISNA(VLOOKUP(C331,'WK 10'!$K$6:$L$41,2,FALSE)=0),\"\",IF(VLOOKUP(C331,'WK 10'!$K$6:$L$41,2,FALSE)=0,\"\",VLOOKUP(C331,'WK 10'!$K$6:$L$41,2,FALSE)))","v":""},0]
[null,null,{"$f":"IF(ISNA(VLOOKUP('WK 10'!K12,$C$2:$C$325,1,FALSE)),VLOOKUP('WK 10'!K12,'WK 10'!$K$6:$K$450,1,FALSE),\"\")","v":""},null,{"$f":"IF(ISNA(VLOOKUP(C332,'WK 2'!$K$6:$L$41,2,FALSE)=0),\"\",IF(VLOOKUP(C332,'WK 2'!$K$6:$L$41,2,FALSE)=0,\"\",VLOOKUP(C332,'WK 2'!$K$6:$L$41,2,FALSE)))","v":""},{"$f":"IF(ISNA(VLOOKUP(C332,'WK 3'!$K$6:$L$41,2,FALSE)=0),\"\",IF(VLOOKUP(C332,'WK 3'!$K$6:$L$41,2,FALSE)=0,\"\",VLOOKUP(C332,'WK 3'!$K$6:$L$41,2,FALSE)))","v":""},{"$f":"IF(ISNA(VLOOKUP(C332,'WK 4'!$K$6:$L$41,2,FALSE)=0),\"\",IF(VLOOKUP(C332,'WK 4'!$K$6:$L$41,2,FALSE)=0,\"\",VLOOKUP(C332,'WK 4'!$K$6:$L$41,2,FALSE)))","v":""},{"$f":"IF(ISNA(VLOOKUP(C332,'WK 5'!$K$6:$L$41,2,FALSE)=0),\"\",IF(VLOOKUP(C332,'WK 5'!$K$6:$L$41,2,FALSE)=0,\"\",VLOOKUP(C332,'WK 5'!$K$6:$L$41,2,FALSE)))","v":""},{"$f":"IF(ISNA(VLOOKUP(C332,'WK 6'!$K$6:$L$41,2,FALSE)=0),\"\",IF(VLOOKUP(C332,'WK 6'!$K$6:$L$41,2,FALSE)=0,\"\",VLOOKUP(C332,'WK 6'!$K$6:$L$41,2,FALSE)))","v":""},{"$f":"IF(ISNA(VLOOKUP(C332,'WK 7'!$K$6:$L$41,2,FALSE)=0),\"\",IF(VLOOKUP(C332,'WK 7'!$K$6:$L$41,2,FALSE)=0,\"\",VLOOKUP(C332,'WK 7'!$K$6:$L$41,2,FALSE)))","v":""},{"$f":"IF(ISNA(VLOOKUP(C332,'WK 8'!$K$6:$L$41,2,FALSE)=0),\"\",IF(VLOOKUP(C332,'WK 8'!$K$6:$L$41,2,FALSE)=0,\"\",VLOOKUP(C332,'WK 8'!$K$6:$L$41,2,FALSE)))","v":""},{"$f":"IF(ISNA(VLOOKUP(C332,'WK 9'!$K$6:$L$41,2,FALSE)=0),\"\",IF(VLOOKUP(C332,'WK 9'!$K$6:$L$41,2,FALSE)=0,\"\",VLOOKUP(C332,'WK 9'!$K$6:$L$41,2,FALSE)))","v":""},{"$f":"IF(ISNA(VLOOKUP(C332,'WK 10'!$K$6:$L$41,2,FALSE)=0),\"\",IF(VLOOKUP(C332,'WK 10'!$K$6:$L$41,2,FALSE)=0,\"\",VLOOKUP(C332,'WK 10'!$K$6:$L$41,2,FALSE)))","v":""},0]
[null,null,{"$f":"IF(ISNA(VLOOKUP('WK 10'!K13,$C$2:$C$325,1,FALSE)),VLOOKUP('WK 10'!K13,'WK 10'!$K$6:$K$450,1,FALSE),\"\")","v":""},null,{"$f":"IF(ISNA(VLOOKUP(C333,'WK 2'!$K$6:$L$41,2,FALSE)=0),\"\",IF(VLOOKUP(C333,'WK 2'!$K$6:$L$41,2,FALSE)=0,\"\",VLOOKUP(C333,'WK 2'!$K$6:$L$41,2,FALSE)))","v":""},{"$f":"IF(ISNA(VLOOKUP(C333,'WK 3'!$K$6:$L$41,2,FALSE)=0),\"\",IF(VLOOKUP(C333,'WK 3'!$K$6:$L$41,2,FALSE)=0,\"\",VLOOKUP(C333,'WK 3'!$K$6:$L$41,2,FALSE)))","v":""},{"$f":"IF(ISNA(VLOOKUP(C333,'WK 4'!$K$6:$L$41,2,FALSE)=0),\"\",IF(VLOOKUP(C333,'WK 4'!$K$6:$L$41,2,FALSE)=0,\"\",VLOOKUP(C333,'WK 4'!$K$6:$L$41,2,FALSE)))","v":""},{"$f":"IF(ISNA(VLOOKUP(C333,'WK 5'!$K$6:$L$41,2,FALSE)=0),\"\",IF(VLOOKUP(C333,'WK 5'!$K$6:$L$41,2,FALSE)=0,\"\",VLOOKUP(C333,'WK 5'!$K$6:$L$41,2,FALSE)))","v":""},{"$f":"IF(ISNA(VLOOKUP(C333,'WK 6'!$K$6:$L$41,2,FALSE)=0),\"\",IF(VLOOKUP(C333,'WK 6'!$K$6:$L$41,2,FALSE)=0,\"\",VLOOKUP(C333,'WK 6'!$K$6:$L$41,2,FALSE)))","v":""},{"$f":"IF(ISNA(VLOOKUP(C333,'WK 7'!$K$6:$L$41,2,FALSE)=0),\"\",IF(VLOOKUP(C333,'WK 7'!$K$6:$L$41,2,FALSE)=0,\"\",VLOOKUP(C333,'WK 7'!$K$6:$L$41,2,FALSE)))","v":""},{"$f":"IF(ISNA(VLOOKUP(C333,'WK 8'!$K$6:$L$41,2,FALSE)=0),\"\",IF(VLOOKUP(C333,'WK 8'!$K$6:$L$41,2,FALSE)=0,\"\",VLOOKUP(C333,'WK 8'!$K$6:$L$41,2,FALSE)))","v":""},{"$f":"IF(ISNA(VLOOKUP(C333,'WK 9'!$K$6:$L$41,2,FALSE)=0),\"\",IF(VLOOKUP(C333,'WK 9'!$K$6:$L$41,2,FALSE)=0,\"\",VLOOKUP(C333,'WK 9'!$K$6:$L$41,2,FALSE)))","v":""},{"$f":"IF(ISNA(VLOOKUP(C333,'WK 10'!$K$6:$L$41,2,FALSE)=0),\"\",IF(VLOOKUP(C333,'WK 10'!$K$6:$L$41,2,FALSE)=0,\"\",VLOOKUP(C333,'WK 10'!$K$6:$L$41,2,FALSE)))","v":""},0]
[null,null,{"$f":"IF(ISNA(VLOOKUP('WK 10'!K14,$C$2:$C$325,1,FALSE)),VLOOKUP('WK 10'!K14,'WK 10'!$K$6:$K$450,1,FALSE),\"\")","v":""},null,{"$f":"IF(ISNA(VLOOKUP(C334,'WK 2'!$K$6:$L$41,2,FALSE)=0),\"\",IF(VLOOKUP(C334,'WK 2'!$K$6:$L$41,2,FALSE)=0,\"\",VLOOKUP(C334,'WK 2'!$K$6:$L$41,2,FALSE)))","v":""},{"$f":"IF(ISNA(VLOOKUP(C334,'WK 3'!$K$6:$L$41,2,FALSE)=0),\"\",IF(VLOOKUP(C334,'WK 3'!$K$6:$L$41,2,FALSE)=0,\"\",VLOOKUP(C334,'WK 3'!$K$6:$L$41,2,FALSE)))","v":""},{"$f":"IF(ISNA(VLOOKUP(C334,'WK 4'!$K$6:$L$41,2,FALSE)=0),\"\",IF(VLOOKUP(C334,'WK 4'!$K$6:$L$41,2,FALSE)=0,\"\",VLOOKUP(C334,'WK 4'!$K$6:$L$41,2,FALSE)))","v":""},{"$f":"IF(ISNA(VLOOKUP(C334,'WK 5'!$K$6:$L$41,2,FALSE)=0),\"\",IF(VLOOKUP(C334,'WK 5'!$K$6:$L$41,2,FALSE)=0,\"\",VLOOKUP(C334,'WK 5'!$K$6:$L$41,2,FALSE)))","v":""},{"$f":"IF(ISNA(VLOOKUP(C334,'WK 6'!$K$6:$L$41,2,FALSE)=0),\"\",IF(VLOOKUP(C334,'WK 6'!$K$6:$L$41,2,FALSE)=0,\"\",VLOOKUP(C334,'WK 6'!$K$6:$L$41,2,FALSE)))","v":""},{"$f":"IF(ISNA(VLOOKUP(C334,'WK 7'!$K$6:$L$41,2,FALSE)=0),\"\",IF(VLOOKUP(C334,'WK 7'!$K$6:$L$41,2,FALSE)=0,\"\",VLOOKUP(C334,'WK 7'!$K$6:$L$41,2,FALSE)))","v":""},{"$f":"IF(ISNA(VLOOKUP(C334,'WK 8'!$K$6:$L$41,2,FALSE)=0),\"\",IF(VLOOKUP(C334,'WK 8'!$K$6:$L$41,2,FALSE)=0,\"\",VLOOKUP(C334,'WK 8'!$K$6:$L$41,2,FALSE)))","v":""},{"$f":"IF(ISNA(VLOOKUP(C334,'WK 9'!$K$6:$L$41,2,FALSE)=0),\"\",IF(VLOOKUP(C334,'WK 9'!$K$6:$L$41,2,FALSE)=0,\"\",VLOOKUP(C334,'WK 9'!$K$6:$L$41,2,FALSE)))","v":""},{"$f":"IF(ISNA(VLOOKUP(C334,'WK 10'!$K$6:$L$41,2,FALSE)=0),\"\",IF(VLOOKUP(C334,'WK 10'!$K$6:$L$41,2,FALSE)=0,\"\",VLOOKUP(C334,'WK 10'!$K$6:$L$41,2,FALSE)))","v":""},0]
[null,null,{"$f":"IF(ISNA(VLOOKUP('WK 10'!K15,$C$2:$C$325,1,FALSE)),VLOOKUP('WK 10'!K15,'WK 10'!$K$6:$K$450,1,FALSE),\"\")","v":""},null,{"$f":"IF(ISNA(VLOOKUP(C335,'WK 2'!$K$6:$L$41,2,FALSE)=0),\"\",IF(VLOOKUP(C335,'WK 2'!$K$6:$L$41,2,FALSE)=0,\"\",VLOOKUP(C335,'WK 2'!$K$6:$L$41,2,FALSE)))","v":""},{"$f":"IF(ISNA(VLOOKUP(C335,'WK 3'!$K$6:$L$41,2,FALSE)=0),\"\",IF(VLOOKUP(C335,'WK 3'!$K$6:$L$41,2,FALSE)=0,\"\",VLOOKUP(C335,'WK 3'!$K$6:$L$41,2,FALSE)))","v":""},{"$f":"IF(ISNA(VLOOKUP(C335,'WK 4'!$K$6:$L$41,2,FALSE)=0),\"\",IF(VLOOKUP(C335,'WK 4'!$K$6:$L$41,2,FALSE)=0,\"\",VLOOKUP(C335,'WK 4'!$K$6:$L$41,2,FALSE)))","v":""},{"$f":"IF(ISNA(VLOOKUP(C335,'WK 5'!$K$6:$L$41,2,FALSE)=0),\"\",IF(VLOOKUP(C335,'WK 5'!$K$6:$L$41,2,FALSE)=0,\"\",VLOOKUP(C335,'WK 5'!$K$6:$L$41,2,FALSE)))","v":""},{"$f":"IF(ISNA(VLOOKUP(C335,'WK 6'!$K$6:$L$41,2,FALSE)=0),\"\",IF(VLOOKUP(C335,'WK 6'!$K$6:$L$41,2,FALSE)=0,\"\",VLOOKUP(C335,'WK 6'!$K$6:$L$41,2,FALSE)))","v":""},{"$f":"IF(ISNA(VLOOKUP(C335,'WK 7'!$K$6:$L$41,2,FALSE)=0),\"\",IF(VLOOKUP(C335,'WK 7'!$K$6:$L$41,2,FALSE)=0,\"\",VLOOKUP(C335,'WK 7'!$K$6:$L$41,2,FALSE)))","v":""},{"$f":"IF(ISNA(VLOOKUP(C335,'WK 8'!$K$6:$L$41,2,FALSE)=0),\"\",IF(VLOOKUP(C335,'WK 8'!$K$6:$L$41,2,FALSE)=0,\"\",VLOOKUP(C335,'WK 8'!$K$6:$L$41,2,FALSE)))","v":""},{"$f":"IF(ISNA(VLOOKUP(C335,'WK 9'!$K$6:$L$41,2,FALSE)=0),\"\",IF(VLOOKUP(C335,'WK 9'!$K$6:$L$41,2,FALSE)=0,\"\",VLOOKUP(C335,'WK 9'!$K$6:$L$41,2,FALSE)))","v":""},{"$f":"IF(ISNA(VLOOKUP(C335,'WK 10'!$K$6:$L$41,2,FALSE)=0),\"\",IF(VLOOKUP(C335,'WK 10'!$K$6:$L$41,2,FALSE)=0,\"\",VLOOKUP(C335,'WK 10'!$K$6:$L$41,2,FALSE)))","v":""},0]
[null,null,{"$f":"IF(ISNA(VLOOKUP('WK 10'!K16,$C$2:$C$325,1,FALSE)),VLOOKUP('WK 10'!K16,'WK 10'!$K$6:$K$450,1,FALSE),\"\")","v":""},null,{"$f":"IF(ISNA(VLOOKUP(C336,'WK 2'!$K$6:$L$41,2,FALSE)=0),\"\",IF(VLOOKUP(C336,'WK 2'!$K$6:$L$41,2,FALSE)=0,\"\",VLOOKUP(C336,'WK 2'!$K$6:$L$41,2,FALSE)))","v":""},{"$f":"IF(ISNA(VLOOKUP(C336,'WK 3'!$K$6:$L$41,2,FALSE)=0),\"\",IF(VLOOKUP(C336,'WK 3'!$K$6:$L$41,2,FALSE)=0,\"\",VLOOKUP(C336,'WK 3'!$K$6:$L$41,2,FALSE)))","v":""},{"$f":"IF(ISNA(VLOOKUP(C336,'WK 4'!$K$6:$L$41,2,FALSE)=0),\"\",IF(VLOOKUP(C336,'WK 4'!$K$6:$L$41,2,FALSE)=0,\"\",VLOOKUP(C336,'WK 4'!$K$6:$L$41,2,FALSE)))","v":""},{"$f":"IF(ISNA(VLOOKUP(C336,'WK 5'!$K$6:$L$41,2,FALSE)=0),\"\",IF(VLOOKUP(C336,'WK 5'!$K$6:$L$41,2,FALSE)=0,\"\",VLOOKUP(C336,'WK 5'!$K$6:$L$41,2,FALSE)))","v":""},{"$f":"IF(ISNA(VLOOKUP(C336,'WK 6'!$K$6:$L$41,2,FALSE)=0),\"\",IF(VLOOKUP(C336,'WK 6'!$K$6:$L$41,2,FALSE)=0,\"\",VLOOKUP(C336,'WK 6'!$K$6:$L$41,2,FALSE)))","v":""},{"$f":"IF(ISNA(VLOOKUP(C336,'WK 7'!$K$6:$L$41,2,FALSE)=0),\"\",IF(VLOOKUP(C336,'WK 7'!$K$6:$L$41,2,FALSE)=0,\"\",VLOOKUP(C336,'WK 7'!$K$6:$L$41,2,FALSE)))","v":""},{"$f":"IF(ISNA(VLOOKUP(C336,'WK 8'!$K$6:$L$41,2,FALSE)=0),\"\",IF(VLOOKUP(C336,'WK 8'!$K$6:$L$41,2,FALSE)=0,\"\",VLOOKUP(C336,'WK 8'!$K$6:$L$41,2,FALSE)))","v":""},{"$f":"IF(ISNA(VLOOKUP(C336,'WK 9'!$K$6:$L$41,2,FALSE)=0),\"\",IF(VLOOKUP(C336,'WK 9'!$K$6:$L$41,2,FALSE)=0,\"\",VLOOKUP(C336,'WK 9'!$K$6:$L$41,2,FALSE)))","v":""},{"$f":"IF(ISNA(VLOOKUP(C336,'WK 10'!$K$6:$L$41,2,FALSE)=0),\"\",IF(VLOOKUP(C336,'WK 10'!$K$6:$L$41,2,FALSE)=0,\"\",VLOOKUP(C336,'WK 10'!$K$6:$L$41,2,FALSE)))","v":""},0]
[null,null,{"$f":"IF(ISNA(VLOOKUP('WK 10'!K17,$C$2:$C$325,1,FALSE)),VLOOKUP('WK 10'!K17,'WK 10'!$K$6:$K$450,1,FALSE),\"\")","v":""},null,{"$f":"IF(ISNA(VLOOKUP(C337,'WK 2'!$K$6:$L$41,2,FALSE)=0),\"\",IF(VLOOKUP(C337,'WK 2'!$K$6:$L$41,2,FALSE)=0,\"\",VLOOKUP(C337,'WK 2'!$K$6:$L$41,2,FALSE)))","v":""},{"$f":"IF(ISNA(VLOOKUP(C337,'WK 3'!$K$6:$L$41,2,FALSE)=0),\"\",IF(VLOOKUP(C337,'WK 3'!$K$6:$L$41,2,FALSE)=0,\"\",VLOOKUP(C337,'WK 3'!$K$6:$L$41,2,FALSE)))","v":""},{"$f":"IF(ISNA(VLOOKUP(C337,'WK 4'!$K$6:$L$41,2,FALSE)=0),\"\",IF(VLOOKUP(C337,'WK 4'!$K$6:$L$41,2,FALSE)=0,\"\",VLOOKUP(C337,'WK 4'!$K$6:$L$41,2,FALSE)))","v":""},{"$f":"IF(ISNA(VLOOKUP(C337,'WK 5'!$K$6:$L$41,2,FALSE)=0),\"\",IF(VLOOKUP(C337,'WK 5'!$K$6:$L$41,2,FALSE)=0,\"\",VLOOKUP(C337,'WK 5'!$K$6:$L$41,2,FALSE)))","v":""},{"$f":"IF(ISNA(VLOOKUP(C337,'WK 6'!$K$6:$L$41,2,FALSE)=0),\"\",IF(VLOOKUP(C337,'WK 6'!$K$6:$L$41,2,FALSE)=0,\"\",VLOOKUP(C337,'WK 6'!$K$6:$L$41,2,FALSE)))","v":""},{"$f":"IF(ISNA(VLOOKUP(C337,'WK 7'!$K$6:$L$41,2,FALSE)=0),\"\",IF(VLOOKUP(C337,'WK 7'!$K$6:$L$41,2,FALSE)=0,\"\",VLOOKUP(C337,'WK 7'!$K$6:$L$41,2,FALSE)))","v":""},{"$f":"IF(ISNA(VLOOKUP(C337,'WK 8'!$K$6:$L$41,2,FALSE)=0),\"\",IF(VLOOKUP(C337,'WK 8'!$K$6:$L$41,2,FALSE)=0,\"\",VLOOKUP(C337,'WK 8'!$K$6:$L$41,2,FALSE)))","v":""},{"$f":"IF(ISNA(VLOOKUP(C337,'WK 9'!$K$6:$L$41,2,FALSE)=0),\"\",IF(VLOOKUP(C337,'WK 9'!$K$6:$L$41,2,FALSE)=0,\"\",VLOOKUP(C337,'WK 9'!$K$6:$L$41,2,FALSE)))","v":""},{"$f":"IF(ISNA(VLOOKUP(C337,'WK 10'!$K$6:$L$41,2,FALSE)=0),\"\",IF(VLOOKUP(C337,'WK 10'!$K$6:$L$41,2,FALSE)=0,\"\",VLOOKUP(C337,'WK 10'!$K$6:$L$41,2,FALSE)))","v":""},0]
[null,null,{"$f":"IF(ISNA(VLOOKUP('WK 10'!K18,$C$2:$C$325,1,FALSE)),VLOOKUP('WK 10'!K18,'WK 10'!$K$6:$K$450,1,FALSE),\"\")","v":""},null,{"$f":"IF(ISNA(VLOOKUP(C338,'WK 2'!$K$6:$L$41,2,FALSE)=0),\"\",IF(VLOOKUP(C338,'WK 2'!$K$6:$L$41,2,FALSE)=0,\"\",VLOOKUP(C338,'WK 2'!$K$6:$L$41,2,FALSE)))","v":""},{"$f":"IF(ISNA(VLOOKUP(C338,'WK 3'!$K$6:$L$41,2,FALSE)=0),\"\",IF(VLOOKUP(C338,'WK 3'!$K$6:$L$41,2,FALSE)=0,\"\",VLOOKUP(C338,'WK 3'!$K$6:$L$41,2,FALSE)))","v":""},{"$f":"IF(ISNA(VLOOKUP(C338,'WK 4'!$K$6:$L$41,2,FALSE)=0),\"\",IF(VLOOKUP(C338,'WK 4'!$K$6:$L$41,2,FALSE)=0,\"\",VLOOKUP(C338,'WK 4'!$K$6:$L$41,2,FALSE)))","v":""},{"$f":"IF(ISNA(VLOOKUP(C338,'WK 5'!$K$6:$L$41,2,FALSE)=0),\"\",IF(VLOOKUP(C338,'WK 5'!$K$6:$L$41,2,FALSE)=0,\"\",VLOOKUP(C338,'WK 5'!$K$6:$L$41,2,FALSE)))","v":""},{"$f":"IF(ISNA(VLOOKUP(C338,'WK 6'!$K$6:$L$41,2,FALSE)=0),\"\",IF(VLOOKUP(C338,'WK 6'!$K$6:$L$41,2,FALSE)=0,\"\",VLOOKUP(C338,'WK 6'!$K$6:$L$41,2,FALSE)))","v":""},{"$f":"IF(ISNA(VLOOKUP(C338,'WK 7'!$K$6:$L$41,2,FALSE)=0),\"\",IF(VLOOKUP(C338,'WK 7'!$K$6:$L$41,2,FALSE)=0,\"\",VLOOKUP(C338,'WK 7'!$K$6:$L$41,2,FALSE)))","v":""},{"$f":"IF(ISNA(VLOOKUP(C338,'WK 8'!$K$6:$L$41,2,FALSE)=0),\"\",IF(VLOOKUP(C338,'WK 8'!$K$6:$L$41,2,FALSE)=0,\"\",VLOOKUP(C338,'WK 8'!$K$6:$L$41,2,FALSE)))","v":""},{"$f":"IF(ISNA(VLOOKUP(C338,'WK 9'!$K$6:$L$41,2,FALSE)=0),\"\",IF(VLOOKUP(C338,'WK 9'!$K$6:$L$41,2,FALSE)=0,\"\",VLOOKUP(C338,'WK 9'!$K$6:$L$41,2,FALSE)))","v":""},{"$f":"IF(ISNA(VLOOKUP(C338,'WK 10'!$K$6:$L$41,2,FALSE)=0),\"\",IF(VLOOKUP(C338,'WK 10'!$K$6:$L$41,2,FALSE)=0,\"\",VLOOKUP(C338,'WK 10'!$K$6:$L$41,2,FALSE)))","v":""},0]
[null,null,{"$f":"IF(ISNA(VLOOKUP('WK 10'!K19,$C$2:$C$325,1,FALSE)),VLOOKUP('WK 10'!K19,'WK 10'!$K$6:$K$450,1,FALSE),\"\")","v":""},null,{"$f":"IF(ISNA(VLOOKUP(C339,'WK 2'!$K$6:$L$41,2,FALSE)=0),\"\",IF(VLOOKUP(C339,'WK 2'!$K$6:$L$41,2,FALSE)=0,\"\",VLOOKUP(C339,'WK 2'!$K$6:$L$41,2,FALSE)))","v":""},{"$f":"IF(ISNA(VLOOKUP(C339,'WK 3'!$K$6:$L$41,2,FALSE)=0),\"\",IF(VLOOKUP(C339,'WK 3'!$K$6:$L$41,2,FALSE)=0,\"\",VLOOKUP(C339,'WK 3'!$K$6:$L$41,2,FALSE)))","v":""},{"$f":"IF(ISNA(VLOOKUP(C339,'WK 4'!$K$6:$L$41,2,FALSE)=0),\"\",IF(VLOOKUP(C339,'WK 4'!$K$6:$L$41,2,FALSE)=0,\"\",VLOOKUP(C339,'WK 4'!$K$6:$L$41,2,FALSE)))","v":""},{"$f":"IF(ISNA(VLOOKUP(C339,'WK 5'!$K$6:$L$41,2,FALSE)=0),\"\",IF(VLOOKUP(C339,'WK 5'!$K$6:$L$41,2,FALSE)=0,\"\",VLOOKUP(C339,'WK 5'!$K$6:$L$41,2,FALSE)))","v":""},{"$f":"IF(ISNA(VLOOKUP(C339,'WK 6'!$K$6:$L$41,2,FALSE)=0),\"\",IF(VLOOKUP(C339,'WK 6'!$K$6:$L$41,2,FALSE)=0,\"\",VLOOKUP(C339,'WK 6'!$K$6:$L$41,2,FALSE)))","v":""},{"$f":"IF(ISNA(VLOOKUP(C339,'WK 7'!$K$6:$L$41,2,FALSE)=0),\"\",IF(VLOOKUP(C339,'WK 7'!$K$6:$L$41,2,FALSE)=0,\"\",VLOOKUP(C339,'WK 7'!$K$6:$L$41,2,FALSE)))","v":""},{"$f":"IF(ISNA(VLOOKUP(C339,'WK 8'!$K$6:$L$41,2,FALSE)=0),\"\",IF(VLOOKUP(C339,'WK 8'!$K$6:$L$41,2,FALSE)=0,\"\",VLOOKUP(C339,'WK 8'!$K$6:$L$41,2,FALSE)))","v":""},{"$f":"IF(ISNA(VLOOKUP(C339,'WK 9'!$K$6:$L$41,2,FALSE)=0),\"\",IF(VLOOKUP(C339,'WK 9'!$K$6:$L$41,2,FALSE)=0,\"\",VLOOKUP(C339,'WK 9'!$K$6:$L$41,2,FALSE)))","v":""},{"$f":"IF(ISNA(VLOOKUP(C339,'WK 10'!$K$6:$L$41,2,FALSE)=0),\"\",IF(VLOOKUP(C339,'WK 10'!$K$6:$L$41,2,FALSE)=0,\"\",VLOOKUP(C339,'WK 10'!$K$6:$L$41,2,FALSE)))","v":""},0]
[null,null,{"$f":"IF(ISNA(VLOOKUP('WK 10'!K20,$C$2:$C$325,1,FALSE)),VLOOKUP('WK 10'!K20,'WK 10'!$K$6:$K$450,1,FALSE),\"\")","v":""},null,{"$f":"IF(ISNA(VLOOKUP(C340,'WK 2'!$K$6:$L$41,2,FALSE)=0),\"\",IF(VLOOKUP(C340,'WK 2'!$K$6:$L$41,2,FALSE)=0,\"\",VLOOKUP(C340,'WK 2'!$K$6:$L$41,2,FALSE)))","v":""},{"$f":"IF(ISNA(VLOOKUP(C340,'WK 3'!$K$6:$L$41,2,FALSE)=0),\"\",IF(VLOOKUP(C340,'WK 3'!$K$6:$L$41,2,FALSE)=0,\"\",VLOOKUP(C340,'WK 3'!$K$6:$L$41,2,FALSE)))","v":""},{"$f":"IF(ISNA(VLOOKUP(C340,'WK 4'!$K$6:$L$41,2,FALSE)=0),\"\",IF(VLOOKUP(C340,'WK 4'!$K$6:$L$41,2,FALSE)=0,\"\",VLOOKUP(C340,'WK 4'!$K$6:$L$41,2,FALSE)))","v":""},{"$f":"IF(ISNA(VLOOKUP(C340,'WK 5'!$K$6:$L$41,2,FALSE)=0),\"\",IF(VLOOKUP(C340,'WK 5'!$K$6:$L$41,2,FALSE)=0,\"\",VLOOKUP(C340,'WK 5'!$K$6:$L$41,2,FALSE)))","v":""},{"$f":"IF(ISNA(VLOOKUP(C340,'WK 6'!$K$6:$L$41,2,FALSE)=0),\"\",IF(VLOOKUP(C340,'WK 6'!$K$6:$L$41,2,FALSE)=0,\"\",VLOOKUP(C340,'WK 6'!$K$6:$L$41,2,FALSE)))","v":""},{"$f":"IF(ISNA(VLOOKUP(C340,'WK 7'!$K$6:$L$41,2,FALSE)=0),\"\",IF(VLOOKUP(C340,'WK 7'!$K$6:$L$41,2,FALSE)=0,\"\",VLOOKUP(C340,'WK 7'!$K$6:$L$41,2,FALSE)))","v":""},{"$f":"IF(ISNA(VLOOKUP(C340,'WK 8'!$K$6:$L$41,2,FALSE)=0),\"\",IF(VLOOKUP(C340,'WK 8'!$K$6:$L$41,2,FALSE)=0,\"\",VLOOKUP(C340,'WK 8'!$K$6:$L$41,2,FALSE)))","v":""},{"$f":"IF(ISNA(VLOOKUP(C340,'WK 9'!$K$6:$L$41,2,FALSE)=0),\"\",IF(VLOOKUP(C340,'WK 9'!$K$6:$L$41,2,FALSE)=0,\"\",VLOOKUP(C340,'WK 9'!$K$6:$L$41,2,FALSE)))","v":""},{"$f":"IF(ISNA(VLOOKUP(C340,'WK 10'!$K$6:$L$41,2,FALSE)=0),\"\",IF(VLOOKUP(C340,'WK 10'!$K$6:$L$41,2,FALSE)=0,\"\",VLOOKUP(C340,'WK 10'!$K$6:$L$41,2,FALSE)))","v":""},0]
[null,null,{"$f":"IF(ISNA(VLOOKUP('WK 10'!K21,$C$2:$C$325,1,FALSE)),VLOOKUP('WK 10'!K21,'WK 10'!$K$6:$K$450,1,FALSE),\"\")","v":""},null,{"$f":"IF(ISNA(VLOOKUP(C341,'WK 2'!$K$6:$L$41,2,FALSE)=0),\"\",IF(VLOOKUP(C341,'WK 2'!$K$6:$L$41,2,FALSE)=0,\"\",VLOOKUP(C341,'WK 2'!$K$6:$L$41,2,FALSE)))","v":""},{"$f":"IF(ISNA(VLOOKUP(C341,'WK 3'!$K$6:$L$41,2,FALSE)=0),\"\",IF(VLOOKUP(C341,'WK 3'!$K$6:$L$41,2,FALSE)=0,\"\",VLOOKUP(C341,'WK 3'!$K$6:$L$41,2,FALSE)))","v":""},{"$f":"IF(ISNA(VLOOKUP(C341,'WK 4'!$K$6:$L$41,2,FALSE)=0),\"\",IF(VLOOKUP(C341,'WK 4'!$K$6:$L$41,2,FALSE)=0,\"\",VLOOKUP(C341,'WK 4'!$K$6:$L$41,2,FALSE)))","v":""},{"$f":"IF(ISNA(VLOOKUP(C341,'WK 5'!$K$6:$L$41,2,FALSE)=0),\"\",IF(VLOOKUP(C341,'WK 5'!$K$6:$L$41,2,FALSE)=0,\"\",VLOOKUP(C341,'WK 5'!$K$6:$L$41,2,FALSE)))","v":""},{"$f":"IF(ISNA(VLOOKUP(C341,'WK 6'!$K$6:$L$41,2,FALSE)=0),\"\",IF(VLOOKUP(C341,'WK 6'!$K$6:$L$41,2,FALSE)=0,\"\",VLOOKUP(C341,'WK 6'!$K$6:$L$41,2,FALSE)))","v":""},{"$f":"IF(ISNA(VLOOKUP(C341,'WK 7'!$K$6:$L$41,2,FALSE)=0),\"\",IF(VLOOKUP(C341,'WK 7'!$K$6:$L$41,2,FALSE)=0,\"\",VLOOKUP(C341,'WK 7'!$K$6:$L$41,2,FALSE)))","v":""},{"$f":"IF(ISNA(VLOOKUP(C341,'WK 8'!$K$6:$L$41,2,FALSE)=0),\"\",IF(VLOOKUP(C341,'WK 8'!$K$6:$L$41,2,FALSE)=0,\"\",VLOOKUP(C341,'WK 8'!$K$6:$L$41,2,FALSE)))","v":""},{"$f":"IF(ISNA(VLOOKUP(C341,'WK 9'!$K$6:$L$41,2,FALSE)=0),\"\",IF(VLOOKUP(C341,'WK 9'!$K$6:$L$41,2,FALSE)=0,\"\",VLOOKUP(C341,'WK 9'!$K$6:$L$41,2,FALSE)))","v":""},{"$f":"IF(ISNA(VLOOKUP(C341,'WK 10'!$K$6:$L$41,2,FALSE)=0),\"\",IF(VLOOKUP(C341,'WK 10'!$K$6:$L$41,2,FALSE)=0,\"\",VLOOKUP(C341,'WK 10'!$K$6:$L$41,2,FALSE)))","v":""},0]
[null,null,{"$f":"IF(ISNA(VLOOKUP('WK 10'!K22,$C$2:$C$325,1,FALSE)),VLOOKUP('WK 10'!K22,'WK 10'!$K$6:$K$450,1,FALSE),\"\")","v":""},null,{"$f":"IF(ISNA(VLOOKUP(C342,'WK 2'!$K$6:$L$41,2,FALSE)=0),\"\",IF(VLOOKUP(C342,'WK 2'!$K$6:$L$41,2,FALSE)=0,\"\",VLOOKUP(C342,'WK 2'!$K$6:$L$41,2,FALSE)))","v":""},{"$f":"IF(ISNA(VLOOKUP(C342,'WK 3'!$K$6:$L$41,2,FALSE)=0),\"\",IF(VLOOKUP(C342,'WK 3'!$K$6:$L$41,2,FALSE)=0,\"\",VLOOKUP(C342,'WK 3'!$K$6:$L$41,2,FALSE)))","v":""},{"$f":"IF(ISNA(VLOOKUP(C342,'WK 4'!$K$6:$L$41,2,FALSE)=0),\"\",IF(VLOOKUP(C342,'WK 4'!$K$6:$L$41,2,FALSE)=0,\"\",VLOOKUP(C342,'WK 4'!$K$6:$L$41,2,FALSE)))","v":""},{"$f":"IF(ISNA(VLOOKUP(C342,'WK 5'!$K$6:$L$41,2,FALSE)=0),\"\",IF(VLOOKUP(C342,'WK 5'!$K$6:$L$41,2,FALSE)=0,\"\",VLOOKUP(C342,'WK 5'!$K$6:$L$41,2,FALSE)))","v":""},{"$f":"IF(ISNA(VLOOKUP(C342,'WK 6'!$K$6:$L$41,2,FALSE)=0),\"\",IF(VLOOKUP(C342,'WK 6'!$K$6:$L$41,2,FALSE)=0,\"\",VLOOKUP(C342,'WK 6'!$K$6:$L$41,2,FALSE)))","v":""},{"$f":"IF(ISNA(VLOOKUP(C342,'WK 7'!$K$6:$L$41,2,FALSE)=0),\"\",IF(VLOOKUP(C342,'WK 7'!$K$6:$L$41,2,FALSE)=0,\"\",VLOOKUP(C342,'WK 7'!$K$6:$L$41,2,FALSE)))","v":""},{"$f":"IF(ISNA(VLOOKUP(C342,'WK 8'!$K$6:$L$41,2,FALSE)=0),\"\",IF(VLOOKUP(C342,'WK 8'!$K$6:$L$41,2,FALSE)=0,\"\",VLOOKUP(C342,'WK 8'!$K$6:$L$41,2,FALSE)))","v":""},{"$f":"IF(ISNA(VLOOKUP(C342,'WK 9'!$K$6:$L$41,2,FALSE)=0),\"\",IF(VLOOKUP(C342,'WK 9'!$K$6:$L$41,2,FALSE)=0,\"\",VLOOKUP(C342,'WK 9'!$K$6:$L$41,2,FALSE)))","v":""},{"$f":"IF(ISNA(VLOOKUP(C342,'WK 10'!$K$6:$L$41,2,FALSE)=0),\"\",IF(VLOOKUP(C342,'WK 10'!$K$6:$L$41,2,FALSE)=0,\"\",VLOOKUP(C342,'WK 10'!$K$6:$L$41,2,FALSE)))","v":""},0]
[null,null,{"$f":"IF(ISNA(VLOOKUP('WK 10'!K23,$C$2:$C$325,1,FALSE)),VLOOKUP('WK 10'!K23,'WK 10'!$K$6:$K$450,1,FALSE),\"\")","v":""},null,{"$f":"IF(ISNA(VLOOKUP(C343,'WK 2'!$K$6:$L$41,2,FALSE)=0),\"\",IF(VLOOKUP(C343,'WK 2'!$K$6:$L$41,2,FALSE)=0,\"\",VLOOKUP(C343,'WK 2'!$K$6:$L$41,2,FALSE)))","v":""},{"$f":"IF(ISNA(VLOOKUP(C343,'WK 3'!$K$6:$L$41,2,FALSE)=0),\"\",IF(VLOOKUP(C343,'WK 3'!$K$6:$L$41,2,FALSE)=0,\"\",VLOOKUP(C343,'WK 3'!$K$6:$L$41,2,FALSE)))","v":""},{"$f":"IF(ISNA(VLOOKUP(C343,'WK 4'!$K$6:$L$41,2,FALSE)=0),\"\",IF(VLOOKUP(C343,'WK 4'!$K$6:$L$41,2,FALSE)=0,\"\",VLOOKUP(C343,'WK 4'!$K$6:$L$41,2,FALSE)))","v":""},{"$f":"IF(ISNA(VLOOKUP(C343,'WK 5'!$K$6:$L$41,2,FALSE)=0),\"\",IF(VLOOKUP(C343,'WK 5'!$K$6:$L$41,2,FALSE)=0,\"\",VLOOKUP(C343,'WK 5'!$K$6:$L$41,2,FALSE)))","v":""},{"$f":"IF(ISNA(VLOOKUP(C343,'WK 6'!$K$6:$L$41,2,FALSE)=0),\"\",IF(VLOOKUP(C343,'WK 6'!$K$6:$L$41,2,FALSE)=0,\"\",VLOOKUP(C343,'WK 6'!$K$6:$L$41,2,FALSE)))","v":""},{"$f":"IF(ISNA(VLOOKUP(C343,'WK 7'!$K$6:$L$41,2,FALSE)=0),\"\",IF(VLOOKUP(C343,'WK 7'!$K$6:$L$41,2,FALSE)=0,\"\",VLOOKUP(C343,'WK 7'!$K$6:$L$41,2,FALSE)))","v":""},{"$f":"IF(ISNA(VLOOKUP(C343,'WK 8'!$K$6:$L$41,2,FALSE)=0),\"\",IF(VLOOKUP(C343,'WK 8'!$K$6:$L$41,2,FALSE)=0,\"\",VLOOKUP(C343,'WK 8'!$K$6:$L$41,2,FALSE)))","v":""},{"$f":"IF(ISNA(VLOOKUP(C343,'WK 9'!$K$6:$L$41,2,FALSE)=0),\"\",IF(VLOOKUP(C343,'WK 9'!$K$6:$L$41,2,FALSE)=0,\"\",VLOOKUP(C343,'WK 9'!$K$6:$L$41,2,FALSE)))","v":""},{"$f":"IF(ISNA(VLOOKUP(C343,'WK 10'!$K$6:$L$41,2,FALSE)=0),\"\",IF(VLOOKUP(C343,'WK 10'!$K$6:$L$41,2,FALSE)=0,\"\",VLOOKUP(C343,'WK 10'!$K$6:$L$41,2,FALSE)))","v":""},0]
[null,null,{"$f":"IF(ISNA(VLOOKUP('WK 10'!K24,$C$2:$C$325,1,FALSE)),VLOOKUP('WK 10'!K24,'WK 10'!$K$6:$K$450,1,FALSE),\"\")","v":""},null,{"$f":"IF(ISNA(VLOOKUP(C344,'WK 2'!$K$6:$L$41,2,FALSE)=0),\"\",IF(VLOOKUP(C344,'WK 2'!$K$6:$L$41,2,FALSE)=0,\"\",VLOOKUP(C344,'WK 2'!$K$6:$L$41,2,FALSE)))","v":""},{"$f":"IF(ISNA(VLOOKUP(C344,'WK 3'!$K$6:$L$41,2,FALSE)=0),\"\",IF(VLOOKUP(C344,'WK 3'!$K$6:$L$41,2,FALSE)=0,\"\",VLOOKUP(C344,'WK 3'!$K$6:$L$41,2,FALSE)))","v":""},{"$f":"IF(ISNA(VLOOKUP(C344,'WK 4'!$K$6:$L$41,2,FALSE)=0),\"\",IF(VLOOKUP(C344,'WK 4'!$K$6:$L$41,2,FALSE)=0,\"\",VLOOKUP(C344,'WK 4'!$K$6:$L$41,2,FALSE)))","v":""},{"$f":"IF(ISNA(VLOOKUP(C344,'WK 5'!$K$6:$L$41,2,FALSE)=0),\"\",IF(VLOOKUP(C344,'WK 5'!$K$6:$L$41,2,FALSE)=0,\"\",VLOOKUP(C344,'WK 5'!$K$6:$L$41,2,FALSE)))","v":""},{"$f":"IF(ISNA(VLOOKUP(C344,'WK 6'!$K$6:$L$41,2,FALSE)=0),\"\",IF(VLOOKUP(C344,'WK 6'!$K$6:$L$41,2,FALSE)=0,\"\",VLOOKUP(C344,'WK 6'!$K$6:$L$41,2,FALSE)))","v":""},{"$f":"IF(ISNA(VLOOKUP(C344,'WK 7'!$K$6:$L$41,2,FALSE)=0),\"\",IF(VLOOKUP(C344,'WK 7'!$K$6:$L$41,2,FALSE)=0,\"\",VLOOKUP(C344,'WK 7'!$K$6:$L$41,2,FALSE)))","v":""},{"$f":"IF(ISNA(VLOOKUP(C344,'WK 8'!$K$6:$L$41,2,FALSE)=0),\"\",IF(VLOOKUP(C344,'WK 8'!$K$6:$L$41,2,FALSE)=0,\"\",VLOOKUP(C344,'WK 8'!$K$6:$L$41,2,FALSE)))","v":""},{"$f":"IF(ISNA(VLOOKUP(C344,'WK 9'!$K$6:$L$41,2,FALSE)=0),\"\",IF(VLOOKUP(C344,'WK 9'!$K$6:$L$41,2,FALSE)=0,\"\",VLOOKUP(C344,'WK 9'!$K$6:$L$41,2,FALSE)))","v":""},{"$f":"IF(ISNA(VLOOKUP(C344,'WK 10'!$K$6:$L$41,2,FALSE)=0),\"\",IF(VLOOKUP(C344,'WK 10'!$K$6:$L$41,2,FALSE)=0,\"\",VLOOKUP(C344,'WK 10'!$K$6:$L$41,2,FALSE)))","v":""},0]
[null,null,{"$f":"IF(ISNA(VLOOKUP('WK 10'!K25,$C$2:$C$325,1,FALSE)),VLOOKUP('WK 10'!K25,'WK 10'!$K$6:$K$450,1,FALSE),\"\")","v":""},null,{"$f":"IF(ISNA(VLOOKUP(C345,'WK 2'!$K$6:$L$41,2,FALSE)=0),\"\",IF(VLOOKUP(C345,'WK 2'!$K$6:$L$41,2,FALSE)=0,\"\",VLOOKUP(C345,'WK 2'!$K$6:$L$41,2,FALSE)))","v":""},{"$f":"IF(ISNA(VLOOKUP(C345,'WK 3'!$K$6:$L$41,2,FALSE)=0),\"\",IF(VLOOKUP(C345,'WK 3'!$K$6:$L$41,2,FALSE)=0,\"\",VLOOKUP(C345,'WK 3'!$K$6:$L$41,2,FALSE)))","v":""},{"$f":"IF(ISNA(VLOOKUP(C345,'WK 4'!$K$6:$L$41,2,FALSE)=0),\"\",IF(VLOOKUP(C345,'WK 4'!$K$6:$L$41,2,FALSE)=0,\"\",VLOOKUP(C345,'WK 4'!$K$6:$L$41,2,FALSE)))","v":""},{"$f":"IF(ISNA(VLOOKUP(C345,'WK 5'!$K$6:$L$41,2,FALSE)=0),\"\",IF(VLOOKUP(C345,'WK 5'!$K$6:$L$41,2,FALSE)=0,\"\",VLOOKUP(C345,'WK 5'!$K$6:$L$41,2,FALSE)))","v":""},{"$f":"IF(ISNA(VLOOKUP(C345,'WK 6'!$K$6:$L$41,2,FALSE)=0),\"\",IF(VLOOKUP(C345,'WK 6'!$K$6:$L$41,2,FALSE)=0,\"\",VLOOKUP(C345,'WK 6'!$K$6:$L$41,2,FALSE)))","v":""},{"$f":"IF(ISNA(VLOOKUP(C345,'WK 7'!$K$6:$L$41,2,FALSE)=0),\"\",IF(VLOOKUP(C345,'WK 7'!$K$6:$L$41,2,FALSE)=0,\"\",VLOOKUP(C345,'WK 7'!$K$6:$L$41,2,FALSE)))","v":""},{"$f":"IF(ISNA(VLOOKUP(C345,'WK 8'!$K$6:$L$41,2,FALSE)=0),\"\",IF(VLOOKUP(C345,'WK 8'!$K$6:$L$41,2,FALSE)=0,\"\",VLOOKUP(C345,'WK 8'!$K$6:$L$41,2,FALSE)))","v":""},{"$f":"IF(ISNA(VLOOKUP(C345,'WK 9'!$K$6:$L$41,2,FALSE)=0),\"\",IF(VLOOKUP(C345,'WK 9'!$K$6:$L$41,2,FALSE)=0,\"\",VLOOKUP(C345,'WK 9'!$K$6:$L$41,2,FALSE)))","v":""},{"$f":"IF(ISNA(VLOOKUP(C345,'WK 10'!$K$6:$L$41,2,FALSE)=0),\"\",IF(VLOOKUP(C345,'WK 10'!$K$6:$L$41,2,FALSE)=0,\"\",VLOOKUP(C345,'WK 10'!$K$6:$L$41,2,FALSE)))","v":""},0]
[null,null,{"$f":"IF(ISNA(VLOOKUP('WK 10'!K26,$C$2:$C$325,1,FALSE)),VLOOKUP('WK 10'!K26,'WK 10'!$K$6:$K$450,1,FALSE),\"\")","v":""},null,{"$f":"IF(ISNA(VLOOKUP(C346,'WK 2'!$K$6:$L$41,2,FALSE)=0),\"\",IF(VLOOKUP(C346,'WK 2'!$K$6:$L$41,2,FALSE)=0,\"\",VLOOKUP(C346,'WK 2'!$K$6:$L$41,2,FALSE)))","v":""},{"$f":"IF(ISNA(VLOOKUP(C346,'WK 3'!$K$6:$L$41,2,FALSE)=0),\"\",IF(VLOOKUP(C346,'WK 3'!$K$6:$L$41,2,FALSE)=0,\"\",VLOOKUP(C346,'WK 3'!$K$6:$L$41,2,FALSE)))","v":""},{"$f":"IF(ISNA(VLOOKUP(C346,'WK 4'!$K$6:$L$41,2,FALSE)=0),\"\",IF(VLOOKUP(C346,'WK 4'!$K$6:$L$41,2,FALSE)=0,\"\",VLOOKUP(C346,'WK 4'!$K$6:$L$41,2,FALSE)))","v":""},{"$f":"IF(ISNA(VLOOKUP(C346,'WK 5'!$K$6:$L$41,2,FALSE)=0),\"\",IF(VLOOKUP(C346,'WK 5'!$K$6:$L$41,2,FALSE)=0,\"\",VLOOKUP(C346,'WK 5'!$K$6:$L$41,2,FALSE)))","v":""},{"$f":"IF(ISNA(VLOOKUP(C346,'WK 6'!$K$6:$L$41,2,FALSE)=0),\"\",IF(VLOOKUP(C346,'WK 6'!$K$6:$L$41,2,FALSE)=0,\"\",VLOOKUP(C346,'WK 6'!$K$6:$L$41,2,FALSE)))","v":""},{"$f":"IF(ISNA(VLOOKUP(C346,'WK 7'!$K$6:$L$41,2,FALSE)=0),\"\",IF(VLOOKUP(C346,'WK 7'!$K$6:$L$41,2,FALSE)=0,\"\",VLOOKUP(C346,'WK 7'!$K$6:$L$41,2,FALSE)))","v":""},{"$f":"IF(ISNA(VLOOKUP(C346,'WK 8'!$K$6:$L$41,2,FALSE)=0),\"\",IF(VLOOKUP(C346,'WK 8'!$K$6:$L$41,2,FALSE)=0,\"\",VLOOKUP(C346,'WK 8'!$K$6:$L$41,2,FALSE)))","v":""},{"$f":"IF(ISNA(VLOOKUP(C346,'WK 9'!$K$6:$L$41,2,FALSE)=0),\"\",IF(VLOOKUP(C346,'WK 9'!$K$6:$L$41,2,FALSE)=0,\"\",VLOOKUP(C346,'WK 9'!$K$6:$L$41,2,FALSE)))","v":""},{"$f":"IF(ISNA(VLOOKUP(C346,'WK 10'!$K$6:$L$41,2,FALSE)=0),\"\",IF(VLOOKUP(C346,'WK 10'!$K$6:$L$41,2,FALSE)=0,\"\",VLOOKUP(C346,'WK 10'!$K$6:$L$41,2,FALSE)))","v":""},0]
[null,null,{"$f":"IF(ISNA(VLOOKUP('WK 10'!K27,$C$2:$C$325,1,FALSE)),VLOOKUP('WK 10'!K27,'WK 10'!$K$6:$K$450,1,FALSE),\"\")","v":""},null,{"$f":"IF(ISNA(VLOOKUP(C347,'WK 2'!$K$6:$L$41,2,FALSE)=0),\"\",IF(VLOOKUP(C347,'WK 2'!$K$6:$L$41,2,FALSE)=0,\"\",VLOOKUP(C347,'WK 2'!$K$6:$L$41,2,FALSE)))","v":""},{"$f":"IF(ISNA(VLOOKUP(C347,'WK 3'!$K$6:$L$41,2,FALSE)=0),\"\",IF(VLOOKUP(C347,'WK 3'!$K$6:$L$41,2,FALSE)=0,\"\",VLOOKUP(C347,'WK 3'!$K$6:$L$41,2,FALSE)))","v":""},{"$f":"IF(ISNA(VLOOKUP(C347,'WK 4'!$K$6:$L$41,2,FALSE)=0),\"\",IF(VLOOKUP(C347,'WK 4'!$K$6:$L$41,2,FALSE)=0,\"\",VLOOKUP(C347,'WK 4'!$K$6:$L$41,2,FALSE)))","v":""},{"$f":"IF(ISNA(VLOOKUP(C347,'WK 5'!$K$6:$L$41,2,FALSE)=0),\"\",IF(VLOOKUP(C347,'WK 5'!$K$6:$L$41,2,FALSE)=0,\"\",VLOOKUP(C347,'WK 5'!$K$6:$L$41,2,FALSE)))","v":""},{"$f":"IF(ISNA(VLOOKUP(C347,'WK 6'!$K$6:$L$41,2,FALSE)=0),\"\",IF(VLOOKUP(C347,'WK 6'!$K$6:$L$41,2,FALSE)=0,\"\",VLOOKUP(C347,'WK 6'!$K$6:$L$41,2,FALSE)))","v":""},{"$f":"IF(ISNA(VLOOKUP(C347,'WK 7'!$K$6:$L$41,2,FALSE)=0),\"\",IF(VLOOKUP(C347,'WK 7'!$K$6:$L$41,2,FALSE)=0,\"\",VLOOKUP(C347,'WK 7'!$K$6:$L$41,2,FALSE)))","v":""},{"$f":"IF(ISNA(VLOOKUP(C347,'WK 8'!$K$6:$L$41,2,FALSE)=0),\"\",IF(VLOOKUP(C347,'WK 8'!$K$6:$L$41,2,FALSE)=0,\"\",VLOOKUP(C347,'WK 8'!$K$6:$L$41,2,FALSE)))","v":""},{"$f":"IF(ISNA(VLOOKUP(C347,'WK 9'!$K$6:$L$41,2,FALSE)=0),\"\",IF(VLOOKUP(C347,'WK 9'!$K$6:$L$41,2,FALSE)=0,\"\",VLOOKUP(C347,'WK 9'!$K$6:$L$41,2,FALSE)))","v":""},{"$f":"IF(ISNA(VLOOKUP(C347,'WK 10'!$K$6:$L$41,2,FALSE)=0),\"\",IF(VLOOKUP(C347,'WK 10'!$K$6:$L$41,2,FALSE)=0,\"\",VLOOKUP(C347,'WK 10'!$K$6:$L$41,2,FALSE)))","v":""},0]
[null,null,{"$f":"IF(ISNA(VLOOKUP('WK 10'!K28,$C$2:$C$325,1,FALSE)),VLOOKUP('WK 10'!K28,'WK 10'!$K$6:$K$450,1,FALSE),\"\")","v":""},null,{"$f":"IF(ISNA(VLOOKUP(C348,'WK 2'!$K$6:$L$41,2,FALSE)=0),\"\",IF(VLOOKUP(C348,'WK 2'!$K$6:$L$41,2,FALSE)=0,\"\",VLOOKUP(C348,'WK 2'!$K$6:$L$41,2,FALSE)))","v":""},{"$f":"IF(ISNA(VLOOKUP(C348,'WK 3'!$K$6:$L$41,2,FALSE)=0),\"\",IF(VLOOKUP(C348,'WK 3'!$K$6:$L$41,2,FALSE)=0,\"\",VLOOKUP(C348,'WK 3'!$K$6:$L$41,2,FALSE)))","v":""},{"$f":"IF(ISNA(VLOOKUP(C348,'WK 4'!$K$6:$L$41,2,FALSE)=0),\"\",IF(VLOOKUP(C348,'WK 4'!$K$6:$L$41,2,FALSE)=0,\"\",VLOOKUP(C348,'WK 4'!$K$6:$L$41,2,FALSE)))","v":""},{"$f":"IF(ISNA(VLOOKUP(C348,'WK 5'!$K$6:$L$41,2,FALSE)=0),\"\",IF(VLOOKUP(C348,'WK 5'!$K$6:$L$41,2,FALSE)=0,\"\",VLOOKUP(C348,'WK 5'!$K$6:$L$41,2,FALSE)))","v":""},{"$f":"IF(ISNA(VLOOKUP(C348,'WK 6'!$K$6:$L$41,2,FALSE)=0),\"\",IF(VLOOKUP(C348,'WK 6'!$K$6:$L$41,2,FALSE)=0,\"\",VLOOKUP(C348,'WK 6'!$K$6:$L$41,2,FALSE)))","v":""},{"$f":"IF(ISNA(VLOOKUP(C348,'WK 7'!$K$6:$L$41,2,FALSE)=0),\"\",IF(VLOOKUP(C348,'WK 7'!$K$6:$L$41,2,FALSE)=0,\"\",VLOOKUP(C348,'WK 7'!$K$6:$L$41,2,FALSE)))","v":""},{"$f":"IF(ISNA(VLOOKUP(C348,'WK 8'!$K$6:$L$41,2,FALSE)=0),\"\",IF(VLOOKUP(C348,'WK 8'!$K$6:$L$41,2,FALSE)=0,\"\",VLOOKUP(C348,'WK 8'!$K$6:$L$41,2,FALSE)))","v":""},{"$f":"IF(ISNA(VLOOKUP(C348,'WK 9'!$K$6:$L$41,2,FALSE)=0),\"\",IF(VLOOKUP(C348,'WK 9'!$K$6:$L$41,2,FALSE)=0,\"\",VLOOKUP(C348,'WK 9'!$K$6:$L$41,2,FALSE)))","v":""},{"$f":"IF(ISNA(VLOOKUP(C348,'WK 10'!$K$6:$L$41,2,FALSE)=0),\"\",IF(VLOOKUP(C348,'WK 10'!$K$6:$L$41,2,FALSE)=0,\"\",VLOOKUP(C348,'WK 10'!$K$6:$L$41,2,FALSE)))","v":""},0]
[null,null,{"$f":"IF(ISNA(VLOOKUP('WK 10'!K29,$C$2:$C$325,1,FALSE)),VLOOKUP('WK 10'!K29,'WK 10'!$K$6:$K$450,1,FALSE),\"\")","v":""},null,{"$f":"IF(ISNA(VLOOKUP(C349,'WK 2'!$K$6:$L$41,2,FALSE)=0),\"\",IF(VLOOKUP(C349,'WK 2'!$K$6:$L$41,2,FALSE)=0,\"\",VLOOKUP(C349,'WK 2'!$K$6:$L$41,2,FALSE)))","v":""},{"$f":"IF(ISNA(VLOOKUP(C349,'WK 3'!$K$6:$L$41,2,FALSE)=0),\"\",IF(VLOOKUP(C349,'WK 3'!$K$6:$L$41,2,FALSE)=0,\"\",VLOOKUP(C349,'WK 3'!$K$6:$L$41,2,FALSE)))","v":""},{"$f":"IF(ISNA(VLOOKUP(C349,'WK 4'!$K$6:$L$41,2,FALSE)=0),\"\",IF(VLOOKUP(C349,'WK 4'!$K$6:$L$41,2,FALSE)=0,\"\",VLOOKUP(C349,'WK 4'!$K$6:$L$41,2,FALSE)))","v":""},{"$f":"IF(ISNA(VLOOKUP(C349,'WK 5'!$K$6:$L$41,2,FALSE)=0),\"\",IF(VLOOKUP(C349,'WK 5'!$K$6:$L$41,2,FALSE)=0,\"\",VLOOKUP(C349,'WK 5'!$K$6:$L$41,2,FALSE)))","v":""},{"$f":"IF(ISNA(VLOOKUP(C349,'WK 6'!$K$6:$L$41,2,FALSE)=0),\"\",IF(VLOOKUP(C349,'WK 6'!$K$6:$L$41,2,FALSE)=0,\"\",VLOOKUP(C349,'WK 6'!$K$6:$L$41,2,FALSE)))","v":""},{"$f":"IF(ISNA(VLOOKUP(C349,'WK 7'!$K$6:$L$41,2,FALSE)=0),\"\",IF(VLOOKUP(C349,'WK 7'!$K$6:$L$41,2,FALSE)=0,\"\",VLOOKUP(C349,'WK 7'!$K$6:$L$41,2,FALSE)))","v":""},{"$f":"IF(ISNA(VLOOKUP(C349,'WK 8'!$K$6:$L$41,2,FALSE)=0),\"\",IF(VLOOKUP(C349,'WK 8'!$K$6:$L$41,2,FALSE)=0,\"\",VLOOKUP(C349,'WK 8'!$K$6:$L$41,2,FALSE)))","v":""},{"$f":"IF(ISNA(VLOOKUP(C349,'WK 9'!$K$6:$L$41,2,FALSE)=0),\"\",IF(VLOOKUP(C349,'WK 9'!$K$6:$L$41,2,FALSE)=0,\"\",VLOOKUP(C349,'WK 9'!$K$6:$L$41,2,FALSE)))","v":""},{"$f":"IF(ISNA(VLOOKUP(C349,'WK 10'!$K$6:$L$41,2,FALSE)=0),\"\",IF(VLOOKUP(C349,'WK 10'!$K$6:$L$41,2,FALSE)=0,\"\",VLOOKUP(C349,'WK 10'!$K$6:$L$41,2,FALSE)))","v":""},0]
[null,null,{"$f":"IF(ISNA(VLOOKUP('WK 10'!K30,$C$2:$C$325,1,FALSE)),VLOOKUP('WK 10'!K30,'WK 10'!$K$6:$K$450,1,FALSE),\"\")","v":""},null,{"$f":"IF(ISNA(VLOOKUP(C350,'WK 2'!$K$6:$L$41,2,FALSE)=0),\"\",IF(VLOOKUP(C350,'WK 2'!$K$6:$L$41,2,FALSE)=0,\"\",VLOOKUP(C350,'WK 2'!$K$6:$L$41,2,FALSE)))","v":""},{"$f":"IF(ISNA(VLOOKUP(C350,'WK 3'!$K$6:$L$41,2,FALSE)=0),\"\",IF(VLOOKUP(C350,'WK 3'!$K$6:$L$41,2,FALSE)=0,\"\",VLOOKUP(C350,'WK 3'!$K$6:$L$41,2,FALSE)))","v":""},{"$f":"IF(ISNA(VLOOKUP(C350,'WK 4'!$K$6:$L$41,2,FALSE)=0),\"\",IF(VLOOKUP(C350,'WK 4'!$K$6:$L$41,2,FALSE)=0,\"\",VLOOKUP(C350,'WK 4'!$K$6:$L$41,2,FALSE)))","v":""},{"$f":"IF(ISNA(VLOOKUP(C350,'WK 5'!$K$6:$L$41,2,FALSE)=0),\"\",IF(VLOOKUP(C350,'WK 5'!$K$6:$L$41,2,FALSE)=0,\"\",VLOOKUP(C350,'WK 5'!$K$6:$L$41,2,FALSE)))","v":""},{"$f":"IF(ISNA(VLOOKUP(C350,'WK 6'!$K$6:$L$41,2,FALSE)=0),\"\",IF(VLOOKUP(C350,'WK 6'!$K$6:$L$41,2,FALSE)=0,\"\",VLOOKUP(C350,'WK 6'!$K$6:$L$41,2,FALSE)))","v":""},{"$f":"IF(ISNA(VLOOKUP(C350,'WK 7'!$K$6:$L$41,2,FALSE)=0),\"\",IF(VLOOKUP(C350,'WK 7'!$K$6:$L$41,2,FALSE)=0,\"\",VLOOKUP(C350,'WK 7'!$K$6:$L$41,2,FALSE)))","v":""},{"$f":"IF(ISNA(VLOOKUP(C350,'WK 8'!$K$6:$L$41,2,FALSE)=0),\"\",IF(VLOOKUP(C350,'WK 8'!$K$6:$L$41,2,FALSE)=0,\"\",VLOOKUP(C350,'WK 8'!$K$6:$L$41,2,FALSE)))","v":""},{"$f":"IF(ISNA(VLOOKUP(C350,'WK 9'!$K$6:$L$41,2,FALSE)=0),\"\",IF(VLOOKUP(C350,'WK 9'!$K$6:$L$41,2,FALSE)=0,\"\",VLOOKUP(C350,'WK 9'!$K$6:$L$41,2,FALSE)))","v":""},{"$f":"IF(ISNA(VLOOKUP(C350,'WK 10'!$K$6:$L$41,2,FALSE)=0),\"\",IF(VLOOKUP(C350,'WK 10'!$K$6:$L$41,2,FALSE)=0,\"\",VLOOKUP(C350,'WK 10'!$K$6:$L$41,2,FALSE)))","v":""},0]
[null,null,{"$f":"IF(ISNA(VLOOKUP('WK 10'!K31,$C$2:$C$325,1,FALSE)),VLOOKUP('WK 10'!K31,'WK 10'!$K$6:$K$450,1,FALSE),\"\")","v":""},null,{"$f":"IF(ISNA(VLOOKUP(C351,'WK 2'!$K$6:$L$41,2,FALSE)=0),\"\",IF(VLOOKUP(C351,'WK 2'!$K$6:$L$41,2,FALSE)=0,\"\",VLOOKUP(C351,'WK 2'!$K$6:$L$41,2,FALSE)))","v":""},{"$f":"IF(ISNA(VLOOKUP(C351,'WK 3'!$K$6:$L$41,2,FALSE)=0),\"\",IF(VLOOKUP(C351,'WK 3'!$K$6:$L$41,2,FALSE)=0,\"\",VLOOKUP(C351,'WK 3'!$K$6:$L$41,2,FALSE)))","v":""},{"$f":"IF(ISNA(VLOOKUP(C351,'WK 4'!$K$6:$L$41,2,FALSE)=0),\"\",IF(VLOOKUP(C351,'WK 4'!$K$6:$L$41,2,FALSE)=0,\"\",VLOOKUP(C351,'WK 4'!$K$6:$L$41,2,FALSE)))","v":""},{"$f":"IF(ISNA(VLOOKUP(C351,'WK 5'!$K$6:$L$41,2,FALSE)=0),\"\",IF(VLOOKUP(C351,'WK 5'!$K$6:$L$41,2,FALSE)=0,\"\",VLOOKUP(C351,'WK 5'!$K$6:$L$41,2,FALSE)))","v":""},{"$f":"IF(ISNA(VLOOKUP(C351,'WK 6'!$K$6:$L$41,2,FALSE)=0),\"\",IF(VLOOKUP(C351,'WK 6'!$K$6:$L$41,2,FALSE)=0,\"\",VLOOKUP(C351,'WK 6'!$K$6:$L$41,2,FALSE)))","v":""},{"$f":"IF(ISNA(VLOOKUP(C351,'WK 7'!$K$6:$L$41,2,FALSE)=0),\"\",IF(VLOOKUP(C351,'WK 7'!$K$6:$L$41,2,FALSE)=0,\"\",VLOOKUP(C351,'WK 7'!$K$6:$L$41,2,FALSE)))","v":""},{"$f":"IF(ISNA(VLOOKUP(C351,'WK 8'!$K$6:$L$41,2,FALSE)=0),\"\",IF(VLOOKUP(C351,'WK 8'!$K$6:$L$41,2,FALSE)=0,\"\",VLOOKUP(C351,'WK 8'!$K$6:$L$41,2,FALSE)))","v":""},{"$f":"IF(ISNA(VLOOKUP(C351,'WK 9'!$K$6:$L$41,2,FALSE)=0),\"\",IF(VLOOKUP(C351,'WK 9'!$K$6:$L$41,2,FALSE)=0,\"\",VLOOKUP(C351,'WK 9'!$K$6:$L$41,2,FALSE)))","v":""},{"$f":"IF(ISNA(VLOOKUP(C351,'WK 10'!$K$6:$L$41,2,FALSE)=0),\"\",IF(VLOOKUP(C351,'WK 10'!$K$6:$L$41,2,FALSE)=0,\"\",VLOOKUP(C351,'WK 10'!$K$6:$L$41,2,FALSE)))","v":""},0]
[null,null,{"$f":"IF(ISNA(VLOOKUP('WK 10'!K32,$C$2:$C$325,1,FALSE)),VLOOKUP('WK 10'!K32,'WK 10'!$K$6:$K$450,1,FALSE),\"\")","v":""},null,{"$f":"IF(ISNA(VLOOKUP(C352,'WK 2'!$K$6:$L$41,2,FALSE)=0),\"\",IF(VLOOKUP(C352,'WK 2'!$K$6:$L$41,2,FALSE)=0,\"\",VLOOKUP(C352,'WK 2'!$K$6:$L$41,2,FALSE)))","v":""},{"$f":"IF(ISNA(VLOOKUP(C352,'WK 3'!$K$6:$L$41,2,FALSE)=0),\"\",IF(VLOOKUP(C352,'WK 3'!$K$6:$L$41,2,FALSE)=0,\"\",VLOOKUP(C352,'WK 3'!$K$6:$L$41,2,FALSE)))","v":""},{"$f":"IF(ISNA(VLOOKUP(C352,'WK 4'!$K$6:$L$41,2,FALSE)=0),\"\",IF(VLOOKUP(C352,'WK 4'!$K$6:$L$41,2,FALSE)=0,\"\",VLOOKUP(C352,'WK 4'!$K$6:$L$41,2,FALSE)))","v":""},{"$f":"IF(ISNA(VLOOKUP(C352,'WK 5'!$K$6:$L$41,2,FALSE)=0),\"\",IF(VLOOKUP(C352,'WK 5'!$K$6:$L$41,2,FALSE)=0,\"\",VLOOKUP(C352,'WK 5'!$K$6:$L$41,2,FALSE)))","v":""},{"$f":"IF(ISNA(VLOOKUP(C352,'WK 6'!$K$6:$L$41,2,FALSE)=0),\"\",IF(VLOOKUP(C352,'WK 6'!$K$6:$L$41,2,FALSE)=0,\"\",VLOOKUP(C352,'WK 6'!$K$6:$L$41,2,FALSE)))","v":""},{"$f":"IF(ISNA(VLOOKUP(C352,'WK 7'!$K$6:$L$41,2,FALSE)=0),\"\",IF(VLOOKUP(C352,'WK 7'!$K$6:$L$41,2,FALSE)=0,\"\",VLOOKUP(C352,'WK 7'!$K$6:$L$41,2,FALSE)))","v":""},{"$f":"IF(ISNA(VLOOKUP(C352,'WK 8'!$K$6:$L$41,2,FALSE)=0),\"\",IF(VLOOKUP(C352,'WK 8'!$K$6:$L$41,2,FALSE)=0,\"\",VLOOKUP(C352,'WK 8'!$K$6:$L$41,2,FALSE)))","v":""},{"$f":"IF(ISNA(VLOOKUP(C352,'WK 9'!$K$6:$L$41,2,FALSE)=0),\"\",IF(VLOOKUP(C352,'WK 9'!$K$6:$L$41,2,FALSE)=0,\"\",VLOOKUP(C352,'WK 9'!$K$6:$L$41,2,FALSE)))","v":""},{"$f":"IF(ISNA(VLOOKUP(C352,'WK 10'!$K$6:$L$41,2,FALSE)=0),\"\",IF(VLOOKUP(C352,'WK 10'!$K$6:$L$41,2,FALSE)=0,\"\",VLOOKUP(C352,'WK 10'!$K$6:$L$41,2,FALSE)))","v":""},0]
[null,null,{"$f":"IF(ISNA(VLOOKUP('WK 10'!K33,$C$2:$C$325,1,FALSE)),VLOOKUP('WK 10'!K33,'WK 10'!$K$6:$K$450,1,FALSE),\"\")","v":""},null,{"$f":"IF(ISNA(VLOOKUP(C353,'WK 2'!$K$6:$L$41,2,FALSE)=0),\"\",IF(VLOOKUP(C353,'WK 2'!$K$6:$L$41,2,FALSE)=0,\"\",VLOOKUP(C353,'WK 2'!$K$6:$L$41,2,FALSE)))","v":""},{"$f":"IF(ISNA(VLOOKUP(C353,'WK 3'!$K$6:$L$41,2,FALSE)=0),\"\",IF(VLOOKUP(C353,'WK 3'!$K$6:$L$41,2,FALSE)=0,\"\",VLOOKUP(C353,'WK 3'!$K$6:$L$41,2,FALSE)))","v":""},{"$f":"IF(ISNA(VLOOKUP(C353,'WK 4'!$K$6:$L$41,2,FALSE)=0),\"\",IF(VLOOKUP(C353,'WK 4'!$K$6:$L$41,2,FALSE)=0,\"\",VLOOKUP(C353,'WK 4'!$K$6:$L$41,2,FALSE)))","v":""},{"$f":"IF(ISNA(VLOOKUP(C353,'WK 5'!$K$6:$L$41,2,FALSE)=0),\"\",IF(VLOOKUP(C353,'WK 5'!$K$6:$L$41,2,FALSE)=0,\"\",VLOOKUP(C353,'WK 5'!$K$6:$L$41,2,FALSE)))","v":""},{"$f":"IF(ISNA(VLOOKUP(C353,'WK 6'!$K$6:$L$41,2,FALSE)=0),\"\",IF(VLOOKUP(C353,'WK 6'!$K$6:$L$41,2,FALSE)=0,\"\",VLOOKUP(C353,'WK 6'!$K$6:$L$41,2,FALSE)))","v":""},{"$f":"IF(ISNA(VLOOKUP(C353,'WK 7'!$K$6:$L$41,2,FALSE)=0),\"\",IF(VLOOKUP(C353,'WK 7'!$K$6:$L$41,2,FALSE)=0,\"\",VLOOKUP(C353,'WK 7'!$K$6:$L$41,2,FALSE)))","v":""},{"$f":"IF(ISNA(VLOOKUP(C353,'WK 8'!$K$6:$L$41,2,FALSE)=0),\"\",IF(VLOOKUP(C353,'WK 8'!$K$6:$L$41,2,FALSE)=0,\"\",VLOOKUP(C353,'WK 8'!$K$6:$L$41,2,FALSE)))","v":""},{"$f":"IF(ISNA(VLOOKUP(C353,'WK 9'!$K$6:$L$41,2,FALSE)=0),\"\",IF(VLOOKUP(C353,'WK 9'!$K$6:$L$41,2,FALSE)=0,\"\",VLOOKUP(C353,'WK 9'!$K$6:$L$41,2,FALSE)))","v":""},{"$f":"IF(ISNA(VLOOKUP(C353,'WK 10'!$K$6:$L$41,2,FALSE)=0),\"\",IF(VLOOKUP(C353,'WK 10'!$K$6:$L$41,2,FALSE)=0,\"\",VLOOKUP(C353,'WK 10'!$K$6:$L$41,2,FALSE)))","v":""},0]
[null,null,{"$f":"IF(ISNA(VLOOKUP('WK 10'!K34,$C$2:$C$325,1,FALSE)),VLOOKUP('WK 10'!K34,'WK 10'!$K$6:$K$450,1,FALSE),\"\")","v":""},null,{"$f":"IF(ISNA(VLOOKUP(C354,'WK 2'!$K$6:$L$41,2,FALSE)=0),\"\",IF(VLOOKUP(C354,'WK 2'!$K$6:$L$41,2,FALSE)=0,\"\",VLOOKUP(C354,'WK 2'!$K$6:$L$41,2,FALSE)))","v":""},{"$f":"IF(ISNA(VLOOKUP(C354,'WK 3'!$K$6:$L$41,2,FALSE)=0),\"\",IF(VLOOKUP(C354,'WK 3'!$K$6:$L$41,2,FALSE)=0,\"\",VLOOKUP(C354,'WK 3'!$K$6:$L$41,2,FALSE)))","v":""},{"$f":"IF(ISNA(VLOOKUP(C354,'WK 4'!$K$6:$L$41,2,FALSE)=0),\"\",IF(VLOOKUP(C354,'WK 4'!$K$6:$L$41,2,FALSE)=0,\"\",VLOOKUP(C354,'WK 4'!$K$6:$L$41,2,FALSE)))","v":""},{"$f":"IF(ISNA(VLOOKUP(C354,'WK 5'!$K$6:$L$41,2,FALSE)=0),\"\",IF(VLOOKUP(C354,'WK 5'!$K$6:$L$41,2,FALSE)=0,\"\",VLOOKUP(C354,'WK 5'!$K$6:$L$41,2,FALSE)))","v":""},{"$f":"IF(ISNA(VLOOKUP(C354,'WK 6'!$K$6:$L$41,2,FALSE)=0),\"\",IF(VLOOKUP(C354,'WK 6'!$K$6:$L$41,2,FALSE)=0,\"\",VLOOKUP(C354,'WK 6'!$K$6:$L$41,2,FALSE)))","v":""},{"$f":"IF(ISNA(VLOOKUP(C354,'WK 7'!$K$6:$L$41,2,FALSE)=0),\"\",IF(VLOOKUP(C354,'WK 7'!$K$6:$L$41,2,FALSE)=0,\"\",VLOOKUP(C354,'WK 7'!$K$6:$L$41,2,FALSE)))","v":""},{"$f":"IF(ISNA(VLOOKUP(C354,'WK 8'!$K$6:$L$41,2,FALSE)=0),\"\",IF(VLOOKUP(C354,'WK 8'!$K$6:$L$41,2,FALSE)=0,\"\",VLOOKUP(C354,'WK 8'!$K$6:$L$41,2,FALSE)))","v":""},{"$f":"IF(ISNA(VLOOKUP(C354,'WK 9'!$K$6:$L$41,2,FALSE)=0),\"\",IF(VLOOKUP(C354,'WK 9'!$K$6:$L$41,2,FALSE)=0,\"\",VLOOKUP(C354,'WK 9'!$K$6:$L$41,2,FALSE)))","v":""},{"$f":"IF(ISNA(VLOOKUP(C354,'WK 10'!$K$6:$L$41,2,FALSE)=0),\"\",IF(VLOOKUP(C354,'WK 10'!$K$6:$L$41,2,FALSE)=0,\"\",VLOOKUP(C354,'WK 10'!$K$6:$L$41,2,FALSE)))","v":""},0]
[null,null,{"$f":"IF(ISNA(VLOOKUP('WK 10'!K35,$C$2:$C$325,1,FALSE)),VLOOKUP('WK 10'!K35,'WK 10'!$K$6:$K$450,1,FALSE),\"\")","v":""},null,{"$f":"IF(ISNA(VLOOKUP(C355,'WK 2'!$K$6:$L$41,2,FALSE)=0),\"\",IF(VLOOKUP(C355,'WK 2'!$K$6:$L$41,2,FALSE)=0,\"\",VLOOKUP(C355,'WK 2'!$K$6:$L$41,2,FALSE)))","v":""},{"$f":"IF(ISNA(VLOOKUP(C355,'WK 3'!$K$6:$L$41,2,FALSE)=0),\"\",IF(VLOOKUP(C355,'WK 3'!$K$6:$L$41,2,FALSE)=0,\"\",VLOOKUP(C355,'WK 3'!$K$6:$L$41,2,FALSE)))","v":""},{"$f":"IF(ISNA(VLOOKUP(C355,'WK 4'!$K$6:$L$41,2,FALSE)=0),\"\",IF(VLOOKUP(C355,'WK 4'!$K$6:$L$41,2,FALSE)=0,\"\",VLOOKUP(C355,'WK 4'!$K$6:$L$41,2,FALSE)))","v":""},{"$f":"IF(ISNA(VLOOKUP(C355,'WK 5'!$K$6:$L$41,2,FALSE)=0),\"\",IF(VLOOKUP(C355,'WK 5'!$K$6:$L$41,2,FALSE)=0,\"\",VLOOKUP(C355,'WK 5'!$K$6:$L$41,2,FALSE)))","v":""},{"$f":"IF(ISNA(VLOOKUP(C355,'WK 6'!$K$6:$L$41,2,FALSE)=0),\"\",IF(VLOOKUP(C355,'WK 6'!$K$6:$L$41,2,FALSE)=0,\"\",VLOOKUP(C355,'WK 6'!$K$6:$L$41,2,FALSE)))","v":""},{"$f":"IF(ISNA(VLOOKUP(C355,'WK 7'!$K$6:$L$41,2,FALSE)=0),\"\",IF(VLOOKUP(C355,'WK 7'!$K$6:$L$41,2,FALSE)=0,\"\",VLOOKUP(C355,'WK 7'!$K$6:$L$41,2,FALSE)))","v":""},{"$f":"IF(ISNA(VLOOKUP(C355,'WK 8'!$K$6:$L$41,2,FALSE)=0),\"\",IF(VLOOKUP(C355,'WK 8'!$K$6:$L$41,2,FALSE)=0,\"\",VLOOKUP(C355,'WK 8'!$K$6:$L$41,2,FALSE)))","v":""},{"$f":"IF(ISNA(VLOOKUP(C355,'WK 9'!$K$6:$L$41,2,FALSE)=0),\"\",IF(VLOOKUP(C355,'WK 9'!$K$6:$L$41,2,FALSE)=0,\"\",VLOOKUP(C355,'WK 9'!$K$6:$L$41,2,FALSE)))","v":""},{"$f":"IF(ISNA(VLOOKUP(C355,'WK 10'!$K$6:$L$41,2,FALSE)=0),\"\",IF(VLOOKUP(C355,'WK 10'!$K$6:$L$41,2,FALSE)=0,\"\",VLOOKUP(C355,'WK 10'!$K$6:$L$41,2,FALSE)))","v":""},0]
[null,null,{"$f":"IF(ISNA(VLOOKUP('WK 10'!K36,$C$2:$C$325,1,FALSE)),VLOOKUP('WK 10'!K36,'WK 10'!$K$6:$K$450,1,FALSE),\"\")","v":""},null,{"$f":"IF(ISNA(VLOOKUP(C356,'WK 2'!$K$6:$L$41,2,FALSE)=0),\"\",IF(VLOOKUP(C356,'WK 2'!$K$6:$L$41,2,FALSE)=0,\"\",VLOOKUP(C356,'WK 2'!$K$6:$L$41,2,FALSE)))","v":""},{"$f":"IF(ISNA(VLOOKUP(C356,'WK 3'!$K$6:$L$41,2,FALSE)=0),\"\",IF(VLOOKUP(C356,'WK 3'!$K$6:$L$41,2,FALSE)=0,\"\",VLOOKUP(C356,'WK 3'!$K$6:$L$41,2,FALSE)))","v":""},{"$f":"IF(ISNA(VLOOKUP(C356,'WK 4'!$K$6:$L$41,2,FALSE)=0),\"\",IF(VLOOKUP(C356,'WK 4'!$K$6:$L$41,2,FALSE)=0,\"\",VLOOKUP(C356,'WK 4'!$K$6:$L$41,2,FALSE)))","v":""},{"$f":"IF(ISNA(VLOOKUP(C356,'WK 5'!$K$6:$L$41,2,FALSE)=0),\"\",IF(VLOOKUP(C356,'WK 5'!$K$6:$L$41,2,FALSE)=0,\"\",VLOOKUP(C356,'WK 5'!$K$6:$L$41,2,FALSE)))","v":""},{"$f":"IF(ISNA(VLOOKUP(C356,'WK 6'!$K$6:$L$41,2,FALSE)=0),\"\",IF(VLOOKUP(C356,'WK 6'!$K$6:$L$41,2,FALSE)=0,\"\",VLOOKUP(C356,'WK 6'!$K$6:$L$41,2,FALSE)))","v":""},{"$f":"IF(ISNA(VLOOKUP(C356,'WK 7'!$K$6:$L$41,2,FALSE)=0),\"\",IF(VLOOKUP(C356,'WK 7'!$K$6:$L$41,2,FALSE)=0,\"\",VLOOKUP(C356,'WK 7'!$K$6:$L$41,2,FALSE)))","v":""},{"$f":"IF(ISNA(VLOOKUP(C356,'WK 8'!$K$6:$L$41,2,FALSE)=0),\"\",IF(VLOOKUP(C356,'WK 8'!$K$6:$L$41,2,FALSE)=0,\"\",VLOOKUP(C356,'WK 8'!$K$6:$L$41,2,FALSE)))","v":""},{"$f":"IF(ISNA(VLOOKUP(C356,'WK 9'!$K$6:$L$41,2,FALSE)=0),\"\",IF(VLOOKUP(C356,'WK 9'!$K$6:$L$41,2,FALSE)=0,\"\",VLOOKUP(C356,'WK 9'!$K$6:$L$41,2,FALSE)))","v":""},{"$f":"IF(ISNA(VLOOKUP(C356,'WK 10'!$K$6:$L$41,2,FALSE)=0),\"\",IF(VLOOKUP(C356,'WK 10'!$K$6:$L$41,2,FALSE)=0,\"\",VLOOKUP(C356,'WK 10'!$K$6:$L$41,2,FALSE)))","v":""},0]
[null,null,{"$f":"IF(ISNA(VLOOKUP('WK 10'!K37,$C$2:$C$325,1,FALSE)),VLOOKUP('WK 10'!K37,'WK 10'!$K$6:$K$450,1,FALSE),\"\")","v":""},null,{"$f":"IF(ISNA(VLOOKUP(C357,'WK 2'!$K$6:$L$41,2,FALSE)=0),\"\",IF(VLOOKUP(C357,'WK 2'!$K$6:$L$41,2,FALSE)=0,\"\",VLOOKUP(C357,'WK 2'!$K$6:$L$41,2,FALSE)))","v":""},{"$f":"IF(ISNA(VLOOKUP(C357,'WK 3'!$K$6:$L$41,2,FALSE)=0),\"\",IF(VLOOKUP(C357,'WK 3'!$K$6:$L$41,2,FALSE)=0,\"\",VLOOKUP(C357,'WK 3'!$K$6:$L$41,2,FALSE)))","v":""},{"$f":"IF(ISNA(VLOOKUP(C357,'WK 4'!$K$6:$L$41,2,FALSE)=0),\"\",IF(VLOOKUP(C357,'WK 4'!$K$6:$L$41,2,FALSE)=0,\"\",VLOOKUP(C357,'WK 4'!$K$6:$L$41,2,FALSE)))","v":""},{"$f":"IF(ISNA(VLOOKUP(C357,'WK 5'!$K$6:$L$41,2,FALSE)=0),\"\",IF(VLOOKUP(C357,'WK 5'!$K$6:$L$41,2,FALSE)=0,\"\",VLOOKUP(C357,'WK 5'!$K$6:$L$41,2,FALSE)))","v":""},{"$f":"IF(ISNA(VLOOKUP(C357,'WK 6'!$K$6:$L$41,2,FALSE)=0),\"\",IF(VLOOKUP(C357,'WK 6'!$K$6:$L$41,2,FALSE)=0,\"\",VLOOKUP(C357,'WK 6'!$K$6:$L$41,2,FALSE)))","v":""},{"$f":"IF(ISNA(VLOOKUP(C357,'WK 7'!$K$6:$L$41,2,FALSE)=0),\"\",IF(VLOOKUP(C357,'WK 7'!$K$6:$L$41,2,FALSE)=0,\"\",VLOOKUP(C357,'WK 7'!$K$6:$L$41,2,FALSE)))","v":""},{"$f":"IF(ISNA(VLOOKUP(C357,'WK 8'!$K$6:$L$41,2,FALSE)=0),\"\",IF(VLOOKUP(C357,'WK 8'!$K$6:$L$41,2,FALSE)=0,\"\",VLOOKUP(C357,'WK 8'!$K$6:$L$41,2,FALSE)))","v":""},{"$f":"IF(ISNA(VLOOKUP(C357,'WK 9'!$K$6:$L$41,2,FALSE)=0),\"\",IF(VLOOKUP(C357,'WK 9'!$K$6:$L$41,2,FALSE)=0,\"\",VLOOKUP(C357,'WK 9'!$K$6:$L$41,2,FALSE)))","v":""},{"$f":"IF(ISNA(VLOOKUP(C357,'WK 10'!$K$6:$L$41,2,FALSE)=0),\"\",IF(VLOOKUP(C357,'WK 10'!$K$6:$L$41,2,FALSE)=0,\"\",VLOOKUP(C357,'WK 10'!$K$6:$L$41,2,FALSE)))","v":""},0]
[null,null,{"$f":"IF(ISNA(VLOOKUP('WK 10'!K38,$C$2:$C$325,1,FALSE)),VLOOKUP('WK 10'!K38,'WK 10'!$K$6:$K$450,1,FALSE),\"\")","v":""},null,{"$f":"IF(ISNA(VLOOKUP(C358,'WK 2'!$K$6:$L$41,2,FALSE)=0),\"\",IF(VLOOKUP(C358,'WK 2'!$K$6:$L$41,2,FALSE)=0,\"\",VLOOKUP(C358,'WK 2'!$K$6:$L$41,2,FALSE)))","v":""},{"$f":"IF(ISNA(VLOOKUP(C358,'WK 3'!$K$6:$L$41,2,FALSE)=0),\"\",IF(VLOOKUP(C358,'WK 3'!$K$6:$L$41,2,FALSE)=0,\"\",VLOOKUP(C358,'WK 3'!$K$6:$L$41,2,FALSE)))","v":""},{"$f":"IF(ISNA(VLOOKUP(C358,'WK 4'!$K$6:$L$41,2,FALSE)=0),\"\",IF(VLOOKUP(C358,'WK 4'!$K$6:$L$41,2,FALSE)=0,\"\",VLOOKUP(C358,'WK 4'!$K$6:$L$41,2,FALSE)))","v":""},{"$f":"IF(ISNA(VLOOKUP(C358,'WK 5'!$K$6:$L$41,2,FALSE)=0),\"\",IF(VLOOKUP(C358,'WK 5'!$K$6:$L$41,2,FALSE)=0,\"\",VLOOKUP(C358,'WK 5'!$K$6:$L$41,2,FALSE)))","v":""},{"$f":"IF(ISNA(VLOOKUP(C358,'WK 6'!$K$6:$L$41,2,FALSE)=0),\"\",IF(VLOOKUP(C358,'WK 6'!$K$6:$L$41,2,FALSE)=0,\"\",VLOOKUP(C358,'WK 6'!$K$6:$L$41,2,FALSE)))","v":""},{"$f":"IF(ISNA(VLOOKUP(C358,'WK 7'!$K$6:$L$41,2,FALSE)=0),\"\",IF(VLOOKUP(C358,'WK 7'!$K$6:$L$41,2,FALSE)=0,\"\",VLOOKUP(C358,'WK 7'!$K$6:$L$41,2,FALSE)))","v":""},{"$f":"IF(ISNA(VLOOKUP(C358,'WK 8'!$K$6:$L$41,2,FALSE)=0),\"\",IF(VLOOKUP(C358,'WK 8'!$K$6:$L$41,2,FALSE)=0,\"\",VLOOKUP(C358,'WK 8'!$K$6:$L$41,2,FALSE)))","v":""},{"$f":"IF(ISNA(VLOOKUP(C358,'WK 9'!$K$6:$L$41,2,FALSE)=0),\"\",IF(VLOOKUP(C358,'WK 9'!$K$6:$L$41,2,FALSE)=0,\"\",VLOOKUP(C358,'WK 9'!$K$6:$L$41,2,FALSE)))","v":""},{"$f":"IF(ISNA(VLOOKUP(C358,'WK 10'!$K$6:$L$41,2,FALSE)=0),\"\",IF(VLOOKUP(C358,'WK 10'!$K$6:$L$41,2,FALSE)=0,\"\",VLOOKUP(C358,'WK 10'!$K$6:$L$41,2,FALSE)))","v":""},0]
[null,null,{"$f":"IF(ISNA(VLOOKUP('WK 10'!K39,$C$2:$C$325,1,FALSE)),VLOOKUP('WK 10'!K39,'WK 10'!$K$6:$K$450,1,FALSE),\"\")","v":""},null,{"$f":"IF(ISNA(VLOOKUP(C359,'WK 2'!$K$6:$L$41,2,FALSE)=0),\"\",IF(VLOOKUP(C359,'WK 2'!$K$6:$L$41,2,FALSE)=0,\"\",VLOOKUP(C359,'WK 2'!$K$6:$L$41,2,FALSE)))","v":""},{"$f":"IF(ISNA(VLOOKUP(C359,'WK 3'!$K$6:$L$41,2,FALSE)=0),\"\",IF(VLOOKUP(C359,'WK 3'!$K$6:$L$41,2,FALSE)=0,\"\",VLOOKUP(C359,'WK 3'!$K$6:$L$41,2,FALSE)))","v":""},{"$f":"IF(ISNA(VLOOKUP(C359,'WK 4'!$K$6:$L$41,2,FALSE)=0),\"\",IF(VLOOKUP(C359,'WK 4'!$K$6:$L$41,2,FALSE)=0,\"\",VLOOKUP(C359,'WK 4'!$K$6:$L$41,2,FALSE)))","v":""},{"$f":"IF(ISNA(VLOOKUP(C359,'WK 5'!$K$6:$L$41,2,FALSE)=0),\"\",IF(VLOOKUP(C359,'WK 5'!$K$6:$L$41,2,FALSE)=0,\"\",VLOOKUP(C359,'WK 5'!$K$6:$L$41,2,FALSE)))","v":""},{"$f":"IF(ISNA(VLOOKUP(C359,'WK 6'!$K$6:$L$41,2,FALSE)=0),\"\",IF(VLOOKUP(C359,'WK 6'!$K$6:$L$41,2,FALSE)=0,\"\",VLOOKUP(C359,'WK 6'!$K$6:$L$41,2,FALSE)))","v":""},{"$f":"IF(ISNA(VLOOKUP(C359,'WK 7'!$K$6:$L$41,2,FALSE)=0),\"\",IF(VLOOKUP(C359,'WK 7'!$K$6:$L$41,2,FALSE)=0,\"\",VLOOKUP(C359,'WK 7'!$K$6:$L$41,2,FALSE)))","v":""},{"$f":"IF(ISNA(VLOOKUP(C359,'WK 8'!$K$6:$L$41,2,FALSE)=0),\"\",IF(VLOOKUP(C359,'WK 8'!$K$6:$L$41,2,FALSE)=0,\"\",VLOOKUP(C359,'WK 8'!$K$6:$L$41,2,FALSE)))","v":""},{"$f":"IF(ISNA(VLOOKUP(C359,'WK 9'!$K$6:$L$41,2,FALSE)=0),\"\",IF(VLOOKUP(C359,'WK 9'!$K$6:$L$41,2,FALSE)=0,\"\",VLOOKUP(C359,'WK 9'!$K$6:$L$41,2,FALSE)))","v":""},{"$f":"IF(ISNA(VLOOKUP(C359,'WK 10'!$K$6:$L$41,2,FALSE)=0),\"\",IF(VLOOKUP(C359,'WK 10'!$K$6:$L$41,2,FALSE)=0,\"\",VLOOKUP(C359,'WK 10'!$K$6:$L$41,2,FALSE)))","v":""},0]
[null,null,{"$f":"IF(ISNA(VLOOKUP('WK 10'!K40,$C$2:$C$325,1,FALSE)),VLOOKUP('WK 10'!K40,'WK 10'!$K$6:$K$450,1,FALSE),\"\")","v":""},null,{"$f":"IF(ISNA(VLOOKUP(C360,'WK 2'!$K$6:$L$41,2,FALSE)=0),\"\",IF(VLOOKUP(C360,'WK 2'!$K$6:$L$41,2,FALSE)=0,\"\",VLOOKUP(C360,'WK 2'!$K$6:$L$41,2,FALSE)))","v":""},{"$f":"IF(ISNA(VLOOKUP(C360,'WK 3'!$K$6:$L$41,2,FALSE)=0),\"\",IF(VLOOKUP(C360,'WK 3'!$K$6:$L$41,2,FALSE)=0,\"\",VLOOKUP(C360,'WK 3'!$K$6:$L$41,2,FALSE)))","v":""},{"$f":"IF(ISNA(VLOOKUP(C360,'WK 4'!$K$6:$L$41,2,FALSE)=0),\"\",IF(VLOOKUP(C360,'WK 4'!$K$6:$L$41,2,FALSE)=0,\"\",VLOOKUP(C360,'WK 4'!$K$6:$L$41,2,FALSE)))","v":""},{"$f":"IF(ISNA(VLOOKUP(C360,'WK 5'!$K$6:$L$41,2,FALSE)=0),\"\",IF(VLOOKUP(C360,'WK 5'!$K$6:$L$41,2,FALSE)=0,\"\",VLOOKUP(C360,'WK 5'!$K$6:$L$41,2,FALSE)))","v":""},{"$f":"IF(ISNA(VLOOKUP(C360,'WK 6'!$K$6:$L$41,2,FALSE)=0),\"\",IF(VLOOKUP(C360,'WK 6'!$K$6:$L$41,2,FALSE)=0,\"\",VLOOKUP(C360,'WK 6'!$K$6:$L$41,2,FALSE)))","v":""},{"$f":"IF(ISNA(VLOOKUP(C360,'WK 7'!$K$6:$L$41,2,FALSE)=0),\"\",IF(VLOOKUP(C360,'WK 7'!$K$6:$L$41,2,FALSE)=0,\"\",VLOOKUP(C360,'WK 7'!$K$6:$L$41,2,FALSE)))","v":""},{"$f":"IF(ISNA(VLOOKUP(C360,'WK 8'!$K$6:$L$41,2,FALSE)=0),\"\",IF(VLOOKUP(C360,'WK 8'!$K$6:$L$41,2,FALSE)=0,\"\",VLOOKUP(C360,'WK 8'!$K$6:$L$41,2,FALSE)))","v":""},{"$f":"IF(ISNA(VLOOKUP(C360,'WK 9'!$K$6:$L$41,2,FALSE)=0),\"\",IF(VLOOKUP(C360,'WK 9'!$K$6:$L$41,2,FALSE)=0,\"\",VLOOKUP(C360,'WK 9'!$K$6:$L$41,2,FALSE)))","v":""},{"$f":"IF(ISNA(VLOOKUP(C360,'WK 10'!$K$6:$L$41,2,FALSE)=0),\"\",IF(VLOOKUP(C360,'WK 10'!$K$6:$L$41,2,FALSE)=0,\"\",VLOOKUP(C360,'WK 10'!$K$6:$L$41,2,FALSE)))","v":""},0]
[null,"WK 10 Ende",{"$f":"IF(ISNA(VLOOKUP('WK 10'!K41,$C$2:$C$325,1,FALSE)),VLOOKUP('WK 10'!K41,'WK 10'!$K$6:$K$450,1,FALSE),\"\")","v":""},null,{"$f":"IF(ISNA(VLOOKUP(C361,'WK 2'!$K$6:$L$41,2,FALSE)=0),\"\",IF(VLOOKUP(C361,'WK 2'!$K$6:$L$41,2,FALSE)=0,\"\",VLOOKUP(C361,'WK 2'!$K$6:$L$41,2,FALSE)))","v":""},{"$f":"IF(ISNA(VLOOKUP(C361,'WK 3'!$K$6:$L$41,2,FALSE)=0),\"\",IF(VLOOKUP(C361,'WK 3'!$K$6:$L$41,2,FALSE)=0,\"\",VLOOKUP(C361,'WK 3'!$K$6:$L$41,2,FALSE)))","v":""},{"$f":"IF(ISNA(VLOOKUP(C361,'WK 4'!$K$6:$L$41,2,FALSE)=0),\"\",IF(VLOOKUP(C361,'WK 4'!$K$6:$L$41,2,FALSE)=0,\"\",VLOOKUP(C361,'WK 4'!$K$6:$L$41,2,FALSE)))","v":""},{"$f":"IF(ISNA(VLOOKUP(C361,'WK 5'!$K$6:$L$41,2,FALSE)=0),\"\",IF(VLOOKUP(C361,'WK 5'!$K$6:$L$41,2,FALSE)=0,\"\",VLOOKUP(C361,'WK 5'!$K$6:$L$41,2,FALSE)))","v":""},{"$f":"IF(ISNA(VLOOKUP(C361,'WK 6'!$K$6:$L$41,2,FALSE)=0),\"\",IF(VLOOKUP(C361,'WK 6'!$K$6:$L$41,2,FALSE)=0,\"\",VLOOKUP(C361,'WK 6'!$K$6:$L$41,2,FALSE)))","v":""},{"$f":"IF(ISNA(VLOOKUP(C361,'WK 7'!$K$6:$L$41,2,FALSE)=0),\"\",IF(VLOOKUP(C361,'WK 7'!$K$6:$L$41,2,FALSE)=0,\"\",VLOOKUP(C361,'WK 7'!$K$6:$L$41,2,FALSE)))","v":""},{"$f":"IF(ISNA(VLOOKUP(C361,'WK 8'!$K$6:$L$41,2,FALSE)=0),\"\",IF(VLOOKUP(C361,'WK 8'!$K$6:$L$41,2,FALSE)=0,\"\",VLOOKUP(C361,'WK 8'!$K$6:$L$41,2,FALSE)))","v":""},{"$f":"IF(ISNA(VLOOKUP(C361,'WK 9'!$K$6:$L$41,2,FALSE)=0),\"\",IF(VLOOKUP(C361,'WK 9'!$K$6:$L$41,2,FALSE)=0,\"\",VLOOKUP(C361,'WK 9'!$K$6:$L$41,2,FALSE)))","v":""},{"$f":"IF(ISNA(VLOOKUP(C361,'WK 10'!$K$6:$L$41,2,FALSE)=0),\"\",IF(VLOOKUP(C361,'WK 10'!$K$6:$L$41,2,FALSE)=0,\"\",VLOOKUP(C361,'WK 10'!$K$6:$L$41,2,FALSE)))","v":""},0]

{"sheet":"Zwischenberechnung Einzel Final","index":18,"n_rows":373,"n_cols":14,"rows_kept":373,"cut":false,"hidden":true,"merged":[]}
[null,null,"Name","1","2","3","4","5","6","7","8","9","10","Durchschnitt"]
[null,null," ","","","","","","","","","","",0]
[null,null," ","","","","","","","","","","",0]
[null,null," ","","","","","","","","","","",0]
[null,null," ","","","","","","","","","","",0]
[null,null," ","","","","","","","","","","",0]
[null,null," ","","","","","","","","","","",0]
[null,null," ","","","","","","","","","","",0]
[null,null," ","","","","","","","","","","",0]
[null,null," ","","","","","","","","","","",0]
[null,null," ","","","","","","","","","","",0]
[null,null," ","","","","","","","","","","",0]
[null,null," ","","","","","","","","","","",0]
[null,null," ","","","","","","","","","","",0]
[null,null," ","","","","","","","","","","",0]
[null,null," ","","","","","","","","","","",0]
[null,null," ","","","","","","","","","","",0]
[null,null," ","","","","","","","","","","",0]
[null,null," ","","","","","","","","","","",0]
[null,null," ","","","","","","","","","","",0]
[null,null," ","","","","","","","","","","",0]
[null,null," ","","","","","","","","","","",0]
[null,null," ","","","","","","","","","","",0]
[null,null," ","","","","","","","","","","",0]
[null,null," ","","","","","","","","","","",0]
[null,null," ","","","","","","","","","","",0]
[null,null," ","","","","","","","","","","",0]
[null,null," ","","","","","","","","","","",0]
[null,null," ","","","","","","","","","","",0]
[null,null," ","","","","","","","","","","",0]
[null,null," ","","","","","","","","","","",0]
[null,null," ","","","","","","","","","","",0]
[null,null," ","","","","","","","","","","",0]
[null,null," ","","","","","","","","","","",0]
[null,null," ","","","","","","","","","","",0]
[null,null," ","","","","","","","","","","",0]
[null,null," ","","","","","","","","","","",0]
[null,null,"",null,"","","","","","","","","",0]
[null,null,"",null,"","","","","","","","","",0]
[null,null,"",null,"","","","","","","","","",0]
[null,null,"",null,"","","","","","","","","",0]
[null,null,"",null,"","","","","","","","","",0]
[null,null,"",null,"","","","","","","","","",0]
[null,null,"",null,"","","","","","","","","",0]
[null,null,"",null,"","","","","","","","","",0]
[null,null,"",null,"","","","","","","","","",0]
[null,null,"",null,"","","","","","","","","",0]
[null,null,"",null,"","","","","","","","","",0]
[null,null,"",null,"","","","","","","","","",0]
[null,null,"",null,"","","","","","","","","",0]
[null,null,"",null,"","","","","","","","","",0]
[null,null,"",null,"","","","","","","","","",0]
[null,null,"",null,"","","","","","","","","",0]
[null,null,"",null,"","","","","","","","","",0]
[null,null,"",null,"","","","","","","","","",0]
[null,null,"",null,"","","","","","","","","",0]
[null,null,"",null,"","","","","","","","","",0]
[null,null,"",null,"","","","","","","","","",0]
[null,null,"",null,"","","","","","","","","",0]
[null,null,"",null,"","","","","","","","","",0]
[null,null,"",null,"","","","","","","","","",0]
[null,null,"",null,"","","","","","","","","",0]
[null,null,"",null,"","","","","","","","","",0]
[null,null,"",null,"","","","","","","","","",0]
[null,null,"",null,"","","","","","","","","",0]
[null,null,"",null,"","","","","","","","","",0]
[null,null,"",null,"","","","","","","","","",0]
[null,null,"",null,"","","","","","","","","",0]
[null,null,"",null,"","","","","","","","","",0]
[null,null,"",null,"","","","","","","","","",0]
[null,null,"",null,"","","","","","","","","",0]
[null,null,"",null,"","","","","","","","","",0]
[null,null,"",null,"","","","","","","","","",0]
[null,null,"",null,"","","","","","","","","",0]
[null,null,"",null,"","","","","","","","","",0]
[null,null,"",null,"","","","","","","","","",0]
[null,null,"",null,"","","","","","","","","",0]
[null,null,"",null,"","","","","","","","","",0]
[null,null,"",null,"","","","","","","","","",0]
[null,null,"",null,"","","","","","","","","",0]
[null,null,"",null,"","","","","","","","","",0]
[null,null,"",null,"","","","","","","","","",0]
[null,null,"",null,"","","","","","","","","",0]
[null,null,"",null,"","","","","","","","","",0]
[null,null,"",null,"","","","","","","","","",0]
[null,null,"",null,"","","","","","","","","",0]
[null,null,"",null,"","","","","","","","","",0]
[null,null,"",null,"","","","","","","","","",0]
[null,null,"",null,"","","","","","","","","",0]
[null,null,"",null,"","","","","","","","","",0]
[null,null,"",null,"","","","","","","","","",0]
[null,null,"",null,"","","","","","","","","",0]
[null,null,"",null,"","","","","","","","","",0]
[null,null,"",null,"","","","","","","","","",0]
[null,null,"",null,"","","","","","","","","",0]
[null,null,"",null,"","","","","","","","","",0]
[null,null,"",null,"","","","","","","","","",0]
[null,null,"",null,"","","","","","","","","",0]
[null,null,"",null,"","","","","","","","","",0]
[null,null,"",null,"","","","","","","","","",0]
[null,null,"",null,"","","","","","","","","",0]
[null,null,"",null,"","","","","","","","","",0]
[null,null,"",null,"","","","","","","","","",0]
[null,null,"",null,"","","","","","","","","",0]
[null,null,"",null,"","","","","","","","","",0]
[null,null,"",null,"","","","","","","","","",0]
[null,null,"",null,"","","","","","","","","",0]
[null,null,"",null,"","","","","","","","","",0]
[null,null,"",null,"","","","","","","","","",0]
[null,null,"",null,"","","","","","","","","",0]
[null,null,"",null,"","","","","","","","","",0]
[null,null,"",null,"","","","","","","","","",0]
[null,null,"",null,"","","","","","","","","",0]
[null,null,"",null,"","","","","","","","","",0]
[null,null,"",null,"","","","","","","","","",0]
[null,null,"",null,"","","","","","","","","",0]
[null,null,"",null,"","","","","","","","","",0]
[null,null,"",null,"","","","","","","","","",0]
[null,null,"",null,"","","","","","","","","",0]
[null,null,"",null,"","","","","","","","","",0]
[null,null,"",null,"","","","","","","","","",0]
[null,null,"",null,"","","","","","","","","",0]
[null,null,"",null,"","","","","","","","","",0]
[null,null,"",null,"","","","","","","","","",0]
[null,null,"",null,"","","","","","","","","",0]
[null,null,"",null,"","","","","","","","","",0]
[null,null,"",null,"","","","","","","","","",0]
[null,null,"",null,"","","","","","","","","",0]
[null,null,"",null,"","","","","","","","","",0]
[null,"","",null,"","","","","","","","","",0]
[null,"","",null,"","","","","","","","","",0]
[null,"","",null,"","","","","","","","","",0]
[null,"","",null,"","","","","","","","","",0]
[null,"","",null,"","","","","","","","","",0]
[null,"","",null,"","","","","","","","","",0]
[null,"","",null,"","","","","","","","","",0]
[null,"","",null,"","","","","","","","","",0]
[null,"","",null,"","","","","","","","","",0]
[null,"","",null,"","","","","","","","","",0]
[null,"","",null,"","","","","","","","","",0]
[null,"","",null,"","","","","","","","","",0]
[null,"","",null,"","","","","","","","","",0]
[null,"","",null,"","","","","","","","","",0]
[null,"","",null,"","","","","","","","","",0]
[null,"","",null,"","","","","","","","","",0]
[null,"","",null,"","","","","","","","","",0]
[null,"","",null,"","","","","","","","","",0]
[null,"","",null,"","","","","","","","","",0]
[null,"","",null,"","","","","","","","","",0]
[null,"","",null,"","","","","","","","","",0]
[null,"","",null,"","","","","","","","","",0]
[null,"","",null,"","","","","","","","","",0]
[null,"","",null,"","","","","","","","","",0]
[null,"","",null,"","","","","","","","","",0]
[null,"","",null,"","","","","","","","","",0]
[null,"","",null,"","","","","","","","","",0]
[null,"","",null,"","","","","","","","","",0]
[null,null,"",null,"","","","","","","","","",0]
[null,"","",null,"","","","","","","","","",0]
[null,"","",null,"","","","","","","","","",0]
[null,"","",null,"","","","","","","","","",0]
[null,"","",null,"","","","","","","","","",0]
[null,"","",null,"","","","","","","","","",0]
[null,"","",null,"","","","","","","","","",0]
[null,"","",null,"","","","","","","","","",0]
[null,"","",null,"","","","","","","","","",0]
[null,"","",null,"","","","","","","","","",0]
[null,"","",null,"","","","","","","","","",0]
[null,"","",null,"","","","","","","","","",0]
[null,"","",null,"","","","","","","","","",0]
[null,"","",null,"","","","","","","","","",0]
[null,"","",null,"","","","","","","","","",0]
[null,"","",null,"","","","","","","","","",0]
[null,"","",null,"","","","","","","","","",0]
[null,"","",null,"","","","","","","","","",0]
[null,"","",null,"","","","","","","","","",0]
[null,"","",null,"","","","","","","","","",0]
[null,"","",null,"","","","","","","","","",0]
[null,"","",null,"","","","","","","","","",0]
[null,"","",null,"","","","","","","","","",0]
[null,"","",null,"","","","","","","","","",0]
[null,"","",null,"","","","","","","","","",0]
[null,"","",null,"","","","","","","","","",0]
[null,"","",null,"","","","","","","","","",0]
[null,"","",null,"","","","","","","","","",0]
[null,"","",null,"","","","","","","","","",0]
[null,"","",null,"","","","","","","","","",0]
[null,"","",null,"","","","","","","","","",0]
[null,"","",null,"","","","","","","","","",0]
[null,"","",null,"","","","","","","","","",0]
[null,"","",null,"","","","","","","","","",0]
[null,"","",null,"","","","","","","","","",0]
[null,"","",null,"","","","","","","","","",0]
[null," ","",null,"","","","","","","","","",0]
[null," ","",null,"","","","","","","","","",0]
[null," ","",null,"","","","","","","","","",0]
[null," ","",null,"","","","","","","","","",0]
[null," ","",null,"","","","","","","","","",0]
[null," ","",null,"","","","","","","","","",0]
[null," ","",null,"","","","","","","","","",0]
[null," ","",null,"","","","","","","","","",0]
[null," ","",null,"","","","","","","","","",0]
[null," ","",null,"","","","","","","","","",0]
[null," ","",null,"","","","","","","","","",0]
[null," ","",null,"","","","","","","","","",0]
[null," ","",null,"","","","","","","","","",0]
[null," ","",null,"","","","","","","","","",0]
[null," ","",null,"","","","","","","","","",0]
[null," ","",null,"","","","","","","","","",0]
[null," ","",null,"","","","","","","","","",0]
[null," ","",null,"","","","","","","","","",0]
[null," ","",null,"","","","","","","","","",0]
[null," ","",null,"","","","","","","","","",0]
[null," ","",null,"","","","","","","","","",0]
[null," ","",null,"","","","","","","","","",0]
[null," ","",null,"","","","","","","","","",0]
[null," ","",null,"","","","","","","","","",0]
[null," ","",null,"","","","","","","","","",0]
[null," ","",null,"","","","","","","","","",0]
[null," ","",null,"","","","","","","","","",0]
[null," ","",null,"","","","","","","","","",0]
[null," ","",null,"","","","","","","","","",0]
[null," ","",null,"","","","","","","","","",0]
[null," ","",null,"","","","","","","","","",0]
[null," ","",null,"","","","","","","","","",0]
[null," ","",null,"","","","","","","","","",0]
[null," ","",null,"","","","","","","","","",0]
[null," ","",null,"","","","","","","","","",0]
[null," ","",null,"","","","","","","","","",0]
[null,"","",null,"","","","","","","","","",0]
[null,"","",null,"","","","","","","","","",0]
[null,"","",null,"","","","","","","","","",0]
[null,"","",null,"","","","","","","","","",0]
[null,"","",null,"","","","","","","","","",0]
[null,"","",null,"","","","","","","","","",0]
[null,"","",null,"","","","","","","","","",0]
[null,"","",null,"","","","","","","","","",0]
[null,"","",null,"","","","","","","","","",0]
[null,"","",null,"","","","","","","","","",0]
[null,"","",null,"","","","","","","","","",0]
[null,"","",null,"","","","","","","","","",0]
[null,"","",null,"","","","","","","","","",0]
[null,"","",null,"","","","","","","","","",0]
[null,"","",null,"","","","","","","","","",0]
[null,"","",null,"","","","","","","","","",0]
[null,"","",null,"","","","","","","","","",0]
[null,"","",null,"","","","","","","","","",0]
[null,"","",null,"","","","","","","","","",0]
[null,"","",null,"","","","","","","","","",0]
[null,"","",null,"","","","","","","","","",0]
[null,"","",null,"","","","","","","","","",0]
[null,"","",null,"","","","","","","","","",0]
[null,"","",null,"","","","","","","","","",0]
[null,"","",null,"","","","","","","","","",0]
[null,"","",null,"","","","","","","","","",0]
[null,"","",null,"","","","","","","","","",0]
[null,"","",null,"","","","","","","","","",0]
[null,"","",null,"","","","","","","","","",0]
[null,"","",null,"","","","","","","","","",0]
[null,"","",null,"","","","","","","","","",0]
[null,"","",null,"","","","","","","","","",0]
[null,"","",null,"","","","","","","","","",0]
[null,"","",null,"","","","","","","","","",0]
[null,"","",null,"","","","","","","","","",0]
[null,"","",null,"","","","","","","","","",0]
[null," ","",null,"","","","","","","","","",0]
[null," ","",null,"","","","","","","","","",0]
[null," ","",null,"","","","","","","","","",0]
[null," ","",null,"","","","","","","","","",0]
[null," ","",null,"","","","","","","","","",0]
[null," ","",null,"","","","","","","","","",0]
[null," ","",null,"","","","","","","","","",0]
[null," ","",null,"","","","","","","","","",0]
[null," ","",null,"","","","","","","","","",0]
[null," ","",null,"","","","","","","","","",0]
[null," ","",null,"","","","","","","","","",0]
[null," ","",null,"","","","","","","","","",0]
[null," ","",null,"","","","","","","","","",0]
[null," ","",null,"","","","","","","","","",0]
[null," ","",null,"","","","","","","","","",0]
[null," ","",null,"","","","","","","","","",0]
[null," ","",null,"","","","","","","","","",0]
[null," ","",null,"","","","","","","","","",0]
[null," ","",null,"","","","","","","","","",0]
[null," ","",null,"","","","","","","","","",0]
[null," ","",null,"","","","","","","","","",0]
[null," ","",null,"","","","","","","","","",0]
[null," ","",null,"","","","","","","","","",0]
[null," ","",null,"","","","","","","","","",0]
[null," ","",null,"","","","","","","","","",0]
[null," ","",null,"","","","","","","","","",0]
[null," ","",null,"","","","","","","","","",0]
[null," ","",null,"","","","","","","","","",0]
[null," ","",null,"","","","","","","","","",0]
[null," ","",null,"","","","","","","","","",0]
[null," ","",null,"","","","","","","","","",0]
[null," ","",null,"","","","","","","","","",0]
[null," ","",null,"","","","","","","","","",0]
[null," ","",null,"","","","","","","","","",0]
[null," ","",null,"","","","","","","","","",0]
[null," ","",null,"","","","","","","","","",0]
[null,"Erik Lesser","",null,"","","","","","","","","",0]
[null,"","",null,"","","","","","","","","",0]
[null,"","",null,"","","","","","","","","",0]
[null,"","",null,"","","","","","","","","",0]
[null,"","",null,"","","","","","","","","",0]
[null,"","",null,"","","","","","","","","",0]
[null,"","",null,"","","","","","","","","",0]
[null,"","",null,"","","","","","","","","",0]
[null,"","",null,"","","","","","","","","",0]
[null,"","",null,"","","","","","","","","",0]
[null,"","",null,"","","","","","","","","",0]
[null,"","",null,"","","","","","","","","",0]
[null,"","",null,"","","","","","","","","",0]
[null,"","",null,"","","","","","","","","",0]
[null,"","",null,"","","","","","","","","",0]
[null,"","",null,"","","","","","","","","",0]
[null,"","",null,"","","","","","","","","",0]
[null,"","",null,"","","","","","","","","",0]
[null,"","",null,"","","","","","","","","",0]
[null,"","",null,"","","","","","","","","",0]
[null,"","",null,"","","","","","","","","",0]
[null,"","",null,"","","","","","","","","",0]
[null,"","",null,"","","","","","","","","",0]
[null,"","",null,"","","","","","","","","",0]
[null,"","",null,"","","","","","","","","",0]
[null,"","",null,"","","","","","","","","",0]
[null,"","",null,"","","","","","","","","",0]
[null,"","",null,"","","","","","","","","",0]
[null,"","",null,"","","","","","","","","",0]
[null,"","",null,"","","","","","","","","",0]
[null,"","",null,"","","","","","","","","",0]
[null,"","",null,"","","","","","","","","",0]
[null,"","",null,"","","","","","","","","",0]
[null,"","",null,"","","","","","","","","",0]
[null,"","",null,"","","","","","","","","",0]
[null,"","",null,"","","","","","","","","",0]
[null,"","",null,"","","","","","","","","",0]
[null,"","",null,"","","","","","","","","",0]
[null,"","",null,"","","","","","","","","",0]
[null,"","",null,"","","","","","","","","",0]
[null,"","",null,"","","","","","","","","",0]
[null,"","",null,"","","","","","","","","",0]
[null,"","",null,"","","","","","","","","",0]
[null,"","",null,"","","","","","","","","",0]
[null,"","",null,"","","","","","","","","",0]
[null,"","",null,"","","","","","","","","",0]
[null,"","",null,"","","","","","","","","",0]
[null,"","",null,"","","","","","","","","",0]
[null,"","",null,"","","","","","","","","",0]
[null,"","",null,"","","","","","","","","",0]
[null,"","",null,"","","","","","","","","",0]
[null,"","",null,"","","","","","","","","",0]
[null,"","",null,"","","","","","","","","",0]
[null,"","",null,"","","","","","","","","",0]
[null,"","",null,"","","","","","","","","",0]
[null,"","",null,"","","","","","","","","",0]
[null,"","",null,"","","","","","","","","",0]
[null,"","",null,"","","","","","","","","",0]
[null,"","",null,"","","","","","","","","",0]
[null,"","",null,"","","","","","","","","",0]
[null,"",null,"","","","","","","","","",0]
[null,"",null,"","","","","","","","","",0]
[null,"",null,"","","","","","","","","",0]
[null,"",null,"","","","","","","","","",0]
[null,"",null,"","","","","","","","","",0]
[null,"",null,"","","","","","","","","",0]
[null,"",null,"","","","","","","","","",0]
[null,"",null,"","","","","","","","","",0]
[null,"",null,"","","","","","","","","",0]
[null,"",null,"","","","","","","","","",0]
[null,"",null,"","","","","","","","","",0]
[null,"",null,"","","","","","","","","",0]

{"sheet":"Schützen","index":19,"n_rows":1159,"n_cols":10,"rows_kept":1159,"cut":false,"hidden":true,"merged":[]}
["Yannick Winkels",null,null,{"$f":"E1& \" & &\" &F1","v":"VeNr & &MgNr"},"VeNr","MgNr","Vorname","Nachname",{"$f":"G1 & \" \" & H1","v":"Vorname Nachname"},"WettKlasse"]
["Sophia Richter",null,null,{"$f":"E2&F2","v":"34024"},3402,4,"Georg","Albrecht",{"$f":"G2 & \" \" & H2","v":"Georg Albrecht"},62]
["Sebastian Spill",null,null,{"$f":"E3&F3","v":"34025"},3402,5,"Margit","Albrecht",{"$f":"G3 & \" \" & H3","v":"Margit Albrecht"},61]
["Paul Freund",null,null,"340217",3402,17,"Hans-Guenter","Bruessler","Hans-Guenter Bruessler",62]
["Paul Freud",null,null,"340228",3402,28,"Wolfgang","Engel","Wolfgang Engel",62]
["Patrick Nuhn",null,null,"340254",3402,54,"Hans-Juergen","Heldmann","Hans-Juergen Heldmann",62]
["Niklas Heiderich",null,null,"340255",3402,55,"Ute","Heldmann","Ute Heldmann",61]
["Marius Huff",null,null,"3402121",3402,121,"Wolfgang","Scharf","Wolfgang Scharf",62]
["Lukas Landsiedel",null,null,"3402123",3402,123,"Dieter","Schairer","Dieter Schairer",62]
["Louis Kempf",null,null,"3402211",3402,211,"Georg","Cornelius","Georg Cornelius",62]
["Julian Schneider",null,null,"3402215",3402,215,"Lothar","Fischer","Lothar Fischer",62]
["Hendrik Groß",null,null,"3402242",3402,242,"Barbara","Fischer","Barbara Fischer",61]
["Florian Wickert",null,null,"3402303",3402,303,"Jörg","Böhle","Jörg Böhle",50]
["Erik Schmidt",null,null,"3402368",3402,368,"Gerd","Horstmann","Gerd Horstmann",62]
["Dominik Langer",null,null,"3402373",3402,373,"Milko","Fehling","Milko Fehling",60]
["Dillon Heldt",null,null,"3402375",3402,375,"Jörn","Richter","Jörn Richter",50]
["Christina Nennstiel",null,null,"3402405",3402,405,"Bernhard","Hennes","Bernhard Hennes",60]
["Christian Nennstiel",null,null,"3402406",3402,406,"Frank","Neuber","Frank Neuber",10]
["Cedric Faust",null,null,"3402432",3402,432,"Waldemar","Gaab","Waldemar Gaab",60]
["Andreas Wesch",null,null,"3402448",3402,448,"Kevin","Boswell","Kevin Boswell",10]
["Alina Stephan",null,null,"3402463",3402,463,"Bernd","Schmid","Bernd Schmid",50]
["Alexandra Stumpf",null,null,"3402473",3402,473,"David","Boswell","David Boswell",60]
[" ",null,null,"3402476",3402,476,"Gabriele","Boswell","Gabriele Boswell",61]
[" ",null,null,"3402480",3402,480,"Mischa","Pudwil","Mischa Pudwil",40]
[" ",null,null,"3402484",3402,484,"Ingo","Zimmermann","Ingo Zimmermann",50]
[" ",null,null,"3402485",3402,485,"Nicole","Zimmermann","Nicole Zimmermann",11]
[" ",null,null,"3402495",3402,495,"Annika","Schmid","Annika Schmid",31]
[" ",null,null,"3402499",3402,499,"Florian","Wickert","Florian Wickert",42]
[" ",null,null,"3402500",3402,500,"Christoph","Riemann","Christoph Riemann",40]
[" ",null,null,"3402504",3402,504,"Alexander","Merold","Alexander Merold",40]
[" ",null,null,"3402505",3402,505,"Adrian","Lux","Adrian Lux",42]
[" ",null,null,"3402506",3402,506,"Andreas","Wesch","Andreas Wesch",42]
[" ",null,null,"3402513",3402,513,"Dillon","Heldt","Dillon Heldt",42]
[" ",null,null,"3402514",3402,514,"Irmtraud","Krüger","Irmtraud Krüger",61]
[" ",null,null,"3402520",3402,520,"Patrick","Nuhn","Patrick Nuhn",40]
[" ",null,null,"3402521",3402,521,"Luca","Barczak","Luca Barczak",20]
[" ",null,null,"3402522",3402,522,"Karola","Berger","Karola Berger",51]
[" ",null,null,"3402523",3402,523,"Kathrin","Manns","Kathrin Manns",11]
[" ",null,null,"3402524",3402,524,"Cihan","Colak","Cihan Colak",20]
[" ",null,null,"3402525",3402,525,"Michael","Manns","Michael Manns",10]
[" ",null,null,"3402526",3402,526,"Louis","Kempf","Louis Kempf",20]
[" ",null,null,"3402527",3402,527,"Jasmin","Urbanski","Jasmin Urbanski",21]
[" ",null,null,"3402528",3402,528,"Dennis","Eiler","Dennis Eiler",20]
[" ",null,null,"3402529",3402,529,"Fabian","Weizel","Fabian Weizel",20]
[" ",null,null,"3402530",3402,530,"Marvin","Schreiber","Marvin Schreiber",20]
[" ",null,null,"3402531",3402,531,"Bogdan","Cwik","Bogdan Cwik",50]
[" ",null,null,"340312",3403,12,"Ludwig","Braun","Ludwig Braun",62]
["",null,null,"340323",3403,23,"Rainer","Eichler","Rainer Eichler",60]
["",null,null,"340329",3403,29,"Walter","Glaenzer","Walter Glaenzer",60]
["",null,null,"340351",3403,51,"Horst","Schmidt","Horst Schmidt",62]
["",null,null,"340358",3403,58,"Guenter","Strippel","Guenter Strippel",60]
["",null,null,"340375",3403,75,"Ulrich","Schwarz","Ulrich Schwarz",50]
["",null,null,"340390",3403,90,"Bernd","Peter","Bernd Peter",50]
["",null,null,"3403109",3403,109,"Christian","Eckhardt","Christian Eckhardt",10]
["",null,null,"3403126",3403,126,"Markus","Hassler","Markus Hassler",10]
["",null,null,"3403213",3403,213,"Florian","Strippel","Florian Strippel",10]
["",null,null,"3403217",3403,217,"Lukas","Strippel","Lukas Strippel",10]
["",null,null,"3403222",3403,222,"Wilfried","Schade","Wilfried Schade",60]
["",null,null,"3403223",3403,223,"Janik","Schwarz","Janik Schwarz",30]
["",null,null,"3403226",3403,226,"Daniel","Schwarz","Daniel Schwarz",42]
["",null,null,"3403230",3403,230,"Jonas","Schwarz","Jonas Schwarz",20]
["",null,null,"3403231",3403,231,"Marvin","Kömpel","Marvin Kömpel",20]
["",null,null,"34048",3404,8,"Joerg","Bickel","Joerg Bickel",62]
["",null,null,"340419",3404,19,"Karl","Fink","Karl Fink",62]
["",null,null,"340438",3404,38,"Thomas","Lenz","Thomas Lenz",50]
["",null,null,"340445",3404,45,"Reinhard","Orth","Reinhard Orth",62]
["",null,null,{"$f":"E67&F67","v":"340473"},3404,73,"Andrea","Fink-Jacob",{"$f":"G67 & \" \" & H67","v":"Andrea Fink-Jacob"},51]
["",null,null,"340480",3404,80,"Dieter","Lenz","Dieter Lenz",50]
["",null,null,"340481",3404,81,"Juergen","Ruppel","Juergen Ruppel",50]
["",null,null,"340484",3404,84,"Helgo","Ruppel","Helgo Ruppel",10]
["",null,null,"340488",3404,88,"Hans-Helmut","Faust","Hans-Helmut Faust",50]
["",null,null,"3404140",3404,140,"Reiner","Orth","Reiner Orth",10]
["",null,null,"3404147",3404,147,"Timo","Bickel","Timo Bickel",10]
["",null,null,"3404185",3404,185,"Nina","Ruppel","Nina Ruppel",11]
["",null,null,"3404208",3404,208,"Markus","Wurmnest","Markus Wurmnest",10]
["",null,null,"3404213",3404,213,"Thomas","Kurz","Thomas Kurz",10]
["",null,null,"3404223",3404,223,"Sarah","Sunkel","Sarah Sunkel",11]
["",null,null,"3404224",3404,224,"Tobias","Sunkel","Tobias Sunkel",40]
["",null,null,"3404255",3404,255,"Luca-Miguel","Winkler","Luca-Miguel Winkler",30]
["",null,null,"3404266",3404,266,"Fabian","Kurz","Fabian Kurz",42]
["",null,null,"3404267",3404,267,"Rene","Rausch","Rene Rausch",42]
["",null,null,"3404271",3404,271,"Jan - Hendrik","Schäfer","Jan - Hendrik Schäfer",40]
["",null,null,"340529",3405,29,"Kurt","Schaar","Kurt Schaar",60]
["",null,null,"340540",3405,40,"Christoph","Braun","Christoph Braun",10]
["",null,null,"340545",3405,45,"Marco","Schwalm","Marco Schwalm",10]
["",null,null,"340587",3405,87,"Christina","Walper","Christina Walper",11]
["",null,null,"3405121",3405,121,"Marc-Hendrik","Klee","Marc-Hendrik Klee",10]
["",null,null,"3405124",3405,124,"Mandy","Klee","Mandy Klee",11]
["",null,null,"3405135",3405,135,"Pamela","Bindel","Pamela Bindel",11]
["",null,null,"3405136",3405,136,"Laura","Kauer","Laura Kauer",11]
["",null,null,"3405151",3405,151,"Tilman","Pribbernow","Tilman Pribbernow",10]
["",null,null,"3405154",3405,154,"Jasmin","Spahn","Jasmin Spahn",31]
["",null,null,"3405169",3405,169,"Justin","Hoffmann","Justin Hoffmann",20]
["",null,null,"3405170",3405,170,"Hendrik","Groß","Hendrik Groß",20]
["",null,null,"3405171",3405,171,"Erik","Schmidt","Erik Schmidt",30]
["",null,null,"3405177",3405,177,"Paul","Freund","Paul Freund",20]
["",null,null,"3405178",3405,178,"Sophia","Richter","Sophia Richter",21]
["",null,null,"340646",3406,46,"Manfred","Rubener","Manfred Rubener",60]
["",null,null,"340666",3406,66,"Dirk","Martin","Dirk Martin",50]
["",null,null,"340668",3406,68,"Juergen","Zell","Juergen Zell",50]
["",null,null,"340669",3406,69,"Uwe","Gilfert","Uwe Gilfert",50]
["",null,null,"340687",3406,87,"Markus","Weiter","Markus Weiter",10]
["",null,null,"340695",3406,95,"Frank","Burgheim","Frank Burgheim",50]
["",null,null,"3406101",3406,101,"Stefan","Hildebrand","Stefan Hildebrand",10]
["",null,null,"3406105",3406,105,"Christian","Schmitz","Christian Schmitz",10]
["",null,null,"3406111",3406,111,"Martin","Schäfer","Martin Schäfer",10]
["",null,null,"3406116",3406,116,"Andreas","Hildebrand","Andreas Hildebrand",10]
["",null,null,"3406120",3406,120,"Martin","Apel","Martin Apel",10]
["",null,null,"3406123",3406,123,"Sebastian","Rubener","Sebastian Rubener",10]
["",null,null,"3406126",3406,126,"Tobias","Kleinkauf","Tobias Kleinkauf",10]
["",null,null,"3406127",3406,127,"Daniel","Greß","Daniel Greß",10]
["",null,null,"3406128",3406,128,"Karl-Heinz","Rudolph","Karl-Heinz Rudolph",62]
["",null,null,"3406129",3406,129,"Uwe","Trinter","Uwe Trinter",60]
["",null,null,"3406130",3406,130,"Marko","Heß","Marko Heß",50]
["",null,null,"3406136",3406,136,"Dieter","Herter","Dieter Herter",62]
["",null,null,"3406146",3406,146,"Christian","Kling","Christian Kling",10]
["",null,null,"3406148",3406,148,"Stefan","Post","Stefan Post",50]
["",null,null,"3406152",3406,152,"Günther","Walbert","Günther Walbert",62]
["",null,null,"3406156",3406,156,"Markus","Herbst","Markus Herbst",50]
["",null,null,"340715",3407,15,"Peter","Kloepfel","Peter Kloepfel",62]
["",null,null,"340716",3407,16,"Gerd","Klippert","Gerd Klippert",62]
["",null,null,"340747",3407,47,"Hans-Heinrich","Tippelt","Hans-Heinrich Tippelt",62]
["",null,null,"340768",3407,68,"Horst","Diebel","Horst Diebel",62]
["",null,null,"340794",3407,94,"Stefan","Nuhn","Stefan Nuhn",50]
["",null,null,"3407176",3407,176,"Helmut","Hofmann","Helmut Hofmann",10]
["",null,null,"3407186",3407,186,"Christian","Steinberg","Christian Steinberg",10]
["",null,null,"3407221",3407,221,"Lara","Trümper","Lara Trümper",41]
["",null,null,"3407225",3407,225,"Florian","Nuhn","Florian Nuhn",40]
["",null,null,"3407229",3407,229,"Manfred","Kehl","Manfred Kehl",62]
["",null,null,"34081",3408,1,"Helmut","Bender","Helmut Bender",62]
["",null,null,{"$f":"E131&F131","v":"34085"},3408,5,"Rainer","Bowien",{"$f":"G131 & \" \" & H131","v":"Rainer Bowien"},60]
["",null,null,"340815",3408,15,"Hans-Jürgen","Göbel","Hans-Jürgen Göbel",62]
["",null,null,"340825",3408,25,"Wilfried","Hagemann","Wilfried Hagemann",60]
["",null,null,"340838",3408,38,"Gerhard","Kehres","Gerhard Kehres",60]
["",null,null,"340851",3408,51,"Harald","Müller","Harald Müller",50]
["",null,null,"3408120",3408,120,"Frank","Gottbehüt","Frank Gottbehüt",50]
["",null,null,"3408159",3408,159,"Anja","Wientges","Anja Wientges",11]
["",null,null,"3408190",3408,190,"Rolf","Willhardt","Rolf Willhardt",10]
["",null,null,"3408232",3408,232,"Kristin","Gottbehüt","Kristin Gottbehüt",41]
["",null,null,"3408234",3408,234,"Katharina","Bardt","Katharina Bardt",11]
["",null,null,"3408237",3408,237,"Ann-Katrin","Kehres","Ann-Katrin Kehres",11]
["",null,null,"3408241",3408,241,"Sabrina","Berk","Sabrina Berk",11]
["",null,null,"3408254",3408,254,"Christian","Adolph","Christian Adolph",10]
["",null,null,"3408255",3408,255,"Alexandra","Hagemann","Alexandra Hagemann",51]
["",null,null,"3408256",3408,256,"Wolfgang","Adolph","Wolfgang Adolph",60]
["",null,null,"3408257",3408,257,"Andreas","Imling","Andreas Imling",10]
["",null,null,"3408258",3408,258,"Edith","Wicht","Edith Wicht",61]
["",null,null,"3408259",3408,259,"Adina","Bienert-Adolph","Adina Bienert-Adolph",11]
["",null,null,"3408260",3408,260,"Guido","Kister","Guido Kister",50]
["",null,null,"3408265",3408,265,"Klaus","Dirschau","Klaus Dirschau",50]
["",null,null,"340979",3409,79,"Ralf","Siebert","Ralf Siebert",50]
["",null,null,"340989",3409,89,"Stefan","Krebs","Stefan Krebs",50]
["",null,null,"340994",3409,94,"Bernd","Weppler","Bernd Weppler",10]
["",null,null,"340996",3409,96,"Martin","Mand","Martin Mand",10]
["",null,null,"3409120",3409,120,"Andreas","Mand","Andreas Mand",10]
["",null,null,"3409123",3409,123,"Jan","Schwalm","Jan Schwalm",10]
["",null,null,"3409126",3409,126,"Gina","Ritz","Gina Ritz",11]
["",null,null,"3409129",3409,129,"Arno","Schreiber","Arno Schreiber",50]
["",null,null,"3409130",3409,130,"Jan","Schreiber","Jan Schreiber",10]
["",null,null,"3409131",3409,131,"Christian","Fischer","Christian Fischer",10]
["",null,null,"3409133",3409,133,"Michael","Wershofen","Michael Wershofen",10]
["",null,null,"3409135",3409,135,"Tobias","Fohr","Tobias Fohr",10]
["",null,null,"3409136",3409,136,"Mario","Kreissl","Mario Kreissl",10]
["",null,null,"3409137",3409,137,"Patrick","Janowitz","Patrick Janowitz",10]
["",null,null,"3409139",3409,139,"Tobias","Nuhn","Tobias Nuhn",10]
["",null,null,"3409140",3409,140,"Nicole","Vogler","Nicole Vogler",11]
["",null,null,"3409149",3409,149,"Andreas","Ritz","Andreas Ritz",10]
["",null,null,"3409150",3409,150,"Marvin","Janowitz","Marvin Janowitz",10]
["",null,null,"3409151",3409,151,"Dominik","Kusber","Dominik Kusber",10]
["",null,null,"3409152",3409,152,"Marcel","Nentwich","Marcel Nentwich",10]
["",null,null,"3409155",3409,155,"Manuel","Nentwich","Manuel Nentwich",40]
["",null,null,"3409156",3409,156,"Hendrik","Kusber","Hendrik Kusber",42]
["",null,null,"3409157",3409,157,"Marco","Otter","Marco Otter",10]
["",null,null,"3409158",3409,158,"Philip","Simon","Philip Simon",42]
["",null,null,"3409159",3409,159,"Sabrina","Völkner","Sabrina Völkner",11]
["",null,null,"3409160",3409,160,"Ronja","Schmidt","Ronja Schmidt",31]
["",null,null,"34103",3410,3,"Horst","Eichmann","Horst Eichmann",60]
["",null,null,"341051",3410,51,"Klaus","Stedtler","Klaus Stedtler",60]
["",null,null,"341075",3410,75,"Jochen","Seeliger","Jochen Seeliger",60]
["",null,null,"341086",3410,86,"Axel","Stedtler","Axel Stedtler",10]
["",null,null,"34116",3411,6,"Thomas","Altmann","Thomas Altmann",50]
["",null,null,"341132",3411,32,"Dieter","Herzberg","Dieter Herzberg",60]
["",null,null,"341139",3411,39,"Waldemar","Hummel","Waldemar Hummel",62]
["",null,null,"341145",3411,45,"Gerhard","Kraft","Gerhard Kraft",62]
["",null,null,"341147",3411,47,"Sigrid","Kraft","Sigrid Kraft",61]
["",null,null,"341154",3411,54,"Egon","Müller","Egon Müller",62]
["",null,null,"341186",3411,86,"Eckhard","Strack","Eckhard Strack",60]
["",null,null,"341190",3411,90,"Dirk","Vieldorf","Dirk Vieldorf",60]
["",null,null,"341192",3411,92,"Roland","Vieldorf","Roland Vieldorf",62]
["",null,null,"3411112",3411,112,"Uwe","Allendorf","Uwe Allendorf",50]
["",null,null,"3411117",3411,117,"Marcel","Nieding","Marcel Nieding",10]
["",null,null,"3411122",3411,122,"Brigitte","Koch","Brigitte Koch",61]
["",null,null,"3411125",3411,125,"Anneliese","Bernhardt","Anneliese Bernhardt",61]
["",null,null,"3411152",3411,152,"Manuela","Gernart","Manuela Gernart",11]
["",null,null,{"$f":"E195&F195","v":"3411155"},3411,155,"Sven","Schmier",{"$f":"G195 & \" \" & H195","v":"Sven Schmier"},10]
["",null,null,"3411156",3411,156,"Melanie","Heidler","Melanie Heidler",11]
["",null,null,"3411164",3411,164,"Frank","Gernart","Frank Gernart",50]
["",null,null,"3411186",3411,186,"Bianca","Niemand","Bianca Niemand",11]
["",null,null,"3411187",3411,187,"Lars","Range","Lars Range",10]
["",null,null,"3411211",3411,211,"Anke","Nieding","Anke Nieding",11]
["",null,null,"3411254",3411,254,"Vanessa","Todt","Vanessa Todt",11]
["",null,null,"3411273",3411,273,"Frank","Nöcker","Frank Nöcker",10]
["",null,null,"3411281",3411,281,"Jule","Gernart","Jule Gernart",21]
["",null,null,"3411283",3411,283,"Lena","Nieding","Lena Nieding",21]
["",null,null,"3411290",3411,290,"Domenik","Heidler","Domenik Heidler",30]
["",null,null,"3411298",3411,298,"Mika","Stanke","Mika Stanke",30]
["",null,null,"3411299",3411,299,"Sandra-Maria","Kaulfuß","Sandra-Maria Kaulfuß",11]
["",null,null,"3411301",3411,301,"Adrian","Heß","Adrian Heß",30]
["",null,null,"3411302",3411,302,"Niklas","Reinhard","Niklas Reinhard",40]
["",null,null,"3411313",3411,313,"Sina-Maria","Breul","Sina-Maria Breul",31]
["",null,null,"3411324",3411,324,"Florian","Bücking","Florian Bücking",30]
["",null,null,"34127",3412,7,"Matthias","Faust","Matthias Faust",50]
["",null,null,"341216",3412,16,"Kurt","Kerstberger","Kurt Kerstberger",50]
["",null,null,"341218",3412,18,"Friedrich","Krauser","Friedrich Krauser",62]
["",null,null,"341231",3412,31,"Karl","Sippel","Karl Sippel",62]
["",null,null,"341239",3412,39,"Heiko","Faust","Heiko Faust",50]
["",null,null,"341256",3412,56,"Dieter","Jonath","Dieter Jonath",50]
["",null,null,"341258",3412,58,"Alexander","Sippel","Alexander Sippel",10]
["",null,null,"341268",3412,68,"Claudia","Kerstberger","Claudia Kerstberger",51]
["",null,null,"341273",3412,73,"Tanja","Faust","Tanja Faust",11]
["",null,null,"341278",3412,78,"Lieselotte","Sippel","Lieselotte Sippel",61]
["",null,null,"341279",3412,79,"Melanie","Ehrlich","Melanie Ehrlich",11]
["",null,null,"341280",3412,80,"Oliver","Sippel","Oliver Sippel",10]
["",null,null,"341298",3412,98,"Heiko","Krauser","Heiko Krauser",10]
["",null,null,"341299",3412,99,"Judith","Sippel","Judith Sippel",11]
["",null,null,"3412103",3412,103,"Torsten","Blum","Torsten Blum",50]
["",null,null,"3412111",3412,111,"Heidi","Götz","Heidi Götz",11]
["",null,null,"3412116",3412,116,"Hubertus","Göbel","Hubertus Göbel",50]
["",null,null,"3412137",3412,137,"Thomas","Geist","Thomas Geist",50]
["",null,null,"3412139",3412,139,"Berthold","Rohrbach","Berthold Rohrbach",62]
["",null,null,"3412146",3412,146,"Hans-Dieter","Lomp","Hans-Dieter Lomp",62]
["",null,null,"3412147",3412,147,"Gerda","Lomp","Gerda Lomp",61]
["",null,null,"3412161",3412,161,"Barbara","Michalski","Barbara Michalski",11]
["",null,null,"3412178",3412,178,"Andreas","Harich","Andreas Harich",10]
["",null,null,"3412182",3412,182,"Werner","Bücking","Werner Bücking",62]
["",null,null,"3412186",3412,186,"Daphne","Jablonski","Daphne Jablonski",11]
["",null,null,"3412188",3412,188,"Tina","Sippel","Tina Sippel",11]
["",null,null,"3412189",3412,189,"Mike","Völker","Mike Völker",50]
["",null,null,"3412190",3412,190,"Matthias","Otterbein","Matthias Otterbein",10]
["",null,null,"3412192",3412,192,"Rudolf","Völker","Rudolf Völker",62]
["",null,null,"3412194",3412,194,"Lisa","Kerstberger","Lisa Kerstberger",11]
["",null,null,"3412231",3412,231,"Andreas","Rentschler","Andreas Rentschler",50]
["",null,null,"3412232",3412,232,"Leah","Faust","Leah Faust",43]
["",null,null,"3412240",3412,240,"Daniel","Meeßen","Daniel Meeßen",10]
["",null,null,"3412244",3412,244,"Petra","Krätschmer","Petra Krätschmer",11]
["",null,null,"3412252",3412,252,"Ingelore","Berger","Ingelore Berger",61]
["",null,null,"3412257",3412,257,"Mark-Andree","Sippel","Mark-Andree Sippel",10]
["",null,null,"3412262",3412,262,"Nicolai","Witzel","Nicolai Witzel",10]
["",null,null,"3412265",3412,265,"Ewald","Wojtke","Ewald Wojtke",50]
["",null,null,"3412292",3412,292,"Pascal","Appel","Pascal Appel",10]
["",null,null,"3412299",3412,299,"Werner","Hilpert","Werner Hilpert",60]
["",null,null,"3412306",3412,306,"Nena","Kerstberger","Nena Kerstberger",31]
["",null,null,"3412315",3412,315,"Marcel","Meeßen","Marcel Meeßen",40]
["",null,null,"3412317",3412,317,"Fabienne","Appel","Fabienne Appel",41]
["",null,null,"3412319",3412,319,"Jonas","Bolender","Jonas Bolender",10]
["",null,null,"3412324",3412,324,"Cedric","Faust","Cedric Faust",20]
["",null,null,"3412326",3412,326,"Anna-Luisa","Helwig","Anna-Luisa Helwig",41]
["",null,null,"3412327",3412,327,"Jasmin","Fippl","Jasmin Fippl",43]
["",null,null,{"$f":"E259&F259","v":"3412331"},3412,331,"Sascha","Meeßen",{"$f":"G259 & \" \" & H259","v":"Sascha Meeßen"},42]
["",null,null,"3412350",3412,350,"Louis","Grobek","Louis Grobek",20]
["",null,null,"3412353",3412,353,"Philip","Scholz","Philip Scholz",30]
["",null,null,"3412354",3412,354,"Luca","Nuhn","Luca Nuhn",20]
["",null,null,"3412355",3412,355,"Marius","Huff","Marius Huff",20]
["",null,null,"3412356",3412,356,"Silas","Helwig","Silas Helwig",20]
["",null,null,"3412366",3412,366,"Niklas","Rohrbach","Niklas Rohrbach",20]
["",null,null,"3412367",3412,367,"Markus","Strippel","Markus Strippel",10]
["",null,null,"3412376",3412,376,"Joshua","Herbst","Joshua Herbst",30]
["",null,null,"3412377",3412,377,"Jennifer","Meeßen","Jennifer Meeßen",11]
["",null,null,"341326",3413,26,"Herbert","Klotzbach","Herbert Klotzbach",62]
["",null,null,"341348",3413,48,"Gerhard","Pfromm","Gerhard Pfromm",62]
["",null,null,"341365",3413,65,"Robert","Maikranz","Robert Maikranz",50]
["",null,null,"341376",3413,76,"Dieter","Trombach","Dieter Trombach",50]
["",null,null,"341384",3413,84,"Peter","Nennstiel","Peter Nennstiel",50]
["",null,null,"341394",3413,94,"Holger","Vogt","Holger Vogt",60]
["",null,null,"3413102",3413,102,"Walter","Fiedler","Walter Fiedler",60]
["",null,null,"3413124",3413,124,"Andreas","Lotz","Andreas Lotz",10]
["",null,null,"3413128",3413,128,"Daniel","Brandau","Daniel Brandau",10]
["",null,null,"3413129",3413,129,"Brigitte","Nennstiel","Brigitte Nennstiel",51]
["",null,null,"3413134",3413,134,"Nadine","Nennstiel","Nadine Nennstiel",11]
["",null,null,"3413138",3413,138,"Sophia","Rosenthal","Sophia Rosenthal",11]
["",null,null,"3413139",3413,139,"Nina","Spilke","Nina Spilke",11]
["",null,null,"3413140",3413,140,"Nadja","Schwab","Nadja Schwab",11]
["",null,null,"3413148",3413,148,"Alexander","Heinz","Alexander Heinz",10]
["",null,null,"3413155",3413,155,"Larissa","Fey","Larissa Fey",41]
["",null,null,"3413157",3413,157,"Martin","Vogt","Martin Vogt",10]
["",null,null,"3413160",3413,160,"Philipp","Müller","Philipp Müller",10]
["",null,null,"3413163",3413,163,"Reinhold","Müller","Reinhold Müller",60]
["",null,null,"3413174",3413,174,"Luca Niklas","Fritsch","Luca Niklas Fritsch",30]
["",null,null,"3413177",3413,177,"Nils","Wiesenthal","Nils Wiesenthal",40]
["",null,null,"3413178",3413,178,"Thorben","Maikranz","Thorben Maikranz",40]
["",null,null,"3413179",3413,179,"Hagen","Maikranz","Hagen Maikranz",42]
["",null,null,"3413180",3413,180,"Tim","Halama","Tim Halama",40]
["",null,null,"3413191",3413,191,"Tim","Malek","Tim Malek",20]
["",null,null,"341411",3414,11,"Gerhard","Bock","Gerhard Bock",62]
["",null,null,"341424",3414,24,"Hartmut","Groß","Hartmut Groß",60]
["",null,null,"341427",3414,27,"Heinrich","Heupel","Heinrich Heupel",62]
["",null,null,"341431",3414,31,"Engelbert","Knaus","Engelbert Knaus",62]
["",null,null,"341453",3414,53,"Reinhard","Schilling","Reinhard Schilling",60]
["",null,null,"341456",3414,56,"Hans","Stockhardt","Hans Stockhardt",62]
["",null,null,"341480",3414,80,"Dieter","Ringler","Dieter Ringler",50]
["",null,null,"341482",3414,82,"Kai","Diebel","Kai Diebel",50]
["",null,null,"341485",3414,85,"Harald","Schade","Harald Schade",50]
["",null,null,"341489",3414,89,"Guenter","Reuber","Guenter Reuber",60]
["",null,null,"3414100",3414,100,"Reinhard","Nuhn","Reinhard Nuhn",60]
["",null,null,"3414105",3414,105,"Sebastian","Reuber","Sebastian Reuber",10]
["",null,null,"3414107",3414,107,"Timo","Stockhardt","Timo Stockhardt",10]
["",null,null,"3414108",3414,108,"Armin","Krügel","Armin Krügel",50]
["",null,null,"3414115",3414,115,"Klaus","Schenk","Klaus Schenk",10]
["",null,null,"3414116",3414,116,"Philip","Reuber","Philip Reuber",10]
["",null,null,"3414127",3414,127,"Sven","Groß","Sven Groß",10]
["",null,null,"3414135",3414,135,"Kerstin","Welter","Kerstin Welter",11]
["",null,null,"3414140",3414,140,"Andreas","Kathan","Andreas Kathan",10]
["",null,null,"3414141",3414,141,"Kai","Hofmann","Kai Hofmann",10]
["",null,null,"3414170",3414,170,"Nathalie","Schenk","Nathalie Schenk",11]
["",null,null,"3414172",3414,172,"Christian","Nuhn","Christian Nuhn",10]
["",null,null,"3414175",3414,175,"Werner","Baumgardt","Werner Baumgardt",62]
["",null,null,"3414176",3414,176,"Janine","Stang","Janine Stang",11]
["",null,null,"3414178",3414,178,"Alexandra","Ide - Reuber","Alexandra Ide - Reuber",11]
["",null,null,"3414182",3414,182,"Fabian","Reuter","Fabian Reuter",42]
["",null,null,"3414183",3414,183,"Leon","Neuwirth","Leon Neuwirth",42]
["",null,null,"3414184",3414,184,"Stefan","Neuwirth","Stefan Neuwirth",50]
["",null,null,"3414185",3414,185,"Marcel","Schade","Marcel Schade",42]
["",null,null,{"$f":"E323&F323","v":"3414186"},3414,186,"Kuba","Radomski",{"$f":"G323 & \" \" & H323","v":"Kuba Radomski"},42]
["",null,null,"3414187",3414,187,"Johanna","Krügel","Johanna Krügel",11]
["",null,null,"3414188",3414,188,"Patricia","Nuhn","Patricia Nuhn",11]
["",null,null,"3414189",3414,189,"Fabian","Stein","Fabian Stein",30]
["",null,null,"3414190",3414,190,"Heiko","Becker","Heiko Becker",10]
["",null,null,"3414191",3414,191,"Saskia","Reuter","Saskia Reuter",21]
["",null,null,"3414193",3414,193,"Annika","Schade","Annika Schade",21]
["",null,null,"3414194",3414,194,"Steffen","Weiffenbach","Steffen Weiffenbach",30]
["",null,null,"3414195",3414,195,"Steffen","Krug","Steffen Krug",30]
["",null,null,"3414196",3414,196,"Paul","Schneider","Paul Schneider",20]
["",null,null,"341523",3415,23,"Fritz","Eckhardt","Fritz Eckhardt",60]
["",null,null,"341535",3415,35,"Kurt","Jacob","Kurt Jacob",60]
["",null,null,"341568",3415,68,"Astrid","Apel","Astrid Apel",51]
["",null,null,"3415147",3415,147,"Markus","Becker","Markus Becker",10]
["",null,null,"341621",3416,21,"Adam","Hartwig","Adam Hartwig",62]
["",null,null,"341622",3416,22,"Hans","Hartwig","Hans Hartwig",62]
["",null,null,"341624",3416,24,"Norbert","Härtl","Norbert Härtl",60]
["",null,null,"341625",3416,25,"Josef","Heidler","Josef Heidler",60]
["",null,null,"341649",3416,49,"Dieter","Roemmelt","Dieter Roemmelt",62]
["",null,null,"341653",3416,53,"Manfred","Sadler","Manfred Sadler",62]
["",null,null,"341675",3416,75,"Fritz","Wenzel","Fritz Wenzel",62]
["",null,null,"341682",3416,82,"Ulrich","Orth","Ulrich Orth",50]
["",null,null,"3416121",3416,121,"Volker","Wenzel","Volker Wenzel",50]
["",null,null,"3416130",3416,130,"Oliver","Maier","Oliver Maier",10]
["",null,null,"3416140",3416,140,"Beate","Henes","Beate Henes",51]
["",null,null,"3416142",3416,142,"Gerhard","Opfer","Gerhard Opfer",62]
["",null,null,"3416144",3416,144,"Björn","Steube","Björn Steube",10]
["",null,null,"3416148",3416,148,"Harald","Wulkau","Harald Wulkau",60]
["",null,null,"3416149",3416,149,"Torsten","Paul","Torsten Paul",10]
["",null,null,"3416159",3416,159,"Julia","Deist","Julia Deist",11]
["",null,null,"3416160",3416,160,"Isabell","Strack","Isabell Strack",51]
["",null,null,"3416169",3416,169,"Gerhard","Michel","Gerhard Michel",60]
["",null,null,"3416171",3416,171,"Simone","Opfer","Simone Opfer",11]
["",null,null,"3416190",3416,190,"Jaqueline","Orth","Jaqueline Orth",11]
["",null,null,"3416192",3416,192,"Thomas","Schrön","Thomas Schrön",50]
["",null,null,"3416206",3416,206,"Helmut","Strippel","Helmut Strippel",50]
["",null,null,"3416218",3416,218,"Andreas","Kircher","Andreas Kircher",10]
["",null,null,"3416244",3416,244,"Stefan","Link","Stefan Link",50]
[null,null,null,"3416246",3416,246,"Marcel","Hott","Marcel Hott",42]
[null,null,null,"34176",3417,6,"Horst","Bolz","Horst Bolz",62]
[null,null,null,"341723",3417,23,"Werner","Henning","Werner Henning",62]
[null,null,null,"341734",3417,34,"Werner","Litzenbauer","Werner Litzenbauer",62]
[null,null,null,"341737",3417,37,"Baerbel","Modenbach","Baerbel Modenbach",61]
[null,null,null,"341738",3417,38,"Kurt","Modenbach","Kurt Modenbach",60]
[null,null,null,"341758",3417,58,"Karl-Heinz","Sondergeld","Karl-Heinz Sondergeld",62]
[null,null,null,"341765",3417,65,"Lothar","Woyke","Lothar Woyke",60]
[null,null,null,"341766",3417,66,"Helmut","Wurmnest","Helmut Wurmnest",62]
[null,null,null,"341768",3417,68,"Regina","Knoll","Regina Knoll",61]
[null,null,null,"341769",3417,69,"Kurt","Altmueller","Kurt Altmueller",62]
[null,null,null,"341777",3417,77,"Franz","Kunze","Franz Kunze",62]
[null,null,null,"341792",3417,92,"Markus","Blum","Markus Blum",50]
[null,null,null,"3417120",3417,120,"Gottfried","Reinhardt","Gottfried Reinhardt",60]
[null,null,null,"3417131",3417,131,"Ehrhard","Haas","Ehrhard Haas",62]
[null,null,null,"3417134",3417,134,"Thorsten","Kunze","Thorsten Kunze",10]
[null,null,null,"3417140",3417,140,"Heiko","Sondergeld","Heiko Sondergeld",10]
[null,null,null,"3417145",3417,145,"Tobias","Kunze","Tobias Kunze",10]
[null,null,null,"3417152",3417,152,"Heidi","Sondergeld-Otto","Heidi Sondergeld-Otto",11]
[null,null,null,"3417153",3417,153,"Helmut","Schwarz","Helmut Schwarz",60]
[null,null,null,"3417162",3417,162,"Yvonne","Drews","Yvonne Drews",11]
[null,null,null,"3417165",3417,165,"Sandra","Litzenbauer","Sandra Litzenbauer",11]
[null,null,null,"3417167",3417,167,"Anne","Fraatz","Anne Fraatz",11]
[null,null,null,"3417168",3417,168,"Peter","Kempf","Peter Kempf",50]
[null,null,null,"3417171",3417,171,"Susanne","Scheuermann","Susanne Scheuermann",51]
[null,null,null,"3417174",3417,174,"Christian","Otto","Christian Otto",10]
[null,null,null,{"$f":"E387&F387","v":"3417197"},3417,197,"Dirk","Böhle",{"$f":"G387 & \" \" & H387","v":"Dirk Böhle"},50]
[null,null,null,"3417205",3417,205,"Kim","Reinhardt","Kim Reinhardt",10]
[null,null,null,"3417214",3417,214,"Jens","Vehlow","Jens Vehlow",50]
[null,null,null,"3417215",3417,215,"Marcel","Altmann","Marcel Altmann",10]
[null,null,null,"3417220",3417,220,"Sebastian","Licht","Sebastian Licht",10]
[null,null,null,"3417225",3417,225,"Philipp","Warninghoff","Philipp Warninghoff",10]
[null,null,null,"3417232",3417,232,"Florian","Modenbach","Florian Modenbach",10]
[null,null,null,"3417233",3417,233,"Corinna","Schott","Corinna Schott",11]
[null,null,null,"3417246",3417,246,"Dieter","Reinhardt","Dieter Reinhardt",62]
[null,null,null,"3417247",3417,247,"Leonie","Litzenbauer","Leonie Litzenbauer",43]
[null,null,null,"3417248",3417,248,"Maja","Litzenbauer","Maja Litzenbauer",31]
[null,null,null,"3417258",3417,258,"Tim","Michel","Tim Michel",20]
[null,null,null,"3417259",3417,259,"Hanna","Starkloff","Hanna Starkloff",21]
[null,null,null,"3417263",3417,263,"Christopher","Orth","Christopher Orth",50]
[null,null,null,"3417264",3417,264,"Marga","Wurmnest","Marga Wurmnest",61]
[null,null,null,"3417267",3417,267,"Evelin","Haas","Evelin Haas",51]
[null,null,null,"3417271",3417,271,"Florian","Henning","Florian Henning",10]
[null,null,null,"3417272",3417,272,"Anastasia","Tronicek","Anastasia Tronicek",21]
[null,null,null,"3417273",3417,273,"Karoline","Gorges","Karoline Gorges",21]
[null,null,null,"34185",3418,5,"Edgar","Braun","Edgar Braun",62]
[null,null,null,"341821",3418,21,"Peter","Koch","Peter Koch",60]
[null,null,null,"341824",3418,24,"Josef","Kunze","Josef Kunze",62]
[null,null,null,"341848",3418,48,"Ernst","Sedlatschek","Ernst Sedlatschek",62]
[null,null,null,"341850",3418,50,"Ernst","Seeliger","Ernst Seeliger",60]
[null,null,null,"341887",3418,87,"Lars","Eidam","Lars Eidam",10]
[null,null,null,"341891",3418,91,"Knut","Baumgardt","Knut Baumgardt",50]
[null,null,null,"3418100",3418,100,"Michael","Braun","Michael Braun",10]
[null,null,null,"3418109",3418,109,"Karsten","Baumhardt","Karsten Baumhardt",10]
[null,null,null,"3418124",3418,124,"Peter","Bernst","Peter Bernst",60]
[null,null,null,"3418129",3418,129,"Helmut","Gebauer","Helmut Gebauer",62]
[null,null,null,"3418166",3418,166,"Martin","Paul","Martin Paul",10]
[null,null,null,"3418177",3418,177,"Katja","Baumhardt","Katja Baumhardt",11]
[null,null,null,"3418187",3418,187,"Christa","Bernst","Christa Bernst",61]
[null,null,null,"3418188",3418,188,"Björn","Kaiser","Björn Kaiser",10]
[null,null,null,"3418197",3418,197,"Manuel","Wagner","Manuel Wagner",10]
[null,null,null,"3418198",3418,198,"Patrick","Quanz","Patrick Quanz",10]
[null,null,null,"3418199",3418,199,"Alfred","Englich","Alfred Englich",62]
[null,null,null,"34196",3419,6,"Georg","Hebeler","Georg Hebeler",62]
[null,null,null,"34198",3419,8,"Johann","Theiss","Johann Theiss",62]
[null,null,null,"341912",3419,12,"Willi","Becker","Willi Becker",62]
[null,null,null,"341920",3419,20,"Wolfgang","Horst","Wolfgang Horst",60]
[null,null,null,"341931",3419,31,"Dieter","Michaelis","Dieter Michaelis",60]
[null,null,null,"341951",3419,51,"Michael","Theiss","Michael Theiss",10]
[null,null,null,"341952",3419,52,"Markus","Bronder","Markus Bronder",10]
[null,null,null,"341953",3419,53,"Stefan","Allweins","Stefan Allweins",10]
[null,null,null,"341961",3419,61,"Horst","Gilfert","Horst Gilfert",62]
[null,null,null,"341965",3419,65,"Bernd","Lücke","Bernd Lücke",62]
[null,null,null,"341972",3419,72,"Michael","Gilfert","Michael Gilfert",10]
[null,null,null,"341977",3419,77,"Matthias","Ullmann","Matthias Ullmann",10]
[null,null,null,"341978",3419,78,"Sven","Göbel","Sven Göbel",10]
[null,null,null,"341983",3419,83,"Nico","Mausehund","Nico Mausehund",10]
[null,null,null,"341989",3419,89,"Helgo","Krotsch","Helgo Krotsch",50]
[null,null,null,"341991",3419,91,"Jakob","Glöckner","Jakob Glöckner",62]
[null,null,null,"341996",3419,96,"Lars","Hübner","Lars Hübner",92]
[null,null,null,"341998",3419,98,"Christian","Gilfert","Christian Gilfert",10]
[null,null,null,"3419109",3419,109,"Günther","Bronder","Günther Bronder",62]
[null,null,null,"3419113",3419,113,"Inken","Bronder","Inken Bronder",11]
[null,null,null,"3419115",3419,115,"Natascha","Gross","Natascha Gross",11]
[null,null,null,"3419119",3419,119,"Lea-Sophie","Scharfschwerdt","Lea-Sophie Scharfschwerdt",11]
[null,null,null,"3419124",3419,124,"Udo","Hebeler","Udo Hebeler",50]
[null,null,null,"3419125",3419,125,"Kevin","Krotsch","Kevin Krotsch",40]
[null,null,null,"3419127",3419,127,"Vanessa","Braun","Vanessa Braun",41]
[null,null,null,"3419128",3419,128,"Annabel","Schewe","Annabel Schewe",11]
[null,null,null,"3419129",3419,129,"Luca","Bronder","Luca Bronder",31]
[null,null,null,{"$f":"E451&F451","v":"3419130"},3419,130,"Gregor","Schwarze",{"$f":"G451 & \" \" & H451","v":"Gregor Schwarze"},40]
[null,null,null,"3419131",3419,131,"Marvin","Stieg","Marvin Stieg",20]
[null,null,null,"3419132",3419,132,"Sasha","Bronder","Sasha Bronder",21]
[null,null,null,"342024",3420,24,"Matthias","Orth","Matthias Orth",50]
[null,null,null,"34216",3421,6,"Matthias","Clausius","Matthias Clausius",50]
[null,null,null,"342110",3421,10,"Reinhold","Eidam","Reinhold Eidam",60]
[null,null,null,"342167",3421,67,"Horst","Haertl","Horst Haertl",62]
[null,null,null,"342177",3421,77,"Vera","Eidam","Vera Eidam",61]
[null,null,null,"3421140",3421,140,"Rainer","Kuemmel","Rainer Kuemmel",50]
[null,null,null,"3421155",3421,155,"Arnold","Fuehrer","Arnold Fuehrer",62]
[null,null,null,"3421157",3421,157,"Anja","Kümmel","Anja Kümmel",51]
[null,null,null,"3421200",3421,200,"Hubert","Ringler","Hubert Ringler",60]
[null,null,null,"3421214",3421,214,"Wolfgang","Schmidt","Wolfgang Schmidt",10]
[null,null,null,"3421217",3421,217,"Kathrin","Schmidt","Kathrin Schmidt",11]
[null,null,null,"3421224",3421,224,"Steffen","Landsiedel","Steffen Landsiedel",10]
[null,null,null,"3421235",3421,235,"Felix","Bach","Felix Bach",10]
[null,null,null,"3421259",3421,259,"Alexandra","Stumpf","Alexandra Stumpf",21]
[null,null,null,"3421260",3421,260,"Sebastian","Spill","Sebastian Spill",30]
[null,null,null,"3421261",3421,261,"Felix","Hildebrand","Felix Hildebrand",20]
[null,null,null,"34222",3422,2,"Günther","Barth","Günther Barth",60]
[null,null,null,"342227",3422,27,"Horst","Hochberger","Horst Hochberger",62]
[null,null,null,"342251",3422,51,"Herbert","Schott","Herbert Schott",62]
[null,null,null,"342270",3422,70,"Udo","Aumann","Udo Aumann",50]
[null,null,null,"342282",3422,82,"Silke","Deiseroth","Silke Deiseroth",11]
[null,null,null,"342293",3422,93,"Simone","Eigenbrod","Simone Eigenbrod",11]
[null,null,null,"3422104",3422,104,"Robert","Ciesla","Robert Ciesla",10]
[null,null,null,"3422107",3422,107,"Markus","Deiseroth","Markus Deiseroth",50]
[null,null,null,"3422109",3422,109,"Stefan","Eigenbrod","Stefan Eigenbrod",10]
[null,null,null,"3422117",3422,117,"Jochen","Müller","Jochen Müller",10]
[null,null,null,"3422127",3422,127,"Björn","Noll","Björn Noll",10]
[null,null,null,"3422137",3422,137,"Christian","Nettelbeck","Christian Nettelbeck",10]
[null,null,null,"3422167",3422,167,"Judith","Eigenbrod","Judith Eigenbrod",11]
[null,null,null,"3422178",3422,178,"Antje","Kulke","Antje Kulke",11]
[null,null,null,"3422179",3422,179,"Jonas","Buschbacher","Jonas Buschbacher",20]
[null,null,null,"34235",3423,5,"Reinhold","Goettlich","Reinhold Goettlich",60]
[null,null,null,"342315",3423,15,"Karl-Heinz","Malkmes","Karl-Heinz Malkmes",62]
[null,null,null,"342318",3423,18,"Horst","Vollmer","Horst Vollmer",62]
[null,null,null,"342336",3423,36,"Maic","Vollmer","Maic Vollmer",50]
[null,null,null,"342338",3423,38,"Frank","Vollmer","Frank Vollmer",10]
[null,null,null,"342346",3423,46,"Daniela","Langgut","Daniela Langgut",11]
[null,null,null,"342350",3423,50,"Wilfried","Herwig","Wilfried Herwig",50]
[null,null,null,"342352",3423,52,"Marco","Appel","Marco Appel",10]
[null,null,null,"342355",3423,55,"Manuel","Appel","Manuel Appel",10]
[null,null,null,"342358",3423,58,"Alexander","Hahn","Alexander Hahn",10]
[null,null,null,"342360",3423,60,"Susen","Westermann","Susen Westermann",11]
[null,null,null,"342362",3423,62,"Jessica","Phieler","Jessica Phieler",11]
[null,null,null,"342363",3423,63,"Carsten","Ruppel","Carsten Ruppel",10]
[null,null,null,"342364",3423,64,"Eva","Krafft","Eva Krafft",61]
[null,null,null,"342366",3423,66,"Thomas","Horst","Thomas Horst",10]
[null,null,null,"342368",3423,68,"Marcel","Phieler","Marcel Phieler",10]
[null,null,null,"342370",3423,70,"Sabrina","vollmer","Sabrina vollmer",11]
[null,null,null,"342371",3423,71,"Nobert","Thome","Nobert Thome",62]
[null,null,null,"342372",3423,72,"Reimund","Hochmut","Reimund Hochmut",50]
[null,null,null,"342373",3423,73,"Mario","Sippel","Mario Sippel",50]
[null,null,null,"342374",3423,74,"Jana","Sippel","Jana Sippel",41]
[null,null,null,"342375",3423,75,"Angelina","Reum","Angelina Reum",41]
[null,null,null,"342377",3423,77,"Detlef","Phieler","Detlef Phieler",60]
[null,null,null,"342378",3423,78,"Fabio","Schäfer","Fabio Schäfer",30]
[null,null,null,"342379",3423,79,"Stefan","Brandenstein","Stefan Brandenstein",10]
[null,null,null,"34241",3424,1,"Hans-Helmut","Ackermann","Hans-Helmut Ackermann",62]
[null,null,null,"342423",3424,23,"Werner","Heil","Werner Heil",50]
[null,null,null,"342424",3424,24,"Klaus","Heußner","Klaus Heußner",60]
[null,null,null,"342432",3424,32,"Gerhard","Möller","Gerhard Möller",62]
[null,null,null,"342444",3424,44,"Rudolf","Scholz","Rudolf Scholz",62]
[null,null,null,{"$f":"E515&F515","v":"342464"},3424,64,"Oliver","Scholz",{"$f":"G515 & \" \" & H515","v":"Oliver Scholz"},50]
[null,null,null,"342491",3424,91,"Georg","Gutberlet","Georg Gutberlet",10]
[null,null,null,"342493",3424,93,"Heiko","Bätz","Heiko Bätz",10]
[null,null,null,"3424115",3424,115,"Wolfgang","Kehl","Wolfgang Kehl",60]
[null,null,null,"3424131",3424,131,"Sven","Heußner","Sven Heußner",10]
[null,null,null,"3424137",3424,137,"Jan","Heußner","Jan Heußner",10]
[null,null,null,"3424148",3424,148,"Lothar","Reschke","Lothar Reschke",60]
[null,null,null,"3424160",3424,160,"Kevin","Sauerstein","Kevin Sauerstein",42]
[null,null,null,"3424163",3424,163,"Constanze","Heil","Constanze Heil",41]
[null,null,null,"3424164",3424,164,"Dorothea","Heil","Dorothea Heil",41]
[null,null,null,"3424165",3424,165,"Lukas","Fey","Lukas Fey",10]
[null,null,null,"3424166",3424,166,"Luca","Fuchs","Luca Fuchs",10]
[null,null,null,"3424168",3424,168,"Marvin","Sauerstein","Marvin Sauerstein",30]
[null,null,null,"3424171",3424,171,"Philipp","Zirpel","Philipp Zirpel",10]
[null,null,null,"3424174",3424,174,"Sarah","Wiegand","Sarah Wiegand",11]
[null,null,null,"3424176",3424,176,"Nils","Behrendt","Nils Behrendt",10]
[null,null,null,"3424183",3424,183,"Luisa","Scholz","Luisa Scholz",21]
[null,null,null,"3424189",3424,189,"Nele","Fuchs","Nele Fuchs",31]
[null,null,null,"3424204",3424,204,"Rafael","Iojicà","Rafael Iojicà",10]
[null,null,null,"34262",3426,2,"Udo","Schweitzer","Udo Schweitzer",50]
[null,null,null,"34263",3426,3,"Jürgen","Wetzel","Jürgen Wetzel",50]
[null,null,null,"342624",3426,24,"Erwin","Curth","Erwin Curth",60]
[null,null,null,"342626",3426,26,"Helmut","Curth","Helmut Curth",60]
[null,null,null,"342666",3426,66,"Klaus","Ronkowski","Klaus Ronkowski",62]
[null,null,null,"342684",3426,84,"Willi","Schröder","Willi Schröder",60]
[null,null,null,"342693",3426,93,"Georg","Wetzel","Georg Wetzel",60]
[null,null,null,"3426125",3426,125,"Ehrenfried","Heyer","Ehrenfried Heyer",60]
[null,null,null,"3426127",3426,127,"Manuela","Probst-Völker","Manuela Probst-Völker",51]
[null,null,null,"3426138",3426,138,"Markus","Brehm","Markus Brehm",10]
[null,null,null,"3426142",3426,142,"Udo","Rössing","Udo Rössing",50]
[null,null,null,"3426144",3426,144,"Silke","Heyer","Silke Heyer",51]
[null,null,null,"3426145",3426,145,"Timo","Schröder","Timo Schröder",50]
[null,null,null,"3426167",3426,167,"Manuela","Apel","Manuela Apel",11]
[null,null,null,"3426168",3426,168,"Jürgen","Ronkowski","Jürgen Ronkowski",10]
[null,null,null,"3426182",3426,182,"Diana","Möller","Diana Möller",11]
[null,null,null,"3426193",3426,193,"Norbert","Steinmetz","Norbert Steinmetz",10]
[null,null,null,"3426194",3426,194,"Roland","Schweitzer","Roland Schweitzer",10]
[null,null,null,"3426202",3426,202,"Karin","Schade","Karin Schade",11]
[null,null,null,"3426211",3426,211,"Dirk","Schade","Dirk Schade",10]
[null,null,null,"3426234",3426,234,"Inga","Schröder","Inga Schröder",11]
[null,null,null,"3426237",3426,237,"Anna","Wild","Anna Wild",11]
[null,null,null,"3426261",3426,261,"Johanna","Mertin","Johanna Mertin",11]
[null,null,null,"3426281",3426,281,"Philip","Heyer","Philip Heyer",40]
[null,null,null,"3426290",3426,290,"Hendrik","Wild","Hendrik Wild",10]
[null,null,null,"3426292",3426,292,"Christian","Wetzel","Christian Wetzel",10]
[null,null,null,"3426293",3426,293,"Tobias","Leiter","Tobias Leiter",10]
[null,null,null,"3426303",3426,303,"Sina","Schröder","Sina Schröder",11]
[null,null,null,"3426304",3426,304,"Anne","Schröder","Anne Schröder",11]
[null,null,null,"3426306",3426,306,"Laura","Apel","Laura Apel",11]
[null,null,null,"3426310",3426,310,"Tabea","Wetzel","Tabea Wetzel",41]
[null,null,null,"3426326",3426,326,"Alena","Probst","Alena Probst",11]
[null,null,null,"3426343",3426,343,"Nils","Sippel","Nils Sippel",30]
[null,null,null,"3426344",3426,344,"Janine","Völker","Janine Völker",31]
[null,null,null,"3426350",3426,350,"Lisa-Marie","Hölzer","Lisa-Marie Hölzer",41]
[null,null,null,"3426374",3426,374,"Leonie","Müller","Leonie Müller",21]
[null,null,null,"3426376",3426,376,"Tim","Brendel","Tim Brendel",30]
[null,null,null,"3426377",3426,377,"Vivien","Kunzendorf","Vivien Kunzendorf",21]
[null,null,null,"3426382",3426,382,"Hans-Joachim","Kolitsch","Hans-Joachim Kolitsch",50]
[null,null,null,"3426385",3426,385,"Hannes","Schröder","Hannes Schröder",20]
[null,null,null,"3426391",3426,391,"Sophia","Apel","Sophia Apel",21]
[null,null,null,"3426403",3426,403,"Benjamin","Schweitzer","Benjamin Schweitzer",42]
[null,null,null,"3426404",3426,404,"Dominik","Schweitzer","Dominik Schweitzer",42]
[null,null,null,"3426416",3426,416,"Ralf","Lampersbach","Ralf Lampersbach",50]
[null,null,null,"3426439",3426,439,"Lukas","Tade","Lukas Tade",20]
[null,null,null,{"$f":"E579&F579","v":"3426441"},3426,441,"Moritz","Mausehund",{"$f":"G579 & \" \" & H579","v":"Moritz Mausehund"},20]
[null,null,null,"3426443",3426,443,"Samantha","Ruch","Samantha Ruch",31]
[null,null,null,"3426451",3426,451,"Martina","Zindel","Martina Zindel",11]
[null,null,null,"34289",3428,9,"Ernst","Heirock","Ernst Heirock",62]
[null,null,null,"342815",3428,15,"Karl-Heinz","Kiessling","Karl-Heinz Kiessling",60]
[null,null,null,"342817",3428,17,"Heinrich","Kiem","Heinrich Kiem",62]
[null,null,null,"342818",3428,18,"Hans-Georg","Lotz","Hans-Georg Lotz",62]
[null,null,null,"342821",3428,21,"Kurt","Pfaff","Kurt Pfaff",62]
[null,null,null,"342824",3428,24,"Ernst","Reinmoeller","Ernst Reinmoeller",62]
[null,null,null,"342828",3428,28,"Gerhard","Schneider","Gerhard Schneider",60]
[null,null,null,"342829",3428,29,"Peter","Schneider","Peter Schneider",62]
[null,null,null,"342830",3428,30,"Bernd","Schneider","Bernd Schneider",60]
[null,null,null,"342834",3428,34,"Juergen","Schwarzer","Juergen Schwarzer",50]
[null,null,null,"342840",3428,40,"M.H.Max","Sleziona","M.H.Max Sleziona",62]
[null,null,null,"342843",3428,43,"Thomas","Schwarzer","Thomas Schwarzer",50]
[null,null,null,"342845",3428,45,"Frank","Schneider","Frank Schneider",50]
[null,null,null,"342851",3428,51,"Jens","Pfaff","Jens Pfaff",50]
[null,null,null,"342859",3428,59,"Holger","Hemmenstaedt","Holger Hemmenstaedt",50]
[null,null,null,"342879",3428,79,"Wilhelm","Schnell","Wilhelm Schnell",60]
[null,null,null,"342880",3428,80,"Christian","Richter","Christian Richter",50]
[null,null,null,"342883",3428,83,"Melanie","Vockenberg","Melanie Vockenberg",11]
[null,null,null,"342885",3428,85,"Harald","Nieding","Harald Nieding",50]
[null,null,null,"342890",3428,90,"Jens","Volkmar","Jens Volkmar",10]
[null,null,null,"342892",3428,92,"Karl","Röder","Karl Röder",62]
[null,null,null,"342894",3428,94,"Gudrun","Neumann-Röder","Gudrun Neumann-Röder",61]
[null,null,null,"342924",3429,24,"Guenther","Schaefer","Guenther Schaefer",62]
[null,null,null,"342928",3429,28,"Karl-Heinz","Scheidemantel","Karl-Heinz Scheidemantel",60]
[null,null,null,"342930",3429,30,"Gerhard","Schmitt","Gerhard Schmitt",60]
[null,null,null,"342955",3429,55,"Juergen","Weppler","Juergen Weppler",50]
[null,null,null,"342956",3429,56,"Reiner","Weppler","Reiner Weppler",60]
[null,null,null,"342961",3429,61,"Fritz","Richardt","Fritz Richardt",60]
[null,null,null,"342968",3429,68,"Joerg","Schnuecker","Joerg Schnuecker",50]
[null,null,null,"342988",3429,88,"Heiko","Schroen","Heiko Schroen",10]
[null,null,null,"3429100",3429,100,"Stephan","Ott","Stephan Ott",10]
[null,null,null,"3429108",3429,108,"Klaus","Dust","Klaus Dust",60]
[null,null,null,"3429141",3429,141,"Markus","Pyrek","Markus Pyrek",10]
[null,null,null,"3429152",3429,152,"Oliver","Kurz","Oliver Kurz",10]
[null,null,null,"3429156",3429,156,"Markus","Nuhn","Markus Nuhn",10]
[null,null,null,"3429171",3429,171,"Volker","Dippel","Volker Dippel",50]
[null,null,null,"3429178",3429,178,"Karl-Heinz","Friedrich","Karl-Heinz Friedrich",62]
[null,null,null,"3429180",3429,180,"Matthias","Axmann","Matthias Axmann",50]
[null,null,null,"3429185",3429,185,"Matthias","Weppler","Matthias Weppler",10]
[null,null,null,"3429193",3429,193,"Sandra","Menz","Sandra Menz",11]
[null,null,null,"3429203",3429,203,"Eldert","Groos","Eldert Groos",50]
[null,null,null,"3429204",3429,204,"Kai-Uwe","Schmidt","Kai-Uwe Schmidt",60]
[null,null,null,"3429214",3429,214,"Gerd","Schnücker","Gerd Schnücker",50]
[null,null,null,"3429220",3429,220,"Nils","Stiebing","Nils Stiebing",10]
[null,null,null,"3429222",3429,222,"Pascal","Schmerer","Pascal Schmerer",10]
[null,null,null,"3429226",3429,226,"Patrick","Weppler","Patrick Weppler",10]
[null,null,null,"3429245",3429,245,"Franziska","Thiel","Franziska Thiel",41]
[null,null,null,"3429246",3429,246,"Christina","Weppler","Christina Weppler",41]
[null,null,null,"3429250",3429,250,"Manuel","Buchberger","Manuel Buchberger",40]
[null,null,null,"3429251",3429,251,"Luisa","Schrön","Luisa Schrön",41]
[null,null,null,"3429252",3429,252,"Jana","Stiebing","Jana Stiebing",43]
[null,null,null,"3429253",3429,253,"Hanna","Deiß","Hanna Deiß",31]
[null,null,null,"3429254",3429,254,"Alexander","Heß","Alexander Heß",42]
[null,null,null,"3429255",3429,255,"Marcel","Schnücker","Marcel Schnücker",42]
[null,null,null,"3429257",3429,257,"Marvin","Thiel","Marvin Thiel",42]
[null,null,null,"3429261",3429,261,"Herbert","Zeilinger","Herbert Zeilinger",62]
[null,null,null,"343042",3430,42,"Rolf","Dorsch","Rolf Dorsch",62]
[null,null,null,"343043",3430,43,"Margit","Dorsch","Margit Dorsch",61]
[null,null,null,"343057",3430,57,"Wilfried","Kaesling","Wilfried Kaesling",60]
[null,null,null,"343076",3430,76,"Guenther","Metz","Guenther Metz",62]
[null,null,null,"3430143",3430,143,"Hans-Werner","Gast","Hans-Werner Gast",60]
[null,null,null,{"$f":"E643&F643","v":"3430172"},3430,172,"Gerd","Kiefer",{"$f":"G643 & \" \" & H643","v":"Gerd Kiefer"},50]
[null,null,null,"3430289",3430,289,"Roland","Wuest","Roland Wuest",10]
[null,null,null,"3430444",3430,444,"Manfred","Senf","Manfred Senf",60]
[null,null,null,"3430460",3430,460,"Martin","Immig","Martin Immig",10]
[null,null,null,"3430463",3430,463,"Lutz","Stoeltzing","Lutz Stoeltzing",50]
[null,null,null,"3430482",3430,482,"Tim","Schmidt","Tim Schmidt",42]
[null,null,null,"3430492",3430,492,"Wilfried","Schreiber","Wilfried Schreiber",60]
[null,null,null,"3430496",3430,496,"Bernd","Kranz","Bernd Kranz",62]
[null,null,null,"3430501",3430,501,"Elisabeth","Strohmenger","Elisabeth Strohmenger",61]
[null,null,null,"3430506",3430,506,"Uwe","Dralle","Uwe Dralle",60]
[null,null,null,"34318",3431,8,"Karl","Eckhardt","Karl Eckhardt",62]
[null,null,null,"343122",3431,22,"Jakob","Hellwig","Jakob Hellwig",62]
[null,null,null,"343124",3431,24,"Peter","Herrmann","Peter Herrmann",50]
[null,null,null,"343127",3431,27,"Georg","Koch","Georg Koch",62]
[null,null,null,"343129",3431,29,"Heidrun","Rutscher","Heidrun Rutscher",51]
[null,null,null,"343146",3431,46,"Wilfried","Schwarz","Wilfried Schwarz",62]
[null,null,null,"343155",3431,55,"Gerhard","Pfaff","Gerhard Pfaff",50]
[null,null,null,"343166",3431,66,"Monika","Ludwig","Monika Ludwig",51]
[null,null,null,"343169",3431,69,"Helmut","Koch","Helmut Koch",50]
[null,null,null,"343177",3431,77,"Sabine","Pfaff","Sabine Pfaff",51]
[null,null,null,"343180",3431,80,"Ingo","Heyer","Ingo Heyer",10]
[null,null,null,"343184",3431,84,"Alexander","Malcomess","Alexander Malcomess",50]
[null,null,null,"343196",3431,96,"Christina","Malcomess","Christina Malcomess",11]
[null,null,null,"343198",3431,98,"Yvonne","Braun","Yvonne Braun",11]
[null,null,null,"3431100",3431,100,"Thomas","Marx","Thomas Marx",92]
[null,null,null,"3431105",3431,105,"Sebastian","Herrmann","Sebastian Herrmann",10]
[null,null,null,"3431129",3431,129,"Daniel","Pfaff","Daniel Pfaff",10]
[null,null,null,"3431132",3431,132,"Laura","Herrmann","Laura Herrmann",11]
[null,null,null,"3431135",3431,135,"Lisa","Broisch","Lisa Broisch",11]
[null,null,null,"3431137",3431,137,"Sabrina","Pfaff","Sabrina Pfaff",93]
[null,null,null,"3431143",3431,143,"Lisa","Thiel","Lisa Thiel",43]
[null,null,null,"3431147",3431,147,"Carsten","Reuber","Carsten Reuber",10]
[null,null,null,"3431148",3431,148,"Niklas","Lipphardt","Niklas Lipphardt",30]
[null,null,null,"3431149",3431,149,"Jan","Winter","Jan Winter",30]
[null,null,null,"3431152",3431,152,"Manfred","Wink","Manfred Wink",62]
[null,null,null,"34328",3432,8,"Burkhard","Daube","Burkhard Daube",60]
[null,null,null,"343219",3432,19,"Hans","Eichler","Hans Eichler",62]
[null,null,null,"343246",3432,46,"Burkhard","Horst","Burkhard Horst",50]
[null,null,null,"343248",3432,48,"Helmut","Horst","Helmut Horst",60]
[null,null,null,"343250",3432,50,"Konrad","Huehn","Konrad Huehn",62]
[null,null,null,"343261",3432,61,"Bernd","Mügge","Bernd Mügge",60]
[null,null,null,"343262",3432,62,"Dieter","Mügge","Dieter Mügge",62]
[null,null,null,"343274",3432,74,"Werner","Raue","Werner Raue",62]
[null,null,null,"3432119",3432,119,"Bernhard","Kalbfleisch","Bernhard Kalbfleisch",50]
[null,null,null,"3432121",3432,121,"Olaf","Lenker","Olaf Lenker",50]
[null,null,null,"3432127",3432,127,"Thomas","Huehn","Thomas Huehn",50]
[null,null,null,"3432146",3432,146,"Manuela","Schmermund","Manuela Schmermund",93]
[null,null,null,"3432147",3432,147,"Silke","Matthäus","Silke Matthäus",11]
[null,null,null,"3432153",3432,153,"Jens","Weiffenbach","Jens Weiffenbach",10]
[null,null,null,"3432201",3432,201,"Heinrich","Nuhn","Heinrich Nuhn",60]
[null,null,null,"3432204",3432,204,"Marco","Franke","Marco Franke",10]
[null,null,null,"3432205",3432,205,"Andreas","Thamer","Andreas Thamer",10]
[null,null,null,"3432216",3432,216,"Christian","Mügge","Christian Mügge",10]
[null,null,null,"3432224",3432,224,"Jörg","Matthäus","Jörg Matthäus",50]
[null,null,null,"3432236",3432,236,"Michelle","Horst","Michelle Horst",11]
[null,null,null,"3432244",3432,244,"Dieter","Kuske","Dieter Kuske",62]
[null,null,null,"3432248",3432,248,"Monika","Görlich","Monika Görlich",11]
[null,null,null,"3432266",3432,266,"Nadine","Weiffenbach","Nadine Weiffenbach",11]
[null,null,null,"3432291",3432,291,"Stefanie","Lenker","Stefanie Lenker",11]
[null,null,null,"3432299",3432,299,"Sarah","Weiffenbach","Sarah Weiffenbach",11]
[null,null,null,"3432325",3432,325,"Wolfgang","Bolender","Wolfgang Bolender",60]
[null,null,null,"3432329",3432,329,"Kai-Dan","Dischert","Kai-Dan Dischert",50]
[null,null,null,"3432346",3432,346,"Kenneth","Parr","Kenneth Parr",10]
[null,null,null,"3432347",3432,347,"Dieter","Gieseke","Dieter Gieseke",62]
[null,null,null,{"$f":"E707&F707","v":"3432348"},3432,348,"Sandra","Harich",{"$f":"G707 & \" \" & H707","v":"Sandra Harich"},11]
[null,null,null,"3432350",3432,350,"Maximilian","Lenker","Maximilian Lenker",20]
[null,null,null,"3432351",3432,351,"Simon","Lenker","Simon Lenker",20]
[null,null,null,"3432352",3432,352,"Sophia","Kellner","Sophia Kellner",43]
[null,null,null,"3432355",3432,355,"Željko","Moicevic","Željko Moicevic",10]
[null,null,null,"3432363",3432,363,"Fabian","Mangold","Fabian Mangold",42]
[null,null,null,"3432365",3432,365,"Jan","Lochbihler","Jan Lochbihler",10]
[null,null,null,"3432368",3432,368,"Maximilian","Stöcklein","Maximilian Stöcklein",30]
[null,null,null,"3432370",3432,370,"Lena","Dischert","Lena Dischert",21]
[null,null,null,"3432371",3432,371,"Hanna","Dischert","Hanna Dischert",43]
[null,null,null,"3432372",3432,372,"Fee","Albusberger","Fee Albusberger",21]
[null,null,null,"3432373",3432,373,"Sandra","Hoßbach- Mangold","Sandra Hoßbach- Mangold",11]
[null,null,null,"3432384",3432,384,"Pavel","Dakin","Pavel Dakin",10]
[null,null,null,"34344",3434,4,"Guenter","Bock","Guenter Bock",60]
[null,null,null,"34347",3434,7,"Hartmut","Bock","Hartmut Bock",50]
[null,null,null,"343412",3434,12,"Gerhard","Fischer","Gerhard Fischer",62]
[null,null,null,"343446",3434,46,"Werner","Heiderich","Werner Heiderich",60]
[null,null,null,"343448",3434,48,"Manfred","Mannel","Manfred Mannel",60]
[null,null,null,"343457",3434,57,"Jürgen","Sippel","Jürgen Sippel",60]
[null,null,null,"343476",3434,76,"Volker","Bock","Volker Bock",50]
[null,null,null,"343477",3434,77,"Peter","Bücking","Peter Bücking",50]
[null,null,null,"343480",3434,80,"Stefan","Mannel","Stefan Mannel",50]
[null,null,null,"343482",3434,82,"Ulrike","Heiderich","Ulrike Heiderich",51]
[null,null,null,"343485",3434,85,"Ursula","Winter","Ursula Winter",61]
[null,null,null,"343492",3434,92,"Susanne","Christ","Susanne Christ",11]
[null,null,null,"343493",3434,93,"Klaus Dieter","Steinwachs","Klaus Dieter Steinwachs",60]
[null,null,null,"343494",3434,94,"Matthias","Mannel","Matthias Mannel",10]
[null,null,null,"343495",3434,95,"Stefan","Sippel","Stefan Sippel",10]
[null,null,null,"343496",3434,96,"Michael","Wolf","Michael Wolf",10]
[null,null,null,"3434100",3434,100,"Mark","Heinemann","Mark Heinemann",10]
[null,null,null,"3434101",3434,101,"Claudia","Sippel","Claudia Sippel",11]
[null,null,null,"3434103",3434,103,"Patrick","Christ","Patrick Christ",10]
[null,null,null,"3434106",3434,106,"Anna","Sippel","Anna Sippel",11]
[null,null,null,"3434107",3434,107,"Anastasia","Mannel","Anastasia Mannel",21]
[null,null,null,"34359",3435,9,"Peter","Dietrich","Peter Dietrich",62]
[null,null,null,"343515",3435,15,"Wolfgang","Isbaner","Wolfgang Isbaner",62]
[null,null,null,"343518",3435,18,"Heinrich","Kirschner","Heinrich Kirschner",62]
[null,null,null,"343533",3435,33,"Juergen","Nennstiel","Juergen Nennstiel",60]
[null,null,null,"3435143",3435,143,"Karl","Strube","Karl Strube",62]
[null,null,null,"3435188",3435,188,"Kai","Strube","Kai Strube",10]
[null,null,null,"3435189",3435,189,"Manfred","Pilz","Manfred Pilz",62]
[null,null,null,"3435283",3435,283,"Timo","Mattukat","Timo Mattukat",10]
[null,null,null,"3435296",3435,296,"Wilfried","Stippich","Wilfried Stippich",62]
[null,null,null,"3435304",3435,304,"Frank","Wolf","Frank Wolf",60]
[null,null,null,"3435305",3435,305,"Gerhardt","Voll","Gerhardt Voll",60]
[null,null,null,"3435324",3435,324,"Thomas","Schwarz","Thomas Schwarz",10]
[null,null,null,"3435368",3435,368,"Erwin","Salzmann","Erwin Salzmann",62]
[null,null,null,"3435372",3435,372,"Marco","Gansen","Marco Gansen",10]
[null,null,null,"3435381",3435,381,"Natascha","Hiltrop","Natascha Hiltrop",93]
[null,null,null,"3435382",3435,382,"Robin","Hiltrop","Robin Hiltrop",10]
[null,null,null,"3435384",3435,384,"Uwe","Funke","Uwe Funke",60]
[null,null,null,"3435401",3435,401,"Jürgen","Reichardt","Jürgen Reichardt",60]
[null,null,null,"3435406",3435,406,"Marion","Reichardt","Marion Reichardt",51]
[null,null,null,"3435421",3435,421,"Bernd","Stein","Bernd Stein",50]
[null,null,null,"3435429",3435,429,"Michael","Otto","Michael Otto",50]
[null,null,null,"3435432",3435,432,"Uwe","Schäffler","Uwe Schäffler",50]
[null,null,null,"3435433",3435,433,"Marco","Klemenz","Marco Klemenz",10]
[null,null,null,"3435434",3435,434,"Fabian","Tobi","Fabian Tobi",10]
[null,null,null,"3435435",3435,435,"Matthias","Helke","Matthias Helke",10]
[null,null,null,"3435436",3435,436,"Melanie","Helke","Melanie Helke",11]
[null,null,null,"3435437",3435,437,"Udo","Fritsch","Udo Fritsch",50]
[null,null,null,"3435439",3435,439,"Lars","Reinmüller","Lars Reinmüller",10]
[null,null,null,"3435440",3435,440,"Silke","Otto","Silke Otto",11]
[null,null,null,"3435441",3435,441,"Fabian","Otto","Fabian Otto",30]
[null,null,null,{"$f":"E771&F771","v":"3435444"},3435,444,"Dunja","Finkler",{"$f":"G771 & \" \" & H771","v":"Dunja Finkler"},51]
[null,null,null,"3435445",3435,445,"Gerhard","Schlegaites","Gerhard Schlegaites",62]
[null,null,null,"3435446",3435,446,"Ulrich","Ißleib","Ulrich Ißleib",60]
[null,null,null,"3435447",3435,447,"Michael","Greiner","Michael Greiner",60]
[null,null,null,"3435449",3435,449,"Steven","Seiler","Steven Seiler",30]
[null,null,null,"3435458",3435,458,"Cedric","Strube","Cedric Strube",42]
[null,null,null,"3435461",3435,461,"Tobias","Knittel","Tobias Knittel",40]
[null,null,null,"3435465",3435,465,"Helmut","Strube","Helmut Strube",10]
[null,null,null,"3435466",3435,466,"Klaus","Kähler","Klaus Kähler",50]
[null,null,null,"3435476",3435,476,"Meinhard","Hose","Meinhard Hose",50]
[null,null,null,"3435478",3435,478,"Andre-Eric","Apel","Andre-Eric Apel",42]
[null,null,null,"3435484",3435,484,"Luca","Hartmann","Luca Hartmann",30]
[null,null,null,"3435489",3435,489,"Alexander","Erb","Alexander Erb",10]
[null,null,null,"3435492",3435,492,"Svenja","Koch","Svenja Koch",43]
[null,null,null,"3435497",3435,497,"Hartmut","Röth","Hartmut Röth",92]
[null,null,null,"3435498",3435,498,"Erika","Röth","Erika Röth",61]
[null,null,null,"3435502",3435,502,"Max","Sandrock","Max Sandrock",20]
[null,null,null,"3435503",3435,503,"Joschua-Noah","Konrad","Joschua-Noah Konrad",30]
[null,null,null,"3435513",3435,513,"Marvin","Klemenz","Marvin Klemenz",30]
[null,null,null,"3435514",3435,514,"Wolfgang","Anders","Wolfgang Anders",60]
[null,null,null,"3435520",3435,520,"Beate","Buschbacher","Beate Buschbacher",61]
[null,null,null,"3435521",3435,521,"Daniel","Hänel","Daniel Hänel",42]
[null,null,null,"3435526",3435,526,"Günther","Reclik","Günther Reclik",50]
[null,null,null,"3435530",3435,530,"Andreas","Teichmüller","Andreas Teichmüller",10]
[null,null,null,"343849",3438,49,"Udo","Wolf","Udo Wolf",50]
[null,null,null,"343879",3438,79,"Bernd","Trieschmann","Bernd Trieschmann",62]
[null,null,null,"3438102",3438,102,"Carsten","Werner","Carsten Werner",50]
[null,null,null,"3438127",3438,127,"Helmut","Walter","Helmut Walter",62]
[null,null,null,"3438167",3438,167,"Stefan","Thenert","Stefan Thenert",10]
[null,null,null,"3438170",3438,170,"Thomas","Moetzing","Thomas Moetzing",50]
[null,null,null,"343927",3439,27,"Lothar","Ficke","Lothar Ficke",60]
[null,null,null,"343938",3439,38,"Wolfgang","Heger","Wolfgang Heger",62]
[null,null,null,"343946",3439,46,"Beate","Ficke","Beate Ficke",51]
[null,null,null,"343963",3439,63,"Juergen","Lauer","Juergen Lauer",62]
[null,null,null,"343967",3439,67,"Georg","Maehler","Georg Maehler",62]
[null,null,null,"343986",3439,86,"Heinz-Juergen","Ries","Heinz-Juergen Ries",60]
[null,null,null,"3439128",3439,128,"Max","Wentzlik","Max Wentzlik",62]
[null,null,null,"3439175",3439,175,"Thomas","Vollmer","Thomas Vollmer",50]
[null,null,null,"3439184",3439,184,"Roland","Hutter","Roland Hutter",50]
[null,null,null,"3439214",3439,214,"Stefan","Saam","Stefan Saam",10]
[null,null,null,"3439237",3439,237,"Volker","Weiß","Volker Weiß",60]
[null,null,null,"3439251",3439,251,"Cornelia","Kaufmann","Cornelia Kaufmann",11]
[null,null,null,"3439316",3439,316,"Sascha","Reinhardt","Sascha Reinhardt",10]
[null,null,null,"3439317",3439,317,"Maximilian","Ries","Maximilian Ries",10]
[null,null,null,"3439318",3439,318,"Mario","Stephan","Mario Stephan",10]
[null,null,null,"3439343",3439,343,"Oliver","Kaufmann","Oliver Kaufmann",10]
[null,null,null,"3439352",3439,352,"Luka Tobias","Heyer","Luka Tobias Heyer",20]
[null,null,null,"3439353",3439,353,"Maik","Heyer","Maik Heyer",10]
[null,null,null,"3439364",3439,364,"Neil","Herwig","Neil Herwig",20]
[null,null,null,"3439365",3439,365,"Leon","Heyer","Leon Heyer",20]
[null,null,null,"34404",3440,4,"Otto","Schön","Otto Schön",62]
[null,null,null,"34407",3440,7,"Ernst","Reimer","Ernst Reimer",62]
[null,null,null,"344012",3440,12,"Hans","Buchmann","Hans Buchmann",62]
[null,null,null,"344013",3440,13,"Wolfgang","Rothe","Wolfgang Rothe",62]
[null,null,null,"344017",3440,17,"Horst","Kraushaar","Horst Kraushaar",62]
[null,null,null,"344078",3440,78,"Michael","Lange","Michael Lange",50]
[null,null,null,"344087",3440,87,"Peter","Deiß","Peter Deiß",50]
[null,null,null,"3440102",3440,102,"Rainer","Fischer","Rainer Fischer",60]
[null,null,null,"3440117",3440,117,"Peter","Fiebig","Peter Fiebig",50]
[null,null,null,"3440175",3440,175,"Christoph","Möller","Christoph Möller",10]
[null,null,null,"3440176",3440,176,"Jan","Möller","Jan Möller",10]
[null,null,null,"3440184",3440,184,"Hartmut","Höfer","Hartmut Höfer",60]
[null,null,null,"3440195",3440,195,"Vanessa","Brauner","Vanessa Brauner",11]
[null,null,null,"3440196",3440,196,"Johannes","Heimeroth","Johannes Heimeroth",10]
[null,null,null,{"$f":"E835&F835","v":"3440201"},3440,201,"Thorsten","Strack",{"$f":"G835 & \" \" & H835","v":"Thorsten Strack"},50]
[null,null,null,"3440208",3440,208,"Katja","Jost-Hebel","Katja Jost-Hebel",11]
[null,null,null,"3440244",3440,244,"Tobias","Joachimsmeyer","Tobias Joachimsmeyer",30]
[null,null,null,"3440245",3440,245,"Yannick","Winkels","Yannick Winkels",30]
[null,null,null,"3440246",3440,246,"Julian","Schneider","Julian Schneider",20]
[null,null,null,"3440247",3440,247,"Frank","Winkels","Frank Winkels",50]
[null,null,null,"3440248",3440,248,"Heiko","Schneider","Heiko Schneider",10]
[null,null,null,"3440250",3440,250,"Christina","Nennstiel","Christina Nennstiel",31]
[null,null,null,"3440251",3440,251,"Florian","Trümner","Florian Trümner",20]
[null,null,null,"3440252",3440,252,"Lukas","Landsiedel","Lukas Landsiedel",30]
[null,null,null,"3440256",3440,256,"Niklas","Heiderich","Niklas Heiderich",30]
[null,null,null,"3441352",3441,352,"Hubert","Dischert","Hubert Dischert",62]
[null,null,null,"3441388",3441,388,"Reinhold","Breunig","Reinhold Breunig",62]
[null,null,null,"3441487",3441,487,"Olaf","Weise","Olaf Weise",50]
[null,null,null,"3441490",3441,490,"Christian","Breunig","Christian Breunig",10]
[null,null,null,"3441491",3441,491,"Wilhelm","Glebe","Wilhelm Glebe",60]
[null,null,null,"3441513",3441,513,"Stephan","Rüger","Stephan Rüger",10]
[null,null,null,"3441525",3441,525,"Dominik","Dahchour","Dominik Dahchour",10]
[null,null,null,"3441536",3441,536,"Martin","Schroers","Martin Schroers",50]
[null,null,null,"3441604",3441,604,"Volker","Battenberg","Volker Battenberg",60]
[null,null,null,"3441605",3441,605,"Markus","Mihm","Markus Mihm",10]
[null,null,null,"3441615",3441,615,"Erich","Meyer","Erich Meyer",62]
[null,null,null,"3441632",3441,632,"Michael","Ebert","Michael Ebert",10]
[null,null,null,"3441634",3441,634,"Ralf","Neumeyer","Ralf Neumeyer",50]
[null,null,null,"3441637",3441,637,"Dirk","Schumann","Dirk Schumann",10]
[null,null,null,"3441639",3441,639,"Brigitte","Cendelin","Brigitte Cendelin",51]
[null,null,null,"3441640",3441,640,"Günter","Cendelin","Günter Cendelin",60]
[null,null,null,"3441641",3441,641,"Jan","Battenberg","Jan Battenberg",10]
[null,null,null,"3441642",3441,642,"Litafete","Gliem","Litafete Gliem",61]
[null,null,null,"3441643",3441,643,"Kevin","Maas","Kevin Maas",10]
[null,null,null,"3441644",3441,644,"Michelle","Stämmler","Michelle Stämmler",11]
[null,null,null,"3441645",3441,645,"Veronika","Mölbert","Veronika Mölbert",11]
[null,null,null,"3441646",3441,646,"Melissa","Spengler","Melissa Spengler",11]
[null,null,null,"3441647",3441,647,"Alexander","Nacarenus","Alexander Nacarenus",10]
[null,null,null,"3441648",3441,648,"Sebastian","Auel","Sebastian Auel",10]
[null,null,null,"3441649",3441,649,"Jakob","Frisen","Jakob Frisen",50]
[null,null,null,"3441650",3441,650,"Sebastian","Becker","Sebastian Becker",10]
[null,null,null,"3441651",3441,651,"Alexander","Brehm","Alexander Brehm",10]
[null,null,null,"3441653",3441,653,"Regina","Breunig","Regina Breunig",61]
[null,null,null,"3441654",3441,654,"Petra","Battenberg","Petra Battenberg",61]
[null,null,null,"3441655",3441,655,"Ramona","Schlosser-Schilling","Ramona Schlosser-Schilling",51]
[null,null,null,"3441656",3441,656,"Dagmar","Franke","Dagmar Franke",11]
[null,null,null,"34421",3442,1,"Bernd","Heidler","Bernd Heidler",50]
[null,null,null,"34427",3442,7,"Adam","Rübenstahl","Adam Rübenstahl",60]
[null,null,null,"344215",3442,15,"Hans-Heinrich","Döring","Hans-Heinrich Döring",50]
[null,null,null,"344219",3442,19,"Peter","Manns","Peter Manns",60]
[null,null,null,"344234",3442,34,"Ludwig","Schwalm","Ludwig Schwalm",62]
[null,null,null,"344238",3442,38,"Dieter","Karpenstein","Dieter Karpenstein",62]
[null,null,null,"344245",3442,45,"Arnd","Heidler","Arnd Heidler",50]
[null,null,null,"344251",3442,51,"Gerhard","Rübenstahl","Gerhard Rübenstahl",50]
[null,null,null,"344260",3442,60,"Michael","Rübenstahl","Michael Rübenstahl",10]
[null,null,null,"344273",3442,73,"Reinhard","Sendler","Reinhard Sendler",62]
[null,null,null,"3442121",3442,121,"Erich","Lotz","Erich Lotz",50]
[null,null,null,"3442139",3442,139,"Mario","Rübenstahl","Mario Rübenstahl",10]
[null,null,null,"3442141",3442,141,"Gerald","Ritz","Gerald Ritz",50]
[null,null,null,"3442153",3442,153,"Horst","Rüger","Horst Rüger",60]
[null,null,null,"3442182",3442,182,"Tobias","Bube","Tobias Bube",10]
[null,null,null,"3442184",3442,184,"Dennis","Trost","Dennis Trost",10]
[null,null,null,"3442194",3442,194,"Sandra","Bube","Sandra Bube",11]
[null,null,null,"3442195",3442,195,"Patrick","Löffler","Patrick Löffler",10]
[null,null,null,"34445",3444,5,"Helmut","Pfromm","Helmut Pfromm",60]
[null,null,null,"34447",3444,7,"Wolfgang","Gutbertlet","Wolfgang Gutbertlet",60]
[null,null,null,"344410",3444,10,"Adam","Rosenstock","Adam Rosenstock",62]
[null,null,null,"344412",3444,12,"Gerhard","Pfromm","Gerhard Pfromm",60]
[null,null,null,{"$f":"E899&F899","v":"344415"},3444,15,"Heinrich","Both",{"$f":"G899 & \" \" & H899","v":"Heinrich Both"},62]
[null,null,null,"344430",3444,30,"Markus","Bierwirt","Markus Bierwirt",10]
[null,null,null,"344436",3444,36,"Reinhard","Orth","Reinhard Orth",60]
[null,null,null,"344440",3444,40,"Joerg","Pfaff","Joerg Pfaff",10]
[null,null,null,"344453",3444,53,"Christoffer","Gutberlet","Christoffer Gutberlet",10]
[null,null,null,"344469",3444,69,"Andre","Pfromm","Andre Pfromm",10]
[null,null,null,"344470",3444,70,"Angelika","Orth","Angelika Orth",51]
[null,null,null,"344478",3444,78,"Petra","Rudolph","Petra Rudolph",51]
[null,null,null,"344484",3444,84,"Marcel","Nied","Marcel Nied",10]
[null,null,null,"344486",3444,86,"Stefan","Diehl","Stefan Diehl",50]
[null,null,null,"344494",3444,94,"Christoph","Landsiedel","Christoph Landsiedel",10]
[null,null,null,"3444101",3444,101,"Annika","Jost","Annika Jost",11]
[null,null,null,"3444104",3444,104,"Bianca","Orth","Bianca Orth",11]
[null,null,null,"3444112",3444,112,"Marina","Gebauer","Marina Gebauer",11]
[null,null,null,"3444122",3444,122,"Leopold","Kunert","Leopold Kunert",42]
[null,null,null,"3444123",3444,123,"Kajetan","Kunert","Kajetan Kunert",40]
[null,null,null,"3444127",3444,127,"Niklas","Eckhardt","Niklas Eckhardt",40]
[null,null,null,"3444129",3444,129,"Lukas","Ceschan","Lukas Ceschan",10]
[null,null,null,"3444132",3444,132,"Ann-Kathrin","Fischer","Ann-Kathrin Fischer",41]
[null,null,null,"3444136",3444,136,"Peter","Kircher","Peter Kircher",42]
[null,null,null,"3444137",3444,137,"Tom","Pietrak","Tom Pietrak",42]
[null,null,null,"3444139",3444,139,"Justin","Zweydorff von","Justin Zweydorff von",30]
[null,null,null,"3445195",3445,195,"Jürgen","Hellwig","Jürgen Hellwig",60]
[null,null,null,"3445288",3445,288,"Bernd","Schmidt","Bernd Schmidt",50]
[null,null,null,"3445378",3445,378,"Peter","Nieding","Peter Nieding",50]
[null,null,null,"3445381",3445,381,"Barney","Kurz","Barney Kurz",62]
[null,null,null,"3445382",3445,382,"Peter","Schneider","Peter Schneider",50]
[null,null,null,"3445396",3445,396,"Karl","Gretscher","Karl Gretscher",60]
[null,null,null,"3445403",3445,403,"Dieter","Gallinger","Dieter Gallinger",60]
[null,null,null,"3445404",3445,404,"David","Tracy","David Tracy",50]
[null,null,null,"3445412",3445,412,"Daniel","Mitteis","Daniel Mitteis",10]
[null,null,null,"3445414",3445,414,"Mike","Schneider","Mike Schneider",10]
[null,null,null,"3445415",3445,415,"Jörg","Eidt","Jörg Eidt",10]
[null,null,null,"3445419",3445,419,"Armin","Czerny","Armin Czerny",62]
[null,null,null,"3445420",3445,420,"Holger","Schandelmaier","Holger Schandelmaier",10]
[null,null,null,"3445424",3445,424,"Rolf","Gallinger","Rolf Gallinger",60]
[null,null,null,"34474",3447,4,"Udo","Maul","Udo Maul",60]
[null,null,null,"34476",3447,6,"Claus","Gerlach","Claus Gerlach",60]
[null,null,null,"344736",3447,36,"Andreas","Müller","Andreas Müller",10]
[null,null,null,"344762",3447,62,"Michael","Orth","Michael Orth",50]
[null,null,null,"344765",3447,65,"Birk","Schöberlein","Birk Schöberlein",10]
[null,null,null,"344770",3447,70,"Lisa","Meckbach","Lisa Meckbach",41]
[null,null,null,"34482",3448,2,"Markus","Bock","Markus Bock",10]
[null,null,null,"344819",3448,19,"Helmut","Jäger","Helmut Jäger",60]
[null,null,null,"344825",3448,25,"Eckhard","Pfannkuch","Eckhard Pfannkuch",60]
[null,null,null,"344827",3448,27,"Jens","Piper","Jens Piper",10]
[null,null,null,"344828",3448,28,"Lars","Piper","Lars Piper",10]
[null,null,null,"344829",3448,29,"Dirk","Ringler","Dirk Ringler",10]
[null,null,null,"344835",3448,35,"Uwe","Eidam","Uwe Eidam",10]
[null,null,null,"344836",3448,36,"Horst","Gimbel","Horst Gimbel",60]
[null,null,null,"344868",3448,68,"Martin","Jäger","Martin Jäger",10]
[null,null,null,"344872",3448,72,"Eva","Schneider","Eva Schneider",11]
[null,null,null,"344882",3448,82,"Nadja","Jäger","Nadja Jäger",11]
[null,null,null,"344892",3448,92,"Carina","Küchenmeister","Carina Küchenmeister",11]
[null,null,null,"344893",3448,93,"Adina","Gimbel","Adina Gimbel",11]
[null,null,null,"3448101",3448,101,"Marco","Eiche","Marco Eiche",10]
[null,null,null,"3448105",3448,105,"Johanna","Rexroth","Johanna Rexroth",11]
[null,null,null,"3448106",3448,106,"Daniel","Wittich","Daniel Wittich",10]
[null,null,null,"3448109",3448,109,"Katja","Sippel","Katja Sippel",11]
[null,null,null,"3448111",3448,111,"Lars","Weitz","Lars Weitz",10]
[null,null,null,"3448113",3448,113,"Lothar","Brill","Lothar Brill",60]
[null,null,null,"3448114",3448,114,"Anja","Ringler","Anja Ringler",11]
[null,null,null,"3448116",3448,116,"Anna-Lena","Vogt","Anna-Lena Vogt",11]
[null,null,null,"3448131",3448,131,"Jana","Reinmüller","Jana Reinmüller",11]
[null,null,null,{"$f":"E963&F963","v":"3448133"},3448,133,"Jan","Thielbeer",{"$f":"G963 & \" \" & H963","v":"Jan Thielbeer"},40]
[null,null,null,"3448134",3448,134,"Markus","Faulstich","Markus Faulstich",10]
[null,null,null,"3448137",3448,137,"Thomas","Winter","Thomas Winter",50]
[null,null,null,"3448139",3448,139,"Frank","Jäger","Frank Jäger",50]
[null,null,null,"3448140",3448,140,"Johannes","Jäger","Johannes Jäger",30]
[null,null,null,"3448144",3448,144,"Peter","Wald","Peter Wald",10]
[null,null,null,"3448145",3448,145,"Silvia","Wald","Silvia Wald",11]
[null,null,null,"3448146",3448,146,"Marc","Reinmüller","Marc Reinmüller",10]
[null,null,null,"3448149",3448,149,"Elena","Herbst","Elena Herbst",31]
[null,null,null,"3448150",3448,150,"Lukas","Herbst","Lukas Herbst",42]
[null,null,null,"3448151",3448,151,"Philipp","Roth","Philipp Roth",42]
[null,null,null,"3448158",3448,158,"Larissa","Lotz","Larissa Lotz",41]
[null,null,null,"3448167",3448,167,"Philipp","Löschner","Philipp Löschner",10]
[null,null,null,"34498",3449,8,"Fritz","Ickler","Fritz Ickler",60]
[null,null,null,"34499",3449,9,"Udo","Ickler","Udo Ickler",50]
[null,null,null,"344913",3449,13,"Marcel","Knott","Marcel Knott",10]
[null,null,null,"344927",3449,27,"Norman","Knott","Norman Knott",10]
[null,null,null,"344929",3449,29,"Alfred","Gierke","Alfred Gierke",62]
[null,null,null,"3402363",3402,363,"Karl","Kümmel","Karl Kümmel",60]
[null,null,null,"3402367",3402,367,"Jürgen","Zell","Jürgen Zell",50]
[null,null,null,"3403232",3403,232,"Oliver","Kaufmann","Oliver Kaufmann",10]
[null,null,null,"3403233",3403,233,"Sven","Heußner","Sven Heußner",10]
[null,null,null,"3403234",3403,234,"Daniel","Brandau","Daniel Brandau",10]
[null,null,null,"3403235",3403,235,"Luca","Fuchs","Luca Fuchs",10]
[null,null,null,"3403236",3403,236,"Nele","Fuchs","Nele Fuchs",31]
[null,null,null,"3403237",3403,237,"Kevin","Sauerstein","Kevin Sauerstein",42]
[null,null,null,"3403238",3403,238,"Marvin","Sauerstein","Marvin Sauerstein",30]
[null,null,null,"3403239",3403,239,"Thomas","Kurz","Thomas Kurz",10]
[null,null,null,"3403240",3403,240,"Lukas","Fey","Lukas Fey",10]
[null,null,null,"3403241",3403,241,"Philipp","Zirpel","Philipp Zirpel",10]
[null,null,null,"3403242",3403,242,"Jan","Heußner","Jan Heußner",10]
[null,null,null,"3403243",3403,243,"Fabian","Kurz","Fabian Kurz",42]
[null,null,null,"3403244",3403,244,"Rene","Rausch","Rene Rausch",42]
[null,null,null,"3403245",3403,245,"Helgo","Ruppel","Helgo Ruppel",10]
[null,null,null,"3403246",3403,246,"Jan-Hendrik","Schäfer","Jan-Hendrik Schäfer",40]
[null,null,null,"3404246",3404,246,"Jacqueline","Winkler","Jacqueline Winkler",11]
[null,null,null,"3404251",3404,251,"Dorothea","Heil","Dorothea Heil",41]
[null,null,null,"3404252",3404,252,"Constanze","Heil","Constanze Heil",41]
[null,null,null,"3404257",3404,257,"Georg","Gutberlet","Georg Gutberlet",10]
[null,null,null,"3404258",3404,258,"Jan","Heußner","Jan Heußner",10]
[null,null,null,"3404259",3404,259,"Sven","Heußner","Sven Heußner",10]
[null,null,null,"3404263",3404,263,"Daniel","Brandau","Daniel Brandau",10]
[null,null,null,"3404264",3404,264,"Luca","Fuchs","Luca Fuchs",10]
[null,null,null,"3404270",3404,270,"Philipp","Zirpel","Philipp Zirpel",10]
[null,null,null,"3404272",3404,272,"Lukas","Fey","Lukas Fey",10]
[null,null,null,"3404273",3404,273,"Oliver","Kaufmann","Oliver Kaufmann",10]
[null,null,null,"3404276",3404,276,"Markus","Hassler","Markus Hassler",10]
[null,null,null,"3404277",3404,277,"Christian","Eckhardt","Christian Eckhardt",10]
[null,null,null,"3405122",3405,122,"Wolfgang","Ide","Wolfgang Ide",62]
[null,null,null,"3405167",3405,167,"Christian","Mügge","Christian Mügge",10]
[null,null,null,"3405174",3405,174,"Johanna","Tripp","Johanna Tripp",31]
[null,null,null,"3405179",3405,179,"Marion","Reiting","Marion Reiting",11]
[null,null,null,"3405180",3405,180,"Jaqueline","Orth","Jaqueline Orth",11]
[null,null,null,"3405181",3405,181,"Mona","Heck","Mona Heck",31]
[null,null,null,"3409113",3409,113,"Adam","Rübenstahl","Adam Rübenstahl",60]
[null,null,null,"3411277",3411,277,"Arnd","Heidler","Arnd Heidler",50]
[null,null,null,"3411305",3411,305,"Ehrhard","Haas","Ehrhard Haas",62]
[null,null,null,"3411306",3411,306,"Peter","Kempf","Peter Kempf",50]
[null,null,null,"3411307",3411,307,"Franz","Kunze","Franz Kunze",62]
[null,null,null,"3411308",3411,308,"Florian","Modenbach","Florian Modenbach",10]
[null,null,null,"3411310",3411,310,"Helmut","Schwarz","Helmut Schwarz",60]
[null,null,null,"3411311",3411,311,"Lothar","Woyke","Lothar Woyke",60]
[null,null,null,"3411312",3411,312,"Cornelia","Kaufmann","Cornelia Kaufmann",11]
[null,null,null,"3411316",3411,316,"Dirk","Böhle","Dirk Böhle",50]
[null,null,null,{"$f":"E1027&F1027","v":"3411325"},3411,325,"Evelin","Haas",{"$f":"G1027 & \" \" & H1027","v":"Evelin Haas"},51]
[null,null,null,"3412156",3412,156,"Heiko","Baier","Heiko Baier",10]
[null,null,null,"3412258",3412,258,"Heinrich","Heupel","Heinrich Heupel",62]
[null,null,null,"3412270",3412,270,"Bernhard","Hennes","Bernhard Hennes",60]
[null,null,null,"3412273",3412,273,"Bernd","Schmidt","Bernd Schmidt",50]
[null,null,null,"3412284",3412,284,"Jörg","Bott","Jörg Bott",10]
[null,null,null,"3412305",3412,305,"Stefan","Eigenbrod","Stefan Eigenbrod",10]
[null,null,null,"3412323",3412,323,"Susanne","Scheuermann","Susanne Scheuermann",51]
[null,null,null,"3412329",3412,329,"Vanessa","Todt","Vanessa Todt",11]
[null,null,null,"3412330",3412,330,"Beatrix","Suck","Beatrix Suck",11]
[null,null,null,"3412332",3412,332,"Lisa","Thiel","Lisa Thiel",43]
[null,null,null,"3412333",3412,333,"Philip","Heyer","Philip Heyer",40]
[null,null,null,"3412338",3412,338,"Jana","Heck","Jana Heck",43]
[null,null,null,"3412342",3412,342,"Rainer","Fey","Rainer Fey",50]
[null,null,null,"3412343",3412,343,"Luisa","Günther","Luisa Günther",43]
[null,null,null,"3412344",3412,344,"Nico","Menz","Nico Menz",10]
[null,null,null,"3412347",3412,347,"Burkhard","Ross","Burkhard Ross",50]
[null,null,null,"3412348",3412,348,"Ulrich","Orth","Ulrich Orth",50]
[null,null,null,"3412357",3412,357,"Kornelia","Kratz","Kornelia Kratz",61]
[null,null,null,"3412358",3412,358,"Regina","Knoll","Regina Knoll",61]
[null,null,null,"3412360",3412,360,"Harald","Steinbrecher","Harald Steinbrecher",50]
[null,null,null,"3412361",3412,361,"Pamela","Bindel","Pamela Bindel",11]
[null,null,null,"3412364",3412,364,"Kathrin","Schmidt","Kathrin Schmidt",11]
[null,null,null,"3412369",3412,369,"Leila","Hoffmann","Leila Hoffmann",43]
[null,null,null,"3412370",3412,370,"Annika","Peters","Annika Peters",43]
[null,null,null,"3412371",3412,371,"Janine","Völker","Janine Völker",31]
[null,null,null,"3412372",3412,372,"Samantha","Ruch","Samantha Ruch",31]
[null,null,null,"3413182",3413,182,"Thomas","Kurz","Thomas Kurz",10]
[null,null,null,"3413183",3413,183,"lukas","Fey","lukas Fey",10]
[null,null,null,"3413184",3413,184,"Jan","Heußner","Jan Heußner",10]
[null,null,null,"3413185",3413,185,"Sven","Heußner","Sven Heußner",10]
[null,null,null,"3413186",3413,186,"Luca","Fuchs","Luca Fuchs",10]
[null,null,null,"3413187",3413,187,"Oliver","Kaufmann","Oliver Kaufmann",10]
[null,null,null,"3413188",3413,188,"Philipp","Zirpel","Philipp Zirpel",10]
[null,null,null,"3413189",3413,189,"Markus","Hassler","Markus Hassler",10]
[null,null,null,"3413190",3413,190,"Christian","Eckhardt","Christian Eckhardt",10]
[null,null,null,"3414164",3414,164,"Eva","Schneider","Eva Schneider",11]
[null,null,null,"3414180",3414,180,"Christoph","Braun","Christoph Braun",10]
[null,null,null,"3414181",3414,181,"Marc - Hendrik","Klee","Marc - Hendrik Klee",10]
[null,null,null,"3415170",3415,170,"Horst","Gilfert","Horst Gilfert",62]
[null,null,null,"3415174",3415,174,"Rainer","Bowien","Rainer Bowien",60]
[null,null,null,"3415177",3415,177,"Klaus","Ronkowski","Klaus Ronkowski",62]
[null,null,null,"3416225",3416,225,"Marc-Hendrik","Klee","Marc-Hendrik Klee",10]
[null,null,null,"3416227",3416,227,"Christoph","Braun","Christoph Braun",10]
[null,null,null,"3416233",3416,233,"Pamela","Bindel","Pamela Bindel",11]
[null,null,null,"3417251",3417,251,"Marcel","Nieding","Marcel Nieding",10]
[null,null,null,"3417253",3417,253,"Sven","Schmier","Sven Schmier",10]
[null,null,null,"3417266",3417,266,"Claudia","Kerstberger","Claudia Kerstberger",51]
[null,null,null,"3417268",3417,268,"Lars","Range","Lars Range",10]
[null,null,null,"3418108",3418,108,"Thomas","Schwarzer","Thomas Schwarzer",50]
[null,null,null,"3418180",3418,180,"Jochen","Seeliger","Jochen Seeliger",60]
[null,null,null,"3418185",3418,185,"Hans-Georg","Lotz","Hans-Georg Lotz",62]
[null,null,null,"3418186",3418,186,"Karl","Röder","Karl Röder",62]
[null,null,null,"341987",3419,87,"Kurt","Klingelhöfer","Kurt Klingelhöfer",60]
[null,null,null,"3419108",3419,108,"Klaus","Ronkowski","Klaus Ronkowski",62]
[null,null,null,"3419112",3419,112,"Gerd","Engelhardt","Gerd Engelhardt",62]
[null,null,null,"3419122",3419,122,"Dieter","Karpenstein","Dieter Karpenstein",62]
[null,null,null,"3421149",3421,149,"Susanne","Scheuermann","Susanne Scheuermann",51]
[null,null,null,"342298",3422,98,"Heiko","Faust","Heiko Faust",50]
[null,null,null,"3422138",3422,138,"Susanne","Scheuermann","Susanne Scheuermann",51]
[null,null,null,"3422150",3422,150,"Michael","Kratz","Michael Kratz",60]
[null,null,null,"3422151",3422,151,"Yvonne","Drews","Yvonne Drews",11]
[null,null,null,"3422157",3422,157,"Ulrich","Wenzel","Ulrich Wenzel",60]
[null,null,null,"3422162",3422,162,"Kathrin","Schmidt","Kathrin Schmidt",11]
[null,null,null,{"$f":"E1091&F1091","v":"3422171"},3422,171,"Günther","Wagner",{"$f":"G1091 & \" \" & H1091","v":"Günther Wagner"},62]
[null,null,null,"3424147",3424,147,"Mike","Völker","Mike Völker",50]
[null,null,null,"3424177",3424,177,"Nina","Ruppel","Nina Ruppel",11]
[null,null,null,"3424179",3424,179,"Helgo","Ruppel","Helgo Ruppel",10]
[null,null,null,"3424180",3424,180,"Jacqueline","Winkler","Jacqueline Winkler",11]
[null,null,null,"3424181",3424,181,"Heiko","Ogger","Heiko Ogger",50]
[null,null,null,"3424182",3424,182,"Cornelia","Kaufmann","Cornelia Kaufmann",11]
[null,null,null,"3424186",3424,186,"Daniel","Brandau","Daniel Brandau",10]
[null,null,null,"3424187",3424,187,"Markus","Hassler","Markus Hassler",10]
[null,null,null,"3424190",3424,190,"Thomas","Kurz","Thomas Kurz",10]
[null,null,null,"3424191",3424,191,"Fabian","Kurz","Fabian Kurz",42]
[null,null,null,"3424193",3424,193,"Rene","Rausch","Rene Rausch",42]
[null,null,null,"3424194",3424,194,"Oliver","Kaufmann","Oliver Kaufmann",10]
[null,null,null,"3424195",3424,195,"Daniel","Schwarz","Daniel Schwarz",42]
[null,null,null,"3424196",3424,196,"Jannik","Schwarz","Jannik Schwarz",30]
[null,null,null,"3424197",3424,197,"Lothar","Ficke","Lothar Ficke",60]
[null,null,null,"3424198",3424,198,"Volker","Weiß","Volker Weiß",60]
[null,null,null,"3424199",3424,199,"Jan-Hendrik","Schäfer","Jan-Hendrik Schäfer",40]
[null,null,null,"3424200",3424,200,"Lena","Nieding","Lena Nieding",21]
[null,null,null,"3424201",3424,201,"Christian","Eckhardt","Christian Eckhardt",10]
[null,null,null,"3424202",3424,202,"Jonas","Schwarz","Jonas Schwarz",20]
[null,null,null,"3426289",3426,289,"Natascha","Hermann","Natascha Hermann",11]
[null,null,null,"3426380",3426,380,"Pamela","Bindel","Pamela Bindel",11]
[null,null,null,"3426395",3426,395,"Georg","Hebeler","Georg Hebeler",62]
[null,null,null,"3426420",3426,420,"Hartmut","Höfer","Hartmut Höfer",60]
[null,null,null,"3426423",3426,423,"Selina","Kraus","Selina Kraus",11]
[null,null,null,"3426432",3426,432,"Fabienne","Appel","Fabienne Appel",41]
[null,null,null,"3426448",3426,448,"Annika","Peters","Annika Peters",43]
[null,null,null,"3426449",3426,449,"Philip","Scholz","Philip Scholz",30]
[null,null,null,"3429175",3429,175,"Peter","Weber","Peter Weber",62]
[null,null,null,"3429176",3429,176,"Reinhard","Sendler","Reinhard Sendler",62]
[null,null,null,"3429179",3429,179,"Hans-Heinrich","Döring","Hans-Heinrich Döring",50]
[null,null,null,"3429190",3429,190,"Peter","Kempf","Peter Kempf",50]
[null,null,null,"3429262",3429,262,"Dirk","Böhle","Dirk Böhle",50]
[null,null,null,"3430262",3430,262,"Helmut","Walter","Helmut Walter",62]
[null,null,null,"3431110",3431,110,"Engelbert","Knaus","Engelbert Knaus",62]
[null,null,null,"3432226",3432,226,"Jörg","Bickel","Jörg Bickel",62]
[null,null,null,"3432310",3432,310,"Patrick","Seyfarth","Patrick Seyfarth",10]
[null,null,null,"3432316",3432,316,"Kirsti","Rieckhoff","Kirsti Rieckhoff",11]
[null,null,null,"3432333",3432,333,"Jaqueline","Orth","Jaqueline Orth",11]
[null,null,null,"3432339",3432,339,"Lukas","Schade ","Lukas Schade ",10]
[null,null,null,"3432344",3432,344,"Tobias","Göbel","Tobias Göbel",10]
[null,null,null,"3432366",3432,366,"Tamara","Gabriel","Tamara Gabriel",11]
[null,null,null,"3432380",3432,380,"Pamela","Bindel","Pamela Bindel",11]
[null,null,null,"3432381",3432,381,"Marion","Reiting","Marion Reiting",11]
[null,null,null,"3432383",3432,383,"Andreas","Harich","Andreas Harich",10]
[null,null,null,"3435269",3435,269,"Eckhard","Pfannkuch","Eckhard Pfannkuch",60]
[null,null,null,"3435386",3435,386,"Helmut","Gebauer","Helmut Gebauer",62]
[null,null,null,"3435443",3435,443,"Reinhard","Orth","Reinhard Orth",60]
[null,null,null,"3439346",3439,346,"Manuela","Gernart","Manuela Gernart",11]
[null,null,null,"3439347",3439,347,"Anke","Nieding","Anke Nieding",11]
[null,null,null,"3439348",3439,348,"Melanie","Heidler","Melanie Heidler",11]
[null,null,null,"3439349",3439,349,"Daniel","Brandau","Daniel Brandau",10]
[null,null,null,"3439351",3439,351,"Lars","Piper","Lars Piper",10]
[null,null,null,"3439354",3439,354,"Thomas","Kurz","Thomas Kurz",10]
[null,null,null,"3439355",3439,355,"Luca","Fuchs","Luca Fuchs",10]
[null,null,null,"3439356",3439,356,"Nina","Ruppel","Nina Ruppel",11]
[null,null,null,"3439357",3439,357,"Jan","Heußner","Jan Heußner",10]
[null,null,null,"3439358",3439,358,"Sven","Heußner","Sven Heußner",10]
[null,null,null,"3439359",3439,359,"Jacqueline","Winkler","Jacqueline Winkler",11]
[null,null,null,"3439360",3439,360,"Philipp","Zirpel","Philipp Zirpel",10]
[null,null,null,"3439361",3439,361,"Heiko","Bätz","Heiko Bätz",10]
[null,null,null,"3439362",3439,362,"Klaus","Heußner","Klaus Heußner",60]
[null,null,null,"3439363",3439,363,"Lothar","Reschke","Lothar Reschke",60]
[null,null,null,{"$f":"E1155&F1155","v":"3448129"},3448,129,"Nico","Mausehund",{"$f":"G1155 & \" \" & H1155","v":"Nico Mausehund"},10]
[null,null,null,"3448148",3448,148,"Ehrenfried","Heyer","Ehrenfried Heyer",60]
[null,null,null,"344930",3449,30,"Matthias","Orth","Matthias Orth",50]
[null,null,null,"344936",3449,36,"Barney","Kurz","Barney Kurz",62]
[null,null,null,"344938",3449,38,"Daniel","Mitteis","Daniel Mitteis",10]

{"sheet":"WK_Druck","index":20,"n_rows":38,"n_cols":8,"rows_kept":38,"cut":false,"hidden":false,"merged":[[0,1,1,5],[3,1,3,2],[3,5,3,6],[13,1,13,2],[13,5,13,6],[43,1,43,2],[33,1,33,2],[23,5,23,6],[23,1,23,2],[32,4,32,7],[37,0,37,1]]}
[null,"Vordruck"]
[]
[]
["Mannschaft","Willingshain",null,null,"Mannschaft","Hattenbach"]
[]
["Vorname","Name","Ergebnis",null,"Vorname","Name","Ergebnis"]
[]
[]
[]
[null,null,null,"Res."]
[null,"Gesamt",{"$f":"SUM($C$7:$C$9)","v":0},null,null,"Gesamt",{"$f":"SUM($G$7:$G$9)","v":0}]
[]
[]
["Mannschaft","Stärklos",null,null,"Mannschaft","Hersfeld"]
[]
["Vorname","Name","Ergebnis",null,"Vorname","Name","Ergebnis"]
[]
[]
[]
[null,null,null,"Res."]
[null,"Gesamt",{"$f":"SUM($C$17:$C$19)","v":0},null,null,"Gesamt",{"$f":"SUM($G$17:$G$19)","v":0}]
[]
[]
["Mannschaft","Hilmes",null,null,"Mannschaft","Meckbach"]
[]
["Vorname","Name","Ergebnis",null,"Vorname","Name","Ergebnis"]
[]
[]
[]
[null,null,null,"Res."]
[null,"Gesamt",{"$f":"SUM($C$27:$C$29)","v":0},null,null,"Gesamt",{"$f":"SUM($G$27:$G$29)","v":0}]
[]
[null,null,null,null,"Tabelle"]
[null,null,null,null,"Mannschaft","Ergebnis","Platz","Punkte"]
[]
[]
[]
["Austragungsort:",null,"Stärklos"]

{"sheet":"Scheibennummern","index":21,"n_rows":46,"n_cols":11,"rows_kept":46,"cut":false,"hidden":false,"merged":[[38,5,41,6],[42,5,45,6],[14,5,17,6],[18,5,21,6],[22,5,25,6],[26,5,29,6],[30,5,33,6],[34,5,37,6],[4,10,5,11],[4,5,4,6],[6,5,9,6],[10,5,13,6],[0,1,1,5]]}
[null,"Scheibennummern"]
[]
[]
[]
["Von","Bis","Passnr.","Vorname","Nachname","Verein",null,null,null,null,5]
[]
[56266,{"$f":"IF($K$5=10,A7+3,IF($K$5=5,A7+7,\"Fehler!\"))","v":56273},null,null,null,{"$f":"Mannschaft1","v":"Hersfeld"}]
[{"$f":"B7+1","v":56274},56281]
[{"$f":"B8+1","v":56282},56289]
[56290,56297]
[56298,56305,null,null,null,{"$f":"Mannschaft2","v":"Stärklos"}]
[56306,56313]
[56314,56321]
[56322,56329]
[56330,56337,null,null,null,{"$f":"Mannschaft3","v":"Obergeis"}]
[56338,56345]
[56346,56353]
[56354,56361]
[56362,56369,null,null,null,{"$f":"Mannschaft4","v":"Unterhaun/Friedewald"}]
[56370,56377]
[56378,56385]
[56386,56393]
[56394,56401,null,null,null,{"$f":"Mannschaft5","v":0}]
[56402,56409]
[56410,56417]
[56418,56425]
[56426,56433,null,null,null,{"$f":"Mannschaft6","v":0}]
[56434,56441]
[56442,56449]
[133951,133970]
[56458,56465,null,null,null,{"$f":"Mannschaft7","v":0}]
[56466,56473]
[56474,56481]
[56482,56489]
[56490,56497,null,null,null,{"$f":"Mannschaft8","v":0}]
[56498,56505]
[56506,56513]
[56514,56521]
[56522,56529,null,null,null,{"$f":"Mannschaft9","v":0}]
[56530,56537]
[56538,56545]
[56546,56553]
[56554,56561,null,null,null,"Reserve"]
[56562,56569]
[56570,56577]
[56578,56585]

{"sheet":"Finale","index":22,"n_rows":17,"n_cols":16,"rows_kept":17,"cut":false,"hidden":false,"merged":[[4,14,5,14],[4,15,5,15],[0,0,1,15],[4,1,5,1],[4,10,5,10],[4,11,5,11],[4,12,5,12],[4,3,5,3],[4,4,5,4],[4,5,5,5],[4,6,5,6],[4,7,5,7],[4,8,5,8],[4,9,5,9]]}
["Finale"]
[]
[]
[]
["Rang","Schütze","Vorkampf-","1.WS","2.WS","3.WS","4.WS","5.WS","6.WS","7.WS","8.WS","9.WS","10.WS","Final-","Ergebnis","Rang"]
["Vorkampf",null,"ergebnis",null,null,null,null,null,null,null,null,null,null,"ergebnis",null,"Finale"]
[]
[1,null,null,null,null,null,null,null,null,null,null,null,null,{"$f":"SUM(D8:M8)","v":0},{"$f":"SUM(C8:M8)","v":0},{"$f":"RANK(O8,$O$8:$O$17,0)","v":1}]
[2,null,null,null,null,null,null,null,null,null,null,null,null,0,0,{"$f":"RANK(O9,$O$8:$O$17,0)","v":1}]
[3,null,null,null,null,null,null,null,null,null,null,null,null,0,0,1]
[4,null,null,null,null,null,null,null,null,null,null,null,null,0,0,1]
[5,null,null,null,null,null,null,null,null,null,null,null,null,0,0,1]
[6,null,null,null,null,null,null,null,null,null,null,null,null,0,0,1]
[7,null,null,null,null,null,null,null,null,null,null,null,null,0,0,1]
[8,null,null,null,null,null,null,null,null,null,null,null,null,0,0,1]
[9,null,null,null,null,null,null,null,null,null,null,null,null,0,0,1]
[10,null,null,null,null,null,null,null,null,null,null,null,null,0,0,1]

{"sheet":"Wettkampfplan","index":23,"n_rows":43,"n_cols":6,"rows_kept":43,"cut":false,"hidden":false,"merged":[[28,0,28,1],[28,4,28,5],[41,0,41,5],[42,0,42,5],[36,0,36,5],[37,0,37,5],[38,0,38,5],[39,0,39,5],[40,0,40,5],[35,0,35,5],[31,0,31,5],[32,0,32,5],[34,0,34,5],[33,0,33,5],[30,0,30,5],[29,0,29,5],[0,0,0,5],[1,0,1,5],[10,0,10,5],[3,0,3,2],[5,0,5,2],[6,0,6,2],[7,0,7,2],[8,0,8,2],[9,0,9,2],[4,0,4,2],[2,0,2,5],[27,0,27,5],[26,0,26,5],[11,0,11,5],[12,0,13,1],[16,0,17,1],[20,0,21,1],[18,4,19,5],[12,2,13,2],[12,3,13,3],[12,4,13,5],[16,4,17,5],[14,4,14,5],[15,4,15,5],[22,0,23,1],[22,4,23,5],[24,0,25,1],[20,4,20,5],[21,4,21,5],[14,0,15,1],[14,2,15,2],[14,3,15,3],[18,0,18,1],[19,0,19,1]]}
["Jugendrundenwettkämpfe Luftgewehr 2018"]
["Terminplan"]
[]
["Mannschaft",null,null,"Datum","Tag","Uhrzeit"]
["Hersfeld",null,null,"2018-03-16",{"$f":"WEEKDAY(D5,1)","v":"1900-01-06"},"18:30:00"]
["Stärklos",null,null,"2018-03-29","1900-01-05","18:30:00"]
["Obergeis",null,null,"2018-04-20","1900-01-06","18:00:00"]
["Unterhaun/Friedewald",null,null,"2018-05-08","1900-01-03","18:00:00"]
["Meckbach (Endkampf)",null,null,"2018-05-26","1900-01-07","16:00:00"]
[]
[]
["Mannschaftsführer"]
["Hersfeld",null,"Wolfgang Engel","06621 9530866","engel-w-hef@hotmail.de"]
[]
["Stärklos",null,"Pascal Appel","0173 6706942"]
[]
["Obergeis",null,"Marc-Hendrik Klee","0151 21748971","marc-hendrik@web.de"]
[null,null,"Jasmin Spahn","0175 8045973"]
["Unterhaun",null,"Marcel Nieding","0171 1469856"]
["Friedewald",null,"Cornelia Kaufmann","0178 7176275"]
[]
[]
[]
[]
[]
[]
["Rundenwettkampfleiter"]
[]
["Patrick Weppler",null,"06628-915931","0176 322 93735","patrick@weppler.org"]
[]
["Es wird wie in den letzten Jahren nach folgendem Prinzip geschossen:"]
["Eine Mannschaft kann mit bis zu 4 Schützen antreten. Die Schützen einer Mannschaft müssen vor "]
["Beginn des Wettkampfes gesetzt werden. Der vierte Schütze kommt in die Einzelwertung"]
[]
["Die Wettkampfberichte sind über das Wettkampftool ins Internet zu stellen"]
["Für pünktlich eintreffende Berichte wäre ich sehr dankbar"]
["Falls es zu Problemen kommen sollte, schickt mir bitte die Berichte per Mail"]
[]
["Ich wünsche allen Wettkämpfen einen fairen Verlauf und allen Teilnehmern"]
["„Gut Schuss“"]
[]
["Mit freundlichem Schützengruß"]
["Patrick Weppler"]

{"sheet":"Urkunde","index":24,"n_rows":77,"n_cols":18,"rows_kept":77,"cut":false,"hidden":true,"merged":[[62,8,62,12],[62,15,62,19],[0,0,3,6],[8,1,8,5],[10,2,10,4],[14,2,14,4],[62,1,62,5],[0,14,3,20],[8,15,8,19],[10,16,10,18],[14,16,14,18],[17,9,17,11],[0,7,3,13],[8,8,8,12],[10,9,10,11],[14,9,14,11],[19,2,20,4],[19,9,20,11],[19,16,20,18],[25,16,26,18],[17,16,17,18],[23,9,23,11],[25,9,26,11],[17,2,17,4],[23,2,23,4],[23,16,23,18],[29,16,29,18],[31,17,32,17],[25,2,26,4],[29,9,29,11],[31,10,32,10],[31,3,32,3],[29,2,29,4],[44,0,47,6],[52,1,52,5],[54,2,54,4],[59,2,59,4],[44,7,47,13],[52,8,52,12],[54,9,54,11],[59,9,59,11],[65,9,66,11],[71,9,71,11],[73,10,74,10],[71,2,71,4],[73,3,74,3],[65,2,66,4],[71,16,71,18],[73,17,74,17],[44,14,47,20],[52,15,52,19],[54,16,54,18],[59,16,59,18],[65,16,66,18]]}
["Urkunde",null,null,null,null,null,null,"Urkunde",null,null,null,null,null,null,"Urkunde"]
[]
[]
[]
[]
[]
[]
[]
[null,"Die Mannschaft ",null,null,null,null,null,null,"Die Mannschaft",null,null,null,null,null,null,"Die Mannschaft "]
[]
[null,null,{"$f":"Gesamtwertung!B4","v":"Unterhaun/Friedewald"},null,null,null,null,null,null,{"$f":"Gesamtwertung!B5","v":"Stärklos"},null,null,null,null,null,null,{"$f":"Gesamtwertung!B6","v":"Obergeis"}]
[]
[]
[]
[null,null,"belegte ",null,null,null,null,null,null,"belegte",null,null,null,null,null,null,"belegte"]
[]
[]
[null,null,"mit einer Punktzahl von",null,null,null,null,null,null,"mit einer Punktzahl von",null,null,null,null,null,null,"mit einer Punktzahl von"]
[]
[null,null,{"$f":"Gesamtwertung!D4&\" Punkten\"","v":"0 Punkten"},null,null,null,null,null,null,{"$f":"Gesamtwertung!D5&\" Punkten\"","v":"0 Punkten"},null,null,null,null,null,null,{"$f":"Gesamtwertung!D6&\" Punkten\"","v":"0 Punkten"}]
[]
[]
[]
[null,null,"und einer Ringzahl von",null,null,null,null,null,null,"und einer Ringzahl von",null,null,null,null,null,null,"und einer Ringzahl von"]
[]
[null,null,{"$f":"Gesamtwertung!C4&\" Ringen\"","v":"0 Ringen"},null,null,null,null,null,null,{"$f":"Gesamtwertung!C5&\" Ringen\"","v":"0 Ringen"},null,null,null,null,null,null,{"$f":"Gesamtwertung!C6&\" Ringen\"","v":"0 Ringen"}]
[]
[]
[]
[null,null,"den",null,null,null,null,null,null,"den",null,null,null,null,null,null,"den"]
[]
[null,null,null,"1.",null,null,null,null,null,null,"2.",null,null,null,null,null,null,"3."]
[]
[]
[null,null,null,"Platz",null,null,null,null,null,null,"Platz",null,null,null,null,null,null,"Platz"]
[]
[]
[]
[]
[]
[]
[]
[]
[]
["Urkunde",null,null,null,null,null,null,"Urkunde",null,null,null,null,null,null,"Urkunde"]
[]
[]
[]
[]
[]
[]
[]
[]
[]
[null,null,{"$f":"Gesamtwertung!G4","v":" "},null,null,null,null,null,null,{"$f":"Gesamtwertung!G5","v":" "},null,null,null,null,null,null,{"$f":"Gesamtwertung!G6","v":" "}]
[]
[]
[]
[]
[null,null,"belegte ",null,null,null,null,null,null,"belegte",null,null,null,null,null,null,"belegte"]
[]
[]
[null,"mit einem Ringdurchschnitt von",null,null,null,null,null,null,"mit einem Ringdurchschnitt von",null,null,null,null,null,null,"mit einem Ringdurchschnitt von"]
[]
[]
[null,null,{"$f":"Gesamtwertung!H4&\" Ringen\"","v":" Ringen"},null,null,null,null,null,null,{"$f":"Gesamtwertung!H5&\" Ringen\"","v":" Ringen"},null,null,null,null,null,null,{"$f":"Gesamtwertung!H6&\" Ringen\"","v":" Ringen"}]
[]
[]
[]
[]
[]
[null,null,"den",null,null,null,null,null,null,"den",null,null,null,null,null,null,"den"]
[]
[null,null,null,"1.",null,null,null,null,null,null,"2.",null,null,null,null,null,null,"3."]
[]
[]
[null,null,null,"Platz",null,null,null,null,null,null,"Platz",null,null,null,null,null,null,"Platz"]

{"sheet":"Zwischentabelle Urkunde","index":25,"n_rows":49,"n_cols":21,"rows_kept":49,"cut":false,"hidden":true,"merged":[[25,0,28,0],[29,0,32,0],[33,0,36,0],[37,0,40,0],[1,0,4,0],[5,0,8,0],[9,0,12,0],[13,0,16,0],[17,0,20,0],[21,0,24,0]]}
[null,{"$f":"Mannschaft1","v":"Hersfeld"},{"$f":"Mannschaft2","v":"Stärklos"},{"$f":"Mannschaft3","v":"Obergeis"},{"$f":"Mannschaft4","v":"Unterhaun/Friedewald"},{"$f":"Mannschaft5","v":0},{"$f":"Mannschaft6","v":0},{"$f":"Mannschaft7","v":0},{"$f":"Mannschaft8","v":0},{"$f":"Mannschaft9","v":0},null,null,"Test1","Test2","Test3","Test4","Test5","Test6","Test7","Test8","Test9"]
["WK 1",{"$f":"'WK 1'!A7&\" \"&'WK 1'!B7","v":" "},{"$f":"'WK 1'!E7&\" \"&'WK 1'!F7","v":" "},{"$f":"'WK 1'!A17&\" \"&'WK 1'!B17","v":" "},{"$f":"'WK 1'!E17&\" \"&'WK 1'!F17","v":" "},{"$f":"'WK 1'!A27&\" \"&'WK 1'!B27","v":" "},{"$f":"'WK 1'!E27&\" \"&'WK 1'!F27","v":" "},{"$f":"'WK 1'!A37&\" \"&'WK 1'!B37","v":" "},{"$f":"'WK 1'!E37&\" \"&'WK 1'!F37","v":" "},{"$f":"'WK 1'!A47&\" \"&'WK 1'!B47","v":" "},null,"WK 1","1 4","2 4","3 4","4 4","5 4","6 4","7 4","8 4","9 4"]
[null,{"$f":"'WK 1'!A8&\" \"&'WK 1'!B8","v":" "},{"$f":"'WK 1'!E8&\" \"&'WK 1'!F8","v":" "},{"$f":"'WK 1'!A18&\" \"&'WK 1'!B18","v":" "},{"$f":"'WK 1'!E18&\" \"&'WK 1'!F18","v":" "},{"$f":"'WK 1'!A28&\" \"&'WK 1'!B28","v":" "},{"$f":"'WK 1'!E28&\" \"&'WK 1'!F28","v":" "},{"$f":"'WK 1'!A38&\" \"&'WK 1'!B38","v":" "},{"$f":"'WK 1'!E38&\" \"&'WK 1'!F38","v":" "},{"$f":"'WK 1'!A48&\" \"&'WK 1'!B48","v":" "},null,null,"1 3","2 3","3 3","4 3","5 3","6 3","7 3","8 3","9 3"]
[null,{"$f":"'WK 1'!A9&\" \"&'WK 1'!B9","v":" "},{"$f":"'WK 1'!E9&\" \"&'WK 1'!F9","v":" "},{"$f":"'WK 1'!A19&\" \"&'WK 1'!B19","v":" "},{"$f":"'WK 1'!E19&\" \"&'WK 1'!F19","v":" "},{"$f":"'WK 1'!A29&\" \"&'WK 1'!B29","v":" "},{"$f":"'WK 1'!E29&\" \"&'WK 1'!F29","v":" "},{"$f":"'WK 1'!A39&\" \"&'WK 1'!B39","v":" "},{"$f":"'WK 1'!E39&\" \"&'WK 1'!F39","v":" "},{"$f":"'WK 1'!A49&\" \"&'WK 1'!B49","v":" "},null,null,"1 2","2 2","3 2","4 2","5 2","6 2","7 2","8 2","9 2"]
[null,{"$f":"'WK 1'!A10&\" \"&'WK 1'!B10","v":" "},{"$f":"'WK 1'!E10&\" \"&'WK 1'!F10","v":" "},{"$f":"'WK 1'!A20&\" \"&'WK 1'!B20","v":" "},{"$f":"'WK 1'!E20&\" \"&'WK 1'!F20","v":" "},{"$f":"'WK 1'!A30&\" \"&'WK 1'!B30","v":" "},{"$f":"'WK 1'!E30&\" \"&'WK 1'!F30","v":" "},{"$f":"'WK 1'!A40&\" \"&'WK 1'!B40","v":" "},{"$f":"'WK 1'!E40&\" \"&'WK 1'!F40","v":" "},{"$f":"'WK 1'!A50&\" \"&'WK 1'!B50","v":" "},null,null,"1 1","2 1","3 1","4 1","5 1","6 1","7 1","8 1","9 1"]
["WK 2",{"$f":"'WK 2'!A7&\" \"&'WK 2'!B7","v":" "},{"$f":"'WK 2'!E7&\" \"&'WK 2'!F7","v":" "},{"$f":"'WK 2'!A17&\" \"&'WK 2'!B17","v":" "},{"$f":"'WK 2'!E17&\" \"&'WK 2'!F17","v":" "},{"$f":"'WK 2'!A27&\" \"&'WK 2'!B27","v":" "},{"$f":"'WK 2'!E27&\" \"&'WK 2'!F27","v":" "},{"$f":"'WK 2'!A37&\" \"&'WK 2'!B37","v":" "},{"$f":"'WK 2'!E37&\" \"&'WK 2'!F37","v":" "},{"$f":"'WK 2'!A47&\" \"&'WK 2'!B47","v":" "},null,"WK 2","1 4","2 4","3 4","4 4","5 4","6 4","7 4","8 4","9 4"]
[null,{"$f":"'WK 2'!A8&\" \"&'WK 2'!B8","v":" "},{"$f":"'WK 2'!E8&\" \"&'WK 2'!F8","v":" "},{"$f":"'WK 2'!A18&\" \"&'WK 2'!B18","v":" "},{"$f":"'WK 2'!E18&\" \"&'WK 2'!F18","v":" "},{"$f":"'WK 2'!A28&\" \"&'WK 2'!B28","v":" "},{"$f":"'WK 2'!E28&\" \"&'WK 2'!F28","v":" "},{"$f":"'WK 2'!A38&\" \"&'WK 2'!B38","v":" "},{"$f":"'WK 2'!E38&\" \"&'WK 2'!F38","v":" "},{"$f":"'WK 2'!A48&\" \"&'WK 2'!B48","v":" "},null,null,"1 3","2 3","3 3","4 3","5 3","6 3","7 3","8 3","9 3"]
[null,{"$f":"'WK 2'!A9&\" \"&'WK 2'!B9","v":" "},{"$f":"'WK 2'!E9&\" \"&'WK 2'!F9","v":" "},{"$f":"'WK 2'!A19&\" \"&'WK 2'!B19","v":" "},{"$f":"'WK 2'!E19&\" \"&'WK 2'!F19","v":" "},{"$f":"'WK 2'!A29&\" \"&'WK 2'!B29","v":" "},{"$f":"'WK 2'!E29&\" \"&'WK 2'!F29","v":" "},{"$f":"'WK 2'!A39&\" \"&'WK 2'!B39","v":" "},{"$f":"'WK 2'!E39&\" \"&'WK 2'!F39","v":" "},{"$f":"'WK 2'!A49&\" \"&'WK 2'!B49","v":" "},null,null,"1 2","2 2","3 2","4 2","5 2","6 2","7 2","8 2","9 2"]
[null,{"$f":"'WK 2'!A10&\" \"&'WK 2'!B10","v":" "},{"$f":"'WK 2'!E10&\" \"&'WK 2'!F10","v":" "},{"$f":"'WK 2'!A20&\" \"&'WK 2'!B20","v":" "},{"$f":"'WK 2'!E20&\" \"&'WK 2'!F20","v":" "},{"$f":"'WK 2'!A30&\" \"&'WK 2'!B30","v":" "},{"$f":"'WK 2'!E30&\" \"&'WK 2'!F30","v":" "},{"$f":"'WK 2'!A40&\" \"&'WK 2'!B40","v":" "},{"$f":"'WK 2'!E40&\" \"&'WK 2'!F40","v":" "},{"$f":"'WK 2'!A50&\" \"&'WK 2'!B50","v":" "},null,null,"1 1","2 1","3 1","4 1","5 1","6 1","7 1","8 1","9 1"]
["WK 3",{"$f":"'WK 3'!A7&\" \"&'WK 3'!B7","v":" "},{"$f":"'WK 3'!E7&\" \"&'WK 3'!F7","v":" "},{"$f":"'WK 3'!A17&\" \"&'WK 3'!B17","v":" "},{"$f":"'WK 3'!E17&\" \"&'WK 3'!F17","v":" "},{"$f":"'WK 3'!A27&\" \"&'WK 3'!B27","v":" "},{"$f":"'WK 3'!E27&\" \"&'WK 3'!F27","v":" "},{"$f":"'WK 3'!A37&\" \"&'WK 3'!B37","v":" "},{"$f":"'WK 3'!E37&\" \"&'WK 3'!F37","v":" "},{"$f":"'WK 3'!A47&\" \"&'WK 3'!B47","v":" "},null,"WK 3","1 4","2 4","3 4","4 4","5 4","6 4","7 4","8 4","9 4"]
[null,{"$f":"'WK 3'!A8&\" \"&'WK 3'!B8","v":" "},{"$f":"'WK 3'!E8&\" \"&'WK 3'!F8","v":" "},{"$f":"'WK 3'!A18&\" \"&'WK 3'!B18","v":" "},{"$f":"'WK 3'!E18&\" \"&'WK 3'!F18","v":" "},{"$f":"'WK 3'!A28&\" \"&'WK 3'!B28","v":" "},{"$f":"'WK 3'!E28&\" \"&'WK 3'!F28","v":" "},{"$f":"'WK 3'!A38&\" \"&'WK 3'!B38","v":" "},{"$f":"'WK 3'!E38&\" \"&'WK 3'!F38","v":" "},{"$f":"'WK 3'!A48&\" \"&'WK 3'!B48","v":" "},null,null,"1 3","2 3","3 3","4 3","5 3","6 3","7 3","8 3","9 3"]
[null,{"$f":"'WK 3'!A9&\" \"&'WK 3'!B9","v":" "},{"$f":"'WK 3'!E9&\" \"&'WK 3'!F9","v":" "},{"$f":"'WK 3'!A19&\" \"&'WK 3'!B19","v":" "},{"$f":"'WK 3'!E19&\" \"&'WK 3'!F19","v":" "},{"$f":"'WK 3'!A29&\" \"&'WK 3'!B29","v":" "},{"$f":"'WK 3'!E29&\" \"&'WK 3'!F29","v":" "},{"$f":"'WK 3'!A39&\" \"&'WK 3'!B39","v":" "},{"$f":"'WK 3'!E39&\" \"&'WK 3'!F39","v":" "},{"$f":"'WK 3'!A49&\" \"&'WK 3'!B49","v":" "},null,null,"1 2","2 2","3 2","4 2","5 2","6 2","7 2","8 2","9 2"]
[null,{"$f":"'WK 3'!A10&\" \"&'WK 3'!B10","v":" "},{"$f":"'WK 3'!E10&\" \"&'WK 3'!F10","v":" "},{"$f":"'WK 3'!A20&\" \"&'WK 3'!B20","v":" "},{"$f":"'WK 3'!E20&\" \"&'WK 3'!F20","v":" "},{"$f":"'WK 3'!A30&\" \"&'WK 3'!B30","v":" "},{"$f":"'WK 3'!E30&\" \"&'WK 3'!F30","v":" "},{"$f":"'WK 3'!A40&\" \"&'WK 3'!B40","v":" "},{"$f":"'WK 3'!E40&\" \"&'WK 3'!F40","v":" "},{"$f":"'WK 3'!A50&\" \"&'WK 3'!B50","v":" "},null,null,"1 1","2 1","3 1","4 1","5 1","6 1","7 1","8 1","9 1"]
["WK 4",{"$f":"'WK 4'!A7&\" \"&'WK 4'!B7","v":" "},{"$f":"'WK 4'!E7&\" \"&'WK 4'!F7","v":" "},{"$f":"'WK 4'!A17&\" \"&'WK 4'!B17","v":" "},{"$f":"'WK 4'!E17&\" \"&'WK 4'!F17","v":" "},{"$f":"'WK 4'!A27&\" \"&'WK 4'!B27","v":" "},{"$f":"'WK 4'!E27&\" \"&'WK 4'!F27","v":" "},{"$f":"'WK 4'!A37&\" \"&'WK 4'!B37","v":" "},{"$f":"'WK 4'!E37&\" \"&'WK 4'!F37","v":" "},{"$f":"'WK 4'!A47&\" \"&'WK 4'!B47","v":" "},null,"WK 4","1 4","2 4","3 4","4 4","5 4","6 4","7 4","8 4","9 4"]
[null,{"$f":"'WK 4'!A8&\" \"&'WK 4'!B8","v":" "},{"$f":"'WK 4'!E8&\" \"&'WK 4'!F8","v":" "},{"$f":"'WK 4'!A18&\" \"&'WK 4'!B18","v":" "},{"$f":"'WK 4'!E18&\" \"&'WK 4'!F18","v":" "},{"$f":"'WK 4'!A28&\" \"&'WK 4'!B28","v":" "},{"$f":"'WK 4'!E28&\" \"&'WK 4'!F28","v":" "},{"$f":"'WK 4'!A38&\" \"&'WK 4'!B38","v":" "},{"$f":"'WK 4'!E38&\" \"&'WK 4'!F38","v":" "},{"$f":"'WK 4'!A48&\" \"&'WK 4'!B48","v":" "},null,null,"1 3","2 3","3 3","4 3","5 3","6 3","7 3","8 3","9 3"]
[null,{"$f":"'WK 4'!A9&\" \"&'WK 4'!B9","v":" "},{"$f":"'WK 4'!E9&\" \"&'WK 4'!F9","v":" "},{"$f":"'WK 4'!A19&\" \"&'WK 4'!B19","v":" "},{"$f":"'WK 4'!E19&\" \"&'WK 4'!F19","v":" "},{"$f":"'WK 4'!A29&\" \"&'WK 4'!B29","v":" "},{"$f":"'WK 4'!E29&\" \"&'WK 4'!F29","v":" "},{"$f":"'WK 4'!A39&\" \"&'WK 4'!B39","v":" "},{"$f":"'WK 4'!E39&\" \"&'WK 4'!F39","v":" "},{"$f":"'WK 4'!A49&\" \"&'WK 4'!B49","v":" "},null,null,"1 2","2 2","3 2","4 2","5 2","6 2","7 2","8 2","9 2"]
[null,{"$f":"'WK 4'!A10&\" \"&'WK 4'!B10","v":" "},{"$f":"'WK 4'!E10&\" \"&'WK 4'!F10","v":" "},{"$f":"'WK 4'!A20&\" \"&'WK 4'!B20","v":" "},{"$f":"'WK 4'!E20&\" \"&'WK 4'!F20","v":" "},{"$f":"'WK 4'!A30&\" \"&'WK 4'!B30","v":" "},{"$f":"'WK 4'!E30&\" \"&'WK 4'!F30","v":" "},{"$f":"'WK 4'!A40&\" \"&'WK 4'!B40","v":" "},{"$f":"'WK 4'!E40&\" \"&'WK 4'!F40","v":" "},{"$f":"'WK 4'!A50&\" \"&'WK 4'!B50","v":" "},null,null,"1 1","2 1","3 1","4 1","5 1","6 1","7 1","8 1","9 1"]
["WK 5",{"$f":"'WK 5'!A7&\" \"&'WK 5'!B7","v":" "},{"$f":"'WK 5'!E7&\" \"&'WK 5'!F7","v":" "},{"$f":"'WK 5'!A17&\" \"&'WK 5'!B17","v":" "},{"$f":"'WK 5'!E17&\" \"&'WK 5'!F17","v":" "},{"$f":"'WK 5'!A27&\" \"&'WK 5'!B27","v":" "},{"$f":"'WK 5'!E27&\" \"&'WK 5'!F27","v":" "},{"$f":"'WK 5'!A37&\" \"&'WK 5'!B37","v":" "},{"$f":"'WK 5'!E37&\" \"&'WK 5'!F37","v":" "},{"$f":"'WK 5'!A47&\" \"&'WK 5'!B47","v":" "},null,"WK 5","1 4","2 4","3 4","4 4","5 4","6 4","7 4","8 4","9 4"]
[null,{"$f":"'WK 5'!A8&\" \"&'WK 5'!B8","v":" "},{"$f":"'WK 5'!E8&\" \"&'WK 5'!F8","v":" "},{"$f":"'WK 5'!A18&\" \"&'WK 5'!B18","v":" "},{"$f":"'WK 5'!E18&\" \"&'WK 5'!F18","v":" "},{"$f":"'WK 5'!A28&\" \"&'WK 5'!B28","v":" "},{"$f":"'WK 5'!E28&\" \"&'WK 5'!F28","v":" "},{"$f":"'WK 5'!A38&\" \"&'WK 5'!B38","v":" "},{"$f":"'WK 5'!E38&\" \"&'WK 5'!F38","v":" "},{"$f":"'WK 5'!A48&\" \"&'WK 5'!B48","v":" "},null,null,"1 3","2 3","3 3","4 3","5 3","6 3","7 3","8 3","9 3"]
[null,{"$f":"'WK 5'!A9&\" \"&'WK 5'!B9","v":" "},{"$f":"'WK 5'!E9&\" \"&'WK 5'!F9","v":" "},{"$f":"'WK 5'!A19&\" \"&'WK 5'!B19","v":" "},{"$f":"'WK 5'!E19&\" \"&'WK 5'!F19","v":" "},{"$f":"'WK 5'!A29&\" \"&'WK 5'!B29","v":" "},{"$f":"'WK 5'!E29&\" \"&'WK 5'!F29","v":" "},{"$f":"'WK 5'!A39&\" \"&'WK 5'!B39","v":" "},{"$f":"'WK 5'!E39&\" \"&'WK 5'!F39","v":" "},{"$f":"'WK 5'!A49&\" \"&'WK 5'!B49","v":" "},null,null,"1 2","2 2","3 2","4 2","5 2","6 2","7 2","8 2","9 2"]
[null,{"$f":"'WK 5'!A10&\" \"&'WK 5'!B10","v":" "},{"$f":"'WK 5'!E10&\" \"&'WK 5'!F10","v":" "},{"$f":"'WK 5'!A20&\" \"&'WK 5'!B20","v":" "},{"$f":"'WK 5'!E20&\" \"&'WK 5'!F20","v":" "},{"$f":"'WK 5'!A30&\" \"&'WK 5'!B30","v":" "},{"$f":"'WK 5'!E30&\" \"&'WK 5'!F30","v":" "},{"$f":"'WK 5'!A40&\" \"&'WK 5'!B40","v":" "},{"$f":"'WK 5'!E40&\" \"&'WK 5'!F40","v":" "},{"$f":"'WK 5'!A50&\" \"&'WK 5'!B50","v":" "},null,null,"1 1","2 1","3 1","4 1","5 1","6 1","7 1","8 1","9 1"]
["WK 6",{"$f":"'WK 6'!A7&\" \"&'WK 6'!B7","v":" "},{"$f":"'WK 6'!E7&\" \"&'WK 6'!F7","v":" "},{"$f":"'WK 6'!A17&\" \"&'WK 6'!B17","v":" "},{"$f":"'WK 6'!E17&\" \"&'WK 6'!F17","v":" "},{"$f":"'WK 6'!A27&\" \"&'WK 6'!B27","v":" "},{"$f":"'WK 6'!E27&\" \"&'WK 6'!F27","v":" "},{"$f":"'WK 6'!A37&\" \"&'WK 6'!B37","v":" "},{"$f":"'WK 6'!E37&\" \"&'WK 6'!F37","v":" "},{"$f":"'WK 6'!A47&\" \"&'WK 6'!B47","v":" "},null,"WK 6","1 4","2 4","3 4","4 4","5 4","6 4","7 4","8 4","9 4"]
[null,{"$f":"'WK 6'!A8&\" \"&'WK 6'!B8","v":" "},{"$f":"'WK 6'!E8&\" \"&'WK 6'!F8","v":" "},{"$f":"'WK 6'!A18&\" \"&'WK 6'!B18","v":" "},{"$f":"'WK 6'!E18&\" \"&'WK 6'!F18","v":" "},{"$f":"'WK 6'!A28&\" \"&'WK 6'!B28","v":" "},{"$f":"'WK 6'!E28&\" \"&'WK 6'!F28","v":" "},{"$f":"'WK 6'!A38&\" \"&'WK 6'!B38","v":" "},{"$f":"'WK 6'!E38&\" \"&'WK 6'!F38","v":" "},{"$f":"'WK 6'!A48&\" \"&'WK 6'!B48","v":" "},null,null,"1 3","2 3","3 3","4 3","5 3","6 3","7 3","8 3","9 3"]
[null,{"$f":"'WK 6'!A9&\" \"&'WK 6'!B9","v":" "},{"$f":"'WK 6'!E9&\" \"&'WK 6'!F9","v":" "},{"$f":"'WK 6'!A19&\" \"&'WK 6'!B19","v":" "},{"$f":"'WK 6'!E19&\" \"&'WK 6'!F19","v":" "},{"$f":"'WK 6'!A29&\" \"&'WK 6'!B29","v":" "},{"$f":"'WK 6'!E29&\" \"&'WK 6'!F29","v":" "},{"$f":"'WK 6'!A39&\" \"&'WK 6'!B39","v":" "},{"$f":"'WK 6'!E39&\" \"&'WK 6'!F39","v":" "},{"$f":"'WK 6'!A49&\" \"&'WK 6'!B49","v":" "},null,null,"1 2","2 2","3 2","4 2","5 2","6 2","7 2","8 2","9 2"]
[null,{"$f":"'WK 6'!A10&\" \"&'WK 6'!B10","v":" "},{"$f":"'WK 6'!E10&\" \"&'WK 6'!F10","v":" "},{"$f":"'WK 6'!A20&\" \"&'WK 6'!B20","v":" "},{"$f":"'WK 6'!E20&\" \"&'WK 6'!F20","v":" "},{"$f":"'WK 6'!A30&\" \"&'WK 6'!B30","v":" "},{"$f":"'WK 6'!E30&\" \"&'WK 6'!F30","v":" "},{"$f":"'WK 6'!A40&\" \"&'WK 6'!B40","v":" "},{"$f":"'WK 6'!E40&\" \"&'WK 6'!F40","v":" "},{"$f":"'WK 6'!A50&\" \"&'WK 6'!B50","v":" "},null,null,"1 1","2 1","3 1","4 1","5 1","6 1","7 1","8 1","9 1"]
["WK 7",{"$f":"'WK 7'!A7&\" \"&'WK 7'!B7","v":" "},{"$f":"'WK 7'!E7&\" \"&'WK 7'!F7","v":" "},{"$f":"'WK 7'!A17&\" \"&'WK 7'!B17","v":" "},{"$f":"'WK 7'!E17&\" \"&'WK 7'!F17","v":" "},{"$f":"'WK 7'!A27&\" \"&'WK 7'!B27","v":" "},{"$f":"'WK 7'!E27&\" \"&'WK 7'!F27","v":" "},{"$f":"'WK 7'!A37&\" \"&'WK 7'!B37","v":" "},{"$f":"'WK 7'!E37&\" \"&'WK 7'!F37","v":" "},{"$f":"'WK 7'!A47&\" \"&'WK 7'!B47","v":" "},null,"WK 7","1 4","2 4","3 4","4 4","5 4","6 4","7 4","8 4","9 4"]
[null,{"$f":"'WK 7'!A8&\" \"&'WK 7'!B8","v":" "},{"$f":"'WK 7'!E8&\" \"&'WK 7'!F8","v":" "},{"$f":"'WK 7'!A18&\" \"&'WK 7'!B18","v":" "},{"$f":"'WK 7'!E18&\" \"&'WK 7'!F18","v":" "},{"$f":"'WK 7'!A28&\" \"&'WK 7'!B28","v":" "},{"$f":"'WK 7'!E28&\" \"&'WK 7'!F28","v":" "},{"$f":"'WK 7'!A38&\" \"&'WK 7'!B38","v":" "},{"$f":"'WK 7'!E38&\" \"&'WK 7'!F38","v":" "},{"$f":"'WK 7'!A48&\" \"&'WK 7'!B48","v":" "},null,null,"1 3","2 3","3 3","4 3","5 3","6 3","7 3","8 3","9 3"]
[null,{"$f":"'WK 7'!A9&\" \"&'WK 7'!B9","v":" "},{"$f":"'WK 7'!E9&\" \"&'WK 7'!F9","v":" "},{"$f":"'WK 7'!A19&\" \"&'WK 7'!B19","v":" "},{"$f":"'WK 7'!E19&\" \"&'WK 7'!F19","v":" "},{"$f":"'WK 7'!A29&\" \"&'WK 7'!B29","v":" "},{"$f":"'WK 7'!E29&\" \"&'WK 7'!F29","v":" "},{"$f":"'WK 7'!A39&\" \"&'WK 7'!B39","v":" "},{"$f":"'WK 7'!E39&\" \"&'WK 7'!F39","v":" "},{"$f":"'WK 7'!A49&\" \"&'WK 7'!B49","v":" "},null,null,"1 2","2 2","3 2","4 2","5 2","6 2","7 2","8 2","9 2"]
[null,{"$f":"'WK 7'!A10&\" \"&'WK 7'!B10","v":" "},{"$f":"'WK 7'!E10&\" \"&'WK 7'!F10","v":" "},{"$f":"'WK 7'!A20&\" \"&'WK 7'!B20","v":" "},{"$f":"'WK 7'!E20&\" \"&'WK 7'!F20","v":" "},{"$f":"'WK 7'!A30&\" \"&'WK 7'!B30","v":" "},{"$f":"'WK 7'!E30&\" \"&'WK 7'!F30","v":" "},{"$f":"'WK 7'!A40&\" \"&'WK 7'!B40","v":" "},{"$f":"'WK 7'!E40&\" \"&'WK 7'!F40","v":" "},{"$f":"'WK 7'!A50&\" \"&'WK 7'!B50","v":" "},null,null,"1 1","2 1","3 1","4 1","5 1","6 1","7 1","8 1","9 1"]
["WK 8",{"$f":"'WK 8'!A7&\" \"&'WK 8'!B7","v":" "},{"$f":"'WK 8'!E7&\" \"&'WK 8'!F7","v":" "},{"$f":"'WK 8'!A17&\" \"&'WK 8'!B17","v":" "},{"$f":"'WK 8'!E17&\" \"&'WK 8'!F17","v":" "},{"$f":"'WK 8'!A27&\" \"&'WK 8'!B27","v":" "},{"$f":"'WK 8'!E27&\" \"&'WK 8'!F27","v":" "},{"$f":"'WK 8'!A37&\" \"&'WK 8'!B37","v":" "},{"$f":"'WK 8'!E37&\" \"&'WK 8'!F37","v":" "},{"$f":"'WK 8'!A47&\" \"&'WK 8'!B47","v":" "},null,"WK 8","1 4","2 4","3 4","4 4","5 4","6 4","7 4","8 4","9 4"]
[null,{"$f":"'WK 8'!A8&\" \"&'WK 8'!B8","v":" "},{"$f":"'WK 8'!E8&\" \"&'WK 8'!F8","v":" "},{"$f":"'WK 8'!A18&\" \"&'WK 8'!B18","v":" "},{"$f":"'WK 8'!E18&\" \"&'WK 8'!F18","v":" "},{"$f":"'WK 8'!A28&\" \"&'WK 8'!B28","v":" "},{"$f":"'WK 8'!E28&\" \"&'WK 8'!F28","v":" "},{"$f":"'WK 8'!A38&\" \"&'WK 8'!B38","v":" "},{"$f":"'WK 8'!E38&\" \"&'WK 8'!F38","v":" "},{"$f":"'WK 8'!A48&\" \"&'WK 8'!B48","v":" "},null,null,"1 3","2 3","3 3","4 3","5 3","6 3","7 3","8 3","9 3"]
[null,{"$f":"'WK 8'!A9&\" \"&'WK 8'!B9","v":" "},{"$f":"'WK 8'!E9&\" \"&'WK 8'!F9","v":" "},{"$f":"'WK 8'!A19&\" \"&'WK 8'!B19","v":" "},{"$f":"'WK 8'!E19&\" \"&'WK 8'!F19","v":" "},{"$f":"'WK 8'!A29&\" \"&'WK 8'!B29","v":" "},{"$f":"'WK 8'!E29&\" \"&'WK 8'!F29","v":" "},{"$f":"'WK 8'!A39&\" \"&'WK 8'!B39","v":" "},{"$f":"'WK 8'!E39&\" \"&'WK 8'!F39","v":" "},{"$f":"'WK 8'!A49&\" \"&'WK 8'!B49","v":" "},null,null,"1 2","2 2","3 2","4 2","5 2","6 2","7 2","8 2","9 2"]
[null,{"$f":"'WK 8'!A10&\" \"&'WK 8'!B10","v":" "},{"$f":"'WK 8'!E10&\" \"&'WK 8'!F10","v":" "},{"$f":"'WK 8'!A20&\" \"&'WK 8'!B20","v":" "},{"$f":"'WK 8'!E20&\" \"&'WK 8'!F20","v":" "},{"$f":"'WK 8'!A30&\" \"&'WK 8'!B30","v":" "},{"$f":"'WK 8'!E30&\" \"&'WK 8'!F30","v":" "},{"$f":"'WK 8'!A40&\" \"&'WK 8'!B40","v":" "},{"$f":"'WK 8'!E40&\" \"&'WK 8'!F40","v":" "},{"$f":"'WK 8'!A50&\" \"&'WK 8'!B50","v":" "},null,null,"1 1","2 1","3 1","4 1","5 1","6 1","7 1","8 1","9 1"]
["WK 9",{"$f":"'WK 9'!A7&\" \"&'WK 9'!B7","v":" "},{"$f":"'WK 9'!E7&\" \"&'WK 9'!F7","v":" "},{"$f":"'WK 9'!A17&\" \"&'WK 9'!B17","v":" "},{"$f":"'WK 9'!E17&\" \"&'WK 9'!F17","v":" "},{"$f":"'WK 9'!A27&\" \"&'WK 9'!B27","v":" "},{"$f":"'WK 9'!E27&\" \"&'WK 9'!F27","v":" "},{"$f":"'WK 9'!A37&\" \"&'WK 9'!B37","v":" "},{"$f":"'WK 9'!E37&\" \"&'WK 9'!F37","v":" "},{"$f":"'WK 9'!A47&\" \"&'WK 9'!B47","v":" "},null,"WK 9","1 4","2 4","3 4","4 4","5 4","6 4","7 4","8 4","9 4"]
[null,{"$f":"'WK 9'!A8&\" \"&'WK 9'!B8","v":" "},{"$f":"'WK 9'!E8&\" \"&'WK 9'!F8","v":" "},{"$f":"'WK 9'!A18&\" \"&'WK 9'!B18","v":" "},{"$f":"'WK 9'!E18&\" \"&'WK 9'!F18","v":" "},{"$f":"'WK 9'!A28&\" \"&'WK 9'!B28","v":" "},{"$f":"'WK 9'!E28&\" \"&'WK 9'!F28","v":" "},{"$f":"'WK 9'!A38&\" \"&'WK 9'!B38","v":" "},{"$f":"'WK 9'!E38&\" \"&'WK 9'!F38","v":" "},{"$f":"'WK 9'!A48&\" \"&'WK 9'!B48","v":" "},null,null,"1 3","2 3","3 3","4 3","5 3","6 3","7 3","8 3","9 3"]
[null,{"$f":"'WK 9'!A9&\" \"&'WK 9'!B9","v":" "},{"$f":"'WK 9'!E9&\" \"&'WK 9'!F9","v":" "},{"$f":"'WK 9'!A19&\" \"&'WK 9'!B19","v":" "},{"$f":"'WK 9'!E19&\" \"&'WK 9'!F19","v":" "},{"$f":"'WK 9'!A29&\" \"&'WK 9'!B29","v":" "},{"$f":"'WK 9'!E29&\" \"&'WK 9'!F29","v":" "},{"$f":"'WK 9'!A39&\" \"&'WK 9'!B39","v":" "},{"$f":"'WK 9'!E39&\" \"&'WK 9'!F39","v":" "},{"$f":"'WK 9'!A49&\" \"&'WK 9'!B49","v":" "},null,null,"1 2","2 2","3 2","4 2","5 2","6 2","7 2","8 2","9 2"]
[null,{"$f":"'WK 9'!A10&\" \"&'WK 9'!B10","v":" "},{"$f":"'WK 9'!E10&\" \"&'WK 9'!F10","v":" "},{"$f":"'WK 9'!A20&\" \"&'WK 9'!B20","v":" "},{"$f":"'WK 9'!E20&\" \"&'WK 9'!F20","v":" "},{"$f":"'WK 9'!A30&\" \"&'WK 9'!B30","v":" "},{"$f":"'WK 9'!E30&\" \"&'WK 9'!F30","v":" "},{"$f":"'WK 9'!A40&\" \"&'WK 9'!B40","v":" "},{"$f":"'WK 9'!E40&\" \"&'WK 9'!F40","v":" "},{"$f":"'WK 9'!A50&\" \"&'WK 9'!B50","v":" "},null,null,"1 1","2 1","3 1","4 1","5 1","6 1","7 1","8 1","9 1"]
["WK 10",{"$f":"'WK 10'!A7&\" \"&'WK 10'!B7","v":" "},{"$f":"'WK 10'!E7&\" \"&'WK 10'!F7","v":" "},{"$f":"'WK 10'!A17&\" \"&'WK 10'!B17","v":" "},{"$f":"'WK 10'!E17&\" \"&'WK 10'!F17","v":" "},{"$f":"'WK 10'!A27&\" \"&'WK 10'!B27","v":" "},{"$f":"'WK 10'!E27&\" \"&'WK 10'!F27","v":" "},{"$f":"'WK 10'!A37&\" \"&'WK 10'!B37","v":" "},{"$f":"'WK 10'!E37&\" \"&'WK 10'!F37","v":" "},{"$f":"'WK 10'!A47&\" \"&'WK 10'!B47","v":" "},null,"WK 10","1 4","2 4","3 4","4 4","5 4","6 4","7 4","8 4","9 4"]
[null,{"$f":"'WK 10'!A8&\" \"&'WK 10'!B8","v":" "},{"$f":"'WK 10'!E8&\" \"&'WK 10'!F8","v":" "},{"$f":"'WK 10'!A18&\" \"&'WK 10'!B18","v":" "},{"$f":"'WK 10'!E18&\" \"&'WK 10'!F18","v":" "},{"$f":"'WK 10'!A28&\" \"&'WK 10'!B28","v":" "},{"$f":"'WK 10'!E28&\" \"&'WK 10'!F28","v":" "},{"$f":"'WK 10'!A38&\" \"&'WK 10'!B38","v":" "},{"$f":"'WK 10'!E38&\" \"&'WK 10'!F38","v":" "},{"$f":"'WK 10'!A48&\" \"&'WK 10'!B48","v":" "},null,null,"1 3","2 3","3 3","4 3","5 3","6 3","7 3","8 3","9 3"]
[null,{"$f":"'WK 10'!A9&\" \"&'WK 10'!B9","v":" "},{"$f":"'WK 10'!E9&\" \"&'WK 10'!F9","v":" "},{"$f":"'WK 10'!A19&\" \"&'WK 10'!B19","v":" "},{"$f":"'WK 10'!E19&\" \"&'WK 10'!F19","v":" "},{"$f":"'WK 10'!A29&\" \"&'WK 10'!B29","v":" "},{"$f":"'WK 10'!E29&\" \"&'WK 10'!F29","v":" "},{"$f":"'WK 10'!A39&\" \"&'WK 10'!B39","v":" "},{"$f":"'WK 10'!E39&\" \"&'WK 10'!F39","v":" "},{"$f":"'WK 10'!A49&\" \"&'WK 10'!B49","v":" "},null,null,"1 2","2 2","3 2","4 2","5 2","6 2","7 2","8 2","9 2"]
[null,{"$f":"'WK 10'!A10&\" \"&'WK 10'!B10","v":" "},{"$f":"'WK 10'!E10&\" \"&'WK 10'!F10","v":" "},{"$f":"'WK 10'!A20&\" \"&'WK 10'!B20","v":" "},{"$f":"'WK 10'!E20&\" \"&'WK 10'!F20","v":" "},{"$f":"'WK 10'!A30&\" \"&'WK 10'!B30","v":" "},{"$f":"'WK 10'!E30&\" \"&'WK 10'!F30","v":" "},{"$f":"'WK 10'!A40&\" \"&'WK 10'!B40","v":" "},{"$f":"'WK 10'!E40&\" \"&'WK 10'!F40","v":" "},{"$f":"'WK 10'!A50&\" \"&'WK 10'!B50","v":" "},null,null,"1 1","2 1","3 1","4 1","5 1","6 1","7 1","8 1","9 1"]
[]
[]
[]
[null,null,null,null,null,null,null,null,null,null,null,null,{"$f":"M2","v":"1 4"},"2 4"]
[null,null,null,null,null,null,null,null,null,null,null,null,"1 3","2 3"]
[null,null,null,null,null,null,null,null,null,null,null,null,"1 2","2 2"]
[null,null,null,null,null,null,null,null,null,null,null,null,"1 1","2 1"]
[null,null,null,null,null,null,null,null,null,null,null,null,"1 4","2 4"]

{"sheet":"Finale_Druck","index":26,"n_rows":17,"n_cols":16,"rows_kept":17,"cut":false,"hidden":true,"merged":[[0,1,1,13],[4,11,5,11],[4,12,5,12],[4,14,5,14],[4,15,5,15],[4,1,5,1],[4,3,5,3],[4,4,5,4],[4,5,5,5],[4,6,5,6],[4,7,5,7],[4,8,5,8],[4,9,5,9],[4,10,5,10]]}
[null,"Finale"]
[]
[]
[]
["Rang","Schütze","Vorkampf-","1.WS","2.WS","3.WS","4.WS","5.WS","6.WS","7.WS","8.WS","9.WS","10.WS","Final-","Ergebnis","Rang"]
["Vorkampf",null,"ergebnis",null,null,null,null,null,null,null,null,null,null,"ergebnis",null,"Finale"]
[]
[null,null,4,"Freigabe5",1,1,1,1,1,1,1,1,0,0,0,0]
[null,null,3,"Freigabe6",1,1,1,1,1,1,1,1,0,0,0,0]
[null,null,7,"Freigabe7",1,1,1,1,1,1,1,1,0,0,0,0]
[null,null,8,"Freigabe8",1,1,1,1,1,1,1,1,0,0,0,0]
[null,null,9,"Freigabe9",1,1,1,1,1,1,1,1,1,0,0,0]
[null,null,10,"Freigabe10",1,1,1,1,1,1,1,1,1,1,0,0]
[null,null,11,"Freigabe11",1,1,1,1,1,1,1,1,1,1,1,0]
[null,null,12,"Freigabe12",1,1,1,1,1,1,1,1,1,1,1,1]
[null,null,16,"Freigabe13",1,1,1,1,1,0,0,1,1,1,1,1]
[null,null,15,"Freigabe14",1,1,1,1,1,0,0,1,1,1,1,1]

{"sheet":"Wettkampftabellen","index":27,"n_rows":27,"n_cols":24,"rows_kept":27,"cut":false,"hidden":true,"merged":[[3,0,3,3],[3,5,3,8],[3,10,3,13],[3,15,3,18],[3,20,3,23],[17,0,17,3],[17,5,17,8],[17,10,17,13],[17,15,17,18],[17,20,17,23],[1,5,1,8],[1,0,1,3],[1,10,1,13],[1,15,1,18],[1,20,1,23],[15,0,15,3],[15,5,15,8],[15,10,15,13],[15,15,15,18],[15,20,15,23]]}
[]
["Tabelle WK 1",null,null,null,null,"Tabelle nach dem 2. Wettkampf",null,null,null,null,"Tabelle nach dem 3. Wettkampf",null,null,null,null,"Tabelle nach dem 4. Wettkampf",null,null,null,null,"Tabelle nach dem 5. Wettkampf"]
["Platz","Mannschaft","Ergebnis","Punkte",null,"Platz","Mannschaft","Ergebnis","Punkte",null,"Platz","Mannschaft","Ergebnis","Punkte",null,"Platz","Mannschaft","Ergebnis","Punkte",null,"Platz","Mannschaft","Ergebnis","Punkte"]
[]
[1,{"$f":"'WK 1'!E47","v":"Stärklos"},{"$f":"'WK 1'!F47","v":0},{"$f":"'WK 1'!H47","v":""},null,1,{"$f":"'WK 2'!E47","v":"Unterhaun/Friedewald"},{"$f":"VLOOKUP(G5,$B$5:$D$13,2,FALSE)+VLOOKUP(G5,'WK 2'!$E$47:$H$55,2,FALSE)","v":0},{"$f":"VLOOKUP(G5,$B$5:$D$13,3,FALSE)+VLOOKUP(G5,'WK 2'!$E$47:$H$55,4,FALSE)","v":{"$error":"#VALUE!"}},null,1,{"$f":"'WK 3'!E47","v":"Obergeis"},{"$f":"VLOOKUP(L5,$G$5:$I$13,2,FALSE)+VLOOKUP(L5,'WK 3'!$E$47:$H$55,2,FALSE)","v":0},{"$f":"VLOOKUP(L5,$G$5:$I$13,3,FALSE)+VLOOKUP(L5,'WK 3'!$E$47:$H$55,4,FALSE)","v":{"$error":"#VALUE!"}},null,1,{"$f":"'WK 4'!E47","v":"Unterhaun/Friedewald"},{"$f":"VLOOKUP(Q5,$L$5:$N$13,2,FALSE)+VLOOKUP(L5,'WK 4'!$E$47:$H$55,2,FALSE)","v":0},{"$f":"VLOOKUP(Q5,$L$5:$N$13,3,FALSE)+VLOOKUP(Q5,'WK 3'!$E$47:$H$55,4,FALSE)","v":{"$error":"#VALUE!"}},null,1,{"$f":"'WK 5'!E47","v":"Unterhaun/Friedewald"},{"$f":"VLOOKUP(V5,$Q$5:$S$13,2,FALSE)+VLOOKUP(V5,'WK 5'!$E$47:$H$55,2,FALSE)","v":0},{"$f":"VLOOKUP(V5,$Q$5:$S$13,3,FALSE)+VLOOKUP(V5,'WK 5'!$E$47:$H$55,4,FALSE)","v":{"$error":"#VALUE!"}}]
[2,{"$f":"'WK 1'!E48","v":"Hersfeld"},{"$f":"'WK 1'!F48","v":0},{"$f":"'WK 1'!H48","v":""},null,2,{"$f":"'WK 2'!E48","v":"Hersfeld"},{"$f":"VLOOKUP(G6,$B$5:$D$13,2,FALSE)+VLOOKUP(G6,'WK 2'!$E$47:$H$55,2,FALSE)","v":0},{"$f":"VLOOKUP(G6,$B$5:$D$13,3,FALSE)+VLOOKUP(G6,'WK 2'!$E$47:$H$55,4,FALSE)","v":{"$error":"#VALUE!"}},null,2,{"$f":"'WK 3'!E48","v":"Stärklos"},{"$f":"VLOOKUP(L6,$G$5:$I$13,2,FALSE)+VLOOKUP(L6,'WK 3'!$E$47:$H$55,2,FALSE)","v":0},{"$f":"VLOOKUP(L6,$G$5:$I$13,3,FALSE)+VLOOKUP(L6,'WK 3'!$E$47:$H$55,4,FALSE)","v":{"$error":"#VALUE!"}},null,2,{"$f":"'WK 4'!E48","v":"Stärklos"},{"$f":"VLOOKUP(Q6,$L$5:$N$13,2,FALSE)+VLOOKUP(L6,'WK 4'!$E$47:$H$55,2,FALSE)","v":0},{"$f":"VLOOKUP(Q6,$L$5:$N$13,3,FALSE)+VLOOKUP(Q6,'WK 3'!$E$47:$H$55,4,FALSE)","v":{"$error":"#VALUE!"}},null,2,{"$f":"'WK 5'!E48","v":"Obergeis"},{"$f":"VLOOKUP(V6,$Q$5:$S$13,2,FALSE)+VLOOKUP(V6,'WK 5'!$E$47:$H$55,2,FALSE)","v":0},{"$f":"VLOOKUP(V6,$Q$5:$S$13,3,FALSE)+VLOOKUP(V6,'WK 5'!$E$47:$H$55,4,FALSE)","v":{"$error":"#VALUE!"}}]
[3,{"$f":"'WK 1'!E49","v":"Unterhaun/Friedewald"},{"$f":"'WK 1'!F49","v":0},{"$f":"'WK 1'!H49","v":""},null,3,{"$f":"'WK 2'!E49","v":"Stärklos"},{"$f":"VLOOKUP(G7,$B$5:$D$13,2,FALSE)+VLOOKUP(G7,'WK 2'!$E$47:$H$55,2,FALSE)","v":0},{"$f":"VLOOKUP(G7,$B$5:$D$13,3,FALSE)+VLOOKUP(G7,'WK 2'!$E$47:$H$55,4,FALSE)","v":{"$error":"#VALUE!"}},null,3,{"$f":"'WK 3'!E49","v":"Hersfeld"},{"$f":"VLOOKUP(L7,$G$5:$I$13,2,FALSE)+VLOOKUP(L7,'WK 3'!$E$47:$H$55,2,FALSE)","v":0},{"$f":"VLOOKUP(L7,$G$5:$I$13,3,FALSE)+VLOOKUP(L7,'WK 3'!$E$47:$H$55,4,FALSE)","v":{"$error":"#VALUE!"}},null,3,{"$f":"'WK 4'!E49","v":"Obergeis"},{"$f":"VLOOKUP(Q7,$L$5:$N$13,2,FALSE)+VLOOKUP(L7,'WK 4'!$E$47:$H$55,2,FALSE)","v":0},{"$f":"VLOOKUP(Q7,$L$5:$N$13,3,FALSE)+VLOOKUP(Q7,'WK 3'!$E$47:$H$55,4,FALSE)","v":{"$error":"#VALUE!"}},null,3,{"$f":"'WK 5'!E49","v":"Stärklos"},{"$f":"VLOOKUP(V7,$Q$5:$S$13,2,FALSE)+VLOOKUP(V7,'WK 5'!$E$47:$H$55,2,FALSE)","v":0},{"$f":"VLOOKUP(V7,$Q$5:$S$13,3,FALSE)+VLOOKUP(V7,'WK 5'!$E$47:$H$55,4,FALSE)","v":{"$error":"#VALUE!"}}]
[4,{"$f":"'WK 1'!E50","v":"Obergeis"},{"$f":"'WK 1'!F50","v":0},{"$f":"'WK 1'!H50","v":""},null,4,{"$f":"'WK 2'!E50","v":"Obergeis"},{"$f":"VLOOKUP(G8,$B$5:$D$13,2,FALSE)+VLOOKUP(G8,'WK 2'!$E$47:$H$55,2,FALSE)","v":0},{"$f":"VLOOKUP(G8,$B$5:$D$13,3,FALSE)+VLOOKUP(G8,'WK 2'!$E$47:$H$55,4,FALSE)","v":{"$error":"#VALUE!"}},null,4,{"$f":"'WK 3'!E50","v":"Unterhaun/Friedewald"},{"$f":"VLOOKUP(L8,$G$5:$I$13,2,FALSE)+VLOOKUP(L8,'WK 3'!$E$47:$H$55,2,FALSE)","v":0},{"$f":"VLOOKUP(L8,$G$5:$I$13,3,FALSE)+VLOOKUP(L8,'WK 3'!$E$47:$H$55,4,FALSE)","v":{"$error":"#VALUE!"}},null,4,{"$f":"'WK 4'!E50","v":"Hersfeld"},{"$f":"VLOOKUP(Q8,$L$5:$N$13,2,FALSE)+VLOOKUP(L8,'WK 4'!$E$47:$H$55,2,FALSE)","v":0},{"$f":"VLOOKUP(Q8,$L$5:$N$13,3,FALSE)+VLOOKUP(Q8,'WK 3'!$E$47:$H$55,4,FALSE)","v":{"$error":"#VALUE!"}},null,4,{"$f":"'WK 5'!E50","v":"Hersfeld"},{"$f":"VLOOKUP(V8,$Q$5:$S$13,2,FALSE)+VLOOKUP(V8,'WK 5'!$E$47:$H$55,2,FALSE)","v":0},{"$f":"VLOOKUP(V8,$Q$5:$S$13,3,FALSE)+VLOOKUP(V8,'WK 5'!$E$47:$H$55,4,FALSE)","v":{"$error":"#VALUE!"}}]
[5,{"$f":"'WK 1'!E51","v":""},{"$f":"'WK 1'!F51","v":0},{"$f":"'WK 1'!H51","v":""},null,5,{"$f":"'WK 2'!E51","v":""},{"$f":"VLOOKUP(G9,$B$5:$D$13,2,FALSE)+VLOOKUP(G9,'WK 2'!$E$47:$H$55,2,FALSE)","v":0},{"$f":"VLOOKUP(G9,$B$5:$D$13,3,FALSE)+VLOOKUP(G9,'WK 2'!$E$47:$H$55,4,FALSE)","v":{"$error":"#VALUE!"}},null,5,{"$f":"'WK 3'!E51","v":""},{"$f":"VLOOKUP(L9,$G$5:$I$13,2,FALSE)+VLOOKUP(L9,'WK 3'!$E$47:$H$55,2,FALSE)","v":0},{"$f":"VLOOKUP(L9,$G$5:$I$13,3,FALSE)+VLOOKUP(L9,'WK 3'!$E$47:$H$55,4,FALSE)","v":{"$error":"#VALUE!"}},null,5,{"$f":"'WK 4'!E51","v":""},{"$f":"VLOOKUP(Q9,$L$5:$N$13,2,FALSE)+VLOOKUP(L9,'WK 4'!$E$47:$H$55,2,FALSE)","v":0},{"$f":"VLOOKUP(Q9,$L$5:$N$13,3,FALSE)+VLOOKUP(Q9,'WK 3'!$E$47:$H$55,4,FALSE)","v":{"$error":"#VALUE!"}},null,5,{"$f":"'WK 5'!E51","v":""},{"$f":"VLOOKUP(V9,$Q$5:$S$13,2,FALSE)+VLOOKUP(V9,'WK 5'!$E$47:$H$55,2,FALSE)","v":0},{"$f":"VLOOKUP(V9,$Q$5:$S$13,3,FALSE)+VLOOKUP(V9,'WK 5'!$E$47:$H$55,4,FALSE)","v":{"$error":"#VALUE!"}}]
[6,{"$f":"'WK 1'!E52","v":""},{"$f":"'WK 1'!F52","v":0},{"$f":"'WK 1'!H52","v":""},null,6,{"$f":"'WK 2'!E52","v":""},{"$f":"VLOOKUP(G10,$B$5:$D$13,2,FALSE)+VLOOKUP(G10,'WK 2'!$E$47:$H$55,2,FALSE)","v":0},{"$f":"VLOOKUP(G10,$B$5:$D$13,3,FALSE)+VLOOKUP(G10,'WK 2'!$E$47:$H$55,4,FALSE)","v":{"$error":"#VALUE!"}},null,6,{"$f":"'WK 3'!E52","v":""},{"$f":"VLOOKUP(L10,$G$5:$I$13,2,FALSE)+VLOOKUP(L10,'WK 3'!$E$47:$H$55,2,FALSE)","v":0},{"$f":"VLOOKUP(L10,$G$5:$I$13,3,FALSE)+VLOOKUP(L10,'WK 3'!$E$47:$H$55,4,FALSE)","v":{"$error":"#VALUE!"}},null,6,{"$f":"'WK 4'!E52","v":""},{"$f":"VLOOKUP(Q10,$L$5:$N$13,2,FALSE)+VLOOKUP(L10,'WK 4'!$E$47:$H$55,2,FALSE)","v":0},{"$f":"VLOOKUP(Q10,$L$5:$N$13,3,FALSE)+VLOOKUP(Q10,'WK 3'!$E$47:$H$55,4,FALSE)","v":{"$error":"#VALUE!"}},null,6,{"$f":"'WK 5'!E52","v":""},{"$f":"VLOOKUP(V10,$Q$5:$S$13,2,FALSE)+VLOOKUP(V10,'WK 5'!$E$47:$H$55,2,FALSE)","v":0},{"$f":"VLOOKUP(V10,$Q$5:$S$13,3,FALSE)+VLOOKUP(V10,'WK 5'!$E$47:$H$55,4,FALSE)","v":{"$error":"#VALUE!"}}]
[7,{"$f":"'WK 1'!E53","v":""},{"$f":"'WK 1'!F53","v":0},{"$f":"'WK 1'!H53","v":""},null,7,{"$f":"'WK 2'!E53","v":""},{"$f":"VLOOKUP(G11,$B$5:$D$13,2,FALSE)+VLOOKUP(G11,'WK 2'!$E$47:$H$55,2,FALSE)","v":0},{"$f":"VLOOKUP(G11,$B$5:$D$13,3,FALSE)+VLOOKUP(G11,'WK 2'!$E$47:$H$55,4,FALSE)","v":{"$error":"#VALUE!"}},null,7,{"$f":"'WK 3'!E53","v":""},{"$f":"VLOOKUP(L11,$G$5:$I$13,2,FALSE)+VLOOKUP(L11,'WK 3'!$E$47:$H$55,2,FALSE)","v":0},{"$f":"VLOOKUP(L11,$G$5:$I$13,3,FALSE)+VLOOKUP(L11,'WK 3'!$E$47:$H$55,4,FALSE)","v":{"$error":"#VALUE!"}},null,7,{"$f":"'WK 4'!E53","v":""},{"$f":"VLOOKUP(Q11,$L$5:$N$13,2,FALSE)+VLOOKUP(L11,'WK 4'!$E$47:$H$55,2,FALSE)","v":0},{"$f":"VLOOKUP(Q11,$L$5:$N$13,3,FALSE)+VLOOKUP(Q11,'WK 3'!$E$47:$H$55,4,FALSE)","v":{"$error":"#VALUE!"}},null,7,{"$f":"'WK 5'!E53","v":""},{"$f":"VLOOKUP(V11,$Q$5:$S$13,2,FALSE)+VLOOKUP(V11,'WK 5'!$E$47:$H$55,2,FALSE)","v":0},{"$f":"VLOOKUP(V11,$Q$5:$S$13,3,FALSE)+VLOOKUP(V11,'WK 5'!$E$47:$H$55,4,FALSE)","v":{"$error":"#VALUE!"}}]
[8,{"$f":"'WK 1'!E54","v":""},{"$f":"'WK 1'!F54","v":0},{"$f":"'WK 1'!H54","v":""},null,8,{"$f":"'WK 2'!E54","v":""},{"$f":"VLOOKUP(G12,$B$5:$D$13,2,FALSE)+VLOOKUP(G12,'WK 2'!$E$47:$H$55,2,FALSE)","v":0},{"$f":"VLOOKUP(G12,$B$5:$D$13,3,FALSE)+VLOOKUP(G12,'WK 2'!$E$47:$H$55,4,FALSE)","v":{"$error":"#VALUE!"}},null,8,{"$f":"'WK 3'!E54","v":""},{"$f":"VLOOKUP(L12,$G$5:$I$13,2,FALSE)+VLOOKUP(L12,'WK 3'!$E$47:$H$55,2,FALSE)","v":0},{"$f":"VLOOKUP(L12,$G$5:$I$13,3,FALSE)+VLOOKUP(L12,'WK 3'!$E$47:$H$55,4,FALSE)","v":{"$error":"#VALUE!"}},null,8,{"$f":"'WK 4'!E54","v":""},{"$f":"VLOOKUP(Q12,$L$5:$N$13,2,FALSE)+VLOOKUP(L12,'WK 4'!$E$47:$H$55,2,FALSE)","v":0},{"$f":"VLOOKUP(Q12,$L$5:$N$13,3,FALSE)+VLOOKUP(Q12,'WK 3'!$E$47:$H$55,4,FALSE)","v":{"$error":"#VALUE!"}},null,8,{"$f":"'WK 5'!E54","v":""},{"$f":"VLOOKUP(V12,$Q$5:$S$13,2,FALSE)+VLOOKUP(V12,'WK 5'!$E$47:$H$55,2,FALSE)","v":0},{"$f":"VLOOKUP(V12,$Q$5:$S$13,3,FALSE)+VLOOKUP(V12,'WK 5'!$E$47:$H$55,4,FALSE)","v":{"$error":"#VALUE!"}}]
[9,{"$f":"'WK 1'!E55","v":""},{"$f":"'WK 1'!F55","v":0},{"$f":"'WK 1'!H55","v":""},null,9,{"$f":"'WK 2'!E55","v":""},{"$f":"VLOOKUP(G13,$B$5:$D$13,2,FALSE)+VLOOKUP(G13,'WK 2'!$E$47:$H$55,2,FALSE)","v":0},{"$f":"VLOOKUP(G13,$B$5:$D$13,3,FALSE)+VLOOKUP(G13,'WK 2'!$E$47:$H$55,4,FALSE)","v":{"$error":"#VALUE!"}},null,9,{"$f":"'WK 3'!E55","v":""},{"$f":"VLOOKUP(L13,$G$5:$I$13,2,FALSE)+VLOOKUP(L13,'WK 3'!$E$47:$H$55,2,FALSE)","v":0},{"$f":"VLOOKUP(L13,$G$5:$I$13,3,FALSE)+VLOOKUP(L13,'WK 3'!$E$47:$H$55,4,FALSE)","v":{"$error":"#VALUE!"}},null,9,{"$f":"'WK 4'!E55","v":""},{"$f":"VLOOKUP(Q13,$L$5:$N$13,2,FALSE)+VLOOKUP(L13,'WK 4'!$E$47:$H$55,2,FALSE)","v":0},{"$f":"VLOOKUP(Q13,$L$5:$N$13,3,FALSE)+VLOOKUP(Q13,'WK 3'!$E$47:$H$55,4,FALSE)","v":{"$error":"#VALUE!"}},null,9,{"$f":"'WK 5'!E55","v":""},{"$f":"VLOOKUP(V13,$Q$5:$S$13,2,FALSE)+VLOOKUP(V13,'WK 5'!$E$47:$H$55,2,FALSE)","v":0},{"$f":"VLOOKUP(V13,$Q$5:$S$13,3,FALSE)+VLOOKUP(V13,'WK 5'!$E$47:$H$55,4,FALSE)","v":{"$error":"#VALUE!"}}]
[]
[]
["Tabelle nach dem 6. Wettkampf",null,null,null,null,"Tabelle nach dem 7. Wettkampf",null,null,null,null,"Tabelle nach dem 8. Wettkampf",null,null,null,null,"Tabelle nach dem 9. Wettkampf",null,null,null,null,"Tabelle nach dem 10. Wettkampf"]
["Platz","Mannschaft","Ergebnis","Punkte",null,"Platz","Mannschaft","Ergebnis","Punkte",null,"Platz","Mannschaft","Ergebnis","Punkte",null,"Platz","Mannschaft","Ergebnis","Punkte",null,"Platz","Mannschaft","Ergebnis","Punkte"]
[]
[1,{"$f":"'WK 6'!E47","v":""},{"$f":"VLOOKUP(B19,$V$5:$X$13,2,FALSE)+VLOOKUP(B19,'WK 6'!$E$47:$H$55,2,FALSE)","v":0},{"$f":"VLOOKUP(B19,$V$5:$X$13,3,FALSE)+VLOOKUP(B19,'WK 6'!$E$47:$H$55,4,FALSE)","v":{"$error":"#VALUE!"}},null,1,{"$f":"'WK 7'!E47","v":""},{"$f":"VLOOKUP(G19,$B$19:$D$27,2,FALSE)+VLOOKUP(G19,'WK 8'!$E$47:$H$55,2,FALSE)","v":0},{"$f":"VLOOKUP(G19,$B$19:$D$27,3,FALSE)+VLOOKUP(G19,'WK 8'!$E$47:$H$55,4,FALSE)","v":{"$error":"#VALUE!"}},null,1,{"$f":"'WK 8'!E47","v":""},{"$f":"VLOOKUP(L19,$G$19:$I$27,2,FALSE)+VLOOKUP(L19,'WK 8'!$E$47:$H$55,2,FALSE)","v":0},{"$f":"VLOOKUP(L19,$G$19:$I$27,3,FALSE)+VLOOKUP(L19,'WK 8'!$E$47:$H$55,4,FALSE)","v":{"$error":"#VALUE!"}},null,1,{"$f":"'WK 9'!E47","v":""},{"$f":"VLOOKUP(Q19,$L$19:$N$27,2,FALSE)+VLOOKUP(Q19,'WK 9'!$E$47:$H$55,2,FALSE)","v":0},{"$f":"VLOOKUP(Q19,$L$19:$N$27,3,FALSE)+VLOOKUP(Q19,'WK 9'!$E$47:$H$55,4,FALSE)","v":{"$error":"#VALUE!"}},null,1,{"$f":"'WK 10'!E47","v":""},{"$f":"VLOOKUP(V19,$Q$19:$S$27,2,FALSE)+VLOOKUP(V19,'WK 10'!$E$47:$H$55,2,FALSE)","v":0},{"$f":"VLOOKUP(V19,$Q$19:$S$27,3,FALSE)+VLOOKUP(V19,'WK 10'!$E$47:$H$55,4,FALSE)","v":{"$error":"#VALUE!"}}]
[2,{"$f":"'WK 6'!E48","v":""},{"$f":"VLOOKUP(B20,$V$5:$X$13,2,FALSE)+VLOOKUP(B20,'WK 6'!$E$47:$H$55,2,FALSE)","v":0},{"$f":"VLOOKUP(B20,$V$5:$X$13,3,FALSE)+VLOOKUP(B20,'WK 6'!$E$47:$H$55,4,FALSE)","v":{"$error":"#VALUE!"}},null,2,{"$f":"'WK 7'!E48","v":""},{"$f":"VLOOKUP(G20,$B$19:$D$27,2,FALSE)+VLOOKUP(G20,'WK 8'!$E$47:$H$55,2,FALSE)","v":0},{"$f":"VLOOKUP(G20,$B$19:$D$27,3,FALSE)+VLOOKUP(G20,'WK 8'!$E$47:$H$55,4,FALSE)","v":{"$error":"#VALUE!"}},null,2,{"$f":"'WK 8'!E48","v":""},{"$f":"VLOOKUP(L20,$G$19:$I$27,2,FALSE)+VLOOKUP(L20,'WK 8'!$E$47:$H$55,2,FALSE)","v":0},{"$f":"VLOOKUP(L20,$G$19:$I$27,3,FALSE)+VLOOKUP(L20,'WK 8'!$E$47:$H$55,4,FALSE)","v":{"$error":"#VALUE!"}},null,2,{"$f":"'WK 9'!E48","v":""},{"$f":"VLOOKUP(Q20,$L$19:$N$27,2,FALSE)+VLOOKUP(Q20,'WK 9'!$E$47:$H$55,2,FALSE)","v":0},{"$f":"VLOOKUP(Q20,$L$19:$N$27,3,FALSE)+VLOOKUP(Q20,'WK 9'!$E$47:$H$55,4,FALSE)","v":{"$error":"#VALUE!"}},null,2,{"$f":"'WK 10'!E48","v":""},{"$f":"VLOOKUP(V20,$Q$19:$S$27,2,FALSE)+VLOOKUP(V20,'WK 10'!$E$47:$H$55,2,FALSE)","v":0},{"$f":"VLOOKUP(V20,$Q$19:$S$27,3,FALSE)+VLOOKUP(V20,'WK 10'!$E$47:$H$55,4,FALSE)","v":{"$error":"#VALUE!"}}]
[3,{"$f":"'WK 6'!E49","v":""},{"$f":"VLOOKUP(B21,$V$5:$X$13,2,FALSE)+VLOOKUP(B21,'WK 6'!$E$47:$H$55,2,FALSE)","v":0},{"$f":"VLOOKUP(B21,$V$5:$X$13,3,FALSE)+VLOOKUP(B21,'WK 6'!$E$47:$H$55,4,FALSE)","v":{"$error":"#VALUE!"}},null,3,{"$f":"'WK 7'!E49","v":""},{"$f":"VLOOKUP(G21,$B$19:$D$27,2,FALSE)+VLOOKUP(G21,'WK 8'!$E$47:$H$55,2,FALSE)","v":0},{"$f":"VLOOKUP(G21,$B$19:$D$27,3,FALSE)+VLOOKUP(G21,'WK 8'!$E$47:$H$55,4,FALSE)","v":{"$error":"#VALUE!"}},null,3,{"$f":"'WK 8'!E49","v":""},{"$f":"VLOOKUP(L21,$G$19:$I$27,2,FALSE)+VLOOKUP(L21,'WK 8'!$E$47:$H$55,2,FALSE)","v":0},{"$f":"VLOOKUP(L21,$G$19:$I$27,3,FALSE)+VLOOKUP(L21,'WK 8'!$E$47:$H$55,4,FALSE)","v":{"$error":"#VALUE!"}},null,3,{"$f":"'WK 9'!E49","v":""},{"$f":"VLOOKUP(Q21,$L$19:$N$27,2,FALSE)+VLOOKUP(Q21,'WK 9'!$E$47:$H$55,2,FALSE)","v":0},{"$f":"VLOOKUP(Q21,$L$19:$N$27,3,FALSE)+VLOOKUP(Q21,'WK 9'!$E$47:$H$55,4,FALSE)","v":{"$error":"#VALUE!"}},null,3,{"$f":"'WK 10'!E49","v":""},{"$f":"VLOOKUP(V21,$Q$19:$S$27,2,FALSE)+VLOOKUP(V21,'WK 10'!$E$47:$H$55,2,FALSE)","v":0},{"$f":"VLOOKUP(V21,$Q$19:$S$27,3,FALSE)+VLOOKUP(V21,'WK 10'!$E$47:$H$55,4,FALSE)","v":{"$error":"#VALUE!"}}]
[4,{"$f":"'WK 6'!E50","v":""},{"$f":"VLOOKUP(B22,$V$5:$X$13,2,FALSE)+VLOOKUP(B22,'WK 6'!$E$47:$H$55,2,FALSE)","v":0},{"$f":"VLOOKUP(B22,$V$5:$X$13,3,FALSE)+VLOOKUP(B22,'WK 6'!$E$47:$H$55,4,FALSE)","v":{"$error":"#VALUE!"}},null,4,{"$f":"'WK 7'!E50","v":""},{"$f":"VLOOKUP(G22,$B$19:$D$27,2,FALSE)+VLOOKUP(G22,'WK 8'!$E$47:$H$55,2,FALSE)","v":0},{"$f":"VLOOKUP(G22,$B$19:$D$27,3,FALSE)+VLOOKUP(G22,'WK 8'!$E$47:$H$55,4,FALSE)","v":{"$error":"#VALUE!"}},null,4,{"$f":"'WK 8'!E50","v":""},{"$f":"VLOOKUP(L22,$G$19:$I$27,2,FALSE)+VLOOKUP(L22,'WK 8'!$E$47:$H$55,2,FALSE)","v":0},{"$f":"VLOOKUP(L22,$G$19:$I$27,3,FALSE)+VLOOKUP(L22,'WK 8'!$E$47:$H$55,4,FALSE)","v":{"$error":"#VALUE!"}},null,4,{"$f":"'WK 9'!E50","v":""},{"$f":"VLOOKUP(Q22,$L$19:$N$27,2,FALSE)+VLOOKUP(Q22,'WK 9'!$E$47:$H$55,2,FALSE)","v":0},{"$f":"VLOOKUP(Q22,$L$19:$N$27,3,FALSE)+VLOOKUP(Q22,'WK 9'!$E$47:$H$55,4,FALSE)","v":{"$error":"#VALUE!"}},null,4,{"$f":"'WK 10'!E50","v":""},{"$f":"VLOOKUP(V22,$Q$19:$S$27,2,FALSE)+VLOOKUP(V22,'WK 10'!$E$47:$H$55,2,FALSE)","v":0},{"$f":"VLOOKUP(V22,$Q$19:$S$27,3,FALSE)+VLOOKUP(V22,'WK 10'!$E$47:$H$55,4,FALSE)","v":{"$error":"#VALUE!"}}]
[5,{"$f":"'WK 6'!E51","v":""},{"$f":"VLOOKUP(B23,$V$5:$X$13,2,FALSE)+VLOOKUP(B23,'WK 6'!$E$47:$H$55,2,FALSE)","v":0},{"$f":"VLOOKUP(B23,$V$5:$X$13,3,FALSE)+VLOOKUP(B23,'WK 6'!$E$47:$H$55,4,FALSE)","v":{"$error":"#VALUE!"}},null,5,{"$f":"'WK 7'!E51","v":""},{"$f":"VLOOKUP(G23,$B$19:$D$27,2,FALSE)+VLOOKUP(G23,'WK 8'!$E$47:$H$55,2,FALSE)","v":0},{"$f":"VLOOKUP(G23,$B$19:$D$27,3,FALSE)+VLOOKUP(G23,'WK 8'!$E$47:$H$55,4,FALSE)","v":{"$error":"#VALUE!"}},null,5,{"$f":"'WK 8'!E51","v":""},{"$f":"VLOOKUP(L23,$G$19:$I$27,2,FALSE)+VLOOKUP(L23,'WK 8'!$E$47:$H$55,2,FALSE)","v":0},{"$f":"VLOOKUP(L23,$G$19:$I$27,3,FALSE)+VLOOKUP(L23,'WK 8'!$E$47:$H$55,4,FALSE)","v":{"$error":"#VALUE!"}},null,5,{"$f":"'WK 9'!E51","v":""},{"$f":"VLOOKUP(Q23,$L$19:$N$27,2,FALSE)+VLOOKUP(Q23,'WK 9'!$E$47:$H$55,2,FALSE)","v":0},{"$f":"VLOOKUP(Q23,$L$19:$N$27,3,FALSE)+VLOOKUP(Q23,'WK 9'!$E$47:$H$55,4,FALSE)","v":{"$error":"#VALUE!"}},null,5,{"$f":"'WK 10'!E51","v":""},{"$f":"VLOOKUP(V23,$Q$19:$S$27,2,FALSE)+VLOOKUP(V23,'WK 10'!$E$47:$H$55,2,FALSE)","v":0},{"$f":"VLOOKUP(V23,$Q$19:$S$27,3,FALSE)+VLOOKUP(V23,'WK 10'!$E$47:$H$55,4,FALSE)","v":{"$error":"#VALUE!"}}]
[6,{"$f":"'WK 6'!E52","v":"Unterhaun/Friedewald"},{"$f":"VLOOKUP(B24,$V$5:$X$13,2,FALSE)+VLOOKUP(B24,'WK 6'!$E$47:$H$55,2,FALSE)","v":0},{"$f":"VLOOKUP(B24,$V$5:$X$13,3,FALSE)+VLOOKUP(B24,'WK 6'!$E$47:$H$55,4,FALSE)","v":{"$error":"#VALUE!"}},null,6,{"$f":"'WK 7'!E52","v":"Unterhaun/Friedewald"},{"$f":"VLOOKUP(G24,$B$19:$D$27,2,FALSE)+VLOOKUP(G24,'WK 8'!$E$47:$H$55,2,FALSE)","v":0},{"$f":"VLOOKUP(G24,$B$19:$D$27,3,FALSE)+VLOOKUP(G24,'WK 8'!$E$47:$H$55,4,FALSE)","v":{"$error":"#VALUE!"}},null,6,{"$f":"'WK 8'!E52","v":"Unterhaun/Friedewald"},{"$f":"VLOOKUP(L24,$G$19:$I$27,2,FALSE)+VLOOKUP(L24,'WK 8'!$E$47:$H$55,2,FALSE)","v":0},{"$f":"VLOOKUP(L24,$G$19:$I$27,3,FALSE)+VLOOKUP(L24,'WK 8'!$E$47:$H$55,4,FALSE)","v":{"$error":"#VALUE!"}},null,6,{"$f":"'WK 9'!E52","v":"Unterhaun/Friedewald"},{"$f":"VLOOKUP(Q24,$L$19:$N$27,2,FALSE)+VLOOKUP(Q24,'WK 9'!$E$47:$H$55,2,FALSE)","v":0},{"$f":"VLOOKUP(Q24,$L$19:$N$27,3,FALSE)+VLOOKUP(Q24,'WK 9'!$E$47:$H$55,4,FALSE)","v":{"$error":"#VALUE!"}},null,6,{"$f":"'WK 10'!E52","v":"Unterhaun/Friedewald"},{"$f":"VLOOKUP(V24,$Q$19:$S$27,2,FALSE)+VLOOKUP(V24,'WK 10'!$E$47:$H$55,2,FALSE)","v":0},{"$f":"VLOOKUP(V24,$Q$19:$S$27,3,FALSE)+VLOOKUP(V24,'WK 10'!$E$47:$H$55,4,FALSE)","v":{"$error":"#VALUE!"}}]
[7,{"$f":"'WK 6'!E53","v":"Obergeis"},{"$f":"VLOOKUP(B25,$V$5:$X$13,2,FALSE)+VLOOKUP(B25,'WK 6'!$E$47:$H$55,2,FALSE)","v":0},{"$f":"VLOOKUP(B25,$V$5:$X$13,3,FALSE)+VLOOKUP(B25,'WK 6'!$E$47:$H$55,4,FALSE)","v":{"$error":"#VALUE!"}},null,7,{"$f":"'WK 7'!E53","v":"Obergeis"},{"$f":"VLOOKUP(G25,$B$19:$D$27,2,FALSE)+VLOOKUP(G25,'WK 8'!$E$47:$H$55,2,FALSE)","v":0},{"$f":"VLOOKUP(G25,$B$19:$D$27,3,FALSE)+VLOOKUP(G25,'WK 8'!$E$47:$H$55,4,FALSE)","v":{"$error":"#VALUE!"}},null,7,{"$f":"'WK 8'!E53","v":"Obergeis"},{"$f":"VLOOKUP(L25,$G$19:$I$27,2,FALSE)+VLOOKUP(L25,'WK 8'!$E$47:$H$55,2,FALSE)","v":0},{"$f":"VLOOKUP(L25,$G$19:$I$27,3,FALSE)+VLOOKUP(L25,'WK 8'!$E$47:$H$55,4,FALSE)","v":{"$error":"#VALUE!"}},null,7,{"$f":"'WK 9'!E53","v":"Obergeis"},{"$f":"VLOOKUP(Q25,$L$19:$N$27,2,FALSE)+VLOOKUP(Q25,'WK 9'!$E$47:$H$55,2,FALSE)","v":0},{"$f":"VLOOKUP(Q25,$L$19:$N$27,3,FALSE)+VLOOKUP(Q25,'WK 9'!$E$47:$H$55,4,FALSE)","v":{"$error":"#VALUE!"}},null,7,{"$f":"'WK 10'!E53","v":"Obergeis"},{"$f":"VLOOKUP(V25,$Q$19:$S$27,2,FALSE)+VLOOKUP(V25,'WK 10'!$E$47:$H$55,2,FALSE)","v":0},{"$f":"VLOOKUP(V25,$Q$19:$S$27,3,FALSE)+VLOOKUP(V25,'WK 10'!$E$47:$H$55,4,FALSE)","v":{"$error":"#VALUE!"}}]
[8,{"$f":"'WK 6'!E54","v":"Stärklos"},{"$f":"VLOOKUP(B26,$V$5:$X$13,2,FALSE)+VLOOKUP(B26,'WK 6'!$E$47:$H$55,2,FALSE)","v":0},{"$f":"VLOOKUP(B26,$V$5:$X$13,3,FALSE)+VLOOKUP(B26,'WK 6'!$E$47:$H$55,4,FALSE)","v":{"$error":"#VALUE!"}},null,8,{"$f":"'WK 7'!E54","v":"Stärklos"},{"$f":"VLOOKUP(G26,$B$19:$D$27,2,FALSE)+VLOOKUP(G26,'WK 8'!$E$47:$H$55,2,FALSE)","v":0},{"$f":"VLOOKUP(G26,$B$19:$D$27,3,FALSE)+VLOOKUP(G26,'WK 8'!$E$47:$H$55,4,FALSE)","v":{"$error":"#VALUE!"}},null,8,{"$f":"'WK 8'!E54","v":"Stärklos"},{"$f":"VLOOKUP(L26,$G$19:$I$27,2,FALSE)+VLOOKUP(L26,'WK 8'!$E$47:$H$55,2,FALSE)","v":0},{"$f":"VLOOKUP(L26,$G$19:$I$27,3,FALSE)+VLOOKUP(L26,'WK 8'!$E$47:$H$55,4,FALSE)","v":{"$error":"#VALUE!"}},null,8,{"$f":"'WK 9'!E54","v":"Stärklos"},{"$f":"VLOOKUP(Q26,$L$19:$N$27,2,FALSE)+VLOOKUP(Q26,'WK 9'!$E$47:$H$55,2,FALSE)","v":0},{"$f":"VLOOKUP(Q26,$L$19:$N$27,3,FALSE)+VLOOKUP(Q26,'WK 9'!$E$47:$H$55,4,FALSE)","v":{"$error":"#VALUE!"}},null,8,{"$f":"'WK 10'!E54","v":"Stärklos"},{"$f":"VLOOKUP(V26,$Q$19:$S$27,2,FALSE)+VLOOKUP(V26,'WK 10'!$E$47:$H$55,2,FALSE)","v":0},{"$f":"VLOOKUP(V26,$Q$19:$S$27,3,FALSE)+VLOOKUP(V26,'WK 10'!$E$47:$H$55,4,FALSE)","v":{"$error":"#VALUE!"}}]
[9,{"$f":"'WK 6'!E55","v":"Hersfeld"},{"$f":"VLOOKUP(B27,$V$5:$X$13,2,FALSE)+VLOOKUP(B27,'WK 6'!$E$47:$H$55,2,FALSE)","v":0},{"$f":"VLOOKUP(B27,$V$5:$X$13,3,FALSE)+VLOOKUP(B27,'WK 6'!$E$47:$H$55,4,FALSE)","v":{"$error":"#VALUE!"}},null,9,{"$f":"'WK 7'!E55","v":"Hersfeld"},{"$f":"VLOOKUP(G27,$B$19:$D$27,2,FALSE)+VLOOKUP(G27,'WK 8'!$E$47:$H$55,2,FALSE)","v":0},{"$f":"VLOOKUP(G27,$B$19:$D$27,3,FALSE)+VLOOKUP(G27,'WK 8'!$E$47:$H$55,4,FALSE)","v":{"$error":"#VALUE!"}},null,9,{"$f":"'WK 8'!E55","v":"Hersfeld"},{"$f":"VLOOKUP(L27,$G$19:$I$27,2,FALSE)+VLOOKUP(L27,'WK 8'!$E$47:$H$55,2,FALSE)","v":0},{"$f":"VLOOKUP(L27,$G$19:$I$27,3,FALSE)+VLOOKUP(L27,'WK 8'!$E$47:$H$55,4,FALSE)","v":{"$error":"#VALUE!"}},null,9,{"$f":"'WK 9'!E55","v":"Hersfeld"},{"$f":"VLOOKUP(Q27,$L$19:$N$27,2,FALSE)+VLOOKUP(Q27,'WK 9'!$E$47:$H$55,2,FALSE)","v":0},{"$f":"VLOOKUP(Q27,$L$19:$N$27,3,FALSE)+VLOOKUP(Q27,'WK 9'!$E$47:$H$55,4,FALSE)","v":{"$error":"#VALUE!"}},null,9,{"$f":"'WK 10'!E55","v":"Hersfeld"},{"$f":"VLOOKUP(V27,$Q$19:$S$27,2,FALSE)+VLOOKUP(V27,'WK 10'!$E$47:$H$55,2,FALSE)","v":0},{"$f":"VLOOKUP(V27,$Q$19:$S$27,3,FALSE)+VLOOKUP(V27,'WK 10'!$E$47:$H$55,4,FALSE)","v":{"$error":"#VALUE!"}}]

{"sheet":"PasswortManagement","index":28,"n_rows":30,"n_cols":23,"rows_kept":30,"cut":false,"hidden":true,"merged":[[0,4,0,21]]}
[null,null,null,null,"Funktion"]
[null,null,null,null,1,2,3,4,5,6,7,8,9,10,11,12,13,14,15,16,17,99]
[null,null,"Muss:",null,"10. Wettkämpfe","Gesamtwertung","Leistungsverlauf","Urkunden","Scheibennr.","Finale","PDF","Druckvorlage","Terminplan","Upload auf Homepage",null,null,null,null,null,null,null,"Premium"]
[null,null,1,"Freigabe1",1,0,0,0,0,0,0,0,0,0,0,0,0,0,0,0,0,0]
[null,null,2,"Freigabe2",1,1,0,0,0,0,0,0,0,0,0,0,0,0,0,0,0,0]
[null,null,6,"Freigabe3",1,1,1,0,0,1,1,1,0,0,0,0,0,0,0,0,0,0]
[null,null,5,"Freigabe4",1,1,1,1,0,1,1,1,0,0,0,0,0,0,0,0,0,0]
[null,null,4,"Freigabe5",1,1,1,1,1,1,1,1,0,0,0,0,0,0,0,0,0,0]
[null,null,3,"Freigabe6",1,1,1,1,1,1,1,1,0,0,0,0,0,0,0,0,0,0]
[null,null,7,"Freigabe7",1,1,1,1,1,1,1,1,0,0,0,0,0,0,0,0,0,0]
[null,null,8,"Freigabe8",1,1,1,1,1,1,1,1,0,0,0,0,0,0,0,0,0,0]
[null,null,9,"Freigabe9",1,1,1,1,1,1,1,1,1,0,0,0,0,0,0,0,0,0]
[null,null,10,"Freigabe10",1,1,1,1,1,1,1,1,1,1,0,0,0,0,0,0,0,0]
[null,null,11,"Freigabe11",1,1,1,1,1,1,1,1,1,1,1,0,0,0,0,0,0,0]
[null,null,12,"Freigabe12",1,1,1,1,1,1,1,1,1,1,1,1,0,0,0,0,0,0]
[null,null,16,"Freigabe13",1,1,1,1,1,0,0,1,1,1,1,1,1,0,0,0,0,0]
[null,null,15,"Freigabe14",1,1,1,1,1,0,0,1,1,1,1,1,1,1,0,0,0,0]
[null,null,14,"Freigabe15",1,1,1,1,1,0,0,1,1,1,1,1,1,1,1,0,0,0]
[null,null,13,"Freigabe16",1,1,1,1,1,0,0,1,1,1,1,1,1,1,1,1,0,0]
[null,null,17,"Freigabe17",1,1,1,1,1,0,1,1,1,1,1,1,1,1,1,1,1,0]
[null,null,18,"Freigabe18",1,1,0,0,0,0,1,1,0,0,0,0,0,0,0,0,0,0]
[null,null,19,"Freigabe19",1,1,1,0,0,1,1,1,0,0,0,0,0,0,0,0,0,0]
[null,null,20,"Freigabe20",1,1,1,1,0,1,1,1,0,0,0,0,0,0,0,0,0,0]
[null,null,21,"Freigabe21",1,1,1,1,1,0,0,0,0,0,0,0,0,0,0,0,0,0]
[null,null,22,"Freigabe22",1,1,1,1,1,0,0,0,0,0,0,0,0,0,0,0,0,0]
[null,null,25,"Freigabe23",1,1,1,0,0,0,0,0,0,0,0,0,0,0,0,0,0,0]
[null,null,24,"Freigabe24",1,1,1,0,0,1,0,0,0,0,0,0,0,0,0,0,0,0]
[null,null,23,"Freigabe25",0,0,0,1,1,1,1,0,1,1,0,0,0,0,0,0,0,0,"RWK-Leiter"]
[null,null,null,"Freigabe98",1,1,0,1,1,1,0,0,1,1,1,1,1,1,1,1,1,0,"Beta"]
[null,null,6481321744998,"Freigabe99",1,1,1,1,1,0,1,0,1,1,1,1,1,1,1,1,1,1,"Administrator"]

{"sheet":"Changelog","index":29,"n_rows":70,"n_cols":9,"rows_kept":70,"cut":false,"hidden":true,"merged":[[13,1,13,6],[0,0,1,6],[3,1,3,6],[4,1,4,6],[5,1,5,6],[6,1,6,6],[7,1,7,6],[8,1,8,6],[9,1,9,6],[10,1,10,6],[11,1,11,6],[12,1,12,6],[25,1,25,6],[14,1,14,6],[15,1,15,6],[16,1,16,6],[17,1,17,6],[18,1,18,6],[19,1,19,6],[20,1,20,6],[21,1,21,6],[22,1,22,6],[23,1,23,6],[24,1,24,6],[38,1,38,6],[26,1,26,6],[28,1,28,6],[29,1,29,6],[30,1,30,6],[31,1,31,6],[32,1,32,6],[33,1,33,6],[34,1,34,6],[35,1,35,6],[36,1,36,6],[37,1,37,6],[51,1,51,6],[39,1,39,6],[40,1,40,6],[41,1,41,6],[42,1,42,6],[43,1,43,6],[44,1,44,6],[45,1,45,6],[46,1,46,6],[47,1,47,6],[48,1,48,6],[50,1,50,6],[63,1,63,6],[52,1,52,6],[53,1,53,6],[54,1,54,6],[55,1,55,6],[56,1,56,6],[58,1,58,6],[59,1,59,6],[60,1,60,6],[61,1,61,6],[62,1,62,6],[57,1,57,6],[75,1,75,6],[64,1,64,6],[65,1,65,6],[66,1,66,6],[67,1,67,6],[68,1,68,6],[69,1,69,6],[70,1,70,6],[71,1,71,6],[72,1,72,6],[73,1,73,6],[74,1,74,6],[87,1,87,6],[76,1,76,6],[77,1,77,6],[78,1,78,6],[79,1,79,6],[80,1,80,6],[81,1,81,6],[82,1,82,6],[83,1,83,6],[84,1,84,6],[85,1,85,6],[86,1,86,6],[100,1,100,6],[101,1,101,6],[102,1,102,6],[103,1,103,6],[104,1,104,6],[99,1,99,6],[88,1,88,6],[89,1,89,6],[90,1,90,6],[91,1,91,6],[92,1,92,6],[93,1,93,6],[94,1,94,6],[95,1,95,6],[96,1,96,6],[97,1,97,6],[98,1,98,6],[110,1,110,6],[111,1,111,6],[112,1,112,6],[113,1,113,6],[114,1,114,6],[105,1,105,6],[106,1,106,6],[107,1,107,6],[108,1,108,6],[109,1,109,6],[120,1,120,6],[121,1,121,6],[122,1,122,6],[123,1,123,6],[124,1,124,6],[115,1,115,6],[116,1,116,6],[117,1,117,6],[118,1,118,6],[119,1,119,6]]}
["Changelog"]
[]
[null,null,null,null,null,null,null,"Date"]
["Version"]
["0.1","Wettkampfblatt (Einzelwertung & Gesamtwertung)"]
["0.11","Wettkampfblatt mit manueller Sortierung"]
["0.2","Wettkampfblatt mit automatischer Sortierung"]
["0.3","5 Wettkampfblätter"]
["0.4","Einführung Gesamtwertung (Mannschaft)"]
["0.41","Einführung Sortierung aller Blätter"]
["0.42","Einführung \"Daten löschen\" auf jedem Blatt"]
["0.5","Erweiterung auf 10 Wettkämpfe und 9 Mannschaften"]
["0.6","Einzelschützen Gesamtwertung"]
["0.7","Leistungsverlauf "]
["0.8","Dateiausgabe"]
["0.81","Dateiausgabe als PDF (Gesamtwertung)"]
["0.82","Dateianzeige direkt als PDF anzeigen (Gesamtwertung)"]
["0.83","Erstellung Ordner für Dateiausgabe"]
["0.85","Ausgabe jedes Blattes als PDF"]
["0.86","Erstellung aller Blätter als PDF"]
["0.9","Tutorial & Anleitung"]
["1.0","Finale Version im Einsatz in der Saison 2013"]
["1.0.1","Funktion Zellen sperren, sperrt alle Zellen"]
["1.0.1a","Funktion \"Alles löschen\" entsperrt Zellen wieder"]
["1.1","Urkunden für Mannschaften"]
["1.1.1","Urkunden für Einzelschützen"]
["1.2","Changelog anzeigen"]
["1.21","Anpassung: Nach Makroausführung in der selben Zelle wie vorher landen"]
["1.3","Navigationsleiste"]
["1.4","Scheibennummern-Tool"]
["1.5","Neues Button-Design"]
["1.6","Einführung Final-Modul"]
["1.7","Wettkampfaktuelle Tabellen"]
["1.8","Passwort-Manager"]
["1.8.1","Passwort-Schutz"]
["1.8.2","Verschiedene Freigaben(1-7) nach Passwörtern"]
["1.8.3","Masterpasswort"]
["1.8.4","Premium-Funktionen"]
["1.8.5","Passwort Blattschutz in Variable"]
["1.8.6","Erweiterung Premium-Funktionen"]
["1.9","Wettkampf Vordruck"]
["1.9.1","Performanceverbesserung PasswortManager"]
["1.9.2","Notizen erstellen"]
["1.9.3","Bessere Passwortsicherheit"]
["1.9.4","Action-Log"]
["1.9.5","Passwort Verschlüsselung"]
["1.9.6","Tool-Sicherheit pro Computer"]
["1.9.7","FTP Upload"]
["1.9.8","Deutliche Performance Verbesserung"]
["2.0.0","Modularer Toolaufbau (Module können ausgewählt oder weggelassen werden)"]
["2.0.1","Neuer Anmeldescreen"]
["2.0.2","Problemmeldung"]
["2.0.3","Berechtigungs-Management"]
["2.0.4","Code-Verbesserungen, bessere Performance"]
["2.0.5","Änderungen Log (PasswortCounter, FalschesPasswortCounter)"]
["2.0.6","Upload der Wettkämpfe direkt ins Internet"]
["2.1","Realse Candiadte"]
["2.1.1","Wegfall der Festplatten Funktion"]
["2.1.2","Realse Candiadte mit deutlich gesteigerter Performance im PW-Manager"]
["3.0","Plausibilitätsprüfung mit Berichtigung der Formeln"]
["3.0.1","Einführung Command Cockpit",null,null,null,null,null,"2016-03-07"]
["3.0.2","Einführung Tool Setup",null,null,null,null,null,"2016-03-10"]
["3.0.3","Einführung Schüler/Jugend Switch",null,null,null,null,null,"2016-03-10"]
["3.1.0","Einführung Mannschaftsaufstellung anhand bestehender Schützen",null,null,null,null,null,"2016-03-26"]
["3.1.1","Einführung Mannschaftsaufstellung anhand von Passnummern",null,null,null,null,null,"2016-03-28"]
["3.2","Einführung Versionierung",null,null,null,null,null,"28.3.2016"]
["3.2.1","Versionierung mit anschließendem Upload",null,null,null,null,null,"28.3.2016"]
["3.2.2","Versionierungstest",null,null,null,null,null,"28.3.2016","http://schuetzenkreis34hersfeld.de/jugend/Wettkampftool/Versionen/3.2.2 Rundenwettkaempfe Jugend 2016.xlsm"]
["3.2.3","Versionierung mit Download Link im Changelog",null,null,null,null,null,"28.3.2016","http://schuetzenkreis34hersfeld.de/jugend/Wettkampftool/Versionen/3.2.3 Rundenwettkaempfe Jugend 2016.xlsm"]
["3.5","Release Candidate im Einsatz in der Saison 2016",null,null,null,null,null,"7.4.2016","http://schuetzenkreis34hersfeld.de/jugend/Wettkampftool/Versionen/3.5 Rundenwettkaempfe Jugend 2016(1).xlsm"]